{"text_format":"1","workbook":"xlsx","n_sheets":7,"sheets":["Names","Score","R1","R2","R3","Sheet1","MP_PP"],"not_rendered":{"charts":0,"images":1,"macros":1,"external_links":1,"defined_names":4,"comments":0,"pivot_tables":0},"unopened":[],"bounds":{"document_bytes":16777216,"sheet_cells":100000,"rows_first":2000,"rows_last":500,"rows_between":2000,"halvings":0,"cell_chars":16384,"cell_head_chars":4096},"cells_cut":0,"cells_raw":0,"read":"whole","date_system":"1900"}

{"sheet":"Names","index":0,"n_rows":163,"n_cols":12,"rows_kept":163,"cut":false,"hidden":false,"merged":[[45,3,48,3],[1,3,4,3],[5,3,8,3],[9,3,12,3],[13,3,16,3],[17,3,20,3],[21,3,24,3],[25,3,28,3],[29,3,32,3],[33,3,36,3],[37,3,40,3],[41,3,44,3],[73,3,76,3],[77,3,80,3],[49,3,52,3],[53,3,56,3],[57,3,60,3],[61,3,64,3],[65,3,68,3],[69,3,72,3],[81,3,84,3],[85,3,88,3],[89,3,92,3],[93,3,96,3],[97,3,100,3],[101,3,104,3],[105,3,108,3],[109,3,112,3],[113,3,116,3],[117,3,120,3],[121,3,124,3],[125,3,128,3],[129,3,132,3],[133,3,136,3],[137,3,140,3],[141,3,144,3],[145,3,148,3],[149,3,152,3],[153,3,156,3],[157,3,160,3]]}
[0,"Names",null,"Tab."]
[1,"إبراهيم عرفان السقا",721,1,null,{"$f":"LOOKUP(H2,$I$2:$I$161,$K$2:$K$161)","v":"هيثم أحمد دياب"},{"$f":"LOOKUP(H2,$I$2:$I$161,$L$2:$L$161)","v":725},1,1,{"$f":"LOOKUP(L2,[1]Rank!$B$9:$B$782,[1]Rank!$E$9:$E$782)","v":0},{"$f":"LOOKUP(L2,[1]Rank!$B$9:$B$782,[1]Rank!$F$9:$F$782)","v":"هيثم أحمد دياب"},725]
[2,"مصطفى محمد علي شرف",449,null,null,"مصطفى محمد علي شرف",449,11,2,{"$f":"LOOKUP(L3,[1]Rank!$B$9:$B$782,[1]Rank!$E$9:$E$782)","v":"*"},{"$f":"LOOKUP(L3,[1]Rank!$B$9:$B$782,[1]Rank!$F$9:$F$782)","v":"هيثم محمد أحمد شبانة"},668]
[3,"أحمد محمد حمدي صالح",396,null,null,"أحمد محمد حمدي صالح ",396,27,3,{"$f":"LOOKUP(L4,[1]Rank!$B$9:$B$782,[1]Rank!$E$9:$E$782)","v":"*"},{"$f":"LOOKUP(L4,[1]Rank!$B$9:$B$782,[1]Rank!$F$9:$F$782)","v":"هيثم عباس عبد الباري العشماوي"},300]
[4,"أحمد جميل السيد",368,null,null,"أحمد جميل السيد  ",368,10,4,{"$f":"LOOKUP(L5,[1]Rank!$B$9:$B$782,[1]Rank!$E$9:$E$782)","v":"*"},{"$f":"LOOKUP(L5,[1]Rank!$B$9:$B$782,[1]Rank!$F$9:$F$782)","v":"أحمد إبراهيم غانم  "},366]
[5,"أحمد محمد أمين",358,2,null,"أحمد محمد أمين  ",358,28,5,{"$f":"LOOKUP(L6,[1]Rank!$B$9:$B$782,[1]Rank!$E$9:$E$782)","v":"*"},{"$f":"LOOKUP(L6,[1]Rank!$B$9:$B$782,[1]Rank!$F$9:$F$782)","v":"يوسف مسعد فراج"},735]
[6,"معتز محمد عبد المنعم",351,null,null,"معتز محمد محمد عبد المنعم محمد",351,9,6,{"$f":"LOOKUP(L7,[1]Rank!$B$9:$B$782,[1]Rank!$E$9:$E$782)","v":"*"},{"$f":"LOOKUP(L7,[1]Rank!$B$9:$B$782,[1]Rank!$F$9:$F$782)","v":"محمد حسن عبد القادر إبراهيم حسن"},310]
[7,"هيثم محمد شبانة",668,null,null,"هيثم محمد أحمد شبانة",668,2,7,{"$f":"LOOKUP(L8,[1]Rank!$B$9:$B$782,[1]Rank!$E$9:$E$782)","v":"*"},{"$f":"LOOKUP(L8,[1]Rank!$B$9:$B$782,[1]Rank!$F$9:$F$782)","v":"أمير محمد خطاب"},200]
[8,"عبد الرحمن محمود عثمان",596,null,null,{"$error":"#N/A"},0,12,8,{"$f":"LOOKUP(L9,[1]Rank!$B$9:$B$782,[1]Rank!$E$9:$E$782)","v":"*"},{"$f":"LOOKUP(L9,[1]Rank!$B$9:$B$782,[1]Rank!$F$9:$F$782)","v":"علاء شوقي جبريل  "},361]
[9," عمرو محمد مصطفى","--",3,null,"طارق عبد الغني محمد السحار",671,26,9,{"$f":"LOOKUP(L10,[1]Rank!$B$9:$B$782,[1]Rank!$E$9:$E$782)","v":"*"},{"$f":"LOOKUP(L10,[1]Rank!$B$9:$B$782,[1]Rank!$F$9:$F$782)","v":"معتز محمد محمد عبد المنعم محمد"},351]
[10,"تامر تيمور شكري",318,null,null,"محمد محمود محمد فضل ",379,29,10,{"$f":"LOOKUP(L11,[1]Rank!$B$9:$B$782,[1]Rank!$E$9:$E$782)","v":"*"},{"$f":"LOOKUP(L11,[1]Rank!$B$9:$B$782,[1]Rank!$F$9:$F$782)","v":"أحمد جميل السيد  "},368]
[11,"هيثم العشماوي",300,null,null,"تامر تيمور شكري",318,19,11,{"$f":"LOOKUP(L12,[1]Rank!$B$9:$B$782,[1]Rank!$E$9:$E$782)","v":"*"},{"$f":"LOOKUP(L12,[1]Rank!$B$9:$B$782,[1]Rank!$F$9:$F$782)","v":"مصطفى محمد علي شرف"},449]
[12,"أحمد علي السيد شرع",536,null,null,"هيثم عباس عبد الباري العشماوي",300,3,12,{"$f":"LOOKUP(L13,[1]Rank!$B$9:$B$782,[1]Rank!$E$9:$E$782)","v":{"$error":"#N/A"}},{"$f":"LOOKUP(L13,[1]Rank!$B$9:$B$782,[1]Rank!$F$9:$F$782)","v":{"$error":"#N/A"}}]
[13,"عمرو سمير دسوقي",709,4,null,"أحمد علي السيد علي شرع",536,13,13,{"$f":"LOOKUP(L14,[1]Rank!$B$9:$B$782,[1]Rank!$E$9:$E$782)","v":"*"},{"$f":"LOOKUP(L14,[1]Rank!$B$9:$B$782,[1]Rank!$F$9:$F$782)","v":"أحمد علي السيد علي شرع"},536]
[14,"أحمد محمد محمدي",356,null,null,"أحمد فؤاد حسنين  ",363,40,14,{"$f":"LOOKUP(L15,[1]Rank!$B$9:$B$782,[1]Rank!$E$9:$E$782)","v":"*"},{"$f":"LOOKUP(L15,[1]Rank!$B$9:$B$782,[1]Rank!$F$9:$F$782)","v":"مينا ناجح صبحي"},611]
[15,"حسام الدين صلاح أبو الفتوح",362,null,null,"أحمد محمد محمدي يوسف ",356,25,15,{"$f":"LOOKUP(L16,[1]Rank!$B$9:$B$782,[1]Rank!$E$9:$E$782)","v":{"$error":"#N/A"}},"جمال احمد محمد جمال","--"]
[16,"طارق عبد الغني السحار",671,null,null,"حسام الدين صلاح أبو الفتوح  ",362,36,16,{"$f":"LOOKUP(L17,[1]Rank!$B$9:$B$782,[1]Rank!$E$9:$E$782)","v":{"$error":"#N/A"}},"اسلام نصر الغنام","--"]
[17,"مينا ناجح صبحي",611,5,null,"أحمد إبراهيم غانم  ",366,4,17,{"$f":"LOOKUP(L18,[1]Rank!$B$9:$B$782,[1]Rank!$E$9:$E$782)","v":{"$error":"#N/A"}}," عمرو محمد مصطفى","--"]
[18,"وليد شعبان إسماعيل علي",450,null,null,"مينا ناجح صبحي",611,14,18,{"$f":"LOOKUP(L19,[1]Rank!$B$9:$B$782,[1]Rank!$E$9:$E$782)","v":"*"},{"$f":"LOOKUP(L19,[1]Rank!$B$9:$B$782,[1]Rank!$F$9:$F$782)","v":"محمد احمد محمد البربري"},699]
[19,"محمد أحمد محمد عبد الله",360,null,null,"توفيق حسين توفيق  ",369,30,19,{"$f":"LOOKUP(L20,[1]Rank!$B$9:$B$782,[1]Rank!$E$9:$E$782)","v":"*"},{"$f":"LOOKUP(L20,[1]Rank!$B$9:$B$782,[1]Rank!$F$9:$F$782)","v":"تامر تيمور شكري"},318]
[20,"عصام الدين محمد عبد العاطي",467,null,null,"عصام الدسوقي","--",39,20,{"$f":"LOOKUP(L21,[1]Rank!$B$9:$B$782,[1]Rank!$E$9:$E$782)","v":"*"},{"$f":"LOOKUP(L21,[1]Rank!$B$9:$B$782,[1]Rank!$F$9:$F$782)","v":"يامن محمد حسن  "},350]
[21,"محمد طارق عبد الله",367,6,null,"إسلام أحمد السيد قنديل ",387,24,21,{"$f":"LOOKUP(L22,[1]Rank!$B$9:$B$782,[1]Rank!$E$9:$E$782)","v":"*"},{"$f":"LOOKUP(L22,[1]Rank!$B$9:$B$782,[1]Rank!$F$9:$F$782)","v":"عصام الدين محمد عبد العاطي"},467]
[22,"يوسف مسعد فراج",735,null,null,"محمد طارق عبد الله  ",367,37,22,{"$f":"LOOKUP(L23,[1]Rank!$B$9:$B$782,[1]Rank!$E$9:$E$782)","v":"*"},{"$f":"LOOKUP(L23,[1]Rank!$B$9:$B$782,[1]Rank!$F$9:$F$782)","v":"محمد سعيد زكي الفطاطري"},550]
[23,"جمال احمد محمد جمال","--",null,null,"يوسف مسعد فراج",735,5,23,{"$f":"LOOKUP(L24,[1]Rank!$B$9:$B$782,[1]Rank!$E$9:$E$782)","v":"*"},{"$f":"LOOKUP(L24,[1]Rank!$B$9:$B$782,[1]Rank!$F$9:$F$782)","v":"خالد حمدي محمد السيد "},316]
[24,"يامن محمد حسن",350,null,null,"جمال احمد محمد جمال","--",15,24,{"$f":"LOOKUP(L25,[1]Rank!$B$9:$B$782,[1]Rank!$E$9:$E$782)","v":"*"},{"$f":"LOOKUP(L25,[1]Rank!$B$9:$B$782,[1]Rank!$F$9:$F$782)","v":"إسلام أحمد السيد قنديل "},387]
[25,"خالد حمدي محمد السيد",316,7,null,"يامن محمد حسن  ",350,20,25,{"$f":"LOOKUP(L26,[1]Rank!$B$9:$B$782,[1]Rank!$E$9:$E$782)","v":"*"},{"$f":"LOOKUP(L26,[1]Rank!$B$9:$B$782,[1]Rank!$F$9:$F$782)","v":"أحمد محمد محمدي يوسف "},356]
[26,"علاء شوقي جبريل",361,null,null,"خالد حمدي محمد السيد ",316,23,26,{"$f":"LOOKUP(L27,[1]Rank!$B$9:$B$782,[1]Rank!$E$9:$E$782)","v":"*"},{"$f":"LOOKUP(L27,[1]Rank!$B$9:$B$782,[1]Rank!$F$9:$F$782)","v":"طارق عبد الغني محمد السحار"},671]
[27,"أحمد سمير خلف على",706,null,null,"أحمد محمود عبد الفتاح عرفة",588,31,27,{"$f":"LOOKUP(L28,[1]Rank!$B$9:$B$782,[1]Rank!$E$9:$E$782)","v":"*"},{"$f":"LOOKUP(L28,[1]Rank!$B$9:$B$782,[1]Rank!$F$9:$F$782)","v":"أحمد محمد حمدي صالح "},396]
[28,"محمد حسن عبد القادر",310,null,null,"إبراهيم محمد","--",38,28,{"$f":"LOOKUP(L29,[1]Rank!$B$9:$B$782,[1]Rank!$E$9:$E$782)","v":"*"},{"$f":"LOOKUP(L29,[1]Rank!$B$9:$B$782,[1]Rank!$F$9:$F$782)","v":"أحمد محمد أمين  "},358]
[29,"اسلام نصر الغنام","--",8,null,"محمد حسن عبد القادر إبراهيم حسن",310,6,29,{"$f":"LOOKUP(L30,[1]Rank!$B$9:$B$782,[1]Rank!$E$9:$E$782)","v":"*"},{"$f":"LOOKUP(L30,[1]Rank!$B$9:$B$782,[1]Rank!$F$9:$F$782)","v":"محمد محمود محمد فضل "},379]
[30,"محمد سعيد الفطاطري",550,null,null,"اسلام نصر الغنام","--",16,30,{"$f":"LOOKUP(L31,[1]Rank!$B$9:$B$782,[1]Rank!$E$9:$E$782)","v":"*"},{"$f":"LOOKUP(L31,[1]Rank!$B$9:$B$782,[1]Rank!$F$9:$F$782)","v":"توفيق حسين توفيق  "},369]
[31,"أحمد بسيوني",399,null,null,"محمد سعيد زكي الفطاطري",550,22,31,{"$f":"LOOKUP(L32,[1]Rank!$B$9:$B$782,[1]Rank!$E$9:$E$782)","v":"*"},{"$f":"LOOKUP(L32,[1]Rank!$B$9:$B$782,[1]Rank!$F$9:$F$782)","v":"أحمد محمود عبد الفتاح عرفة"},588]
[32,"أمير محمد خطاب",200,null,null,"أحمد شيرين محمود عز الدين بسيوني",399,32,32,{"$f":"LOOKUP(L33,[1]Rank!$B$9:$B$782,[1]Rank!$E$9:$E$782)","v":"*"},{"$f":"LOOKUP(L33,[1]Rank!$B$9:$B$782,[1]Rank!$F$9:$F$782)","v":"أحمد شيرين محمود عز الدين بسيوني"},399]
[33,"أحمد إبراهيم غانم",366,9,null,{"$f":"LOOKUP(H34,$I$2:$I$161,$K$2:$K$161)","v":"أمير محمد خطاب"},{"$f":"LOOKUP(H34,$I$2:$I$161,$L$2:$L$161)","v":200},7,33,{"$f":"LOOKUP(L34,[1]Rank!$B$9:$B$782,[1]Rank!$E$9:$E$782)","v":"*"},{"$f":"LOOKUP(L34,[1]Rank!$B$9:$B$782,[1]Rank!$F$9:$F$782)","v":"عبد الرحمن محمود عبد السميع عثمان"},596]
[34,"شريف حلمي",501,null,null," عمرو محمد مصطفى","--",17,34,{"$f":"LOOKUP(L35,[1]Rank!$B$9:$B$782,[1]Rank!$E$9:$E$782)","v":"*"},{"$f":"LOOKUP(L35,[1]Rank!$B$9:$B$782,[1]Rank!$F$9:$F$782)","v":"إبراهيم عرفان السقا"},721]
[35,"أحمد فؤاد حسنين",363,null,null,"عمرو سمير دسوقي",709,35,35,{"$f":"LOOKUP(L36,[1]Rank!$B$9:$B$782,[1]Rank!$E$9:$E$782)","v":0},{"$f":"LOOKUP(L36,[1]Rank!$B$9:$B$782,[1]Rank!$F$9:$F$782)","v":"عمرو سمير دسوقي"},709]
[36,"محمد محمود فضل",379,null,null,"عصام الدين محمد عبد العاطي",467,21,36,{"$f":"LOOKUP(L37,[1]Rank!$B$9:$B$782,[1]Rank!$E$9:$E$782)","v":"*"},{"$f":"LOOKUP(L37,[1]Rank!$B$9:$B$782,[1]Rank!$F$9:$F$782)","v":"حسام الدين صلاح أبو الفتوح  "},362]
[37,null,null,10,null,"علاء شوقي جبريل  ",361,8,37,{"$f":"LOOKUP(L38,[1]Rank!$B$9:$B$782,[1]Rank!$E$9:$E$782)","v":"*"},{"$f":"LOOKUP(L38,[1]Rank!$B$9:$B$782,[1]Rank!$F$9:$F$782)","v":"محمد طارق عبد الله  "},367]
[38,null,null,null,null,"محمد احمد محمد البربري",699,18,38,{"$f":"LOOKUP(L39,[1]Rank!$B$9:$B$782,[1]Rank!$E$9:$E$782)","v":{"$error":"#N/A"}},"إبراهيم محمد","--"]
[39,null,null,null,null,"عبد الرحمن محمود عبد السميع عثمان",596,33,39,{"$f":"LOOKUP(L40,[1]Rank!$B$9:$B$782,[1]Rank!$E$9:$E$782)","v":{"$error":"#N/A"}},"عصام الدسوقي","--"]
[40,null,null,null,null,"إبراهيم عرفان السقا",721,34,40,{"$f":"LOOKUP(L41,[1]Rank!$B$9:$B$782,[1]Rank!$E$9:$E$782)","v":"*"},{"$f":"LOOKUP(L41,[1]Rank!$B$9:$B$782,[1]Rank!$F$9:$F$782)","v":"أحمد فؤاد حسنين  "},363]
[41,null,null,11,null,"أحمد حجازي   ",322,41,41,{"$f":"LOOKUP(L42,[1]Rank!$B$9:$B$782,[1]Rank!$E$9:$E$782)","v":"*"},{"$f":"LOOKUP(L42,[1]Rank!$B$9:$B$782,[1]Rank!$F$9:$F$782)","v":"أحمد حجازي   "},322]
[42,null,null,null,null,"محمد أحمد محمد عبد الله ",360,42,42,{"$f":"LOOKUP(L43,[1]Rank!$B$9:$B$782,[1]Rank!$E$9:$E$782)","v":"*"},{"$f":"LOOKUP(L43,[1]Rank!$B$9:$B$782,[1]Rank!$F$9:$F$782)","v":"محمد أحمد محمد عبد الله "},360]
[43,null,null,null,null,"أحمد سمير خلف على",706,43,43,{"$f":"LOOKUP(L44,[1]Rank!$B$9:$B$782,[1]Rank!$E$9:$E$782)","v":0},{"$f":"LOOKUP(L44,[1]Rank!$B$9:$B$782,[1]Rank!$F$9:$F$782)","v":"أحمد سمير خلف على"},706]
[44,null,null,null,null,"وليد شعبان إسماعيل علي",450,44,44,{"$f":"LOOKUP(L45,[1]Rank!$B$9:$B$782,[1]Rank!$E$9:$E$782)","v":0},{"$f":"LOOKUP(L45,[1]Rank!$B$9:$B$782,[1]Rank!$F$9:$F$782)","v":"وليد شعبان إسماعيل علي"},450]
[45,null,null,12,null,{"$error":"#N/A"},0,45,45,{"$f":"LOOKUP(L46,[1]Rank!$B$9:$B$782,[1]Rank!$E$9:$E$782)","v":{"$error":"#N/A"}},{"$f":"LOOKUP(L46,[1]Rank!$B$9:$B$782,[1]Rank!$F$9:$F$782)","v":{"$error":"#N/A"}}]
[46,null,null,null,null,{"$error":"#N/A"},0,46,46,{"$f":"LOOKUP(L47,[1]Rank!$B$9:$B$782,[1]Rank!$E$9:$E$782)","v":{"$error":"#N/A"}},{"$f":"LOOKUP(L47,[1]Rank!$B$9:$B$782,[1]Rank!$F$9:$F$782)","v":{"$error":"#N/A"}}]
[47,null,null,null,null,{"$error":"#N/A"},0,47,47,{"$f":"LOOKUP(L48,[1]Rank!$B$9:$B$782,[1]Rank!$E$9:$E$782)","v":{"$error":"#N/A"}},{"$f":"LOOKUP(L48,[1]Rank!$B$9:$B$782,[1]Rank!$F$9:$F$782)","v":{"$error":"#N/A"}}]
[48,null,null,null,null,{"$error":"#N/A"},0,48,48,{"$f":"LOOKUP(L49,[1]Rank!$B$9:$B$782,[1]Rank!$E$9:$E$782)","v":{"$error":"#N/A"}},{"$f":"LOOKUP(L49,[1]Rank!$B$9:$B$782,[1]Rank!$F$9:$F$782)","v":{"$error":"#N/A"}}]
[49,null,null,13,null,{"$error":"#N/A"},{"$error":"#N/A"},null,49,{"$f":"LOOKUP(L50,[1]Rank!$B$9:$B$782,[1]Rank!$E$9:$E$782)","v":{"$error":"#N/A"}},{"$f":"LOOKUP(L50,[1]Rank!$B$9:$B$782,[1]Rank!$F$9:$F$782)","v":{"$error":"#N/A"}}]
[50,null,null,null,null,{"$error":"#N/A"},{"$error":"#N/A"},null,50,{"$f":"LOOKUP(L51,[1]Rank!$B$9:$B$782,[1]Rank!$E$9:$E$782)","v":{"$error":"#N/A"}},{"$f":"LOOKUP(L51,[1]Rank!$B$9:$B$782,[1]Rank!$F$9:$F$782)","v":{"$error":"#N/A"}}]
[51,null,null,null,null,{"$error":"#N/A"},{"$error":"#N/A"},null,51,{"$f":"LOOKUP(L52,[1]Rank!$B$9:$B$782,[1]Rank!$E$9:$E$782)","v":{"$error":"#N/A"}},{"$f":"LOOKUP(L52,[1]Rank!$B$9:$B$782,[1]Rank!$F$9:$F$782)","v":{"$error":"#N/A"}}]
[52,null,null,null,null,{"$error":"#N/A"},{"$error":"#N/A"},null,52,{"$f":"LOOKUP(L53,[1]Rank!$B$9:$B$782,[1]Rank!$E$9:$E$782)","v":{"$error":"#N/A"}},{"$f":"LOOKUP(L53,[1]Rank!$B$9:$B$782,[1]Rank!$F$9:$F$782)","v":{"$error":"#N/A"}}]
[53,null,null,14,null,{"$error":"#N/A"},{"$error":"#N/A"},null,53,{"$f":"LOOKUP(L54,[1]Rank!$B$9:$B$782,[1]Rank!$E$9:$E$782)","v":{"$error":"#N/A"}},{"$f":"LOOKUP(L54,[1]Rank!$B$9:$B$782,[1]Rank!$F$9:$F$782)","v":{"$error":"#N/A"}}]
[54,null,null,null,null,{"$error":"#N/A"},{"$error":"#N/A"},null,54,{"$f":"LOOKUP(L55,[1]Rank!$B$9:$B$782,[1]Rank!$E$9:$E$782)","v":{"$error":"#N/A"}},{"$f":"LOOKUP(L55,[1]Rank!$B$9:$B$782,[1]Rank!$F$9:$F$782)","v":{"$error":"#N/A"}}]
[55,null,null,null,null,{"$error":"#N/A"},{"$error":"#N/A"},null,55,{"$f":"LOOKUP(L56,[1]Rank!$B$9:$B$782,[1]Rank!$E$9:$E$782)","v":{"$error":"#N/A"}},{"$f":"LOOKUP(L56,[1]Rank!$B$9:$B$782,[1]Rank!$F$9:$F$782)","v":{"$error":"#N/A"}}]
[56,null,null,null,null,{"$error":"#N/A"},{"$error":"#N/A"},null,56,{"$f":"LOOKUP(L57,[1]Rank!$B$9:$B$782,[1]Rank!$E$9:$E$782)","v":{"$error":"#N/A"}},{"$f":"LOOKUP(L57,[1]Rank!$B$9:$B$782,[1]Rank!$F$9:$F$782)","v":{"$error":"#N/A"}}]
[57,null,null,15,null,{"$error":"#N/A"},{"$error":"#N/A"},null,57,{"$f":"LOOKUP(L58,[1]Rank!$B$9:$B$782,[1]Rank!$E$9:$E$782)","v":{"$error":"#N/A"}},{"$f":"LOOKUP(L58,[1]Rank!$B$9:$B$782,[1]Rank!$F$9:$F$782)","v":{"$error":"#N/A"}}]
[58,null,null,null,null,{"$error":"#N/A"},{"$error":"#N/A"},null,58,{"$f":"LOOKUP(L59,[1]Rank!$B$9:$B$782,[1]Rank!$E$9:$E$782)","v":{"$error":"#N/A"}},{"$f":"LOOKUP(L59,[1]Rank!$B$9:$B$782,[1]Rank!$F$9:$F$782)","v":{"$error":"#N/A"}}]
[59,null,null,null,null,{"$error":"#N/A"},{"$error":"#N/A"},null,59,{"$f":"LOOKUP(L60,[1]Rank!$B$9:$B$782,[1]Rank!$E$9:$E$782)","v":{"$error":"#N/A"}},{"$f":"LOOKUP(L60,[1]Rank!$B$9:$B$782,[1]Rank!$F$9:$F$782)","v":{"$error":"#N/A"}}]
[60,null,null,null,null,{"$error":"#N/A"},{"$error":"#N/A"},null,60,{"$f":"LOOKUP(L61,[1]Rank!$B$9:$B$782,[1]Rank!$E$9:$E$782)","v":{"$error":"#N/A"}},{"$f":"LOOKUP(L61,[1]Rank!$B$9:$B$782,[1]Rank!$F$9:$F$782)","v":{"$error":"#N/A"}}]
[61,null,null,16,null,{"$error":"#N/A"},{"$error":"#N/A"},null,61,{"$f":"LOOKUP(L62,[1]Rank!$B$9:$B$782,[1]Rank!$E$9:$E$782)","v":{"$error":"#N/A"}},{"$f":"LOOKUP(L62,[1]Rank!$B$9:$B$782,[1]Rank!$F$9:$F$782)","v":{"$error":"#N/A"}}]
[62,null,null,null,null,{"$error":"#N/A"},{"$error":"#N/A"},null,62,{"$f":"LOOKUP(L63,[1]Rank!$B$9:$B$782,[1]Rank!$E$9:$E$782)","v":{"$error":"#N/A"}},{"$f":"LOOKUP(L63,[1]Rank!$B$9:$B$782,[1]Rank!$F$9:$F$782)","v":{"$error":"#N/A"}}]
[63,null,null,null,null,{"$error":"#N/A"},{"$error":"#N/A"},null,63,{"$f":"LOOKUP(L64,[1]Rank!$B$9:$B$782,[1]Rank!$E$9:$E$782)","v":{"$error":"#N/A"}},{"$f":"LOOKUP(L64,[1]Rank!$B$9:$B$782,[1]Rank!$F$9:$F$782)","v":{"$error":"#N/A"}}]
[64,null,null,null,null,{"$error":"#N/A"},{"$error":"#N/A"},null,64,{"$f":"LOOKUP(L65,[1]Rank!$B$9:$B$782,[1]Rank!$E$9:$E$782)","v":{"$error":"#N/A"}},{"$f":"LOOKUP(L65,[1]Rank!$B$9:$B$782,[1]Rank!$F$9:$F$782)","v":{"$error":"#N/A"}}]
[65,null,null,17,null,{"$f":"LOOKUP(H66,$I$2:$I$161,$K$2:$K$161)","v":{"$error":"#N/A"}},{"$f":"LOOKUP(H66,$I$2:$I$161,$L$2:$L$161)","v":{"$error":"#N/A"}},null,65,{"$f":"LOOKUP(L66,[1]Rank!$B$9:$B$782,[1]Rank!$E$9:$E$782)","v":{"$error":"#N/A"}},{"$f":"LOOKUP(L66,[1]Rank!$B$9:$B$782,[1]Rank!$F$9:$F$782)","v":{"$error":"#N/A"}}]
[66,null,null,null,null,{"$error":"#N/A"},{"$error":"#N/A"},null,66,{"$f":"LOOKUP(L67,[1]Rank!$B$9:$B$782,[1]Rank!$E$9:$E$782)","v":{"$error":"#N/A"}},{"$f":"LOOKUP(L67,[1]Rank!$B$9:$B$782,[1]Rank!$F$9:$F$782)","v":{"$error":"#N/A"}}]
[67,null,null,null,null,{"$error":"#N/A"},{"$error":"#N/A"},null,67,{"$f":"LOOKUP(L68,[1]Rank!$B$9:$B$782,[1]Rank!$E$9:$E$782)","v":{"$error":"#N/A"}},{"$f":"LOOKUP(L68,[1]Rank!$B$9:$B$782,[1]Rank!$F$9:$F$782)","v":{"$error":"#N/A"}}]
[68,null,null,null,null,{"$error":"#N/A"},{"$error":"#N/A"},null,68,{"$f":"LOOKUP(L69,[1]Rank!$B$9:$B$782,[1]Rank!$E$9:$E$782)","v":{"$error":"#N/A"}},{"$f":"LOOKUP(L69,[1]Rank!$B$9:$B$782,[1]Rank!$F$9:$F$782)","v":{"$error":"#N/A"}}]
[69,null,null,18,null,{"$error":"#N/A"},{"$error":"#N/A"},null,69,{"$f":"LOOKUP(L70,[1]Rank!$B$9:$B$782,[1]Rank!$E$9:$E$782)","v":{"$error":"#N/A"}},{"$f":"LOOKUP(L70,[1]Rank!$B$9:$B$782,[1]Rank!$F$9:$F$782)","v":{"$error":"#N/A"}}]
[70,null,null,null,null,{"$error":"#N/A"},{"$error":"#N/A"},null,70,{"$f":"LOOKUP(L71,[1]Rank!$B$9:$B$782,[1]Rank!$E$9:$E$782)","v":{"$error":"#N/A"}},{"$f":"LOOKUP(L71,[1]Rank!$B$9:$B$782,[1]Rank!$F$9:$F$782)","v":{"$error":"#N/A"}}]
[71,null,null,null,null,{"$error":"#N/A"},{"$error":"#N/A"},null,71,{"$f":"LOOKUP(L72,[1]Rank!$B$9:$B$782,[1]Rank!$E$9:$E$782)","v":{"$error":"#N/A"}},{"$f":"LOOKUP(L72,[1]Rank!$B$9:$B$782,[1]Rank!$F$9:$F$782)","v":{"$error":"#N/A"}}]
[72,null,null,null,null,{"$error":"#N/A"},{"$error":"#N/A"},null,72,{"$f":"LOOKUP(L73,[1]Rank!$B$9:$B$782,[1]Rank!$E$9:$E$782)","v":{"$error":"#N/A"}},{"$f":"LOOKUP(L73,[1]Rank!$B$9:$B$782,[1]Rank!$F$9:$F$782)","v":{"$error":"#N/A"}}]
[73,null,null,19,null,{"$error":"#N/A"},{"$error":"#N/A"},null,73,{"$f":"LOOKUP(L74,[1]Rank!$B$9:$B$782,[1]Rank!$E$9:$E$782)","v":{"$error":"#N/A"}},{"$f":"LOOKUP(L74,[1]Rank!$B$9:$B$782,[1]Rank!$F$9:$F$782)","v":{"$error":"#N/A"}}]
[74,null,null,null,null,{"$error":"#N/A"},{"$error":"#N/A"},null,74,{"$f":"LOOKUP(L75,[1]Rank!$B$9:$B$782,[1]Rank!$E$9:$E$782)","v":{"$error":"#N/A"}},{"$f":"LOOKUP(L75,[1]Rank!$B$9:$B$782,[1]Rank!$F$9:$F$782)","v":{"$error":"#N/A"}}]
[75,null,null,null,null,{"$error":"#N/A"},{"$error":"#N/A"},null,75,{"$f":"LOOKUP(L76,[1]Rank!$B$9:$B$782,[1]Rank!$E$9:$E$782)","v":{"$error":"#N/A"}},{"$f":"LOOKUP(L76,[1]Rank!$B$9:$B$782,[1]Rank!$F$9:$F$782)","v":{"$error":"#N/A"}}]
[76,null,null,null,null,{"$error":"#N/A"},{"$error":"#N/A"},null,76,{"$f":"LOOKUP(L77,[1]Rank!$B$9:$B$782,[1]Rank!$E$9:$E$782)","v":{"$error":"#N/A"}},{"$f":"LOOKUP(L77,[1]Rank!$B$9:$B$782,[1]Rank!$F$9:$F$782)","v":{"$error":"#N/A"}}]
[77,null,null,20,null,{"$error":"#N/A"},{"$error":"#N/A"},null,77,{"$f":"LOOKUP(L78,[1]Rank!$B$9:$B$782,[1]Rank!$E$9:$E$782)","v":{"$error":"#N/A"}},{"$f":"LOOKUP(L78,[1]Rank!$B$9:$B$782,[1]Rank!$F$9:$F$782)","v":{"$error":"#N/A"}}]
[78,null,null,null,null,{"$error":"#N/A"},{"$error":"#N/A"},null,78,{"$f":"LOOKUP(L79,[1]Rank!$B$9:$B$782,[1]Rank!$E$9:$E$782)","v":{"$error":"#N/A"}},{"$f":"LOOKUP(L79,[1]Rank!$B$9:$B$782,[1]Rank!$F$9:$F$782)","v":{"$error":"#N/A"}}]
[79,null,null,null,null,{"$error":"#N/A"},{"$error":"#N/A"},null,79,{"$f":"LOOKUP(L80,[1]Rank!$B$9:$B$782,[1]Rank!$E$9:$E$782)","v":{"$error":"#N/A"}},{"$f":"LOOKUP(L80,[1]Rank!$B$9:$B$782,[1]Rank!$F$9:$F$782)","v":{"$error":"#N/A"}}]
[80,null,null,null,null,{"$error":"#N/A"},{"$error":"#N/A"},null,80,{"$f":"LOOKUP(L81,[1]Rank!$B$9:$B$782,[1]Rank!$E$9:$E$782)","v":{"$error":"#N/A"}},{"$f":"LOOKUP(L81,[1]Rank!$B$9:$B$782,[1]Rank!$F$9:$F$782)","v":{"$error":"#N/A"}}]
[81,"راجي محمد صبحي",111,21,null,"أحمد عبد العظيم عثمان طنطاوي",670,81,81,{"$f":"LOOKUP(L82,[1]Rank!$B$9:$B$782,[1]Rank!$E$9:$E$782)","v":"*"},{"$f":"LOOKUP(L82,[1]Rank!$B$9:$B$782,[1]Rank!$F$9:$F$782)","v":"أحمد عبد العظيم عثمان طنطاوي"},670]
[82,"أحمد صلاح الدين دياب",510,null,null,"أحمد صلاح الدين محمد دياب",510,91,82,{"$f":"LOOKUP(L83,[1]Rank!$B$9:$B$782,[1]Rank!$E$9:$E$782)","v":{"$error":"#N/A"}},{"$f":"LOOKUP(L83,[1]Rank!$B$9:$B$782,[1]Rank!$F$9:$F$782)","v":{"$error":"#N/A"}}]
[83,"أسامة لطفى نجيب",751,null,null,"محمد حسن  ","--",107,83,{"$f":"LOOKUP(L84,[1]Rank!$B$9:$B$782,[1]Rank!$E$9:$E$782)","v":"*"},{"$f":"LOOKUP(L84,[1]Rank!$B$9:$B$782,[1]Rank!$F$9:$F$782)","v":"أحمد مصطفى سعد أحمد راشد"},306]
[84,"أحمد عز العرب السماحي",655,null,null,"أحمد عادل عز العرب السماحي",655,90,84,{"$f":"LOOKUP(L85,[1]Rank!$B$9:$B$782,[1]Rank!$E$9:$E$782)","v":"*"},{"$f":"LOOKUP(L85,[1]Rank!$B$9:$B$782,[1]Rank!$F$9:$F$782)","v":"أحمد رمزي الديب"},547]
[85,"محمد عبد الهادي أبو القاسم",393,22,null,"محمد عبد الهادي أحمد أبو القاسم ",393,108,85,{"$f":"LOOKUP(L86,[1]Rank!$B$9:$B$782,[1]Rank!$E$9:$E$782)","v":"*"},{"$f":"LOOKUP(L86,[1]Rank!$B$9:$B$782,[1]Rank!$F$9:$F$782)","v":"أحمد محمد شوقى عبد الحميد"},477]
[86,"ايهاب يوسف عمارة",756,null,null,"ايهاب يوسف عبد القادرعمارة",756,89,86,{"$f":"LOOKUP(L87,[1]Rank!$B$9:$B$782,[1]Rank!$E$9:$E$782)","v":0},{"$f":"LOOKUP(L87,[1]Rank!$B$9:$B$782,[1]Rank!$F$9:$F$782)","v":"أحمد عبد العزيز العطار"},572]
[87,"ياسر شاهين",660,null,null,{"$error":"#N/A"},0,82,87,{"$f":"LOOKUP(L88,[1]Rank!$B$9:$B$782,[1]Rank!$E$9:$E$782)","v":"*"},{"$f":"LOOKUP(L88,[1]Rank!$B$9:$B$782,[1]Rank!$F$9:$F$782)","v":"أسامة أحمد زكي محمد"},603]
[88,"أحمد علي خليل حسن",664,null,null,"أحمد علي خليل حسن",664,92,88,{"$f":"LOOKUP(L89,[1]Rank!$B$9:$B$782,[1]Rank!$E$9:$E$782)","v":"*"},{"$f":"LOOKUP(L89,[1]Rank!$B$9:$B$782,[1]Rank!$F$9:$F$782)","v":"أسامة لطفى نجيب"},751]
[89,"محمد بلبع",324,23,null,"محمد بلبع   ",324,106,89,{"$f":"LOOKUP(L90,[1]Rank!$B$9:$B$782,[1]Rank!$E$9:$E$782)","v":"*"},{"$f":"LOOKUP(L90,[1]Rank!$B$9:$B$782,[1]Rank!$F$9:$F$782)","v":"ايهاب يوسف عبد القادرعمارة"},756]
[90,"محمد علي حسن طه الأمام",305,null,null,"محمد علي حسن طه الأمام",305,109,90,{"$f":"LOOKUP(L91,[1]Rank!$B$9:$B$782,[1]Rank!$E$9:$E$782)","v":"*"},{"$f":"LOOKUP(L91,[1]Rank!$B$9:$B$782,[1]Rank!$F$9:$F$782)","v":"أحمد عادل عز العرب السماحي"},655]
[91,"عماد محمد فؤاد مرسي",681,null,null,"عماد محمد فؤاد مرسي",681,99,91,{"$f":"LOOKUP(L92,[1]Rank!$B$9:$B$782,[1]Rank!$E$9:$E$782)","v":"*"},{"$f":"LOOKUP(L92,[1]Rank!$B$9:$B$782,[1]Rank!$F$9:$F$782)","v":"أحمد صلاح الدين محمد دياب"},510]
[92,"أحمد مصطفى راشد",306,null,null,"أحمد مصطفى سعد أحمد راشد",306,83,92,{"$f":"LOOKUP(L93,[1]Rank!$B$9:$B$782,[1]Rank!$E$9:$E$782)","v":"*"},{"$f":"LOOKUP(L93,[1]Rank!$B$9:$B$782,[1]Rank!$F$9:$F$782)","v":"أحمد علي خليل حسن"},664]
[93,"جمال السيد توفيق",758,24,null,"جمال السيد توفيق",758,93,93,{"$f":"LOOKUP(L94,[1]Rank!$B$9:$B$782,[1]Rank!$E$9:$E$782)","v":"*"},{"$f":"LOOKUP(L94,[1]Rank!$B$9:$B$782,[1]Rank!$F$9:$F$782)","v":"جمال السيد توفيق"},758]
[94,"محمد عصام الدين القاضي",304,null,null,{"$error":"#N/A"},0,120,94,{"$f":"LOOKUP(L95,[1]Rank!$B$9:$B$782,[1]Rank!$E$9:$E$782)","v":"*"},{"$f":"LOOKUP(L95,[1]Rank!$B$9:$B$782,[1]Rank!$F$9:$F$782)","v":"خالد محمد شبارة"},6]
[95,"احمد طنطاوى",670,null,null,"محمد عصام الدين محمد القاضي ",304,105,95,{"$f":"LOOKUP(L96,[1]Rank!$B$9:$B$782,[1]Rank!$E$9:$E$782)","v":"*"},{"$f":"LOOKUP(L96,[1]Rank!$B$9:$B$782,[1]Rank!$F$9:$F$782)","v":"سامي محمود عادل الفولي "},383]
[96,"أحمد رمزي الديب",547,null,null,"راجي محمد صبحي",111,116,96,{"$f":"LOOKUP(L97,[1]Rank!$B$9:$B$782,[1]Rank!$E$9:$E$782)","v":"*"},{"$f":"LOOKUP(L97,[1]Rank!$B$9:$B$782,[1]Rank!$F$9:$F$782)","v":"شادي أحمد محمود وهبة"},458]
[97,"خالد محمد شبارة",6,25,null,{"$f":"LOOKUP(H98,$I$2:$I$161,$K$2:$K$161)","v":"أحمد رمزي الديب"},{"$f":"LOOKUP(H98,$I$2:$I$161,$L$2:$L$161)","v":547},84,97,{"$f":"LOOKUP(L98,[1]Rank!$B$9:$B$782,[1]Rank!$E$9:$E$782)","v":"*"},{"$f":"LOOKUP(L98,[1]Rank!$B$9:$B$782,[1]Rank!$F$9:$F$782)","v":"عادل محمد أبو زيد"},757]
[98,"محمد محمود شعبان رمضان",486,null,null,"خالد محمد شبارة",6,94,98,{"$f":"LOOKUP(L99,[1]Rank!$B$9:$B$782,[1]Rank!$E$9:$E$782)","v":"*"},{"$f":"LOOKUP(L99,[1]Rank!$B$9:$B$782,[1]Rank!$F$9:$F$782)","v":"عصام الدين حامد أحمد منصور "},302]
[99,"ماجد محمد فكري",649,null,null,"محمد محمود شعبان رمضان",486,110,99,{"$f":"LOOKUP(L100,[1]Rank!$B$9:$B$782,[1]Rank!$E$9:$E$782)","v":"*"},{"$f":"LOOKUP(L100,[1]Rank!$B$9:$B$782,[1]Rank!$F$9:$F$782)","v":"عماد محمد فؤاد مرسي"},681]
[100,"عبد الرحمن الدمراوى","-",null,null,{"$error":"#N/A"},0,119,100,{"$f":"LOOKUP(L101,[1]Rank!$B$9:$B$782,[1]Rank!$E$9:$E$782)","v":"*"},{"$f":"LOOKUP(L101,[1]Rank!$B$9:$B$782,[1]Rank!$F$9:$F$782)","v":"عمرو عماد الدين أبو العلا"},454]
[101,"أحمد محمد شوقى عبد الحميد",477,26,null,"ماجد محمد فكري إبراهيم",649,104,101,{"$f":"LOOKUP(L102,[1]Rank!$B$9:$B$782,[1]Rank!$E$9:$E$782)","v":"*"},{"$f":"LOOKUP(L102,[1]Rank!$B$9:$B$782,[1]Rank!$F$9:$F$782)","v":"عمرو محمد محسن فرج "},390]
[102,"سامي محمود الفولي",383,null,null,"عادل تادرس مرقص",556,117,102,{"$f":"LOOKUP(L103,[1]Rank!$B$9:$B$782,[1]Rank!$E$9:$E$782)","v":{"$error":"#N/A"}},"كريم احمد ناصر","--"]
[103,"عمرو عماد الدين أبو العلا",454,null,null,"أحمد محمد شوقى عبد الحميد",477,85,103,{"$f":"LOOKUP(L104,[1]Rank!$B$9:$B$782,[1]Rank!$E$9:$E$782)","v":"*"},{"$f":"LOOKUP(L104,[1]Rank!$B$9:$B$782,[1]Rank!$F$9:$F$782)","v":"كريم إيهاب عامر"},606]
[104,"كريم إيهاب عامر",606,null,null,"سامي محمود عادل الفولي ",383,95,104,{"$f":"LOOKUP(L105,[1]Rank!$B$9:$B$782,[1]Rank!$E$9:$E$782)","v":"*"},{"$f":"LOOKUP(L105,[1]Rank!$B$9:$B$782,[1]Rank!$F$9:$F$782)","v":"ماجد محمد فكري إبراهيم"},649]
[105,"مصطفى عبد الحفيظ علي",669,27,null,"عمرو عماد الدين أبو العلا",454,100,105,{"$f":"LOOKUP(L106,[1]Rank!$B$9:$B$782,[1]Rank!$E$9:$E$782)","v":"*"},{"$f":"LOOKUP(L106,[1]Rank!$B$9:$B$782,[1]Rank!$F$9:$F$782)","v":"محمد عصام الدين محمد القاضي "},304]
[106,"أحمد عبد العزيز العطار",572,null,null,"كريم إيهاب عامر",606,103,106,{"$f":"LOOKUP(L107,[1]Rank!$B$9:$B$782,[1]Rank!$E$9:$E$782)","v":"*"},{"$f":"LOOKUP(L107,[1]Rank!$B$9:$B$782,[1]Rank!$F$9:$F$782)","v":"محمد بلبع   "},324]
[107,"شادي أحمد محمود وهبة",458,null,null,"مصطفى عبد الحفيظ علي",669,111,107,{"$f":"LOOKUP(L108,[1]Rank!$B$9:$B$782,[1]Rank!$E$9:$E$782)","v":{"$error":"#N/A"}},"محمد حسن  ","--"]
[108,"كريم احمد ناصر","--",null,null,{"$error":"#N/A"},0,118,108,{"$f":"LOOKUP(L109,[1]Rank!$B$9:$B$782,[1]Rank!$E$9:$E$782)","v":"*"},{"$f":"LOOKUP(L109,[1]Rank!$B$9:$B$782,[1]Rank!$F$9:$F$782)","v":"محمد عبد الهادي أحمد أبو القاسم "},393]
[109,"نبيل خلف زكي",392,28,null,"أحمد عبد العزيز العطار",572,86,109,{"$f":"LOOKUP(L110,[1]Rank!$B$9:$B$782,[1]Rank!$E$9:$E$782)","v":"*"},{"$f":"LOOKUP(L110,[1]Rank!$B$9:$B$782,[1]Rank!$F$9:$F$782)","v":"محمد علي حسن طه الأمام"},305]
[110,"أسامة أحمد زكي",603,null,null,"شادي أحمد محمود وهبة",458,96,110,{"$f":"LOOKUP(L111,[1]Rank!$B$9:$B$782,[1]Rank!$E$9:$E$782)","v":"*"},{"$f":"LOOKUP(L111,[1]Rank!$B$9:$B$782,[1]Rank!$F$9:$F$782)","v":"محمد محمود شعبان رمضان"},486]
[111,"عادل محمد أبو زيد",757,null,null,"كريم احمد ناصر","--",102,111,{"$f":"LOOKUP(L112,[1]Rank!$B$9:$B$782,[1]Rank!$E$9:$E$782)","v":"*"},{"$f":"LOOKUP(L112,[1]Rank!$B$9:$B$782,[1]Rank!$F$9:$F$782)","v":"مصطفى عبد الحفيظ علي"},669]
[112,"عمرو محمد محسن",390,null,null,"نبيل خلف زكي حسنين ",392,112,112,{"$f":"LOOKUP(L113,[1]Rank!$B$9:$B$782,[1]Rank!$E$9:$E$782)","v":"*"},{"$f":"LOOKUP(L113,[1]Rank!$B$9:$B$782,[1]Rank!$F$9:$F$782)","v":"نبيل خلف زكي حسنين "},392]
[113,"محمد حسن فهيم","جديد",29,null,"أسامة أحمد زكي محمد",603,87,113,{"$f":"LOOKUP(L114,[1]Rank!$B$9:$B$782,[1]Rank!$E$9:$E$782)","v":"*"},{"$f":"LOOKUP(L114,[1]Rank!$B$9:$B$782,[1]Rank!$F$9:$F$782)","v":"هشام علي حسن أبو غربية "},389]
[114,"احمد سردينة",317,null,null,"عادل محمد أبو زيد",757,97,114,{"$f":"LOOKUP(L115,[1]Rank!$B$9:$B$782,[1]Rank!$E$9:$E$782)","v":"*"},{"$f":"LOOKUP(L115,[1]Rank!$B$9:$B$782,[1]Rank!$F$9:$F$782)","v":"ياسر شاهين"},660]
[115,"خالد عبد العظيم","-",null,null,"فؤاد عزت الضلعي  ",250,115,115,{"$f":"LOOKUP(L116,[1]Rank!$B$9:$B$782,[1]Rank!$E$9:$E$782)","v":"*"},{"$f":"LOOKUP(L116,[1]Rank!$B$9:$B$782,[1]Rank!$F$9:$F$782)","v":"فؤاد عزت الضلعي  "},250]
[116,"اسامة قاسم","-",null,null,"هشام علي حسن أبو غربية ",389,113,116,{"$f":"LOOKUP(L117,[1]Rank!$B$9:$B$782,[1]Rank!$E$9:$E$782)","v":"*"},{"$f":"LOOKUP(L117,[1]Rank!$B$9:$B$782,[1]Rank!$F$9:$F$782)","v":"راجي محمد صبحي"},111]
[117,null,null,30,null,"أسامة لطفى نجيب",751,88,117,{"$f":"LOOKUP(L118,[1]Rank!$B$9:$B$782,[1]Rank!$E$9:$E$782)","v":"*"},{"$f":"LOOKUP(L118,[1]Rank!$B$9:$B$782,[1]Rank!$F$9:$F$782)","v":"عادل تادرس مرقص"},556]
[118,null,null,null,null,"عصام الدين حامد أحمد منصور ",302,98,118,{"$f":"LOOKUP(L119,[1]Rank!$B$9:$B$782,[1]Rank!$E$9:$E$782)","v":{"$error":"#N/A"}},{"$f":"LOOKUP(L119,[1]Rank!$B$9:$B$782,[1]Rank!$F$9:$F$782)","v":{"$error":"#N/A"}}]
[119,null,null,null,null,"عمرو محمد محسن فرج ",390,101,119,{"$f":"LOOKUP(L120,[1]Rank!$B$9:$B$782,[1]Rank!$E$9:$E$782)","v":{"$error":"#N/A"}},{"$f":"LOOKUP(L120,[1]Rank!$B$9:$B$782,[1]Rank!$F$9:$F$782)","v":{"$error":"#N/A"}}]
[120,null,null,null,null,"ياسر شاهين",660,114,120,{"$f":"LOOKUP(L121,[1]Rank!$B$9:$B$782,[1]Rank!$E$9:$E$782)","v":{"$error":"#N/A"}},{"$f":"LOOKUP(L121,[1]Rank!$B$9:$B$782,[1]Rank!$F$9:$F$782)","v":{"$error":"#N/A"}}]
[121,null,null,31,null,{"$error":"#N/A"},0,121,121,{"$f":"LOOKUP(L122,[1]Rank!$B$9:$B$782,[1]Rank!$E$9:$E$782)","v":{"$error":"#N/A"}},{"$f":"LOOKUP(L122,[1]Rank!$B$9:$B$782,[1]Rank!$F$9:$F$782)","v":{"$error":"#N/A"}}]
[122,null,null,null,null,{"$error":"#N/A"},0,122,122,{"$f":"LOOKUP(L123,[1]Rank!$B$9:$B$782,[1]Rank!$E$9:$E$782)","v":{"$error":"#N/A"}},{"$f":"LOOKUP(L123,[1]Rank!$B$9:$B$782,[1]Rank!$F$9:$F$782)","v":{"$error":"#N/A"}}]
[123,null,null,null,null,{"$error":"#N/A"},0,123,123,{"$f":"LOOKUP(L124,[1]Rank!$B$9:$B$782,[1]Rank!$E$9:$E$782)","v":{"$error":"#N/A"}},{"$f":"LOOKUP(L124,[1]Rank!$B$9:$B$782,[1]Rank!$F$9:$F$782)","v":{"$error":"#N/A"}}]
[124,null,null,null,null,{"$error":"#N/A"},0,124,124,{"$f":"LOOKUP(L125,[1]Rank!$B$9:$B$782,[1]Rank!$E$9:$E$782)","v":{"$error":"#N/A"}},{"$f":"LOOKUP(L125,[1]Rank!$B$9:$B$782,[1]Rank!$F$9:$F$782)","v":{"$error":"#N/A"}}]
[125,null,null,32,null,{"$error":"#N/A"},0,125,125,{"$f":"LOOKUP(L126,[1]Rank!$B$9:$B$782,[1]Rank!$E$9:$E$782)","v":{"$error":"#N/A"}},{"$f":"LOOKUP(L126,[1]Rank!$B$9:$B$782,[1]Rank!$F$9:$F$782)","v":{"$error":"#N/A"}}]
[126,null,null,null,null,{"$error":"#N/A"},0,126,126,{"$f":"LOOKUP(L127,[1]Rank!$B$9:$B$782,[1]Rank!$E$9:$E$782)","v":{"$error":"#N/A"}},{"$f":"LOOKUP(L127,[1]Rank!$B$9:$B$782,[1]Rank!$F$9:$F$782)","v":{"$error":"#N/A"}}]
[127,null,null,null,null,{"$error":"#N/A"},0,127,127,{"$f":"LOOKUP(L128,[1]Rank!$B$9:$B$782,[1]Rank!$E$9:$E$782)","v":{"$error":"#N/A"}},{"$f":"LOOKUP(L128,[1]Rank!$B$9:$B$782,[1]Rank!$F$9:$F$782)","v":{"$error":"#N/A"}}]
[128,null,null,null,null,{"$error":"#N/A"},0,128,128,{"$f":"LOOKUP(L129,[1]Rank!$B$9:$B$782,[1]Rank!$E$9:$E$782)","v":{"$error":"#N/A"}},{"$f":"LOOKUP(L129,[1]Rank!$B$9:$B$782,[1]Rank!$F$9:$F$782)","v":{"$error":"#N/A"}}]
[129,null,null,33,null,{"$f":"LOOKUP(H130,$I$2:$I$161,$K$2:$K$161)","v":{"$error":"#N/A"}},{"$f":"LOOKUP(H130,$I$2:$I$161,$L$2:$L$161)","v":0},129,129,{"$f":"LOOKUP(L130,[1]Rank!$B$9:$B$782,[1]Rank!$E$9:$E$782)","v":{"$error":"#N/A"}},{"$f":"LOOKUP(L130,[1]Rank!$B$9:$B$782,[1]Rank!$F$9:$F$782)","v":{"$error":"#N/A"}}]
[130,null,null,null,null,{"$error":"#N/A"},0,130,130,{"$f":"LOOKUP(L131,[1]Rank!$B$9:$B$782,[1]Rank!$E$9:$E$782)","v":{"$error":"#N/A"}},{"$f":"LOOKUP(L131,[1]Rank!$B$9:$B$782,[1]Rank!$F$9:$F$782)","v":{"$error":"#N/A"}}]
[131,null,null,null,null,{"$error":"#N/A"},0,131,131,{"$f":"LOOKUP(L132,[1]Rank!$B$9:$B$782,[1]Rank!$E$9:$E$782)","v":{"$error":"#N/A"}},{"$f":"LOOKUP(L132,[1]Rank!$B$9:$B$782,[1]Rank!$F$9:$F$782)","v":{"$error":"#N/A"}}]
[132,null,null,null,null,{"$error":"#N/A"},0,132,132,{"$f":"LOOKUP(L133,[1]Rank!$B$9:$B$782,[1]Rank!$E$9:$E$782)","v":{"$error":"#N/A"}},{"$f":"LOOKUP(L133,[1]Rank!$B$9:$B$782,[1]Rank!$F$9:$F$782)","v":{"$error":"#N/A"}}]
[133,null,null,34,null,{"$error":"#N/A"},0,133,133,{"$f":"LOOKUP(L134,[1]Rank!$B$9:$B$782,[1]Rank!$E$9:$E$782)","v":{"$error":"#N/A"}},{"$f":"LOOKUP(L134,[1]Rank!$B$9:$B$782,[1]Rank!$F$9:$F$782)","v":{"$error":"#N/A"}}]
[134,null,null,null,null,{"$error":"#N/A"},0,134,134,{"$f":"LOOKUP(L135,[1]Rank!$B$9:$B$782,[1]Rank!$E$9:$E$782)","v":{"$error":"#N/A"}},{"$f":"LOOKUP(L135,[1]Rank!$B$9:$B$782,[1]Rank!$F$9:$F$782)","v":{"$error":"#N/A"}}]
[135,null,null,null,null,{"$error":"#N/A"},0,135,135,{"$f":"LOOKUP(L136,[1]Rank!$B$9:$B$782,[1]Rank!$E$9:$E$782)","v":{"$error":"#N/A"}},{"$f":"LOOKUP(L136,[1]Rank!$B$9:$B$782,[1]Rank!$F$9:$F$782)","v":{"$error":"#N/A"}}]
[136,null,null,null,null,{"$error":"#N/A"},0,136,136,{"$f":"LOOKUP(L137,[1]Rank!$B$9:$B$782,[1]Rank!$E$9:$E$782)","v":{"$error":"#N/A"}},{"$f":"LOOKUP(L137,[1]Rank!$B$9:$B$782,[1]Rank!$F$9:$F$782)","v":{"$error":"#N/A"}}]
[137,null,null,35,null,{"$error":"#N/A"},{"$error":"#N/A"},null,137,{"$f":"LOOKUP(L138,[1]Rank!$B$9:$B$782,[1]Rank!$E$9:$E$782)","v":{"$error":"#N/A"}},{"$f":"LOOKUP(L138,[1]Rank!$B$9:$B$782,[1]Rank!$F$9:$F$782)","v":{"$error":"#N/A"}}]
[138,null,null,null,null,{"$error":"#N/A"},{"$error":"#N/A"},null,138,{"$f":"LOOKUP(L139,[1]Rank!$B$9:$B$782,[1]Rank!$E$9:$E$782)","v":{"$error":"#N/A"}},{"$f":"LOOKUP(L139,[1]Rank!$B$9:$B$782,[1]Rank!$F$9:$F$782)","v":{"$error":"#N/A"}}]
[139,null,null,null,null,{"$error":"#N/A"},{"$error":"#N/A"},null,139,{"$f":"LOOKUP(L140,[1]Rank!$B$9:$B$782,[1]Rank!$E$9:$E$782)","v":{"$error":"#N/A"}},{"$f":"LOOKUP(L140,[1]Rank!$B$9:$B$782,[1]Rank!$F$9:$F$782)","v":{"$error":"#N/A"}}]
[140,null,null,null,null,{"$error":"#N/A"},{"$error":"#N/A"},null,140,{"$f":"LOOKUP(L141,[1]Rank!$B$9:$B$782,[1]Rank!$E$9:$E$782)","v":{"$error":"#N/A"}},{"$f":"LOOKUP(L141,[1]Rank!$B$9:$B$782,[1]Rank!$F$9:$F$782)","v":{"$error":"#N/A"}}]
[141,null,null,36,null,{"$error":"#N/A"},{"$error":"#N/A"},null,141,{"$f":"LOOKUP(L142,[1]Rank!$B$9:$B$782,[1]Rank!$E$9:$E$782)","v":{"$error":"#N/A"}},{"$f":"LOOKUP(L142,[1]Rank!$B$9:$B$782,[1]Rank!$F$9:$F$782)","v":{"$error":"#N/A"}}]
[142,null,null,null,null,{"$error":"#N/A"},{"$error":"#N/A"},null,142,{"$f":"LOOKUP(L143,[1]Rank!$B$9:$B$782,[1]Rank!$E$9:$E$782)","v":{"$error":"#N/A"}},{"$f":"LOOKUP(L143,[1]Rank!$B$9:$B$782,[1]Rank!$F$9:$F$782)","v":{"$error":"#N/A"}}]
[143,null,null,null,null,{"$error":"#N/A"},{"$error":"#N/A"},null,143,{"$f":"LOOKUP(L144,[1]Rank!$B$9:$B$782,[1]Rank!$E$9:$E$782)","v":{"$error":"#N/A"}},{"$f":"LOOKUP(L144,[1]Rank!$B$9:$B$782,[1]Rank!$F$9:$F$782)","v":{"$error":"#N/A"}}]
[144,null,null,null,null,{"$error":"#N/A"},{"$error":"#N/A"},null,144,{"$f":"LOOKUP(L145,[1]Rank!$B$9:$B$782,[1]Rank!$E$9:$E$782)","v":{"$error":"#N/A"}},{"$f":"LOOKUP(L145,[1]Rank!$B$9:$B$782,[1]Rank!$F$9:$F$782)","v":{"$error":"#N/A"}}]
[145,null,null,37,null,{"$error":"#N/A"},{"$error":"#N/A"},null,145,{"$f":"LOOKUP(L146,[1]Rank!$B$9:$B$782,[1]Rank!$E$9:$E$782)","v":{"$error":"#N/A"}},{"$f":"LOOKUP(L146,[1]Rank!$B$9:$B$782,[1]Rank!$F$9:$F$782)","v":{"$error":"#N/A"}}]
[146,null,null,null,null,{"$error":"#N/A"},{"$error":"#N/A"},null,146,{"$f":"LOOKUP(L147,[1]Rank!$B$9:$B$782,[1]Rank!$E$9:$E$782)","v":{"$error":"#N/A"}},{"$f":"LOOKUP(L147,[1]Rank!$B$9:$B$782,[1]Rank!$F$9:$F$782)","v":{"$error":"#N/A"}}]
[147,null,null,null,null,{"$error":"#N/A"},{"$error":"#N/A"},null,147,{"$f":"LOOKUP(L148,[1]Rank!$B$9:$B$782,[1]Rank!$E$9:$E$782)","v":{"$error":"#N/A"}},{"$f":"LOOKUP(L148,[1]Rank!$B$9:$B$782,[1]Rank!$F$9:$F$782)","v":{"$error":"#N/A"}}]
[148,null,null,null,null,{"$error":"#N/A"},{"$error":"#N/A"},null,148,{"$f":"LOOKUP(L149,[1]Rank!$B$9:$B$782,[1]Rank!$E$9:$E$782)","v":{"$error":"#N/A"}},{"$f":"LOOKUP(L149,[1]Rank!$B$9:$B$782,[1]Rank!$F$9:$F$782)","v":{"$error":"#N/A"}}]
[149,null,null,38,null,{"$error":"#N/A"},{"$error":"#N/A"},null,149,{"$f":"LOOKUP(L150,[1]Rank!$B$9:$B$782,[1]Rank!$E$9:$E$782)","v":{"$error":"#N/A"}},{"$f":"LOOKUP(L150,[1]Rank!$B$9:$B$782,[1]Rank!$F$9:$F$782)","v":{"$error":"#N/A"}}]
[150,null,null,null,null,{"$error":"#N/A"},{"$error":"#N/A"},null,150,{"$f":"LOOKUP(L151,[1]Rank!$B$9:$B$782,[1]Rank!$E$9:$E$782)","v":{"$error":"#N/A"}},{"$f":"LOOKUP(L151,[1]Rank!$B$9:$B$782,[1]Rank!$F$9:$F$782)","v":{"$error":"#N/A"}}]
[151,null,null,null,null,{"$error":"#N/A"},{"$error":"#N/A"},null,151,{"$f":"LOOKUP(L152,[1]Rank!$B$9:$B$782,[1]Rank!$E$9:$E$782)","v":{"$error":"#N/A"}},{"$f":"LOOKUP(L152,[1]Rank!$B$9:$B$782,[1]Rank!$F$9:$F$782)","v":{"$error":"#N/A"}}]
[152,null,null,null,null,{"$error":"#N/A"},{"$error":"#N/A"},null,152,{"$f":"LOOKUP(L153,[1]Rank!$B$9:$B$782,[1]Rank!$E$9:$E$782)","v":{"$error":"#N/A"}},{"$f":"LOOKUP(L153,[1]Rank!$B$9:$B$782,[1]Rank!$F$9:$F$782)","v":{"$error":"#N/A"}}]
[153,null,null,39,null,{"$error":"#N/A"},{"$error":"#N/A"},null,153,{"$f":"LOOKUP(L154,[1]Rank!$B$9:$B$782,[1]Rank!$E$9:$E$782)","v":{"$error":"#N/A"}},{"$f":"LOOKUP(L154,[1]Rank!$B$9:$B$782,[1]Rank!$F$9:$F$782)","v":{"$error":"#N/A"}}]
[154,null,null,null,null,{"$error":"#N/A"},{"$error":"#N/A"},null,154,{"$f":"LOOKUP(L155,[1]Rank!$B$9:$B$782,[1]Rank!$E$9:$E$782)","v":{"$error":"#N/A"}},{"$f":"LOOKUP(L155,[1]Rank!$B$9:$B$782,[1]Rank!$F$9:$F$782)","v":{"$error":"#N/A"}}]
[155,null,null,null,null,{"$error":"#N/A"},{"$error":"#N/A"},null,155,{"$f":"LOOKUP(L156,[1]Rank!$B$9:$B$782,[1]Rank!$E$9:$E$782)","v":{"$error":"#N/A"}},{"$f":"LOOKUP(L156,[1]Rank!$B$9:$B$782,[1]Rank!$F$9:$F$782)","v":{"$error":"#N/A"}}]
[156,null,null,null,null,{"$error":"#N/A"},{"$error":"#N/A"},null,156,{"$f":"LOOKUP(L157,[1]Rank!$B$9:$B$782,[1]Rank!$E$9:$E$782)","v":{"$error":"#N/A"}},{"$f":"LOOKUP(L157,[1]Rank!$B$9:$B$782,[1]Rank!$F$9:$F$782)","v":{"$error":"#N/A"}}]
[157,null,null,40,null,{"$error":"#N/A"},{"$error":"#N/A"},null,157,{"$f":"LOOKUP(L158,[1]Rank!$B$9:$B$782,[1]Rank!$E$9:$E$782)","v":{"$error":"#N/A"}},{"$f":"LOOKUP(L158,[1]Rank!$B$9:$B$782,[1]Rank!$F$9:$F$782)","v":{"$error":"#N/A"}}]
[158,null,null,null,null,{"$error":"#N/A"},{"$error":"#N/A"},null,158,{"$f":"LOOKUP(L159,[1]Rank!$B$9:$B$782,[1]Rank!$E$9:$E$782)","v":{"$error":"#N/A"}},{"$f":"LOOKUP(L159,[1]Rank!$B$9:$B$782,[1]Rank!$F$9:$F$782)","v":{"$error":"#N/A"}}]
[159,null,null,null,null,{"$error":"#N/A"},{"$error":"#N/A"},null,159,{"$f":"LOOKUP(L160,[1]Rank!$B$9:$B$782,[1]Rank!$E$9:$E$782)","v":{"$error":"#N/A"}},{"$f":"LOOKUP(L160,[1]Rank!$B$9:$B$782,[1]Rank!$F$9:$F$782)","v":{"$error":"#N/A"}}]
[160,null,null,null,null,{"$error":"#N/A"},{"$error":"#N/A"},null,160,{"$f":"LOOKUP(L161,[1]Rank!$B$9:$B$782,[1]Rank!$E$9:$E$782)","v":{"$error":"#N/A"}},{"$f":"LOOKUP(L161,[1]Rank!$B$9:$B$782,[1]Rank!$F$9:$F$782)","v":{"$error":"#N/A"}}]
[null,{"$f":"COUNTA(B2:B49)","v":36},{"$f":"COUNTA(B82:B129)","v":36}]
[null,{"$f":"B162/4","v":9},{"$f":"C162/4","v":9}]

{"sheet":"Score","index":1,"n_rows":164,"n_cols":37,"rows_kept":164,"cut":false,"hidden":false,"merged":[[72,0,75,0],[76,0,79,0],[80,0,83,0],[48,0,51,0],[52,0,55,0],[56,0,59,0],[60,0,63,0],[64,0,67,0],[68,0,71,0],[0,34,0,36],[28,0,31,0],[32,0,35,0],[36,0,39,0],[40,0,43,0],[0,0,0,3],[2,26,2,35],[2,22,3,22],[2,36,3,36],[4,0,7,0],[8,0,11,0],[0,6,0,15],[0,16,0,22],[44,0,47,0],[2,21,3,21],[2,2,3,2],[2,8,3,8],[2,14,3,14],[12,0,15,0],[2,9,3,9],[16,0,19,0],[2,4,2,7],[20,0,23,0],[2,10,2,13],[2,16,2,19],[2,15,3,15],[24,0,27,0],[2,3,3,3],[2,0,3,1],[84,0,87,0],[88,0,91,0],[92,0,95,0],[96,0,99,0],[100,0,103,0],[104,0,107,0],[108,0,111,0],[112,0,115,0],[116,0,119,0],[120,0,123,0],[124,0,127,0],[128,0,131,0],[132,0,135,0],[136,0,139,0],[140,0,143,0],[160,0,163,0],[144,0,147,0],[148,0,151,0],[152,0,155,0],[156,0,159,0]]}
[null,null,null,null,null,null,"ESTIMATION",null,null,null,null,null,null,null,null,null,"بطولة الاتحاد الثامنة للفردي المفتوح",null,null,null,null,null,null,null,null,null,"Date :",null,null,null,null,null,null,null,"2023-06-17"]
[]
["Tabel",null,"P.","Names","Round ( 1 )",null,null,null,"P.","Names","Round ( 2 )",null,null,null,"P.","Names","Round ( 3 )",null,null,null,null,"P. No.","Names",null,null,null,"F  I  N  A  L",null,null,null,null,null,null,null,null,null,"R."]
[null,null,null,null,"Score","Tab","Axe","TOT",null,null,"Score","Tab","Axe","TOT",null,null,"Score","Tab","Axe","TOT",null,null,null,1,2,3,"Score",1,2,3,"Tab",1,2,3,"Axe","TOT"]
["Tabel ( 1 )","N",1,{"$f":"LOOKUP(C5,Names!$A$2:$A$161,Names!$B$2:$B$161)","v":"إبراهيم عرفان السقا"},135,2.85,8,{"$f":"F5+G5","v":10.85},1,{"$f":"LOOKUP(I5,Names!$A$2:$A$161,Names!$B$2:$B$161)","v":"إبراهيم عرفان السقا"},165,4.75,10.5,{"$f":"L5+M5","v":15.25},1,{"$f":"LOOKUP(O5,Names!$A$2:$A$161,Names!$B$2:$B$161)","v":"إبراهيم عرفان السقا"},166,2.85,11,{"$f":"R5+S5","v":13.85},null,27,{"$f":"LOOKUP(V5,Names!$A$2:$A$161,Names!$B$2:$B$161)","v":"أحمد سمير خلف على"},{"$f":"IF(ISNA(VLOOKUP(V5,$C$5:$H$164,3,FALSE))=TRUE,\"\",VLOOKUP(V5,$C$5:$H$164,3,FALSE))","v":191},{"$f":"IF(ISNA(VLOOKUP(V5,$I$5:$N$164,3,FALSE))=TRUE,\"\",VLOOKUP(V5,$I$5:$N$164,3,FALSE))","v":233},{"$f":"IF(ISNA(VLOOKUP(V5,$O$5:$T$164,3,FALSE))=TRUE,\"\",VLOOKUP(V5,$O$5:$T$164,3,FALSE))","v":186},{"$f":"SUM(X5:Z5)","v":610},{"$f":"IF(ISNA(VLOOKUP(V5,$C$5:$H$164,4,FALSE))=TRUE,\"\",VLOOKUP(V5,$C$5:$H$164,4,FALSE))","v":4.75},{"$f":"IF(ISNA(VLOOKUP(V5,$I$5:$N$164,4,FALSE))=TRUE,\"\",VLOOKUP(V5,$I$5:$N$164,4,FALSE))","v":4.75},{"$f":"IF(ISNA(VLOOKUP(V5,$O$5:$T$164,4,FALSE))=TRUE,\"\",VLOOKUP(V5,$O$5:$T$164,4,FALSE))","v":4.75},{"$f":"SUM(AB5:AD5)","v":14.25},{"$f":"IF(ISNA(VLOOKUP(V5,$C$5:$H$164,5,FALSE))=TRUE,\"\",VLOOKUP(V5,$C$5:$H$164,5,FALSE))","v":15},{"$f":"IF(ISNA(VLOOKUP(V5,$I$5:$N$164,5,FALSE))=TRUE,\"\",VLOOKUP(V5,$I$5:$N$164,5,FALSE))","v":17},{"$f":"IF(ISNA(VLOOKUP(V5,$O$5:$T$164,5,FALSE))=TRUE,\"\",VLOOKUP(V5,$O$5:$T$164,5,FALSE))","v":16},{"$f":"SUM(AF5:AH5)","v":48},{"$f":"AE5+AI5","v":62.25},1]
[null,"W",17,{"$f":"LOOKUP(C6,Names!$A$2:$A$161,Names!$B$2:$B$161)","v":"مينا ناجح صبحي"},114,0,6,6,5,{"$f":"LOOKUP(I6,Names!$A$2:$A$161,Names!$B$2:$B$161)","v":"أحمد محمد أمين"},154,2.85,13,15.85,2,{"$f":"LOOKUP(O6,Names!$A$2:$A$161,Names!$B$2:$B$161)","v":"مصطفى محمد علي شرف"},135,0,4,4,null,104,{"$f":"LOOKUP(V6,Names!$A$2:$A$161,Names!$B$2:$B$161)","v":"كريم إيهاب عامر"},200,221,186,607,4.75,4.75,4.75,14.25,19,14,14,47,61.25,2]
[null,"S",33,{"$f":"LOOKUP(C7,Names!$A$2:$A$161,Names!$B$2:$B$161)","v":"أحمد إبراهيم غانم"},224,4.75,19,23.75,9,{"$f":"LOOKUP(I7,Names!$A$2:$A$161,Names!$B$2:$B$161)","v":" عمرو محمد مصطفى"},68,0,3,3,3,{"$f":"LOOKUP(O7,Names!$A$2:$A$161,Names!$B$2:$B$161)","v":"أحمد محمد حمدي صالح"},187,4.75,17,21.75,null,87,{"$f":"LOOKUP(V7,Names!$A$2:$A$161,Names!$B$2:$B$161)","v":"ياسر شاهين"},216,160,370,746,4.75,1.9000000000000001,4.75,11.4,17,12,19,48,59.4,3]
[null,"E",14,{"$f":"LOOKUP(C8,Names!$A$2:$A$161,Names!$B$2:$B$161)","v":"أحمد محمد محمدي"},133,1.9000000000000001,10,11.9,13,{"$f":"LOOKUP(I8,Names!$A$2:$A$161,Names!$B$2:$B$161)","v":"عمرو سمير دسوقي"},143,1.9000000000000001,10,11.9,4,{"$f":"LOOKUP(O8,Names!$A$2:$A$161,Names!$B$2:$B$161)","v":"أحمد جميل السيد"},149,1.9000000000000001,10,11.9,null,33,{"$f":"LOOKUP(V8,Names!$A$2:$A$161,Names!$B$2:$B$161)","v":"أحمد إبراهيم غانم"},224,165,176,565,4.75,2.85,4.75,12.35,19,10.5,12,41.5,53.85,4]
["Tabel ( 2 )","N",30,{"$f":"LOOKUP(C9,Names!$A$2:$A$161,Names!$B$2:$B$161)","v":"محمد سعيد الفطاطري"},176,2.85,14,16.850000000000001,17,{"$f":"LOOKUP(I9,Names!$A$2:$A$161,Names!$B$2:$B$161)","v":"مينا ناجح صبحي"},228,4.75,16,20.75,5,{"$f":"LOOKUP(O9,Names!$A$2:$A$161,Names!$B$2:$B$161)","v":"أحمد محمد أمين"},51,0,2,2,null,97,{"$f":"LOOKUP(V9,Names!$A$2:$A$161,Names!$B$2:$B$161)","v":"خالد محمد شبارة"},200,167,167,534,4.75,1.9000000000000001,4.75,11.4,19,12,11,42,53.4,5]
[null,"W",11,{"$f":"LOOKUP(C10,Names!$A$2:$A$161,Names!$B$2:$B$161)","v":"هيثم العشماوي"},100,1.9000000000000001,2,3.9000000000000004,21,{"$f":"LOOKUP(I10,Names!$A$2:$A$161,Names!$B$2:$B$161)","v":"محمد طارق عبد الله"},102,1.9000000000000001,1,2.9000000000000004,6,{"$f":"LOOKUP(O10,Names!$A$2:$A$161,Names!$B$2:$B$161)","v":"معتز محمد عبد المنعم"},163,2.85,9,11.85,null,113,{"$f":"LOOKUP(V10,Names!$A$2:$A$161,Names!$B$2:$B$161)","v":"محمد حسن فهيم"},187,181,159,527,4.75,2.85,2.85,10.45,16.5,13,12,41.5,51.95,6]
[null,"S",27,{"$f":"LOOKUP(C11,Names!$A$2:$A$161,Names!$B$2:$B$161)","v":"أحمد سمير خلف على"},191,4.75,15,19.75,25,{"$f":"LOOKUP(I11,Names!$A$2:$A$161,Names!$B$2:$B$161)","v":"خالد حمدي محمد السيد"},127,2.85,9,11.85,7,{"$f":"LOOKUP(O11,Names!$A$2:$A$161,Names!$B$2:$B$161)","v":"هيثم محمد شبانة"},180,4.75,14,18.75,null,106,{"$f":"LOOKUP(V11,Names!$A$2:$A$161,Names!$B$2:$B$161)","v":"أحمد عبد العزيز العطار"},171,113,204,488,4.75,1.9000000000000001,4.75,11.4,14.5,6,19,39.5,50.9,7]
[null,"E",8,{"$f":"LOOKUP(C12,Names!$A$2:$A$161,Names!$B$2:$B$161)","v":"عبد الرحمن محمود عثمان"},95,0,2.5,2.5,29,{"$f":"LOOKUP(I12,Names!$A$2:$A$161,Names!$B$2:$B$161)","v":"اسلام نصر الغنام"},29,0,1,1,8,{"$f":"LOOKUP(O12,Names!$A$2:$A$161,Names!$B$2:$B$161)","v":"عبد الرحمن محمود عثمان"},101,1.9000000000000001,3,4.9000000000000004,null,114,{"$f":"LOOKUP(V12,Names!$A$2:$A$161,Names!$B$2:$B$161)","v":"احمد سردينة"},140,183,184,507,2.85,2.85,4.75,10.45,11,14,14.5,39.5,49.95,8]
["Tabel ( 3 )","N",24,{"$f":"LOOKUP(C13,Names!$A$2:$A$161,Names!$B$2:$B$161)","v":"يامن محمد حسن"},96,0,2,2,33,{"$f":"LOOKUP(I13,Names!$A$2:$A$161,Names!$B$2:$B$161)","v":"أحمد إبراهيم غانم"},165,2.85,10.5,13.35,9,{"$f":"LOOKUP(O13,Names!$A$2:$A$161,Names!$B$2:$B$161)","v":" عمرو محمد مصطفى"},82,1.9000000000000001,4,5.9,null,19,{"$f":"LOOKUP(V13,Names!$A$2:$A$161,Names!$B$2:$B$161)","v":"محمد أحمد محمد عبد الله"},208,203,69,480,2.85,4.75,0,7.6,19,19,4,42,49.6,9]
[null,"W",5,{"$f":"LOOKUP(C14,Names!$A$2:$A$161,Names!$B$2:$B$161)","v":"أحمد محمد أمين"},98,1.9000000000000001,1,2.9000000000000004,2,{"$f":"LOOKUP(I14,Names!$A$2:$A$161,Names!$B$2:$B$161)","v":"مصطفى محمد علي شرف"},190,4.75,15,19.75,10,{"$f":"LOOKUP(O14,Names!$A$2:$A$161,Names!$B$2:$B$161)","v":"تامر تيمور شكري"},43,0,1,1,null,94,{"$f":"LOOKUP(V14,Names!$A$2:$A$161,Names!$B$2:$B$161)","v":"محمد عصام الدين القاضي"},196,250,106,552,4.75,4.75,0,9.5,17,19,4,40,49.5,10]
[null,"S",18,{"$f":"LOOKUP(C15,Names!$A$2:$A$161,Names!$B$2:$B$161)","v":"وليد شعبان إسماعيل علي"},136,2.85,8,10.85,6,{"$f":"LOOKUP(I15,Names!$A$2:$A$161,Names!$B$2:$B$161)","v":"معتز محمد عبد المنعم"},60,0,2,2,11,{"$f":"LOOKUP(O15,Names!$A$2:$A$161,Names!$B$2:$B$161)","v":"هيثم العشماوي"},230,4.75,19,23.75,null,34,{"$f":"LOOKUP(V15,Names!$A$2:$A$161,Names!$B$2:$B$161)","v":"شريف حلمي"},182,153,167,502,2.85,4.75,2.85,10.45,16,12,11,39,49.45,11]
[null,"E",2,{"$f":"LOOKUP(C16,Names!$A$2:$A$161,Names!$B$2:$B$161)","v":"مصطفى محمد علي شرف"},144,4.75,11,15.75,10,{"$f":"LOOKUP(I16,Names!$A$2:$A$161,Names!$B$2:$B$161)","v":"تامر تيمور شكري"},159,1.9000000000000001,11,12.9,12,{"$f":"LOOKUP(O16,Names!$A$2:$A$161,Names!$B$2:$B$161)","v":"أحمد علي السيد شرع"},128,2.85,6,8.85,null,111,{"$f":"LOOKUP(V16,Names!$A$2:$A$161,Names!$B$2:$B$161)","v":"عادل محمد أبو زيد"},148,206,160,514,2.85,2.85,1.9000000000000001,7.6000000000000005,10,17,14,41,48.6,12]
["Tabel ( 4 )","N",21,{"$f":"LOOKUP(C17,Names!$A$2:$A$161,Names!$B$2:$B$161)","v":"محمد طارق عبد الله"},187,4.75,16.5,21.25,14,{"$f":"LOOKUP(I17,Names!$A$2:$A$161,Names!$B$2:$B$161)","v":"أحمد محمد محمدي"},146,1.9000000000000001,6.5,8.4,13,{"$f":"LOOKUP(O17,Names!$A$2:$A$161,Names!$B$2:$B$161)","v":"عمرو سمير دسوقي"},115,0,7,7,null,22,{"$f":"LOOKUP(V17,Names!$A$2:$A$161,Names!$B$2:$B$161)","v":"يوسف مسعد فراج"},103,184,215,502,0,4.75,2.85,7.6,5,16,19,40,47.6,13]
[null,"W",34,{"$f":"LOOKUP(C18,Names!$A$2:$A$161,Names!$B$2:$B$161)","v":"شريف حلمي"},182,2.85,16,18.850000000000001,18,{"$f":"LOOKUP(I18,Names!$A$2:$A$161,Names!$B$2:$B$161)","v":"وليد شعبان إسماعيل علي"},148,2.85,10,12.85,14,{"$f":"LOOKUP(O18,Names!$A$2:$A$161,Names!$B$2:$B$161)","v":"أحمد محمد محمدي"},154,3.8,7,10.8,null,28,{"$f":"LOOKUP(V18,Names!$A$2:$A$161,Names!$B$2:$B$161)","v":"محمد حسن عبد القادر"},137,237,133,507,2.85,4.75,2.85,10.45,10,19,7,36,46.45,14]
[null,"S",15,{"$f":"LOOKUP(C19,Names!$A$2:$A$161,Names!$B$2:$B$161)","v":"حسام الدين صلاح أبو الفتوح"},134,1.9000000000000001,7,8.9,22,{"$f":"LOOKUP(I19,Names!$A$2:$A$161,Names!$B$2:$B$161)","v":"يوسف مسعد فراج"},184,4.75,16,20.75,15,{"$f":"LOOKUP(O19,Names!$A$2:$A$161,Names!$B$2:$B$161)","v":"حسام الدين صلاح أبو الفتوح"},144,1.9000000000000001,11,12.9,null,112,{"$f":"LOOKUP(V19,Names!$A$2:$A$161,Names!$B$2:$B$161)","v":"عمرو محمد محسن"},146,129,202,477,1.9000000000000001,1.9000000000000001,2.85,6.65,12.5,11,16,39.5,46.15,15]
[null,"E",31,{"$f":"LOOKUP(C20,Names!$A$2:$A$161,Names!$B$2:$B$161)","v":"أحمد بسيوني"},104,0,6,6,26,{"$f":"LOOKUP(I20,Names!$A$2:$A$161,Names!$B$2:$B$161)","v":"علاء شوقي جبريل"},105,0,5,5,16,{"$f":"LOOKUP(O20,Names!$A$2:$A$161,Names!$B$2:$B$161)","v":"طارق عبد الغني السحار"},154,3.8,12,15.8,null,21,{"$f":"LOOKUP(V20,Names!$A$2:$A$161,Names!$B$2:$B$161)","v":"محمد طارق عبد الله"},187,102,249,538,4.75,1.9000000000000001,4.75,11.4,16.5,1,17,34.5,45.9,16]
["Tabel ( 5 )","N",12,{"$f":"LOOKUP(C21,Names!$A$2:$A$161,Names!$B$2:$B$161)","v":"أحمد علي السيد شرع"},167,4.75,12,16.75,30,{"$f":"LOOKUP(I21,Names!$A$2:$A$161,Names!$B$2:$B$161)","v":"محمد سعيد الفطاطري"},146,2.85,6.5,9.35,17,{"$f":"LOOKUP(O21,Names!$A$2:$A$161,Names!$B$2:$B$161)","v":"مينا ناجح صبحي"},145,1.9000000000000001,9,10.9,null,3,{"$f":"LOOKUP(V21,Names!$A$2:$A$161,Names!$B$2:$B$161)","v":"أحمد محمد حمدي صالح"},175,112,187,474,1.9000000000000001,0,4.75,6.65,13,8,17,38,44.65,17]
[null,"W",28,{"$f":"LOOKUP(C22,Names!$A$2:$A$161,Names!$B$2:$B$161)","v":"محمد حسن عبد القادر"},137,2.85,10,12.85,34,{"$f":"LOOKUP(I22,Names!$A$2:$A$161,Names!$B$2:$B$161)","v":"شريف حلمي"},153,4.75,12,16.75,18,{"$f":"LOOKUP(O22,Names!$A$2:$A$161,Names!$B$2:$B$161)","v":"وليد شعبان إسماعيل علي"},155,2.85,8,10.85,null,89,{"$f":"LOOKUP(V22,Names!$A$2:$A$161,Names!$B$2:$B$161)","v":"محمد بلبع"},129,128,206,463,1.9000000000000001,2.85,4.75,9.5,6,10,17,33,42.5,18]
[null,"S",6,{"$f":"LOOKUP(C23,Names!$A$2:$A$161,Names!$B$2:$B$161)","v":"معتز محمد عبد المنعم"},129,1.9000000000000001,5,6.9,3,{"$f":"LOOKUP(I23,Names!$A$2:$A$161,Names!$B$2:$B$161)","v":"أحمد محمد حمدي صالح"},112,0,8,8,19,{"$f":"LOOKUP(O23,Names!$A$2:$A$161,Names!$B$2:$B$161)","v":"محمد أحمد محمد عبد الله"},69,0,4,4,null,108,{"$f":"LOOKUP(V23,Names!$A$2:$A$161,Names!$B$2:$B$161)","v":"كريم احمد ناصر"},146,137,173,456,2.85,2.85,2.85,8.5500000000000007,12.5,8,13,33.5,42.05,19]
[null,"E",22,{"$f":"LOOKUP(C24,Names!$A$2:$A$161,Names!$B$2:$B$161)","v":"يوسف مسعد فراج"},103,0,5,5,7,{"$f":"LOOKUP(I24,Names!$A$2:$A$161,Names!$B$2:$B$161)","v":"هيثم محمد شبانة"},120,1.9000000000000001,7,8.9,20,{"$f":"LOOKUP(O24,Names!$A$2:$A$161,Names!$B$2:$B$161)","v":"عصام الدين محمد عبد العاطي"},161,4.75,15,19.75,null,30,{"$f":"LOOKUP(V24,Names!$A$2:$A$161,Names!$B$2:$B$161)","v":"محمد سعيد الفطاطري"},176,146,167,489,2.85,2.85,4.75,10.45,14,6.5,11,31.5,41.95,20]
["Tabel ( 6 )","N",3,{"$f":"LOOKUP(C25,Names!$A$2:$A$161,Names!$B$2:$B$161)","v":"أحمد محمد حمدي صالح"},175,1.9000000000000001,13,14.9,11,{"$f":"LOOKUP(I25,Names!$A$2:$A$161,Names!$B$2:$B$161)","v":"هيثم العشماوي"},140,2.85,4,6.85,21,{"$f":"LOOKUP(O25,Names!$A$2:$A$161,Names!$B$2:$B$161)","v":"محمد طارق عبد الله"},249,4.75,17,21.75,null,91,{"$f":"LOOKUP(V25,Names!$A$2:$A$161,Names!$B$2:$B$161)","v":"عماد محمد فؤاد مرسي"},133,164,184,481,2.85,4.75,4.75,12.35,6,9,14.5,29.5,41.85,21]
[null,"W",19,{"$f":"LOOKUP(C26,Names!$A$2:$A$161,Names!$B$2:$B$161)","v":"محمد أحمد محمد عبد الله"},208,2.85,19,21.85,15,{"$f":"LOOKUP(I26,Names!$A$2:$A$161,Names!$B$2:$B$161)","v":"حسام الدين صلاح أبو الفتوح"},114,0,3,3,22,{"$f":"LOOKUP(O26,Names!$A$2:$A$161,Names!$B$2:$B$161)","v":"يوسف مسعد فراج"},215,2.85,19,21.85,null,36,{"$f":"LOOKUP(V26,Names!$A$2:$A$161,Names!$B$2:$B$161)","v":"محمد محمود فضل"},183,84,164,431,4.75,0,1.9000000000000001,6.65,16,3,16,35,41.65,22]
[null,"S",35,{"$f":"LOOKUP(C27,Names!$A$2:$A$161,Names!$B$2:$B$161)","v":"أحمد فؤاد حسنين"},212,4.75,16,20.75,19,{"$f":"LOOKUP(I27,Names!$A$2:$A$161,Names!$B$2:$B$161)","v":"محمد أحمد محمد عبد الله"},203,4.75,19,23.75,23,{"$f":"LOOKUP(O27,Names!$A$2:$A$161,Names!$B$2:$B$161)","v":"جمال احمد محمد جمال"},70,0,5,5,null,4,{"$f":"LOOKUP(V27,Names!$A$2:$A$161,Names!$B$2:$B$161)","v":"أحمد جميل السيد"},137,163,149,449,4.75,2.85,1.9000000000000001,9.5,9,13,10,32,41.5,23]
[null,"E",16,{"$f":"LOOKUP(C28,Names!$A$2:$A$161,Names!$B$2:$B$161)","v":"طارق عبد الغني السحار"},100,0,4,4,23,{"$f":"LOOKUP(I28,Names!$A$2:$A$161,Names!$B$2:$B$161)","v":"جمال احمد محمد جمال"},134,1.9000000000000001,9,10.9,24,{"$f":"LOOKUP(O28,Names!$A$2:$A$161,Names!$B$2:$B$161)","v":"يامن محمد حسن"},126,1.9000000000000001,5,6.9,null,12,{"$f":"LOOKUP(V28,Names!$A$2:$A$161,Names!$B$2:$B$161)","v":"أحمد علي السيد شرع"},167,149,128,444,4.75,4.75,2.85,12.35,12,11,6,29,41.35,24]
["Tabel ( 7 )","N",32,{"$f":"LOOKUP(C29,Names!$A$2:$A$161,Names!$B$2:$B$161)","v":"أمير محمد خطاب"},84,0,1,1,27,{"$f":"LOOKUP(I29,Names!$A$2:$A$161,Names!$B$2:$B$161)","v":"أحمد سمير خلف على"},233,4.75,17,21.75,25,{"$f":"LOOKUP(O29,Names!$A$2:$A$161,Names!$B$2:$B$161)","v":"خالد حمدي محمد السيد"},25,0,1,1,null,84,{"$f":"LOOKUP(V29,Names!$A$2:$A$161,Names!$B$2:$B$161)","v":"أحمد عز العرب السماحي"},162,229,30,421,0,4.75,0,4.75,15,19,2,36,40.75,24]
[null,"W",13,{"$f":"LOOKUP(C30,Names!$A$2:$A$161,Names!$B$2:$B$161)","v":"عمرو سمير دسوقي"},158,4.75,13,17.75,31,{"$f":"LOOKUP(I30,Names!$A$2:$A$161,Names!$B$2:$B$161)","v":"أحمد بسيوني"},121,1.9000000000000001,5,6.9,26,{"$f":"LOOKUP(O30,Names!$A$2:$A$161,Names!$B$2:$B$161)","v":"علاء شوقي جبريل"},132,1.9000000000000001,3,4.9000000000000004,null,96,{"$f":"LOOKUP(V30,Names!$A$2:$A$161,Names!$B$2:$B$161)","v":"أحمد رمزي الديب"},189,201,15,405,2.85,2.85,0,5.7,17,17,1,35,40.700000000000003,26]
[null,"S",10,{"$f":"LOOKUP(C31,Names!$A$2:$A$161,Names!$B$2:$B$161)","v":"تامر تيمور شكري"},157,2.85,12,14.85,35,{"$f":"LOOKUP(I31,Names!$A$2:$A$161,Names!$B$2:$B$161)","v":"أحمد فؤاد حسنين"},43,0,1,1,27,{"$f":"LOOKUP(O31,Names!$A$2:$A$161,Names!$B$2:$B$161)","v":"أحمد سمير خلف على"},186,4.75,16,20.75,null,109,{"$f":"LOOKUP(V31,Names!$A$2:$A$161,Names!$B$2:$B$161)","v":"نبيل خلف زكي"},162,206,80,448,4.75,4.75,2.85,12.35,10,16,2,28,40.35,27]
[null,"E",26,{"$f":"LOOKUP(C32,Names!$A$2:$A$161,Names!$B$2:$B$161)","v":"علاء شوقي جبريل"},150,1.9000000000000001,14,15.9,4,{"$f":"LOOKUP(I32,Names!$A$2:$A$161,Names!$B$2:$B$161)","v":"أحمد جميل السيد"},163,2.85,13,15.85,28,{"$f":"LOOKUP(O32,Names!$A$2:$A$161,Names!$B$2:$B$161)","v":"محمد حسن عبد القادر"},133,2.85,7,9.85,null,1,{"$f":"LOOKUP(V32,Names!$A$2:$A$161,Names!$B$2:$B$161)","v":"إبراهيم عرفان السقا"},135,165,166,466,2.85,4.75,2.85,10.45,8,10.5,11,29.5,39.950000000000003,28]
["Tabel ( 8 )","N",7,{"$f":"LOOKUP(C33,Names!$A$2:$A$161,Names!$B$2:$B$161)","v":"هيثم محمد شبانة"},114,1.9000000000000001,5,6.9,8,{"$f":"LOOKUP(I33,Names!$A$2:$A$161,Names!$B$2:$B$161)","v":"عبد الرحمن محمود عثمان"},94,0,1,1,29,{"$f":"LOOKUP(O33,Names!$A$2:$A$161,Names!$B$2:$B$161)","v":"اسلام نصر الغنام"},106,1.9000000000000001,5,6.9,null,2,{"$f":"LOOKUP(V33,Names!$A$2:$A$161,Names!$B$2:$B$161)","v":"مصطفى محمد علي شرف"},144,190,135,469,4.75,4.75,0,9.5,11,15,4,30,39.5,29]
[null,"W",23,{"$f":"LOOKUP(C34,Names!$A$2:$A$161,Names!$B$2:$B$161)","v":"جمال احمد محمد جمال"},122,2.85,7,9.85,12,{"$f":"LOOKUP(I34,Names!$A$2:$A$161,Names!$B$2:$B$161)","v":"أحمد علي السيد شرع"},149,4.75,11,15.75,30,{"$f":"LOOKUP(O34,Names!$A$2:$A$161,Names!$B$2:$B$161)","v":"محمد سعيد الفطاطري"},167,4.75,11,15.75,null,90,{"$f":"LOOKUP(V34,Names!$A$2:$A$161,Names!$B$2:$B$161)","v":"محمد علي حسن طه الأمام"},149,217,27,393,4.75,4.75,0,9.5,12,17,1,30,39.5,29]
[null,"S",4,{"$f":"LOOKUP(C35,Names!$A$2:$A$161,Names!$B$2:$B$161)","v":"أحمد جميل السيد"},137,4.75,9,13.75,16,{"$f":"LOOKUP(I35,Names!$A$2:$A$161,Names!$B$2:$B$161)","v":"طارق عبد الغني السحار"},99,1.9000000000000001,6,7.9,31,{"$f":"LOOKUP(O35,Names!$A$2:$A$161,Names!$B$2:$B$161)","v":"أحمد بسيوني"},42,0,3,3,null,95,{"$f":"LOOKUP(V35,Names!$A$2:$A$161,Names!$B$2:$B$161)","v":"احمد طنطاوى"},174,135,169,478,1.9000000000000001,1.9000000000000001,2.85,6.65,13,6,13,32,38.65,29]
[null,"E",29,{"$f":"LOOKUP(C36,Names!$A$2:$A$161,Names!$B$2:$B$161)","v":"اسلام نصر الغنام"},95,0,2.5,2.5,20,{"$f":"LOOKUP(I36,Names!$A$2:$A$161,Names!$B$2:$B$161)","v":"عصام الدين محمد عبد العاطي"},127,2.85,8,10.85,32,{"$f":"LOOKUP(O36,Names!$A$2:$A$161,Names!$B$2:$B$161)","v":"أمير محمد خطاب"},144,2.85,9,11.85,null,110,{"$f":"LOOKUP(V36,Names!$A$2:$A$161,Names!$B$2:$B$161)","v":"أسامة أحمد زكي"},101,224,181,506,0,4.75,2.85,7.6,3,15,13,31,38.6,32]
["Tabel ( 9 )","N",20,{"$f":"LOOKUP(C37,Names!$A$2:$A$161,Names!$B$2:$B$161)","v":"عصام الدين محمد عبد العاطي"},108,0,3,3,24,{"$f":"LOOKUP(I37,Names!$A$2:$A$161,Names!$B$2:$B$161)","v":"يامن محمد حسن"},160,2.85,8,10.85,33,{"$f":"LOOKUP(O37,Names!$A$2:$A$161,Names!$B$2:$B$161)","v":"أحمد إبراهيم غانم"},176,4.75,12,16.75,null,83,{"$f":"LOOKUP(V37,Names!$A$2:$A$161,Names!$B$2:$B$161)","v":"أسامة لطفى نجيب"},{"$f":"IF(ISNA(VLOOKUP(V37,$C$5:$H$164,3,FALSE))=TRUE,\"\",VLOOKUP(V37,$C$5:$H$164,3,FALSE))","v":187},{"$f":"IF(ISNA(VLOOKUP(V37,$I$5:$N$164,3,FALSE))=TRUE,\"\",VLOOKUP(V37,$I$5:$N$164,3,FALSE))","v":111},{"$f":"IF(ISNA(VLOOKUP(V37,$O$5:$T$164,3,FALSE))=TRUE,\"\",VLOOKUP(V37,$O$5:$T$164,3,FALSE))","v":162},{"$f":"SUM(X37:Z37)","v":460},{"$f":"IF(ISNA(VLOOKUP(V37,$C$5:$H$164,4,FALSE))=TRUE,\"\",VLOOKUP(V37,$C$5:$H$164,4,FALSE))","v":4.75},{"$f":"IF(ISNA(VLOOKUP(V37,$I$5:$N$164,4,FALSE))=TRUE,\"\",VLOOKUP(V37,$I$5:$N$164,4,FALSE))","v":0},{"$f":"IF(ISNA(VLOOKUP(V37,$O$5:$T$164,4,FALSE))=TRUE,\"\",VLOOKUP(V37,$O$5:$T$164,4,FALSE))","v":2.85},{"$f":"SUM(AB37:AD37)","v":7.6},{"$f":"IF(ISNA(VLOOKUP(V37,$C$5:$H$164,5,FALSE))=TRUE,\"\",VLOOKUP(V37,$C$5:$H$164,5,FALSE))","v":14},{"$f":"IF(ISNA(VLOOKUP(V37,$I$5:$N$164,5,FALSE))=TRUE,\"\",VLOOKUP(V37,$I$5:$N$164,5,FALSE))","v":7},{"$f":"IF(ISNA(VLOOKUP(V37,$O$5:$T$164,5,FALSE))=TRUE,\"\",VLOOKUP(V37,$O$5:$T$164,5,FALSE))","v":10},{"$f":"SUM(AF37:AH37)","v":31},{"$f":"AE37+AI37","v":38.6},32]
[null,"W",9,{"$f":"LOOKUP(C38,Names!$A$2:$A$161,Names!$B$2:$B$161)","v":" عمرو محمد مصطفى"},127,2.85,8,10.85,28,{"$f":"LOOKUP(I38,Names!$A$2:$A$161,Names!$B$2:$B$161)","v":"محمد حسن عبد القادر"},237,4.75,19,23.75,34,{"$f":"LOOKUP(O38,Names!$A$2:$A$161,Names!$B$2:$B$161)","v":"شريف حلمي"},167,2.85,11,13.85,null,105,{"$f":"LOOKUP(V38,Names!$A$2:$A$161,Names!$B$2:$B$161)","v":"مصطفى عبد الحفيظ علي"},144,175,104,423,1.9000000000000001,2.85,0,4.75,9,15,9,33,37.75,34]
[null,"S",25,{"$f":"LOOKUP(C39,Names!$A$2:$A$161,Names!$B$2:$B$161)","v":"خالد حمدي محمد السيد"},119,1.9000000000000001,3,4.9000000000000004,32,{"$f":"LOOKUP(I39,Names!$A$2:$A$161,Names!$B$2:$B$161)","v":"أمير محمد خطاب"},131,1.9000000000000001,13,14.9,35,{"$f":"LOOKUP(O39,Names!$A$2:$A$161,Names!$B$2:$B$161)","v":"أحمد فؤاد حسنين"},72,0,6,6,null,17,{"$f":"LOOKUP(V39,Names!$A$2:$A$161,Names!$B$2:$B$161)","v":"مينا ناجح صبحي"},114,228,145,487,0,4.75,1.9000000000000001,6.65,6,16,9,31,37.65,35]
[null,"E",36,{"$f":"LOOKUP(C40,Names!$A$2:$A$161,Names!$B$2:$B$161)","v":"محمد محمود فضل"},183,4.75,16,20.75,36,{"$f":"LOOKUP(I40,Names!$A$2:$A$161,Names!$B$2:$B$161)","v":"محمد محمود فضل"},84,0,3,3,36,{"$f":"LOOKUP(O40,Names!$A$2:$A$161,Names!$B$2:$B$161)","v":"محمد محمود فضل"},164,1.9000000000000001,16,17.899999999999999,null,86,{"$f":"LOOKUP(V40,Names!$A$2:$A$161,Names!$B$2:$B$161)","v":"ايهاب يوسف عمارة"},131,173,121,425,1.9000000000000001,1.9000000000000001,0,3.8000000000000003,9,14,10,33,36.799999999999997,36]
["Tabel ( 10 )","N",37,{"$f":"LOOKUP(C41,Names!$A$2:$A$161,Names!$B$2:$B$161)","v":0},null,null,0,0,null,{"$f":"LOOKUP(I41,Names!$A$2:$A$161,Names!$B$2:$B$161)","v":{"$error":"#N/A"}},null,null,0,0,37,{"$f":"LOOKUP(O41,Names!$A$2:$A$161,Names!$B$2:$B$161)","v":0},null,null,0,0,null,37,{"$f":"LOOKUP(V41,Names!$A$2:$A$161,Names!$B$2:$B$161)","v":0},0,"",0,0,0,"",0,0,0,"",0,0,0]
[null,"W",38,{"$f":"LOOKUP(C42,Names!$A$2:$A$161,Names!$B$2:$B$161)","v":0},null,null,0,0,null,{"$f":"LOOKUP(I42,Names!$A$2:$A$161,Names!$B$2:$B$161)","v":{"$error":"#N/A"}},null,null,0,0,38,{"$f":"LOOKUP(O42,Names!$A$2:$A$161,Names!$B$2:$B$161)","v":0},null,null,0,0,null,38,{"$f":"LOOKUP(V42,Names!$A$2:$A$161,Names!$B$2:$B$161)","v":0},0,"",0,0,0,"",0,0,0,"",0,0,0]
[null,"S",39,{"$f":"LOOKUP(C43,Names!$A$2:$A$161,Names!$B$2:$B$161)","v":0},null,null,0,0,null,{"$f":"LOOKUP(I43,Names!$A$2:$A$161,Names!$B$2:$B$161)","v":{"$error":"#N/A"}},null,null,0,0,39,{"$f":"LOOKUP(O43,Names!$A$2:$A$161,Names!$B$2:$B$161)","v":0},null,null,0,0,null,39,{"$f":"LOOKUP(V43,Names!$A$2:$A$161,Names!$B$2:$B$161)","v":0},0,"",0,0,0,"",0,0,0,"",0,0,0]
[null,"E",40,{"$f":"LOOKUP(C44,Names!$A$2:$A$161,Names!$B$2:$B$161)","v":0},null,null,0,0,null,{"$f":"LOOKUP(I44,Names!$A$2:$A$161,Names!$B$2:$B$161)","v":{"$error":"#N/A"}},null,null,0,0,40,{"$f":"LOOKUP(O44,Names!$A$2:$A$161,Names!$B$2:$B$161)","v":0},null,null,0,0,null,40,{"$f":"LOOKUP(V44,Names!$A$2:$A$161,Names!$B$2:$B$161)","v":0},0,"",0,0,0,"",0,0,0,"",0,0,0]
["Tabel ( 11 )","N",41,{"$f":"LOOKUP(C45,Names!$A$2:$A$161,Names!$B$2:$B$161)","v":0},null,null,0,0,null,{"$f":"LOOKUP(I45,Names!$A$2:$A$161,Names!$B$2:$B$161)","v":{"$error":"#N/A"}},null,null,0,0,41,{"$f":"LOOKUP(O45,Names!$A$2:$A$161,Names!$B$2:$B$161)","v":0},null,null,0,0,null,41,{"$f":"LOOKUP(V45,Names!$A$2:$A$161,Names!$B$2:$B$161)","v":0},0,"",0,0,0,"",0,0,0,"",0,0,0]
[null,"W",42,{"$f":"LOOKUP(C46,Names!$A$2:$A$161,Names!$B$2:$B$161)","v":0},null,null,0,0,null,{"$f":"LOOKUP(I46,Names!$A$2:$A$161,Names!$B$2:$B$161)","v":{"$error":"#N/A"}},null,null,0,0,42,{"$f":"LOOKUP(O46,Names!$A$2:$A$161,Names!$B$2:$B$161)","v":0},null,null,0,0,null,42,{"$f":"LOOKUP(V46,Names!$A$2:$A$161,Names!$B$2:$B$161)","v":0},0,"",0,0,0,"",0,0,0,"",0,0,0]
[null,"S",43,{"$f":"LOOKUP(C47,Names!$A$2:$A$161,Names!$B$2:$B$161)","v":0},null,null,0,0,null,{"$f":"LOOKUP(I47,Names!$A$2:$A$161,Names!$B$2:$B$161)","v":{"$error":"#N/A"}},null,null,0,0,43,{"$f":"LOOKUP(O47,Names!$A$2:$A$161,Names!$B$2:$B$161)","v":0},null,null,0,0,null,43,{"$f":"LOOKUP(V47,Names!$A$2:$A$161,Names!$B$2:$B$161)","v":0},0,"",0,0,0,"",0,0,0,"",0,0,0]
[null,"E",44,{"$f":"LOOKUP(C48,Names!$A$2:$A$161,Names!$B$2:$B$161)","v":0},null,null,0,0,null,{"$f":"LOOKUP(I48,Names!$A$2:$A$161,Names!$B$2:$B$161)","v":{"$error":"#N/A"}},null,null,0,0,44,{"$f":"LOOKUP(O48,Names!$A$2:$A$161,Names!$B$2:$B$161)","v":0},null,null,0,0,null,44,{"$f":"LOOKUP(V48,Names!$A$2:$A$161,Names!$B$2:$B$161)","v":0},0,"",0,0,0,"",0,0,0,"",0,0,0]
["Tabel ( 12 )","N",45,{"$f":"LOOKUP(C49,Names!$A$2:$A$161,Names!$B$2:$B$161)","v":0},null,null,0,0,null,{"$f":"LOOKUP(I49,Names!$A$2:$A$161,Names!$B$2:$B$161)","v":{"$error":"#N/A"}},null,null,0,0,45,{"$f":"LOOKUP(O49,Names!$A$2:$A$161,Names!$B$2:$B$161)","v":0},null,null,0,0,null,45,{"$f":"LOOKUP(V49,Names!$A$2:$A$161,Names!$B$2:$B$161)","v":0},0,"",0,0,0,"",0,0,0,"",0,0,0]
[null,"W",46,{"$f":"LOOKUP(C50,Names!$A$2:$A$161,Names!$B$2:$B$161)","v":0},null,null,0,0,null,{"$f":"LOOKUP(I50,Names!$A$2:$A$161,Names!$B$2:$B$161)","v":{"$error":"#N/A"}},null,null,0,0,46,{"$f":"LOOKUP(O50,Names!$A$2:$A$161,Names!$B$2:$B$161)","v":0},null,null,0,0,null,46,{"$f":"LOOKUP(V50,Names!$A$2:$A$161,Names!$B$2:$B$161)","v":0},0,"",0,0,0,"",0,0,0,"",0,0,0]
[null,"S",47,{"$f":"LOOKUP(C51,Names!$A$2:$A$161,Names!$B$2:$B$161)","v":0},null,null,0,0,null,{"$f":"LOOKUP(I51,Names!$A$2:$A$161,Names!$B$2:$B$161)","v":{"$error":"#N/A"}},null,null,0,0,47,{"$f":"LOOKUP(O51,Names!$A$2:$A$161,Names!$B$2:$B$161)","v":0},null,null,0,0,null,47,{"$f":"LOOKUP(V51,Names!$A$2:$A$161,Names!$B$2:$B$161)","v":0},0,"",0,0,0,"",0,0,0,"",0,0,0]
[null,"E",48,{"$f":"LOOKUP(C52,Names!$A$2:$A$161,Names!$B$2:$B$161)","v":0},null,null,0,0,null,{"$f":"LOOKUP(I52,Names!$A$2:$A$161,Names!$B$2:$B$161)","v":{"$error":"#N/A"}},null,null,0,0,48,{"$f":"LOOKUP(O52,Names!$A$2:$A$161,Names!$B$2:$B$161)","v":0},null,null,0,0,null,48,{"$f":"LOOKUP(V52,Names!$A$2:$A$161,Names!$B$2:$B$161)","v":0},0,"",0,0,0,"",0,0,0,"",0,0,0]
["Tabel ( 13 )","N",49,{"$f":"LOOKUP(C53,Names!$A$2:$A$161,Names!$B$2:$B$161)","v":0},null,null,0,0,null,{"$f":"LOOKUP(I53,Names!$A$2:$A$161,Names!$B$2:$B$161)","v":{"$error":"#N/A"}},0,4.75,0,4.75,49,{"$f":"LOOKUP(O53,Names!$A$2:$A$161,Names!$B$2:$B$161)","v":0},0,4.75,0,4.75,null,49,{"$f":"LOOKUP(V53,Names!$A$2:$A$161,Names!$B$2:$B$161)","v":0},0,"",0,0,0,"",4.75,4.75,0,"",0,0,4.75]
[null,"W",50,{"$f":"LOOKUP(C54,Names!$A$2:$A$161,Names!$B$2:$B$161)","v":0},null,null,0,0,null,{"$f":"LOOKUP(I54,Names!$A$2:$A$161,Names!$B$2:$B$161)","v":{"$error":"#N/A"}},0,2.85,0,2.85,50,{"$f":"LOOKUP(O54,Names!$A$2:$A$161,Names!$B$2:$B$161)","v":0},0,2.85,0,2.85,null,50,{"$f":"LOOKUP(V54,Names!$A$2:$A$161,Names!$B$2:$B$161)","v":0},0,"",0,0,0,"",2.85,2.85,0,"",0,0,2.85]
[null,"S",51,{"$f":"LOOKUP(C55,Names!$A$2:$A$161,Names!$B$2:$B$161)","v":0},null,null,0,0,null,{"$f":"LOOKUP(I55,Names!$A$2:$A$161,Names!$B$2:$B$161)","v":{"$error":"#N/A"}},0,1.9000000000000001,0,1.9000000000000001,51,{"$f":"LOOKUP(O55,Names!$A$2:$A$161,Names!$B$2:$B$161)","v":0},0,1.9000000000000001,0,1.9000000000000001,null,51,{"$f":"LOOKUP(V55,Names!$A$2:$A$161,Names!$B$2:$B$161)","v":0},0,"",0,0,0,"",1.9000000000000001,1.9000000000000001,0,"",0,0,1.9000000000000001]
[null,"E",52,{"$f":"LOOKUP(C56,Names!$A$2:$A$161,Names!$B$2:$B$161)","v":0},null,null,0,0,null,{"$f":"LOOKUP(I56,Names!$A$2:$A$161,Names!$B$2:$B$161)","v":{"$error":"#N/A"}},0,0,0,0,52,{"$f":"LOOKUP(O56,Names!$A$2:$A$161,Names!$B$2:$B$161)","v":0},0,0,0,0,null,52,{"$f":"LOOKUP(V56,Names!$A$2:$A$161,Names!$B$2:$B$161)","v":0},0,"",0,0,0,"",0,0,0,"",0,0,0]
["Tabel ( 14 )","N",53,{"$f":"LOOKUP(C57,Names!$A$2:$A$161,Names!$B$2:$B$161)","v":0},null,null,0,0,null,{"$f":"LOOKUP(I57,Names!$A$2:$A$161,Names!$B$2:$B$161)","v":{"$error":"#N/A"}},0,4.75,0,4.75,53,{"$f":"LOOKUP(O57,Names!$A$2:$A$161,Names!$B$2:$B$161)","v":0},0,4.75,0,4.75,null,53,{"$f":"LOOKUP(V57,Names!$A$2:$A$161,Names!$B$2:$B$161)","v":0},0,"",0,0,0,"",4.75,4.75,0,"",0,0,4.75]
[null,"W",54,{"$f":"LOOKUP(C58,Names!$A$2:$A$161,Names!$B$2:$B$161)","v":0},null,null,0,0,null,{"$f":"LOOKUP(I58,Names!$A$2:$A$161,Names!$B$2:$B$161)","v":{"$error":"#N/A"}},0,2.85,0,2.85,54,{"$f":"LOOKUP(O58,Names!$A$2:$A$161,Names!$B$2:$B$161)","v":0},0,2.85,0,2.85,null,54,{"$f":"LOOKUP(V58,Names!$A$2:$A$161,Names!$B$2:$B$161)","v":0},0,"",0,0,0,"",2.85,2.85,0,"",0,0,2.85]
[null,"S",55,{"$f":"LOOKUP(C59,Names!$A$2:$A$161,Names!$B$2:$B$161)","v":0},null,null,0,0,null,{"$f":"LOOKUP(I59,Names!$A$2:$A$161,Names!$B$2:$B$161)","v":{"$error":"#N/A"}},0,1.9000000000000001,0,1.9000000000000001,55,{"$f":"LOOKUP(O59,Names!$A$2:$A$161,Names!$B$2:$B$161)","v":0},0,1.9000000000000001,0,1.9000000000000001,null,55,{"$f":"LOOKUP(V59,Names!$A$2:$A$161,Names!$B$2:$B$161)","v":0},0,"",0,0,0,"",1.9000000000000001,1.9000000000000001,0,"",0,0,1.9000000000000001]
[null,"E",56,{"$f":"LOOKUP(C60,Names!$A$2:$A$161,Names!$B$2:$B$161)","v":0},null,null,0,0,null,{"$f":"LOOKUP(I60,Names!$A$2:$A$161,Names!$B$2:$B$161)","v":{"$error":"#N/A"}},0,0,0,0,56,{"$f":"LOOKUP(O60,Names!$A$2:$A$161,Names!$B$2:$B$161)","v":0},0,0,0,0,null,56,{"$f":"LOOKUP(V60,Names!$A$2:$A$161,Names!$B$2:$B$161)","v":0},0,"",0,0,0,"",0,0,0,"",0,0,0]
["Tabel ( 15 )","N",57,{"$f":"LOOKUP(C61,Names!$A$2:$A$161,Names!$B$2:$B$161)","v":0},null,null,0,0,null,{"$f":"LOOKUP(I61,Names!$A$2:$A$161,Names!$B$2:$B$161)","v":{"$error":"#N/A"}},0,4.75,0,4.75,57,{"$f":"LOOKUP(O61,Names!$A$2:$A$161,Names!$B$2:$B$161)","v":0},0,4.75,0,4.75,null,57,{"$f":"LOOKUP(V61,Names!$A$2:$A$161,Names!$B$2:$B$161)","v":0},0,"",0,0,0,"",4.75,4.75,0,"",0,0,4.75]
[null,"W",58,{"$f":"LOOKUP(C62,Names!$A$2:$A$161,Names!$B$2:$B$161)","v":0},null,null,0,0,null,{"$f":"LOOKUP(I62,Names!$A$2:$A$161,Names!$B$2:$B$161)","v":{"$error":"#N/A"}},0,2.85,0,2.85,58,{"$f":"LOOKUP(O62,Names!$A$2:$A$161,Names!$B$2:$B$161)","v":0},0,2.85,0,2.85,null,58,{"$f":"LOOKUP(V62,Names!$A$2:$A$161,Names!$B$2:$B$161)","v":0},0,"",0,0,0,"",2.85,2.85,0,"",0,0,2.85]
[null,"S",59,{"$f":"LOOKUP(C63,Names!$A$2:$A$161,Names!$B$2:$B$161)","v":0},null,null,0,0,null,{"$f":"LOOKUP(I63,Names!$A$2:$A$161,Names!$B$2:$B$161)","v":{"$error":"#N/A"}},0,1.9000000000000001,0,1.9000000000000001,59,{"$f":"LOOKUP(O63,Names!$A$2:$A$161,Names!$B$2:$B$161)","v":0},0,1.9000000000000001,0,1.9000000000000001,null,59,{"$f":"LOOKUP(V63,Names!$A$2:$A$161,Names!$B$2:$B$161)","v":0},0,"",0,0,0,"",1.9000000000000001,1.9000000000000001,0,"",0,0,1.9000000000000001]
[null,"E",60,{"$f":"LOOKUP(C64,Names!$A$2:$A$161,Names!$B$2:$B$161)","v":0},null,null,0,0,null,{"$f":"LOOKUP(I64,Names!$A$2:$A$161,Names!$B$2:$B$161)","v":{"$error":"#N/A"}},0,0,0,0,60,{"$f":"LOOKUP(O64,Names!$A$2:$A$161,Names!$B$2:$B$161)","v":0},0,0,0,0,null,60,{"$f":"LOOKUP(V64,Names!$A$2:$A$161,Names!$B$2:$B$161)","v":0},0,"",0,0,0,"",0,0,0,"",0,0,0]
["Tabel ( 16 )","N",61,{"$f":"LOOKUP(C65,Names!$A$2:$A$161,Names!$B$2:$B$161)","v":0},null,null,0,0,null,{"$f":"LOOKUP(I65,Names!$A$2:$A$161,Names!$B$2:$B$161)","v":{"$error":"#N/A"}},0,4.75,0,4.75,61,{"$f":"LOOKUP(O65,Names!$A$2:$A$161,Names!$B$2:$B$161)","v":0},0,4.75,0,4.75,null,61,{"$f":"LOOKUP(V65,Names!$A$2:$A$161,Names!$B$2:$B$161)","v":0},0,"",0,0,0,"",4.75,4.75,0,"",0,0,4.75]
[null,"W",62,{"$f":"LOOKUP(C66,Names!$A$2:$A$161,Names!$B$2:$B$161)","v":0},null,null,0,0,null,{"$f":"LOOKUP(I66,Names!$A$2:$A$161,Names!$B$2:$B$161)","v":{"$error":"#N/A"}},0,2.85,0,2.85,62,{"$f":"LOOKUP(O66,Names!$A$2:$A$161,Names!$B$2:$B$161)","v":0},0,2.85,0,2.85,null,62,{"$f":"LOOKUP(V66,Names!$A$2:$A$161,Names!$B$2:$B$161)","v":0},0,"",0,0,0,"",2.85,2.85,0,"",0,0,2.85]
[null,"S",63,{"$f":"LOOKUP(C67,Names!$A$2:$A$161,Names!$B$2:$B$161)","v":0},null,null,0,0,null,{"$f":"LOOKUP(I67,Names!$A$2:$A$161,Names!$B$2:$B$161)","v":{"$error":"#N/A"}},0,1.9000000000000001,0,1.9000000000000001,63,{"$f":"LOOKUP(O67,Names!$A$2:$A$161,Names!$B$2:$B$161)","v":0},0,1.9000000000000001,0,1.9000000000000001,null,63,{"$f":"LOOKUP(V67,Names!$A$2:$A$161,Names!$B$2:$B$161)","v":0},0,"",0,0,0,"",1.9000000000000001,1.9000000000000001,0,"",0,0,1.9000000000000001]
[null,"E",64,{"$f":"LOOKUP(C68,Names!$A$2:$A$161,Names!$B$2:$B$161)","v":0},null,null,0,0,null,{"$f":"LOOKUP(I68,Names!$A$2:$A$161,Names!$B$2:$B$161)","v":{"$error":"#N/A"}},0,0,0,0,64,{"$f":"LOOKUP(O68,Names!$A$2:$A$161,Names!$B$2:$B$161)","v":0},0,0,0,0,null,64,{"$f":"LOOKUP(V68,Names!$A$2:$A$161,Names!$B$2:$B$161)","v":0},0,"",0,0,0,"",0,0,0,"",0,0,0]
["Tabel ( 17 )","N",65,{"$f":"LOOKUP(C69,Names!$A$2:$A$161,Names!$B$2:$B$161)","v":0},null,null,0,{"$f":"F69+G69","v":0},null,{"$f":"LOOKUP(I69,Names!$A$2:$A$161,Names!$B$2:$B$161)","v":{"$error":"#N/A"}},0,4.75,0,{"$f":"L69+M69","v":4.75},65,{"$f":"LOOKUP(O69,Names!$A$2:$A$161,Names!$B$2:$B$161)","v":0},0,4.75,0,{"$f":"R69+S69","v":4.75},null,65,{"$f":"LOOKUP(V69,Names!$A$2:$A$161,Names!$B$2:$B$161)","v":0},{"$f":"IF(ISNA(VLOOKUP(V69,$C$5:$H$164,3,FALSE))=TRUE,\"\",VLOOKUP(V69,$C$5:$H$164,3,FALSE))","v":0},{"$f":"IF(ISNA(VLOOKUP(V69,$I$5:$N$164,3,FALSE))=TRUE,\"\",VLOOKUP(V69,$I$5:$N$164,3,FALSE))","v":""},{"$f":"IF(ISNA(VLOOKUP(V69,$O$5:$T$164,3,FALSE))=TRUE,\"\",VLOOKUP(V69,$O$5:$T$164,3,FALSE))","v":0},{"$f":"SUM(X69:Z69)","v":0},{"$f":"IF(ISNA(VLOOKUP(V69,$C$5:$H$164,4,FALSE))=TRUE,\"\",VLOOKUP(V69,$C$5:$H$164,4,FALSE))","v":0},{"$f":"IF(ISNA(VLOOKUP(V69,$I$5:$N$164,4,FALSE))=TRUE,\"\",VLOOKUP(V69,$I$5:$N$164,4,FALSE))","v":""},{"$f":"IF(ISNA(VLOOKUP(V69,$O$5:$T$164,4,FALSE))=TRUE,\"\",VLOOKUP(V69,$O$5:$T$164,4,FALSE))","v":4.75},{"$f":"SUM(AB69:AD69)","v":4.75},{"$f":"IF(ISNA(VLOOKUP(V69,$C$5:$H$164,5,FALSE))=TRUE,\"\",VLOOKUP(V69,$C$5:$H$164,5,FALSE))","v":0},{"$f":"IF(ISNA(VLOOKUP(V69,$I$5:$N$164,5,FALSE))=TRUE,\"\",VLOOKUP(V69,$I$5:$N$164,5,FALSE))","v":""},{"$f":"IF(ISNA(VLOOKUP(V69,$O$5:$T$164,5,FALSE))=TRUE,\"\",VLOOKUP(V69,$O$5:$T$164,5,FALSE))","v":0},{"$f":"SUM(AF69:AH69)","v":0},{"$f":"AE69+AI69","v":4.75}]
[null,"W",66,{"$f":"LOOKUP(C70,Names!$A$2:$A$161,Names!$B$2:$B$161)","v":0},null,null,0,0,null,{"$f":"LOOKUP(I70,Names!$A$2:$A$161,Names!$B$2:$B$161)","v":{"$error":"#N/A"}},0,2.85,0,2.85,66,{"$f":"LOOKUP(O70,Names!$A$2:$A$161,Names!$B$2:$B$161)","v":0},0,2.85,0,2.85,null,66,{"$f":"LOOKUP(V70,Names!$A$2:$A$161,Names!$B$2:$B$161)","v":0},0,"",0,0,0,"",2.85,2.85,0,"",0,0,2.85]
[null,"S",67,{"$f":"LOOKUP(C71,Names!$A$2:$A$161,Names!$B$2:$B$161)","v":0},null,null,0,0,null,{"$f":"LOOKUP(I71,Names!$A$2:$A$161,Names!$B$2:$B$161)","v":{"$error":"#N/A"}},0,1.9000000000000001,0,1.9000000000000001,67,{"$f":"LOOKUP(O71,Names!$A$2:$A$161,Names!$B$2:$B$161)","v":0},0,1.9000000000000001,0,1.9000000000000001,null,67,{"$f":"LOOKUP(V71,Names!$A$2:$A$161,Names!$B$2:$B$161)","v":0},0,"",0,0,0,"",1.9000000000000001,1.9000000000000001,0,"",0,0,1.9000000000000001]
[null,"E",68,{"$f":"LOOKUP(C72,Names!$A$2:$A$161,Names!$B$2:$B$161)","v":0},null,null,0,0,null,{"$f":"LOOKUP(I72,Names!$A$2:$A$161,Names!$B$2:$B$161)","v":{"$error":"#N/A"}},0,0,0,0,68,{"$f":"LOOKUP(O72,Names!$A$2:$A$161,Names!$B$2:$B$161)","v":0},0,0,0,0,null,68,{"$f":"LOOKUP(V72,Names!$A$2:$A$161,Names!$B$2:$B$161)","v":0},0,"",0,0,0,"",0,0,0,"",0,0,0]
["Tabel ( 18 )","N",69,{"$f":"LOOKUP(C73,Names!$A$2:$A$161,Names!$B$2:$B$161)","v":0},null,null,0,0,null,{"$f":"LOOKUP(I73,Names!$A$2:$A$161,Names!$B$2:$B$161)","v":{"$error":"#N/A"}},0,4.75,0,4.75,69,{"$f":"LOOKUP(O73,Names!$A$2:$A$161,Names!$B$2:$B$161)","v":0},0,4.75,0,4.75,null,69,{"$f":"LOOKUP(V73,Names!$A$2:$A$161,Names!$B$2:$B$161)","v":0},0,"",0,0,0,"",4.75,4.75,0,"",0,0,4.75]
[null,"W",70,{"$f":"LOOKUP(C74,Names!$A$2:$A$161,Names!$B$2:$B$161)","v":0},null,null,0,0,null,{"$f":"LOOKUP(I74,Names!$A$2:$A$161,Names!$B$2:$B$161)","v":{"$error":"#N/A"}},0,2.85,0,2.85,70,{"$f":"LOOKUP(O74,Names!$A$2:$A$161,Names!$B$2:$B$161)","v":0},0,2.85,0,2.85,null,70,{"$f":"LOOKUP(V74,Names!$A$2:$A$161,Names!$B$2:$B$161)","v":0},0,"",0,0,0,"",2.85,2.85,0,"",0,0,2.85]
[null,"S",71,{"$f":"LOOKUP(C75,Names!$A$2:$A$161,Names!$B$2:$B$161)","v":0},null,null,0,0,null,{"$f":"LOOKUP(I75,Names!$A$2:$A$161,Names!$B$2:$B$161)","v":{"$error":"#N/A"}},0,1.9000000000000001,0,1.9000000000000001,71,{"$f":"LOOKUP(O75,Names!$A$2:$A$161,Names!$B$2:$B$161)","v":0},0,1.9000000000000001,0,1.9000000000000001,null,71,{"$f":"LOOKUP(V75,Names!$A$2:$A$161,Names!$B$2:$B$161)","v":0},0,"",0,0,0,"",1.9000000000000001,1.9000000000000001,0,"",0,0,1.9000000000000001]
[null,"E",72,{"$f":"LOOKUP(C76,Names!$A$2:$A$161,Names!$B$2:$B$161)","v":0},null,null,0,0,null,{"$f":"LOOKUP(I76,Names!$A$2:$A$161,Names!$B$2:$B$161)","v":{"$error":"#N/A"}},0,0,0,0,72,{"$f":"LOOKUP(O76,Names!$A$2:$A$161,Names!$B$2:$B$161)","v":0},0,0,0,0,null,72,{"$f":"LOOKUP(V76,Names!$A$2:$A$161,Names!$B$2:$B$161)","v":0},0,"",0,0,0,"",0,0,0,"",0,0,0]
["Tabel ( 19 )","N",73,{"$f":"LOOKUP(C77,Names!$A$2:$A$161,Names!$B$2:$B$161)","v":0},null,null,0,0,null,{"$f":"LOOKUP(I77,Names!$A$2:$A$161,Names!$B$2:$B$161)","v":{"$error":"#N/A"}},0,4.75,0,4.75,73,{"$f":"LOOKUP(O77,Names!$A$2:$A$161,Names!$B$2:$B$161)","v":0},0,4.75,0,4.75,null,73,{"$f":"LOOKUP(V77,Names!$A$2:$A$161,Names!$B$2:$B$161)","v":0},0,"",0,0,0,"",4.75,4.75,0,"",0,0,4.75]
[null,"W",74,{"$f":"LOOKUP(C78,Names!$A$2:$A$161,Names!$B$2:$B$161)","v":0},null,null,0,0,null,{"$f":"LOOKUP(I78,Names!$A$2:$A$161,Names!$B$2:$B$161)","v":{"$error":"#N/A"}},0,2.85,0,2.85,74,{"$f":"LOOKUP(O78,Names!$A$2:$A$161,Names!$B$2:$B$161)","v":0},0,2.85,0,2.85,null,74,{"$f":"LOOKUP(V78,Names!$A$2:$A$161,Names!$B$2:$B$161)","v":0},0,"",0,0,0,"",2.85,2.85,0,"",0,0,2.85]
[null,"S",75,{"$f":"LOOKUP(C79,Names!$A$2:$A$161,Names!$B$2:$B$161)","v":0},null,null,0,0,null,{"$f":"LOOKUP(I79,Names!$A$2:$A$161,Names!$B$2:$B$161)","v":{"$error":"#N/A"}},0,1.9000000000000001,0,1.9000000000000001,75,{"$f":"LOOKUP(O79,Names!$A$2:$A$161,Names!$B$2:$B$161)","v":0},0,1.9000000000000001,0,1.9000000000000001,null,75,{"$f":"LOOKUP(V79,Names!$A$2:$A$161,Names!$B$2:$B$161)","v":0},0,"",0,0,0,"",1.9000000000000001,1.9000000000000001,0,"",0,0,1.9000000000000001]
[null,"E",76,{"$f":"LOOKUP(C80,Names!$A$2:$A$161,Names!$B$2:$B$161)","v":0},null,null,0,0,null,{"$f":"LOOKUP(I80,Names!$A$2:$A$161,Names!$B$2:$B$161)","v":{"$error":"#N/A"}},0,0,0,0,76,{"$f":"LOOKUP(O80,Names!$A$2:$A$161,Names!$B$2:$B$161)","v":0},0,0,0,0,null,76,{"$f":"LOOKUP(V80,Names!$A$2:$A$161,Names!$B$2:$B$161)","v":0},0,"",0,0,0,"",0,0,0,"",0,0,0]
["Tabel ( 20 )","N",77,{"$f":"LOOKUP(C81,Names!$A$2:$A$161,Names!$B$2:$B$161)","v":0},null,null,0,0,null,{"$f":"LOOKUP(I81,Names!$A$2:$A$161,Names!$B$2:$B$161)","v":{"$error":"#N/A"}},0,4.75,0,4.75,77,{"$f":"LOOKUP(O81,Names!$A$2:$A$161,Names!$B$2:$B$161)","v":0},0,4.75,0,4.75,null,77,{"$f":"LOOKUP(V81,Names!$A$2:$A$161,Names!$B$2:$B$161)","v":0},0,"",0,0,0,"",4.75,4.75,0,"",0,0,4.75]
[null,"W",78,{"$f":"LOOKUP(C82,Names!$A$2:$A$161,Names!$B$2:$B$161)","v":0},null,null,0,0,null,{"$f":"LOOKUP(I82,Names!$A$2:$A$161,Names!$B$2:$B$161)","v":{"$error":"#N/A"}},0,2.85,0,2.85,78,{"$f":"LOOKUP(O82,Names!$A$2:$A$161,Names!$B$2:$B$161)","v":0},0,2.85,0,2.85,null,78,{"$f":"LOOKUP(V82,Names!$A$2:$A$161,Names!$B$2:$B$161)","v":0},0,"",0,0,0,"",2.85,2.85,0,"",0,0,2.85]
[null,"S",79,{"$f":"LOOKUP(C83,Names!$A$2:$A$161,Names!$B$2:$B$161)","v":0},null,null,0,0,null,{"$f":"LOOKUP(I83,Names!$A$2:$A$161,Names!$B$2:$B$161)","v":{"$error":"#N/A"}},0,1.9000000000000001,0,1.9000000000000001,79,{"$f":"LOOKUP(O83,Names!$A$2:$A$161,Names!$B$2:$B$161)","v":0},0,1.9000000000000001,0,1.9000000000000001,null,79,{"$f":"LOOKUP(V83,Names!$A$2:$A$161,Names!$B$2:$B$161)","v":0},0,"",0,0,0,"",1.9000000000000001,1.9000000000000001,0,"",0,0,1.9000000000000001]
[null,"E",80,{"$f":"LOOKUP(C84,Names!$A$2:$A$161,Names!$B$2:$B$161)","v":0},null,null,0,0,null,{"$f":"LOOKUP(I84,Names!$A$2:$A$161,Names!$B$2:$B$161)","v":{"$error":"#N/A"}},0,0,0,0,80,{"$f":"LOOKUP(O84,Names!$A$2:$A$161,Names!$B$2:$B$161)","v":0},0,0,0,0,null,80,{"$f":"LOOKUP(V84,Names!$A$2:$A$161,Names!$B$2:$B$161)","v":0},0,"",0,0,0,"",0,0,0,"",0,0,0]
["Tabel ( 21 )","N",81,{"$f":"LOOKUP(C85,Names!$A$2:$A$161,Names!$B$2:$B$161)","v":"راجي محمد صبحي"},185,2.85,15,17.850000000000001,81,{"$f":"LOOKUP(I85,Names!$A$2:$A$161,Names!$B$2:$B$161)","v":"راجي محمد صبحي"},113,1.9000000000000001,2,3.9000000000000004,81,{"$f":"LOOKUP(O85,Names!$A$2:$A$161,Names!$B$2:$B$161)","v":"راجي محمد صبحي"},107,1.9000000000000001,6,7.9,null,100,{"$f":"LOOKUP(V85,Names!$A$2:$A$161,Names!$B$2:$B$161)","v":"عبد الرحمن الدمراوى"},106,205,125,436,0,4.75,1.9000000000000001,6.65,7,15,8,30,36.65,37]
[null,"W",82,{"$f":"LOOKUP(C86,Names!$A$2:$A$161,Names!$B$2:$B$161)","v":"أحمد صلاح الدين دياب"},171,1.9000000000000001,14.5,16.399999999999999,85,{"$f":"LOOKUP(I86,Names!$A$2:$A$161,Names!$B$2:$B$161)","v":"محمد عبد الهادي أبو القاسم"},109,0,2,2,97,{"$f":"LOOKUP(O86,Names!$A$2:$A$161,Names!$B$2:$B$161)","v":"خالد محمد شبارة"},167,4.75,11,15.75,null,13,{"$f":"LOOKUP(V86,Names!$A$2:$A$161,Names!$B$2:$B$161)","v":"عمرو سمير دسوقي"},158,143,115,416,4.75,1.9000000000000001,0,6.65,13,10,7,30,36.65,38]
[null,"S",83,{"$f":"LOOKUP(C87,Names!$A$2:$A$161,Names!$B$2:$B$161)","v":"أسامة لطفى نجيب"},187,4.75,14,18.75,89,{"$f":"LOOKUP(I87,Names!$A$2:$A$161,Names!$B$2:$B$161)","v":"محمد بلبع"},128,2.85,10,12.85,113,{"$f":"LOOKUP(O87,Names!$A$2:$A$161,Names!$B$2:$B$161)","v":"محمد حسن فهيم"},159,2.85,12,14.85,null,85,{"$f":"LOOKUP(V87,Names!$A$2:$A$161,Names!$B$2:$B$161)","v":"محمد عبد الهادي أبو القاسم"},164,109,185,458,2.85,0,2.85,5.7,11,2,16,29,34.700000000000003,39]
[null,"E",84,{"$f":"LOOKUP(C88,Names!$A$2:$A$161,Names!$B$2:$B$161)","v":"أحمد عز العرب السماحي"},162,0,15,15,93,{"$f":"LOOKUP(I88,Names!$A$2:$A$161,Names!$B$2:$B$161)","v":"جمال السيد توفيق"},172,4.75,14,18.75,94,{"$f":"LOOKUP(O88,Names!$A$2:$A$161,Names!$B$2:$B$161)","v":"محمد عصام الدين القاضي"},106,0,4,4,null,18,{"$f":"LOOKUP(V88,Names!$A$2:$A$161,Names!$B$2:$B$161)","v":"وليد شعبان إسماعيل علي"},136,148,155,439,2.85,2.85,2.85,8.5500000000000007,8,10,8,26,34.549999999999997,40]
["Tabel ( 22 )","N",85,{"$f":"LOOKUP(C89,Names!$A$2:$A$161,Names!$B$2:$B$161)","v":"محمد عبد الهادي أبو القاسم"},164,2.85,11,13.85,97,{"$f":"LOOKUP(I89,Names!$A$2:$A$161,Names!$B$2:$B$161)","v":"خالد محمد شبارة"},167,1.9000000000000001,12,13.9,110,{"$f":"LOOKUP(O89,Names!$A$2:$A$161,Names!$B$2:$B$161)","v":"أسامة أحمد زكي"},181,2.85,13,15.85,null,7,{"$f":"LOOKUP(V89,Names!$A$2:$A$161,Names!$B$2:$B$161)","v":"هيثم محمد شبانة"},114,120,180,414,1.9000000000000001,1.9000000000000001,4.75,8.5500000000000007,5,7,14,26,34.549999999999997,40]
[null,"W",86,{"$f":"LOOKUP(C90,Names!$A$2:$A$161,Names!$B$2:$B$161)","v":"ايهاب يوسف عمارة"},131,1.9000000000000001,9,10.9,101,{"$f":"LOOKUP(I90,Names!$A$2:$A$161,Names!$B$2:$B$161)","v":"أحمد محمد شوقى عبد الحميد"},136,0,7,7,91,{"$f":"LOOKUP(O90,Names!$A$2:$A$161,Names!$B$2:$B$161)","v":"عماد محمد فؤاد مرسي"},184,4.75,14.5,19.25,null,11,{"$f":"LOOKUP(V90,Names!$A$2:$A$161,Names!$B$2:$B$161)","v":"هيثم العشماوي"},100,140,230,470,1.9000000000000001,2.85,4.75,9.5,2,4,19,25,34.5,42]
[null,"S",87,{"$f":"LOOKUP(C91,Names!$A$2:$A$161,Names!$B$2:$B$161)","v":"ياسر شاهين"},216,4.75,17,21.75,105,{"$f":"LOOKUP(I91,Names!$A$2:$A$161,Names!$B$2:$B$161)","v":"مصطفى عبد الحفيظ علي"},175,2.85,15,17.850000000000001,107,{"$f":"LOOKUP(O91,Names!$A$2:$A$161,Names!$B$2:$B$161)","v":"شادي أحمد محمود وهبة"},92,0,7,7,null,20,{"$f":"LOOKUP(V91,Names!$A$2:$A$161,Names!$B$2:$B$161)","v":"عصام الدين محمد عبد العاطي"},108,127,161,396,0,2.85,4.75,7.6,3,8,15,26,33.6,43]
[null,"E",88,{"$f":"LOOKUP(C92,Names!$A$2:$A$161,Names!$B$2:$B$161)","v":"أحمد علي خليل حسن"},118,0,8,8,109,{"$f":"LOOKUP(I92,Names!$A$2:$A$161,Names!$B$2:$B$161)","v":"نبيل خلف زكي"},206,4.75,16,20.75,88,{"$f":"LOOKUP(O92,Names!$A$2:$A$161,Names!$B$2:$B$161)","v":"أحمد علي خليل حسن"},178,1.9000000000000001,17,18.899999999999999,null,82,{"$f":"LOOKUP(V92,Names!$A$2:$A$161,Names!$B$2:$B$161)","v":"أحمد صلاح الدين دياب"},171,118,152,441,1.9000000000000001,0,1.9000000000000001,3.8000000000000003,14.5,4,11,29.5,33.299999999999997,44]
["Tabel ( 23 )","N",89,{"$f":"LOOKUP(C93,Names!$A$2:$A$161,Names!$B$2:$B$161)","v":"محمد بلبع"},129,1.9000000000000001,6,7.9,113,{"$f":"LOOKUP(I93,Names!$A$2:$A$161,Names!$B$2:$B$161)","v":"محمد حسن فهيم"},181,2.85,13,15.85,104,{"$f":"LOOKUP(O93,Names!$A$2:$A$161,Names!$B$2:$B$161)","v":"كريم إيهاب عامر"},186,4.75,14,18.75,null,98,{"$f":"LOOKUP(V93,Names!$A$2:$A$161,Names!$B$2:$B$161)","v":"محمد محمود شعبان رمضان"},110,205,96,411,1.9000000000000001,2.85,0,4.75,4,16,8,28,32.75,45]
[null,"W",90,{"$f":"LOOKUP(C94,Names!$A$2:$A$161,Names!$B$2:$B$161)","v":"محمد علي حسن طه الأمام"},149,4.75,12,16.75,82,{"$f":"LOOKUP(I94,Names!$A$2:$A$161,Names!$B$2:$B$161)","v":"أحمد صلاح الدين دياب"},118,0,4,4,85,{"$f":"LOOKUP(O94,Names!$A$2:$A$161,Names!$B$2:$B$161)","v":"محمد عبد الهادي أبو القاسم"},185,2.85,16,18.850000000000001,null,88,{"$f":"LOOKUP(V94,Names!$A$2:$A$161,Names!$B$2:$B$161)","v":"أحمد علي خليل حسن"},118,143,178,439,0,0,1.9000000000000001,1.9000000000000001,8,5,17,30,31.9,46]
[null,"S",91,{"$f":"LOOKUP(C95,Names!$A$2:$A$161,Names!$B$2:$B$161)","v":"عماد محمد فؤاد مرسي"},133,2.85,6,8.85,86,{"$f":"LOOKUP(I95,Names!$A$2:$A$161,Names!$B$2:$B$161)","v":"ايهاب يوسف عمارة"},173,1.9000000000000001,14,15.9,98,{"$f":"LOOKUP(O95,Names!$A$2:$A$161,Names!$B$2:$B$161)","v":"محمد محمود شعبان رمضان"},96,0,8,8,null,92,{"$f":"LOOKUP(V95,Names!$A$2:$A$161,Names!$B$2:$B$161)","v":"أحمد مصطفى راشد"},67,146,198,411,0,1.9000000000000001,4.75,6.65,1,9,15,25,31.65,47]
[null,"E",92,{"$f":"LOOKUP(C96,Names!$A$2:$A$161,Names!$B$2:$B$161)","v":"أحمد مصطفى راشد"},67,0,1,1,90,{"$f":"LOOKUP(I96,Names!$A$2:$A$161,Names!$B$2:$B$161)","v":"محمد علي حسن طه الأمام"},217,4.75,17,21.75,82,{"$f":"LOOKUP(O96,Names!$A$2:$A$161,Names!$B$2:$B$161)","v":"أحمد صلاح الدين دياب"},152,1.9000000000000001,11,12.9,null,14,{"$f":"LOOKUP(V96,Names!$A$2:$A$161,Names!$B$2:$B$161)","v":"أحمد محمد محمدي"},133,146,154,433,1.9000000000000001,1.9000000000000001,3.8,7.6,10,6.5,7,23.5,31.1,48]
["Tabel ( 24 )","N",93,{"$f":"LOOKUP(C97,Names!$A$2:$A$161,Names!$B$2:$B$161)","v":"جمال السيد توفيق"},109,0,4,4,94,{"$f":"LOOKUP(I97,Names!$A$2:$A$161,Names!$B$2:$B$161)","v":"محمد عصام الدين القاضي"},250,4.75,19,23.75,101,{"$f":"LOOKUP(O97,Names!$A$2:$A$161,Names!$B$2:$B$161)","v":"أحمد محمد شوقى عبد الحميد"},55,0,3,3,null,116,{"$f":"LOOKUP(V97,Names!$A$2:$A$161,Names!$B$2:$B$161)","v":"اسامة قاسم"},124,88,156,368,1.9000000000000001,0,2.85,4.75,9,4,13,26,30.75,49]
[null,"W",94,{"$f":"LOOKUP(C98,Names!$A$2:$A$161,Names!$B$2:$B$161)","v":"محمد عصام الدين القاضي"},196,4.75,17,21.75,98,{"$f":"LOOKUP(I98,Names!$A$2:$A$161,Names!$B$2:$B$161)","v":"محمد محمود شعبان رمضان"},205,2.85,16,18.850000000000001,114,{"$f":"LOOKUP(O98,Names!$A$2:$A$161,Names!$B$2:$B$161)","v":"احمد سردينة"},184,4.75,14.5,19.25,null,93,{"$f":"LOOKUP(V98,Names!$A$2:$A$161,Names!$B$2:$B$161)","v":"جمال السيد توفيق"},109,172,141,422,0,4.75,1.9000000000000001,6.65,4,14,5,23,29.65,50]
[null,"S",95,{"$f":"LOOKUP(C99,Names!$A$2:$A$161,Names!$B$2:$B$161)","v":"احمد طنطاوى"},174,1.9000000000000001,13,14.9,102,{"$f":"LOOKUP(I99,Names!$A$2:$A$161,Names!$B$2:$B$161)","v":"سامي محمود الفولي"},97,0,5,5,95,{"$f":"LOOKUP(O99,Names!$A$2:$A$161,Names!$B$2:$B$161)","v":"احمد طنطاوى"},169,2.85,13,15.85,null,81,{"$f":"LOOKUP(V99,Names!$A$2:$A$161,Names!$B$2:$B$161)","v":"راجي محمد صبحي"},185,113,107,405,2.85,1.9000000000000001,1.9000000000000001,6.65,15,2,6,23,29.65,51]
[null,"E",96,{"$f":"LOOKUP(C100,Names!$A$2:$A$161,Names!$B$2:$B$161)","v":"أحمد رمزي الديب"},189,2.85,17,19.850000000000001,106,{"$f":"LOOKUP(I100,Names!$A$2:$A$161,Names!$B$2:$B$161)","v":"أحمد عبد العزيز العطار"},113,1.9000000000000001,6,7.9,111,{"$f":"LOOKUP(O100,Names!$A$2:$A$161,Names!$B$2:$B$161)","v":"عادل محمد أبو زيد"},160,1.9000000000000001,14,15.9,null,99,{"$f":"LOOKUP(V100,Names!$A$2:$A$161,Names!$B$2:$B$161)","v":"ماجد محمد فكري"},121,130,152,403,2.85,2.85,1.9000000000000001,7.6000000000000005,4,12,6,22,29.6,52]
["Tabel ( 25 )","N",97,{"$f":"LOOKUP(C101,Names!$A$2:$A$161,Names!$B$2:$B$161)","v":"خالد محمد شبارة"},200,4.75,19,23.75,110,{"$f":"LOOKUP(I101,Names!$A$2:$A$161,Names!$B$2:$B$161)","v":"أسامة أحمد زكي"},224,4.75,15,19.75,92,{"$f":"LOOKUP(O101,Names!$A$2:$A$161,Names!$B$2:$B$161)","v":"أحمد مصطفى راشد"},198,4.75,15,19.75,null,10,{"$f":"LOOKUP(V101,Names!$A$2:$A$161,Names!$B$2:$B$161)","v":"تامر تيمور شكري"},{"$f":"IF(ISNA(VLOOKUP(V101,$C$5:$H$164,3,FALSE))=TRUE,\"\",VLOOKUP(V101,$C$5:$H$164,3,FALSE))","v":157},{"$f":"IF(ISNA(VLOOKUP(V101,$I$5:$N$164,3,FALSE))=TRUE,\"\",VLOOKUP(V101,$I$5:$N$164,3,FALSE))","v":159},{"$f":"IF(ISNA(VLOOKUP(V101,$O$5:$T$164,3,FALSE))=TRUE,\"\",VLOOKUP(V101,$O$5:$T$164,3,FALSE))","v":43},{"$f":"SUM(X101:Z101)","v":359},{"$f":"IF(ISNA(VLOOKUP(V101,$C$5:$H$164,4,FALSE))=TRUE,\"\",VLOOKUP(V101,$C$5:$H$164,4,FALSE))","v":2.85},{"$f":"IF(ISNA(VLOOKUP(V101,$I$5:$N$164,4,FALSE))=TRUE,\"\",VLOOKUP(V101,$I$5:$N$164,4,FALSE))","v":1.9000000000000001},{"$f":"IF(ISNA(VLOOKUP(V101,$O$5:$T$164,4,FALSE))=TRUE,\"\",VLOOKUP(V101,$O$5:$T$164,4,FALSE))","v":0},{"$f":"SUM(AB101:AD101)","v":4.75},{"$f":"IF(ISNA(VLOOKUP(V101,$C$5:$H$164,5,FALSE))=TRUE,\"\",VLOOKUP(V101,$C$5:$H$164,5,FALSE))","v":12},{"$f":"IF(ISNA(VLOOKUP(V101,$I$5:$N$164,5,FALSE))=TRUE,\"\",VLOOKUP(V101,$I$5:$N$164,5,FALSE))","v":11},{"$f":"IF(ISNA(VLOOKUP(V101,$O$5:$T$164,5,FALSE))=TRUE,\"\",VLOOKUP(V101,$O$5:$T$164,5,FALSE))","v":1},{"$f":"SUM(AF101:AH101)","v":24},{"$f":"AE101+AI101","v":28.75},53]
[null,"W",98,{"$f":"LOOKUP(C102,Names!$A$2:$A$161,Names!$B$2:$B$161)","v":"محمد محمود شعبان رمضان"},110,1.9000000000000001,4,5.9,114,{"$f":"LOOKUP(I102,Names!$A$2:$A$161,Names!$B$2:$B$161)","v":"احمد سردينة"},183,2.85,14,16.850000000000001,108,{"$f":"LOOKUP(O102,Names!$A$2:$A$161,Names!$B$2:$B$161)","v":"كريم احمد ناصر"},173,2.85,13,15.85,null,32,{"$f":"LOOKUP(V102,Names!$A$2:$A$161,Names!$B$2:$B$161)","v":"أمير محمد خطاب"},84,131,144,359,0,1.9000000000000001,2.85,4.75,1,13,9,23,27.75,54]
[null,"S",99,{"$f":"LOOKUP(C103,Names!$A$2:$A$161,Names!$B$2:$B$161)","v":"ماجد محمد فكري"},121,2.85,4,6.85,83,{"$f":"LOOKUP(I103,Names!$A$2:$A$161,Names!$B$2:$B$161)","v":"أسامة لطفى نجيب"},111,0,7,7,86,{"$f":"LOOKUP(O103,Names!$A$2:$A$161,Names!$B$2:$B$161)","v":"ايهاب يوسف عمارة"},121,0,10,10,null,35,{"$f":"LOOKUP(V103,Names!$A$2:$A$161,Names!$B$2:$B$161)","v":"أحمد فؤاد حسنين"},212,43,72,327,4.75,0,0,4.75,16,1,6,23,27.75,54]
[null,"E",100,{"$f":"LOOKUP(C104,Names!$A$2:$A$161,Names!$B$2:$B$161)","v":"عبد الرحمن الدمراوى"},106,0,7,7,87,{"$f":"LOOKUP(I104,Names!$A$2:$A$161,Names!$B$2:$B$161)","v":"ياسر شاهين"},160,1.9000000000000001,12,13.9,102,{"$f":"LOOKUP(O104,Names!$A$2:$A$161,Names!$B$2:$B$161)","v":"سامي محمود الفولي"},135,1.9000000000000001,8,9.9,null,16,{"$f":"LOOKUP(V104,Names!$A$2:$A$161,Names!$B$2:$B$161)","v":"طارق عبد الغني السحار"},100,99,154,353,0,1.9000000000000001,3.8,5.7,4,6,12,22,27.7,56]
["Tabel ( 26 )","N",101,{"$f":"LOOKUP(C105,Names!$A$2:$A$161,Names!$B$2:$B$161)","v":"أحمد محمد شوقى عبد الحميد"},130,1.9000000000000001,7,8.9,91,{"$f":"LOOKUP(I105,Names!$A$2:$A$161,Names!$B$2:$B$161)","v":"عماد محمد فؤاد مرسي"},164,4.75,9,13.75,83,{"$f":"LOOKUP(O105,Names!$A$2:$A$161,Names!$B$2:$B$161)","v":"أسامة لطفى نجيب"},162,2.85,10,12.85,null,26,{"$f":"LOOKUP(V105,Names!$A$2:$A$161,Names!$B$2:$B$161)","v":"علاء شوقي جبريل"},150,105,132,387,1.9000000000000001,0,1.9000000000000001,3.8000000000000003,14,5,3,22,25.8,57]
[null,"W",102,{"$f":"LOOKUP(C106,Names!$A$2:$A$161,Names!$B$2:$B$161)","v":"سامي محمود الفولي"},113,0,5,5,95,{"$f":"LOOKUP(I106,Names!$A$2:$A$161,Names!$B$2:$B$161)","v":"احمد طنطاوى"},135,1.9000000000000001,6,7.9,99,{"$f":"LOOKUP(O106,Names!$A$2:$A$161,Names!$B$2:$B$161)","v":"ماجد محمد فكري"},152,1.9000000000000001,6,7.9,null,23,{"$f":"LOOKUP(V106,Names!$A$2:$A$161,Names!$B$2:$B$161)","v":"جمال احمد محمد جمال"},122,134,70,326,2.85,1.9000000000000001,0,4.75,7,9,5,21,25.75,58]
[null,"S",103,{"$f":"LOOKUP(C107,Names!$A$2:$A$161,Names!$B$2:$B$161)","v":"عمرو عماد الدين أبو العلا"},155,2.85,11,13.85,99,{"$f":"LOOKUP(I107,Names!$A$2:$A$161,Names!$B$2:$B$161)","v":"ماجد محمد فكري"},130,2.85,12,14.85,115,{"$f":"LOOKUP(O107,Names!$A$2:$A$161,Names!$B$2:$B$161)","v":"خالد عبد العظيم"},185,4.75,15,19.75,null,15,{"$f":"LOOKUP(V107,Names!$A$2:$A$161,Names!$B$2:$B$161)","v":"حسام الدين صلاح أبو الفتوح"},134,114,144,392,1.9000000000000001,0,1.9000000000000001,3.8000000000000003,7,3,11,21,24.8,59]
[null,"E",104,{"$f":"LOOKUP(C108,Names!$A$2:$A$161,Names!$B$2:$B$161)","v":"كريم إيهاب عامر"},200,4.75,19,23.75,103,{"$f":"LOOKUP(I108,Names!$A$2:$A$161,Names!$B$2:$B$161)","v":"عمرو عماد الدين أبو العلا"},34,0,2,2,96,{"$f":"LOOKUP(O108,Names!$A$2:$A$161,Names!$B$2:$B$161)","v":"أحمد رمزي الديب"},15,0,1,1,null,115,{"$f":"LOOKUP(V108,Names!$A$2:$A$161,Names!$B$2:$B$161)","v":"خالد عبد العظيم"},75,77,185,337,0,0,4.75,4.75,1,4,15,20,24.75,60]
["Tabel ( 27 )","N",105,{"$f":"LOOKUP(C109,Names!$A$2:$A$161,Names!$B$2:$B$161)","v":"مصطفى عبد الحفيظ علي"},144,1.9000000000000001,9,10.9,107,{"$f":"LOOKUP(I109,Names!$A$2:$A$161,Names!$B$2:$B$161)","v":"شادي أحمد محمود وهبة"},130,1.9000000000000001,3,4.9000000000000004,112,{"$f":"LOOKUP(O109,Names!$A$2:$A$161,Names!$B$2:$B$161)","v":"عمرو محمد محسن"},202,2.85,16,18.850000000000001,null,6,{"$f":"LOOKUP(V109,Names!$A$2:$A$161,Names!$B$2:$B$161)","v":"معتز محمد عبد المنعم"},129,60,163,352,1.9000000000000001,0,2.85,4.75,5,2,9,16,20.75,61]
[null,"W",106,{"$f":"LOOKUP(C110,Names!$A$2:$A$161,Names!$B$2:$B$161)","v":"أحمد عبد العزيز العطار"},171,4.75,14.5,19.25,111,{"$f":"LOOKUP(I110,Names!$A$2:$A$161,Names!$B$2:$B$161)","v":"عادل محمد أبو زيد"},206,2.85,17,19.850000000000001,93,{"$f":"LOOKUP(O110,Names!$A$2:$A$161,Names!$B$2:$B$161)","v":"جمال السيد توفيق"},141,1.9000000000000001,5,6.9,null,5,{"$f":"LOOKUP(V110,Names!$A$2:$A$161,Names!$B$2:$B$161)","v":"أحمد محمد أمين"},98,154,51,303,1.9000000000000001,2.85,0,4.75,1,13,2,16,20.75,61]
[null,"S",107,{"$f":"LOOKUP(C111,Names!$A$2:$A$161,Names!$B$2:$B$161)","v":"شادي أحمد محمود وهبة"},118,0,2,2,115,{"$f":"LOOKUP(I111,Names!$A$2:$A$161,Names!$B$2:$B$161)","v":"خالد عبد العظيم"},77,0,4,4,90,{"$f":"LOOKUP(O111,Names!$A$2:$A$161,Names!$B$2:$B$161)","v":"محمد علي حسن طه الأمام"},27,0,1,1,null,102,{"$f":"LOOKUP(V111,Names!$A$2:$A$161,Names!$B$2:$B$161)","v":"سامي محمود الفولي"},113,97,135,345,0,0,1.9000000000000001,1.9000000000000001,5,5,8,18,19.899999999999999,63]
[null,"E",108,{"$f":"LOOKUP(C112,Names!$A$2:$A$161,Names!$B$2:$B$161)","v":"كريم احمد ناصر"},146,2.85,12.5,15.35,84,{"$f":"LOOKUP(I112,Names!$A$2:$A$161,Names!$B$2:$B$161)","v":"أحمد عز العرب السماحي"},229,4.75,19,23.75,106,{"$f":"LOOKUP(O112,Names!$A$2:$A$161,Names!$B$2:$B$161)","v":"أحمد عبد العزيز العطار"},204,4.75,19,23.75,null,24,{"$f":"LOOKUP(V112,Names!$A$2:$A$161,Names!$B$2:$B$161)","v":"يامن محمد حسن"},96,160,126,382,0,2.85,1.9000000000000001,4.75,2,8,5,15,19.75,64]
["Tabel ( 28 )","N",109,{"$f":"LOOKUP(C113,Names!$A$2:$A$161,Names!$B$2:$B$161)","v":"نبيل خلف زكي"},162,4.75,10,14.75,88,{"$f":"LOOKUP(I113,Names!$A$2:$A$161,Names!$B$2:$B$161)","v":"أحمد علي خليل حسن"},143,0,5,5,87,{"$f":"LOOKUP(O113,Names!$A$2:$A$161,Names!$B$2:$B$161)","v":"ياسر شاهين"},370,4.75,19,23.75,null,9,{"$f":"LOOKUP(V113,Names!$A$2:$A$161,Names!$B$2:$B$161)","v":" عمرو محمد مصطفى"},127,68,82,277,2.85,0,1.9000000000000001,4.75,8,3,4,15,19.75,64]
[null,"W",110,{"$f":"LOOKUP(C114,Names!$A$2:$A$161,Names!$B$2:$B$161)","v":"أسامة أحمد زكي"},101,0,3,3,92,{"$f":"LOOKUP(I114,Names!$A$2:$A$161,Names!$B$2:$B$161)","v":"أحمد مصطفى راشد"},146,1.9000000000000001,9,10.9,103,{"$f":"LOOKUP(O114,Names!$A$2:$A$161,Names!$B$2:$B$161)","v":"عمرو عماد الدين أبو العلا"},65,1.9000000000000001,2,3.9000000000000004,null,103,{"$f":"LOOKUP(V114,Names!$A$2:$A$161,Names!$B$2:$B$161)","v":"عمرو عماد الدين أبو العلا"},155,34,65,254,2.85,0,1.9000000000000001,4.75,11,2,2,15,19.75,64]
[null,"S",111,{"$f":"LOOKUP(C115,Names!$A$2:$A$161,Names!$B$2:$B$161)","v":"عادل محمد أبو زيد"},148,2.85,10,12.85,96,{"$f":"LOOKUP(I115,Names!$A$2:$A$161,Names!$B$2:$B$161)","v":"أحمد رمزي الديب"},201,2.85,17,19.850000000000001,84,{"$f":"LOOKUP(O115,Names!$A$2:$A$161,Names!$B$2:$B$161)","v":"أحمد عز العرب السماحي"},30,0,2,2,null,101,{"$f":"LOOKUP(V115,Names!$A$2:$A$161,Names!$B$2:$B$161)","v":"أحمد محمد شوقى عبد الحميد"},130,136,55,321,1.9000000000000001,0,0,1.9000000000000001,7,7,3,17,18.899999999999999,67]
[null,"E",112,{"$f":"LOOKUP(C116,Names!$A$2:$A$161,Names!$B$2:$B$161)","v":"عمرو محمد محسن"},146,1.9000000000000001,12.5,14.4,100,{"$f":"LOOKUP(I116,Names!$A$2:$A$161,Names!$B$2:$B$161)","v":"عبد الرحمن الدمراوى"},205,4.75,15,19.75,109,{"$f":"LOOKUP(O116,Names!$A$2:$A$161,Names!$B$2:$B$161)","v":"نبيل خلف زكي"},80,2.85,2,4.8499999999999996,null,25,{"$f":"LOOKUP(V116,Names!$A$2:$A$161,Names!$B$2:$B$161)","v":"خالد حمدي محمد السيد"},119,127,25,271,1.9000000000000001,2.85,0,4.75,3,9,1,13,17.75,68]
["Tabel ( 29 )","N",113,{"$f":"LOOKUP(C117,Names!$A$2:$A$161,Names!$B$2:$B$161)","v":"محمد حسن فهيم"},187,4.75,16.5,21.25,104,{"$f":"LOOKUP(I117,Names!$A$2:$A$161,Names!$B$2:$B$161)","v":"كريم إيهاب عامر"},221,4.75,14,18.75,100,{"$f":"LOOKUP(O117,Names!$A$2:$A$161,Names!$B$2:$B$161)","v":"عبد الرحمن الدمراوى"},125,1.9000000000000001,8,9.9,null,31,{"$f":"LOOKUP(V117,Names!$A$2:$A$161,Names!$B$2:$B$161)","v":"أحمد بسيوني"},104,121,42,267,0,1.9000000000000001,0,1.9000000000000001,6,5,3,14,15.9,69]
[null,"W",114,{"$f":"LOOKUP(C118,Names!$A$2:$A$161,Names!$B$2:$B$161)","v":"احمد سردينة"},140,2.85,11,13.85,108,{"$f":"LOOKUP(I118,Names!$A$2:$A$161,Names!$B$2:$B$161)","v":"كريم احمد ناصر"},137,2.85,8,10.85,89,{"$f":"LOOKUP(O118,Names!$A$2:$A$161,Names!$B$2:$B$161)","v":"محمد بلبع"},206,4.75,17,21.75,null,107,{"$f":"LOOKUP(V118,Names!$A$2:$A$161,Names!$B$2:$B$161)","v":"شادي أحمد محمود وهبة"},118,130,92,340,0,1.9000000000000001,0,1.9000000000000001,2,3,7,12,13.9,70]
[null,"S",115,{"$f":"LOOKUP(C119,Names!$A$2:$A$161,Names!$B$2:$B$161)","v":"خالد عبد العظيم"},75,0,1,1,112,{"$f":"LOOKUP(I119,Names!$A$2:$A$161,Names!$B$2:$B$161)","v":"عمرو محمد محسن"},129,1.9000000000000001,11,12.9,105,{"$f":"LOOKUP(O119,Names!$A$2:$A$161,Names!$B$2:$B$161)","v":"مصطفى عبد الحفيظ علي"},104,0,9,9,null,29,{"$f":"LOOKUP(V119,Names!$A$2:$A$161,Names!$B$2:$B$161)","v":"اسلام نصر الغنام"},95,29,106,230,0,0,1.9000000000000001,1.9000000000000001,2.5,1,5,8.5,10.4,71]
[null,"E",116,{"$f":"LOOKUP(C120,Names!$A$2:$A$161,Names!$B$2:$B$161)","v":"اسامة قاسم"},124,1.9000000000000001,9,10.9,116,{"$f":"LOOKUP(I120,Names!$A$2:$A$161,Names!$B$2:$B$161)","v":"اسامة قاسم"},88,0,4,4,116,{"$f":"LOOKUP(O120,Names!$A$2:$A$161,Names!$B$2:$B$161)","v":"اسامة قاسم"},156,2.85,13,15.85,null,8,{"$f":"LOOKUP(V120,Names!$A$2:$A$161,Names!$B$2:$B$161)","v":"عبد الرحمن محمود عثمان"},95,94,101,290,0,0,1.9000000000000001,1.9000000000000001,2.5,1,3,6.5,8.4,72]
["Tabel ( 30 )","N",117,{"$f":"LOOKUP(C121,Names!$A$2:$A$161,Names!$B$2:$B$161)","v":0},null,null,0,0,null,{"$f":"LOOKUP(I121,Names!$A$2:$A$161,Names!$B$2:$B$161)","v":{"$error":"#N/A"}},null,null,0,0,null,{"$f":"LOOKUP(O121,Names!$A$2:$A$161,Names!$B$2:$B$161)","v":{"$error":"#N/A"}},null,null,0,0,null,117,{"$f":"LOOKUP(V121,Names!$A$2:$A$161,Names!$B$2:$B$161)","v":0},{"$f":"IF(ISNA(VLOOKUP(V121,$C$5:$H$164,3,FALSE))=TRUE,\"\",VLOOKUP(V121,$C$5:$H$164,3,FALSE))","v":0},{"$f":"IF(ISNA(VLOOKUP(V121,$I$5:$N$164,3,FALSE))=TRUE,\"\",VLOOKUP(V121,$I$5:$N$164,3,FALSE))","v":""},{"$f":"IF(ISNA(VLOOKUP(V121,$O$5:$T$164,3,FALSE))=TRUE,\"\",VLOOKUP(V121,$O$5:$T$164,3,FALSE))","v":""},{"$f":"SUM(X121:Z121)","v":0},{"$f":"IF(ISNA(VLOOKUP(V121,$C$5:$H$164,4,FALSE))=TRUE,\"\",VLOOKUP(V121,$C$5:$H$164,4,FALSE))","v":0},{"$f":"IF(ISNA(VLOOKUP(V121,$I$5:$N$164,4,FALSE))=TRUE,\"\",VLOOKUP(V121,$I$5:$N$164,4,FALSE))","v":""},{"$f":"IF(ISNA(VLOOKUP(V121,$O$5:$T$164,4,FALSE))=TRUE,\"\",VLOOKUP(V121,$O$5:$T$164,4,FALSE))","v":""},{"$f":"SUM(AB121:AD121)","v":0},{"$f":"IF(ISNA(VLOOKUP(V121,$C$5:$H$164,5,FALSE))=TRUE,\"\",VLOOKUP(V121,$C$5:$H$164,5,FALSE))","v":0},{"$f":"IF(ISNA(VLOOKUP(V121,$I$5:$N$164,5,FALSE))=TRUE,\"\",VLOOKUP(V121,$I$5:$N$164,5,FALSE))","v":""},{"$f":"IF(ISNA(VLOOKUP(V121,$O$5:$T$164,5,FALSE))=TRUE,\"\",VLOOKUP(V121,$O$5:$T$164,5,FALSE))","v":""},{"$f":"SUM(AF121:AH121)","v":0},{"$f":"AE121+AI121","v":0}]
[null,"W",118,{"$f":"LOOKUP(C122,Names!$A$2:$A$161,Names!$B$2:$B$161)","v":0},null,null,0,0,null,{"$f":"LOOKUP(I122,Names!$A$2:$A$161,Names!$B$2:$B$161)","v":{"$error":"#N/A"}},null,null,0,0,null,{"$f":"LOOKUP(O122,Names!$A$2:$A$161,Names!$B$2:$B$161)","v":{"$error":"#N/A"}},null,null,0,0,null,118,{"$f":"LOOKUP(V122,Names!$A$2:$A$161,Names!$B$2:$B$161)","v":0},0,"","",0,0,"","",0,0,"","",0,0]
[null,"S",119,{"$f":"LOOKUP(C123,Names!$A$2:$A$161,Names!$B$2:$B$161)","v":0},null,null,0,0,null,{"$f":"LOOKUP(I123,Names!$A$2:$A$161,Names!$B$2:$B$161)","v":{"$error":"#N/A"}},null,null,0,0,null,{"$f":"LOOKUP(O123,Names!$A$2:$A$161,Names!$B$2:$B$161)","v":{"$error":"#N/A"}},null,null,0,0,null,119,{"$f":"LOOKUP(V123,Names!$A$2:$A$161,Names!$B$2:$B$161)","v":0},0,"","",0,0,"","",0,0,"","",0,0]
[null,"E",120,{"$f":"LOOKUP(C124,Names!$A$2:$A$161,Names!$B$2:$B$161)","v":0},null,null,0,0,null,{"$f":"LOOKUP(I124,Names!$A$2:$A$161,Names!$B$2:$B$161)","v":{"$error":"#N/A"}},null,null,0,0,null,{"$f":"LOOKUP(O124,Names!$A$2:$A$161,Names!$B$2:$B$161)","v":{"$error":"#N/A"}},null,null,0,0,null,120,{"$f":"LOOKUP(V124,Names!$A$2:$A$161,Names!$B$2:$B$161)","v":0},0,"","",0,0,"","",0,0,"","",0,0]
["Tabel ( 31 )","N",121,{"$f":"LOOKUP(C125,Names!$A$2:$A$161,Names!$B$2:$B$161)","v":0},null,null,0,0,null,{"$f":"LOOKUP(I125,Names!$A$2:$A$161,Names!$B$2:$B$161)","v":{"$error":"#N/A"}},null,null,0,0,null,{"$f":"LOOKUP(O125,Names!$A$2:$A$161,Names!$B$2:$B$161)","v":{"$error":"#N/A"}},null,null,0,0,null,121,{"$f":"LOOKUP(V125,Names!$A$2:$A$161,Names!$B$2:$B$161)","v":0},0,"","",0,0,"","",0,0,"","",0,0]
[null,"W",122,{"$f":"LOOKUP(C126,Names!$A$2:$A$161,Names!$B$2:$B$161)","v":0},null,null,0,0,null,{"$f":"LOOKUP(I126,Names!$A$2:$A$161,Names!$B$2:$B$161)","v":{"$error":"#N/A"}},null,null,0,0,null,{"$f":"LOOKUP(O126,Names!$A$2:$A$161,Names!$B$2:$B$161)","v":{"$error":"#N/A"}},null,null,0,0,null,122,{"$f":"LOOKUP(V126,Names!$A$2:$A$161,Names!$B$2:$B$161)","v":0},0,"","",0,0,"","",0,0,"","",0,0]
[null,"S",123,{"$f":"LOOKUP(C127,Names!$A$2:$A$161,Names!$B$2:$B$161)","v":0},null,null,0,0,null,{"$f":"LOOKUP(I127,Names!$A$2:$A$161,Names!$B$2:$B$161)","v":{"$error":"#N/A"}},null,null,0,0,null,{"$f":"LOOKUP(O127,Names!$A$2:$A$161,Names!$B$2:$B$161)","v":{"$error":"#N/A"}},null,null,0,0,null,123,{"$f":"LOOKUP(V127,Names!$A$2:$A$161,Names!$B$2:$B$161)","v":0},0,"","",0,0,"","",0,0,"","",0,0]
[null,"E",124,{"$f":"LOOKUP(C128,Names!$A$2:$A$161,Names!$B$2:$B$161)","v":0},null,null,0,0,null,{"$f":"LOOKUP(I128,Names!$A$2:$A$161,Names!$B$2:$B$161)","v":{"$error":"#N/A"}},null,null,0,0,null,{"$f":"LOOKUP(O128,Names!$A$2:$A$161,Names!$B$2:$B$161)","v":{"$error":"#N/A"}},null,null,0,0,null,124,{"$f":"LOOKUP(V128,Names!$A$2:$A$161,Names!$B$2:$B$161)","v":0},0,"","",0,0,"","",0,0,"","",0,0]
["Tabel ( 32 )","N",125,{"$f":"LOOKUP(C129,Names!$A$2:$A$161,Names!$B$2:$B$161)","v":0},null,null,0,0,null,{"$f":"LOOKUP(I129,Names!$A$2:$A$161,Names!$B$2:$B$161)","v":{"$error":"#N/A"}},null,null,0,0,null,{"$f":"LOOKUP(O129,Names!$A$2:$A$161,Names!$B$2:$B$161)","v":{"$error":"#N/A"}},null,null,0,0,null,125,{"$f":"LOOKUP(V129,Names!$A$2:$A$161,Names!$B$2:$B$161)","v":0},0,"","",0,0,"","",0,0,"","",0,0]
[null,"W",126,{"$f":"LOOKUP(C130,Names!$A$2:$A$161,Names!$B$2:$B$161)","v":0},null,null,0,0,null,{"$f":"LOOKUP(I130,Names!$A$2:$A$161,Names!$B$2:$B$161)","v":{"$error":"#N/A"}},null,null,0,0,null,{"$f":"LOOKUP(O130,Names!$A$2:$A$161,Names!$B$2:$B$161)","v":{"$error":"#N/A"}},null,null,0,0,null,126,{"$f":"LOOKUP(V130,Names!$A$2:$A$161,Names!$B$2:$B$161)","v":0},0,"","",0,0,"","",0,0,"","",0,0]
[null,"S",127,{"$f":"LOOKUP(C131,Names!$A$2:$A$161,Names!$B$2:$B$161)","v":0},null,null,0,0,null,{"$f":"LOOKUP(I131,Names!$A$2:$A$161,Names!$B$2:$B$161)","v":{"$error":"#N/A"}},null,null,0,0,null,{"$f":"LOOKUP(O131,Names!$A$2:$A$161,Names!$B$2:$B$161)","v":{"$error":"#N/A"}},null,null,0,0,null,127,{"$f":"LOOKUP(V131,Names!$A$2:$A$161,Names!$B$2:$B$161)","v":0},0,"","",0,0,"","",0,0,"","",0,0]
[null,"E",128,{"$f":"LOOKUP(C132,Names!$A$2:$A$161,Names!$B$2:$B$161)","v":0},null,null,0,0,null,{"$f":"LOOKUP(I132,Names!$A$2:$A$161,Names!$B$2:$B$161)","v":{"$error":"#N/A"}},null,null,0,0,null,{"$f":"LOOKUP(O132,Names!$A$2:$A$161,Names!$B$2:$B$161)","v":{"$error":"#N/A"}},null,null,0,0,null,128,{"$f":"LOOKUP(V132,Names!$A$2:$A$161,Names!$B$2:$B$161)","v":0},0,"","",0,0,"","",0,0,"","",0,0]
["Tabel ( 33 )","N",129,{"$f":"LOOKUP(C133,Names!$A$2:$A$161,Names!$B$2:$B$161)","v":0},null,null,0,{"$f":"F133+G133","v":0},null,{"$f":"LOOKUP(I133,Names!$A$2:$A$161,Names!$B$2:$B$161)","v":{"$error":"#N/A"}},0,4.75,0,{"$f":"L133+M133","v":4.75},null,{"$f":"LOOKUP(O133,Names!$A$2:$A$161,Names!$B$2:$B$161)","v":{"$error":"#N/A"}},0,4.75,0,{"$f":"R133+S133","v":4.75},null,129,{"$f":"LOOKUP(V133,Names!$A$2:$A$161,Names!$B$2:$B$161)","v":0},{"$f":"IF(ISNA(VLOOKUP(V133,$C$5:$H$164,3,FALSE))=TRUE,\"\",VLOOKUP(V133,$C$5:$H$164,3,FALSE))","v":0},{"$f":"IF(ISNA(VLOOKUP(V133,$I$5:$N$164,3,FALSE))=TRUE,\"\",VLOOKUP(V133,$I$5:$N$164,3,FALSE))","v":""},{"$f":"IF(ISNA(VLOOKUP(V133,$O$5:$T$164,3,FALSE))=TRUE,\"\",VLOOKUP(V133,$O$5:$T$164,3,FALSE))","v":""},{"$f":"SUM(X133:Z133)","v":0},{"$f":"IF(ISNA(VLOOKUP(V133,$C$5:$H$164,4,FALSE))=TRUE,\"\",VLOOKUP(V133,$C$5:$H$164,4,FALSE))","v":0},{"$f":"IF(ISNA(VLOOKUP(V133,$I$5:$N$164,4,FALSE))=TRUE,\"\",VLOOKUP(V133,$I$5:$N$164,4,FALSE))","v":""},{"$f":"IF(ISNA(VLOOKUP(V133,$O$5:$T$164,4,FALSE))=TRUE,\"\",VLOOKUP(V133,$O$5:$T$164,4,FALSE))","v":""},{"$f":"SUM(AB133:AD133)","v":0},{"$f":"IF(ISNA(VLOOKUP(V133,$C$5:$H$164,5,FALSE))=TRUE,\"\",VLOOKUP(V133,$C$5:$H$164,5,FALSE))","v":0},{"$f":"IF(ISNA(VLOOKUP(V133,$I$5:$N$164,5,FALSE))=TRUE,\"\",VLOOKUP(V133,$I$5:$N$164,5,FALSE))","v":""},{"$f":"IF(ISNA(VLOOKUP(V133,$O$5:$T$164,5,FALSE))=TRUE,\"\",VLOOKUP(V133,$O$5:$T$164,5,FALSE))","v":""},{"$f":"SUM(AF133:AH133)","v":0},{"$f":"AE133+AI133","v":0}]
[null,"W",130,{"$f":"LOOKUP(C134,Names!$A$2:$A$161,Names!$B$2:$B$161)","v":0},null,null,0,0,null,{"$f":"LOOKUP(I134,Names!$A$2:$A$161,Names!$B$2:$B$161)","v":{"$error":"#N/A"}},0,2.85,0,2.85,null,{"$f":"LOOKUP(O134,Names!$A$2:$A$161,Names!$B$2:$B$161)","v":{"$error":"#N/A"}},0,2.85,0,2.85,null,130,{"$f":"LOOKUP(V134,Names!$A$2:$A$161,Names!$B$2:$B$161)","v":0},0,"","",0,0,"","",0,0,"","",0,0]
[null,"S",131,{"$f":"LOOKUP(C135,Names!$A$2:$A$161,Names!$B$2:$B$161)","v":0},null,null,0,0,null,{"$f":"LOOKUP(I135,Names!$A$2:$A$161,Names!$B$2:$B$161)","v":{"$error":"#N/A"}},0,1.9000000000000001,0,1.9000000000000001,null,{"$f":"LOOKUP(O135,Names!$A$2:$A$161,Names!$B$2:$B$161)","v":{"$error":"#N/A"}},0,1.9000000000000001,0,1.9000000000000001,null,131,{"$f":"LOOKUP(V135,Names!$A$2:$A$161,Names!$B$2:$B$161)","v":0},0,"","",0,0,"","",0,0,"","",0,0]
[null,"E",132,{"$f":"LOOKUP(C136,Names!$A$2:$A$161,Names!$B$2:$B$161)","v":0},null,null,0,0,null,{"$f":"LOOKUP(I136,Names!$A$2:$A$161,Names!$B$2:$B$161)","v":{"$error":"#N/A"}},0,0,0,0,null,{"$f":"LOOKUP(O136,Names!$A$2:$A$161,Names!$B$2:$B$161)","v":{"$error":"#N/A"}},0,0,0,0,null,132,{"$f":"LOOKUP(V136,Names!$A$2:$A$161,Names!$B$2:$B$161)","v":0},0,"","",0,0,"","",0,0,"","",0,0]
["Tabel ( 34 )","N",133,{"$f":"LOOKUP(C137,Names!$A$2:$A$161,Names!$B$2:$B$161)","v":0},null,null,0,0,null,{"$f":"LOOKUP(I137,Names!$A$2:$A$161,Names!$B$2:$B$161)","v":{"$error":"#N/A"}},0,4.75,0,4.75,null,{"$f":"LOOKUP(O137,Names!$A$2:$A$161,Names!$B$2:$B$161)","v":{"$error":"#N/A"}},0,4.75,0,4.75,null,133,{"$f":"LOOKUP(V137,Names!$A$2:$A$161,Names!$B$2:$B$161)","v":0},0,"","",0,0,"","",0,0,"","",0,0]
[null,"W",134,{"$f":"LOOKUP(C138,Names!$A$2:$A$161,Names!$B$2:$B$161)","v":0},null,null,0,0,null,{"$f":"LOOKUP(I138,Names!$A$2:$A$161,Names!$B$2:$B$161)","v":{"$error":"#N/A"}},0,2.85,0,2.85,null,{"$f":"LOOKUP(O138,Names!$A$2:$A$161,Names!$B$2:$B$161)","v":{"$error":"#N/A"}},0,2.85,0,2.85,null,134,{"$f":"LOOKUP(V138,Names!$A$2:$A$161,Names!$B$2:$B$161)","v":0},0,"","",0,0,"","",0,0,"","",0,0]
[null,"S",135,{"$f":"LOOKUP(C139,Names!$A$2:$A$161,Names!$B$2:$B$161)","v":0},null,null,0,0,null,{"$f":"LOOKUP(I139,Names!$A$2:$A$161,Names!$B$2:$B$161)","v":{"$error":"#N/A"}},0,1.9000000000000001,0,1.9000000000000001,null,{"$f":"LOOKUP(O139,Names!$A$2:$A$161,Names!$B$2:$B$161)","v":{"$error":"#N/A"}},0,1.9000000000000001,0,1.9000000000000001,null,135,{"$f":"LOOKUP(V139,Names!$A$2:$A$161,Names!$B$2:$B$161)","v":0},0,"","",0,0,"","",0,0,"","",0,0]
[null,"E",136,{"$f":"LOOKUP(C140,Names!$A$2:$A$161,Names!$B$2:$B$161)","v":0},null,null,0,0,null,{"$f":"LOOKUP(I140,Names!$A$2:$A$161,Names!$B$2:$B$161)","v":{"$error":"#N/A"}},0,0,0,0,null,{"$f":"LOOKUP(O140,Names!$A$2:$A$161,Names!$B$2:$B$161)","v":{"$error":"#N/A"}},0,0,0,0,null,136,{"$f":"LOOKUP(V140,Names!$A$2:$A$161,Names!$B$2:$B$161)","v":0},0,"","",0,0,"","",0,0,"","",0,0]
["Tabel ( 35 )","N",137,{"$f":"LOOKUP(C141,Names!$A$2:$A$161,Names!$B$2:$B$161)","v":0},null,null,0,0,null,{"$f":"LOOKUP(I141,Names!$A$2:$A$161,Names!$B$2:$B$161)","v":{"$error":"#N/A"}},0,4.75,0,0,null,{"$f":"LOOKUP(O141,Names!$A$2:$A$161,Names!$B$2:$B$161)","v":{"$error":"#N/A"}},0,4.75,0,0,null,137,{"$f":"LOOKUP(V141,Names!$A$2:$A$161,Names!$B$2:$B$161)","v":0},0,"","",0,0,"","",0,0,"","",0,0]
[null,"W",138,{"$f":"LOOKUP(C142,Names!$A$2:$A$161,Names!$B$2:$B$161)","v":0},null,null,0,0,null,{"$f":"LOOKUP(I142,Names!$A$2:$A$161,Names!$B$2:$B$161)","v":{"$error":"#N/A"}},0,2.85,0,0,null,{"$f":"LOOKUP(O142,Names!$A$2:$A$161,Names!$B$2:$B$161)","v":{"$error":"#N/A"}},0,2.85,0,0,null,138,{"$f":"LOOKUP(V142,Names!$A$2:$A$161,Names!$B$2:$B$161)","v":0},0,"","",0,0,"","",0,0,"","",0,0]
[null,"S",139,{"$f":"LOOKUP(C143,Names!$A$2:$A$161,Names!$B$2:$B$161)","v":0},null,null,0,0,null,{"$f":"LOOKUP(I143,Names!$A$2:$A$161,Names!$B$2:$B$161)","v":{"$error":"#N/A"}},0,1.9000000000000001,0,0,null,{"$f":"LOOKUP(O143,Names!$A$2:$A$161,Names!$B$2:$B$161)","v":{"$error":"#N/A"}},0,1.9000000000000001,0,0,null,139,{"$f":"LOOKUP(V143,Names!$A$2:$A$161,Names!$B$2:$B$161)","v":0},0,"","",0,0,"","",0,0,"","",0,0]
[null,"E",140,{"$f":"LOOKUP(C144,Names!$A$2:$A$161,Names!$B$2:$B$161)","v":0},null,null,0,0,null,{"$f":"LOOKUP(I144,Names!$A$2:$A$161,Names!$B$2:$B$161)","v":{"$error":"#N/A"}},0,0,0,0,null,{"$f":"LOOKUP(O144,Names!$A$2:$A$161,Names!$B$2:$B$161)","v":{"$error":"#N/A"}},0,0,0,0,null,140,{"$f":"LOOKUP(V144,Names!$A$2:$A$161,Names!$B$2:$B$161)","v":0},0,"","",0,0,"","",0,0,"","",0,0]
["Tabel ( 36 )","N",141,{"$f":"LOOKUP(C145,Names!$A$2:$A$161,Names!$B$2:$B$161)","v":0},null,null,0,0,null,{"$f":"LOOKUP(I145,Names!$A$2:$A$161,Names!$B$2:$B$161)","v":{"$error":"#N/A"}},0,4.75,0,0,null,{"$f":"LOOKUP(O145,Names!$A$2:$A$161,Names!$B$2:$B$161)","v":{"$error":"#N/A"}},0,4.75,0,0,null,141,{"$f":"LOOKUP(V145,Names!$A$2:$A$161,Names!$B$2:$B$161)","v":0},0,"","",0,0,"","",0,0,"","",0,0]
[null,"W",142,{"$f":"LOOKUP(C146,Names!$A$2:$A$161,Names!$B$2:$B$161)","v":0},null,null,0,0,null,{"$f":"LOOKUP(I146,Names!$A$2:$A$161,Names!$B$2:$B$161)","v":{"$error":"#N/A"}},0,2.85,0,0,null,{"$f":"LOOKUP(O146,Names!$A$2:$A$161,Names!$B$2:$B$161)","v":{"$error":"#N/A"}},0,2.85,0,0,null,142,{"$f":"LOOKUP(V146,Names!$A$2:$A$161,Names!$B$2:$B$161)","v":0},0,"","",0,0,"","",0,0,"","",0,0]
[null,"S",143,{"$f":"LOOKUP(C147,Names!$A$2:$A$161,Names!$B$2:$B$161)","v":0},null,null,0,0,null,{"$f":"LOOKUP(I147,Names!$A$2:$A$161,Names!$B$2:$B$161)","v":{"$error":"#N/A"}},0,1.9000000000000001,0,0,null,{"$f":"LOOKUP(O147,Names!$A$2:$A$161,Names!$B$2:$B$161)","v":{"$error":"#N/A"}},0,1.9000000000000001,0,0,null,143,{"$f":"LOOKUP(V147,Names!$A$2:$A$161,Names!$B$2:$B$161)","v":0},0,"","",0,0,"","",0,0,"","",0,0]
[null,"E",144,{"$f":"LOOKUP(C148,Names!$A$2:$A$161,Names!$B$2:$B$161)","v":0},null,null,0,0,null,{"$f":"LOOKUP(I148,Names!$A$2:$A$161,Names!$B$2:$B$161)","v":{"$error":"#N/A"}},0,0,0,0,null,{"$f":"LOOKUP(O148,Names!$A$2:$A$161,Names!$B$2:$B$161)","v":{"$error":"#N/A"}},0,0,0,0,null,144,{"$f":"LOOKUP(V148,Names!$A$2:$A$161,Names!$B$2:$B$161)","v":0},0,"","",0,0,"","",0,0,"","",0,0]
["Tabel ( 37 )","N",145,{"$f":"LOOKUP(C149,Names!$A$2:$A$161,Names!$B$2:$B$161)","v":0},null,null,0,0,null,{"$f":"LOOKUP(I149,Names!$A$2:$A$161,Names!$B$2:$B$161)","v":{"$error":"#N/A"}},0,4.75,0,0,null,{"$f":"LOOKUP(O149,Names!$A$2:$A$161,Names!$B$2:$B$161)","v":{"$error":"#N/A"}},0,4.75,0,0,null,145,{"$f":"LOOKUP(V149,Names!$A$2:$A$161,Names!$B$2:$B$161)","v":0},0,"","",0,0,"","",0,0,"","",0,0]
[null,"W",146,{"$f":"LOOKUP(C150,Names!$A$2:$A$161,Names!$B$2:$B$161)","v":0},null,null,0,0,null,{"$f":"LOOKUP(I150,Names!$A$2:$A$161,Names!$B$2:$B$161)","v":{"$error":"#N/A"}},0,2.85,0,0,null,{"$f":"LOOKUP(O150,Names!$A$2:$A$161,Names!$B$2:$B$161)","v":{"$error":"#N/A"}},0,2.85,0,0,null,146,{"$f":"LOOKUP(V150,Names!$A$2:$A$161,Names!$B$2:$B$161)","v":0},0,"","",0,0,"","",0,0,"","",0,0]
[null,"S",147,{"$f":"LOOKUP(C151,Names!$A$2:$A$161,Names!$B$2:$B$161)","v":0},null,null,0,0,null,{"$f":"LOOKUP(I151,Names!$A$2:$A$161,Names!$B$2:$B$161)","v":{"$error":"#N/A"}},0,1.9000000000000001,0,0,null,{"$f":"LOOKUP(O151,Names!$A$2:$A$161,Names!$B$2:$B$161)","v":{"$error":"#N/A"}},0,1.9000000000000001,0,0,null,147,{"$f":"LOOKUP(V151,Names!$A$2:$A$161,Names!$B$2:$B$161)","v":0},0,"","",0,0,"","",0,0,"","",0,0]
[null,"E",148,{"$f":"LOOKUP(C152,Names!$A$2:$A$161,Names!$B$2:$B$161)","v":0},null,null,0,0,null,{"$f":"LOOKUP(I152,Names!$A$2:$A$161,Names!$B$2:$B$161)","v":{"$error":"#N/A"}},0,0,0,0,null,{"$f":"LOOKUP(O152,Names!$A$2:$A$161,Names!$B$2:$B$161)","v":{"$error":"#N/A"}},0,0,0,0,null,148,{"$f":"LOOKUP(V152,Names!$A$2:$A$161,Names!$B$2:$B$161)","v":0},0,"","",0,0,"","",0,0,"","",0,0]
["Tabel ( 38 )","N",149,{"$f":"LOOKUP(C153,Names!$A$2:$A$161,Names!$B$2:$B$161)","v":0},null,null,0,0,null,{"$f":"LOOKUP(I153,Names!$A$2:$A$161,Names!$B$2:$B$161)","v":{"$error":"#N/A"}},0,4.75,0,0,null,{"$f":"LOOKUP(O153,Names!$A$2:$A$161,Names!$B$2:$B$161)","v":{"$error":"#N/A"}},0,4.75,0,0,null,149,{"$f":"LOOKUP(V153,Names!$A$2:$A$161,Names!$B$2:$B$161)","v":0},0,"","",0,0,"","",0,0,"","",0,0]
[null,"W",150,{"$f":"LOOKUP(C154,Names!$A$2:$A$161,Names!$B$2:$B$161)","v":0},null,null,0,0,null,{"$f":"LOOKUP(I154,Names!$A$2:$A$161,Names!$B$2:$B$161)","v":{"$error":"#N/A"}},0,2.85,0,0,null,{"$f":"LOOKUP(O154,Names!$A$2:$A$161,Names!$B$2:$B$161)","v":{"$error":"#N/A"}},0,2.85,0,0,null,150,{"$f":"LOOKUP(V154,Names!$A$2:$A$161,Names!$B$2:$B$161)","v":0},0,"","",0,0,"","",0,0,"","",0,0]
[null,"S",151,{"$f":"LOOKUP(C155,Names!$A$2:$A$161,Names!$B$2:$B$161)","v":0},null,null,0,0,null,{"$f":"LOOKUP(I155,Names!$A$2:$A$161,Names!$B$2:$B$161)","v":{"$error":"#N/A"}},0,1.9000000000000001,0,0,null,{"$f":"LOOKUP(O155,Names!$A$2:$A$161,Names!$B$2:$B$161)","v":{"$error":"#N/A"}},0,1.9000000000000001,0,0,null,151,{"$f":"LOOKUP(V155,Names!$A$2:$A$161,Names!$B$2:$B$161)","v":0},0,"","",0,0,"","",0,0,"","",0,0]
[null,"E",152,{"$f":"LOOKUP(C156,Names!$A$2:$A$161,Names!$B$2:$B$161)","v":0},null,null,0,0,null,{"$f":"LOOKUP(I156,Names!$A$2:$A$161,Names!$B$2:$B$161)","v":{"$error":"#N/A"}},0,0,0,0,null,{"$f":"LOOKUP(O156,Names!$A$2:$A$161,Names!$B$2:$B$161)","v":{"$error":"#N/A"}},0,0,0,0,null,152,{"$f":"LOOKUP(V156,Names!$A$2:$A$161,Names!$B$2:$B$161)","v":0},0,"","",0,0,"","",0,0,"","",0,0]
["Tabel ( 39 )","N",153,{"$f":"LOOKUP(C157,Names!$A$2:$A$161,Names!$B$2:$B$161)","v":0},null,null,0,0,null,{"$f":"LOOKUP(I157,Names!$A$2:$A$161,Names!$B$2:$B$161)","v":{"$error":"#N/A"}},0,4.75,0,0,null,{"$f":"LOOKUP(O157,Names!$A$2:$A$161,Names!$B$2:$B$161)","v":{"$error":"#N/A"}},0,4.75,0,0,null,153,{"$f":"LOOKUP(V157,Names!$A$2:$A$161,Names!$B$2:$B$161)","v":0},0,"","",0,0,"","",0,0,"","",0,0]
[null,"W",154,{"$f":"LOOKUP(C158,Names!$A$2:$A$161,Names!$B$2:$B$161)","v":0},null,null,0,0,null,{"$f":"LOOKUP(I158,Names!$A$2:$A$161,Names!$B$2:$B$161)","v":{"$error":"#N/A"}},0,2.85,0,0,null,{"$f":"LOOKUP(O158,Names!$A$2:$A$161,Names!$B$2:$B$161)","v":{"$error":"#N/A"}},0,2.85,0,0,null,154,{"$f":"LOOKUP(V158,Names!$A$2:$A$161,Names!$B$2:$B$161)","v":0},0,"","",0,0,"","",0,0,"","",0,0]
[null,"S",155,{"$f":"LOOKUP(C159,Names!$A$2:$A$161,Names!$B$2:$B$161)","v":0},null,null,0,0,null,{"$f":"LOOKUP(I159,Names!$A$2:$A$161,Names!$B$2:$B$161)","v":{"$error":"#N/A"}},0,1.9000000000000001,0,0,null,{"$f":"LOOKUP(O159,Names!$A$2:$A$161,Names!$B$2:$B$161)","v":{"$error":"#N/A"}},0,1.9000000000000001,0,0,null,155,{"$f":"LOOKUP(V159,Names!$A$2:$A$161,Names!$B$2:$B$161)","v":0},0,"","",0,0,"","",0,0,"","",0,0]
[null,"E",156,{"$f":"LOOKUP(C160,Names!$A$2:$A$161,Names!$B$2:$B$161)","v":0},null,null,0,0,null,{"$f":"LOOKUP(I160,Names!$A$2:$A$161,Names!$B$2:$B$161)","v":{"$error":"#N/A"}},0,0,0,0,null,{"$f":"LOOKUP(O160,Names!$A$2:$A$161,Names!$B$2:$B$161)","v":{"$error":"#N/A"}},0,0,0,0,null,156,{"$f":"LOOKUP(V160,Names!$A$2:$A$161,Names!$B$2:$B$161)","v":0},0,"","",0,0,"","",0,0,"","",0,0]
["Tabel ( 40 )","N",157,{"$f":"LOOKUP(C161,Names!$A$2:$A$161,Names!$B$2:$B$161)","v":0},null,null,0,0,null,{"$f":"LOOKUP(I161,Names!$A$2:$A$161,Names!$B$2:$B$161)","v":{"$error":"#N/A"}},0,4.75,0,0,null,{"$f":"LOOKUP(O161,Names!$A$2:$A$161,Names!$B$2:$B$161)","v":{"$error":"#N/A"}},0,4.75,0,0,null,157,{"$f":"LOOKUP(V161,Names!$A$2:$A$161,Names!$B$2:$B$161)","v":0},0,"","",0,0,"","",0,0,"","",0,0]
[null,"W",158,{"$f":"LOOKUP(C162,Names!$A$2:$A$161,Names!$B$2:$B$161)","v":0},null,null,0,0,null,{"$f":"LOOKUP(I162,Names!$A$2:$A$161,Names!$B$2:$B$161)","v":{"$error":"#N/A"}},0,2.85,0,0,null,{"$f":"LOOKUP(O162,Names!$A$2:$A$161,Names!$B$2:$B$161)","v":{"$error":"#N/A"}},0,2.85,0,0,null,158,{"$f":"LOOKUP(V162,Names!$A$2:$A$161,Names!$B$2:$B$161)","v":0},0,"","",0,0,"","",0,0,"","",0,0]
[null,"S",159,{"$f":"LOOKUP(C163,Names!$A$2:$A$161,Names!$B$2:$B$161)","v":0},null,null,0,0,null,{"$f":"LOOKUP(I163,Names!$A$2:$A$161,Names!$B$2:$B$161)","v":{"$error":"#N/A"}},0,1.9000000000000001,0,0,null,{"$f":"LOOKUP(O163,Names!$A$2:$A$161,Names!$B$2:$B$161)","v":{"$error":"#N/A"}},0,1.9000000000000001,0,0,null,159,{"$f":"LOOKUP(V163,Names!$A$2:$A$161,Names!$B$2:$B$161)","v":0},0,"","",0,0,"","",0,0,"","",0,0]
[null,"E",160,{"$f":"LOOKUP(C164,Names!$A$2:$A$161,Names!$B$2:$B$161)","v":0},null,null,0,0,null,{"$f":"LOOKUP(I164,Names!$A$2:$A$161,Names!$B$2:$B$161)","v":{"$error":"#N/A"}},0,0,0,0,null,{"$f":"LOOKUP(O164,Names!$A$2:$A$161,Names!$B$2:$B$161)","v":{"$error":"#N/A"}},0,0,0,0,null,160,{"$f":"LOOKUP(V164,Names!$A$2:$A$161,Names!$B$2:$B$161)","v":0},0,"","",0,0,"","",0,0,"","",0,0]

{"sheet":"R1","index":2,"n_rows":108,"n_cols":28,"rows_kept":108,"cut":false,"hidden":false,"merged":[[2,11,2,17],[34,24,34,26],[40,3,40,5],[40,10,40,12],[40,17,40,19],[40,24,40,26],[34,3,34,5],[34,10,34,12],[34,17,34,19],[27,3,27,5],[27,10,27,12],[21,17,21,19],[27,17,27,19],[27,24,27,26],[21,10,21,12],[21,3,21,5],[21,24,21,26],[66,24,66,26],[66,3,66,5],[66,10,66,12],[66,17,66,19],[65,10,65,19],[58,24,58,26],[46,3,46,5],[46,10,46,12],[46,17,46,19],[46,24,46,26],[52,24,52,26],[58,3,58,5],[58,10,58,12],[58,17,58,19],[52,3,52,5],[52,10,52,12],[52,17,52,19],[15,3,15,5],[9,3,9,5],[0,24,2,26],[15,24,15,26],[9,24,9,26],[15,17,15,19],[9,17,9,19],[9,10,9,12],[15,10,15,12],[3,3,3,5],[3,10,3,12],[3,17,3,19],[3,24,3,26],[0,11,0,17]]}
[null,null,null,null,null,null,null,null,null,null,null,"Round ( 1 )",null,null,null,null,null,null,null,null,null,null,null,null,{"$f":"Score!Q1","v":"بطولة الاتحاد الثامنة للفردي المفتوح"}]
[]
[null,null,null,null,null,null,null,null,null,null,null,"Tab."]
[null,null,null,1,null,null,null,null,null,null,2,null,null,null,null,null,null,3,null,null,null,null,null,null,4]
[null,null,null,"Names","Sc.","Tab",null,null,null,null,"Names","Sc.","Tab",null,null,null,null,"Names","Sc.","Tab",null,null,null,null,"Names","Sc.","Tab"]
["N",1,{"$f":"Score!C5","v":1},{"$f":"LOOKUP(C6,Names!$A$2:$A$161,Names!$B$2:$B$161)","v":"إبراهيم عرفان السقا"},135,{"$f":"Sheet1!$M$5","v":2.85},{"$f":"F69","v":8},"N",1,{"$f":"Score!C9","v":30},{"$f":"LOOKUP(J6,Names!$A$2:$A$161,Names!$B$2:$B$161)","v":"محمد سعيد الفطاطري"},176,{"$f":"Sheet1!$M$5","v":2.85},{"$f":"F70","v":14},"N",1,{"$f":"Score!C13","v":24},{"$f":"LOOKUP(Q6,Names!$A$2:$A$161,Names!$B$2:$B$161)","v":"يامن محمد حسن"},96,{"$f":"Sheet1!$M$7","v":0},{"$f":"F71","v":2},"N",1,{"$f":"Score!C17","v":21},{"$f":"LOOKUP(X6,Names!$A$2:$A$161,Names!$B$2:$B$161)","v":"محمد طارق عبد الله"},187,{"$f":"Sheet1!$M$4","v":4.75},{"$f":"F72","v":16.5}]
["W",2,{"$f":"Score!C6","v":17},{"$f":"LOOKUP(C7,Names!$A$2:$A$161,Names!$B$2:$B$161)","v":"مينا ناجح صبحي"},114,{"$f":"Sheet1!$M$7","v":0},{"$f":"M69","v":6},"W",2,{"$f":"Score!C10","v":11},{"$f":"LOOKUP(J7,Names!$A$2:$A$161,Names!$B$2:$B$161)","v":"هيثم العشماوي"},100,{"$f":"Sheet1!$M$6","v":1.9000000000000001},{"$f":"M70","v":2},"W",2,{"$f":"Score!C14","v":5},{"$f":"LOOKUP(Q7,Names!$A$2:$A$161,Names!$B$2:$B$161)","v":"أحمد محمد أمين"},98,{"$f":"Sheet1!$M$6","v":1.9000000000000001},{"$f":"M71","v":1},"W",2,{"$f":"Score!C18","v":34},{"$f":"LOOKUP(X7,Names!$A$2:$A$161,Names!$B$2:$B$161)","v":"شريف حلمي"},182,{"$f":"Sheet1!$M$5","v":2.85},{"$f":"M72","v":16}]
["S",3,{"$f":"Score!C7","v":33},{"$f":"LOOKUP(C8,Names!$A$2:$A$161,Names!$B$2:$B$161)","v":"أحمد إبراهيم غانم"},224,{"$f":"Sheet1!$M$4","v":4.75},{"$f":"T69","v":19},"S",3,{"$f":"Score!C11","v":27},{"$f":"LOOKUP(J8,Names!$A$2:$A$161,Names!$B$2:$B$161)","v":"أحمد سمير خلف على"},191,{"$f":"Sheet1!$M$4","v":4.75},{"$f":"T70","v":15},"S",3,{"$f":"Score!C15","v":18},{"$f":"LOOKUP(Q8,Names!$A$2:$A$161,Names!$B$2:$B$161)","v":"وليد شعبان إسماعيل علي"},136,{"$f":"Sheet1!$M$5","v":2.85},{"$f":"T71","v":8},"S",3,{"$f":"Score!C19","v":15},{"$f":"LOOKUP(X8,Names!$A$2:$A$161,Names!$B$2:$B$161)","v":"حسام الدين صلاح أبو الفتوح"},134,{"$f":"Sheet1!$M$6","v":1.9000000000000001},{"$f":"T72","v":7}]
["E",4,{"$f":"Score!C8","v":14},{"$f":"LOOKUP(C9,Names!$A$2:$A$161,Names!$B$2:$B$161)","v":"أحمد محمد محمدي"},133,{"$f":"Sheet1!$M$6","v":1.9000000000000001},{"$f":"AA69","v":10},"E",4,{"$f":"Score!C12","v":8},{"$f":"LOOKUP(J9,Names!$A$2:$A$161,Names!$B$2:$B$161)","v":"عبد الرحمن محمود عثمان"},95,{"$f":"Sheet1!$M$7","v":0},{"$f":"AA70","v":2.5},"E",4,{"$f":"Score!C16","v":2},{"$f":"LOOKUP(Q9,Names!$A$2:$A$161,Names!$B$2:$B$161)","v":"مصطفى محمد علي شرف"},144,{"$f":"Sheet1!$M$4","v":4.75},{"$f":"AA71","v":11},"E",4,{"$f":"Score!C20","v":31},{"$f":"LOOKUP(X9,Names!$A$2:$A$161,Names!$B$2:$B$161)","v":"أحمد بسيوني"},104,{"$f":"Sheet1!$M$7","v":0},{"$f":"AA72","v":6}]
[null,null,null,5,null,null,null,null,null,null,6,null,null,null,null,null,null,7,null,null,null,null,null,null,8]
[null,null,null,"Names","Sc.","Tab",null,null,null,null,"Names","Sc.","Tab",null,null,null,null,"Names","Sc.","Tab",null,null,null,null,"Names","Sc.","Tab"]
["N",1,{"$f":"Score!C21","v":12},{"$f":"LOOKUP(C12,Names!$A$2:$A$161,Names!$B$2:$B$161)","v":"أحمد علي السيد شرع"},167,{"$f":"Sheet1!$M$4","v":4.75},{"$f":"F73","v":12},"N",1,{"$f":"Score!C25","v":3},{"$f":"LOOKUP(J12,Names!$A$2:$A$161,Names!$B$2:$B$161)","v":"أحمد محمد حمدي صالح"},175,{"$f":"Sheet1!$M$6","v":1.9000000000000001},{"$f":"F74","v":13},"N",1,{"$f":"Score!C29","v":32},{"$f":"LOOKUP(Q12,Names!$A$2:$A$161,Names!$B$2:$B$161)","v":"أمير محمد خطاب"},84,{"$f":"Sheet1!$M$7","v":0},{"$f":"F75","v":1},"N",1,{"$f":"Score!C33","v":7},{"$f":"LOOKUP(X12,Names!$A$2:$A$161,Names!$B$2:$B$161)","v":"هيثم محمد شبانة"},114,{"$f":"Sheet1!$M$6","v":1.9000000000000001},{"$f":"F76","v":5}]
["W",2,{"$f":"Score!C22","v":28},{"$f":"LOOKUP(C13,Names!$A$2:$A$161,Names!$B$2:$B$161)","v":"محمد حسن عبد القادر"},137,{"$f":"Sheet1!$M$5","v":2.85},{"$f":"M73","v":10},"W",2,{"$f":"Score!C26","v":19},{"$f":"LOOKUP(J13,Names!$A$2:$A$161,Names!$B$2:$B$161)","v":"محمد أحمد محمد عبد الله"},208,{"$f":"Sheet1!$M$5","v":2.85},{"$f":"M74","v":19},"W",2,{"$f":"Score!C30","v":13},{"$f":"LOOKUP(Q13,Names!$A$2:$A$161,Names!$B$2:$B$161)","v":"عمرو سمير دسوقي"},158,{"$f":"Sheet1!$M$4","v":4.75},{"$f":"M75","v":13},"W",2,{"$f":"Score!C34","v":23},{"$f":"LOOKUP(X13,Names!$A$2:$A$161,Names!$B$2:$B$161)","v":"جمال احمد محمد جمال"},122,{"$f":"Sheet1!$M$5","v":2.85},{"$f":"M76","v":7}]
["S",3,{"$f":"Score!C23","v":6},{"$f":"LOOKUP(C14,Names!$A$2:$A$161,Names!$B$2:$B$161)","v":"معتز محمد عبد المنعم"},129,{"$f":"Sheet1!$M$6","v":1.9000000000000001},{"$f":"T73","v":5},"S",3,{"$f":"Score!C27","v":35},{"$f":"LOOKUP(J14,Names!$A$2:$A$161,Names!$B$2:$B$161)","v":"أحمد فؤاد حسنين"},212,{"$f":"Sheet1!$M$4","v":4.75},{"$f":"T74","v":16},"S",3,{"$f":"Score!C31","v":10},{"$f":"LOOKUP(Q14,Names!$A$2:$A$161,Names!$B$2:$B$161)","v":"تامر تيمور شكري"},157,{"$f":"Sheet1!$M$5","v":2.85},{"$f":"T75","v":12},"S",3,{"$f":"Score!C35","v":4},{"$f":"LOOKUP(X14,Names!$A$2:$A$161,Names!$B$2:$B$161)","v":"أحمد جميل السيد"},137,{"$f":"Sheet1!$M$4","v":4.75},{"$f":"T76","v":9}]
["E",4,{"$f":"Score!C24","v":22},{"$f":"LOOKUP(C15,Names!$A$2:$A$161,Names!$B$2:$B$161)","v":"يوسف مسعد فراج"},103,{"$f":"Sheet1!$M$7","v":0},{"$f":"AA73","v":5},"E",4,{"$f":"Score!C28","v":16},{"$f":"LOOKUP(J15,Names!$A$2:$A$161,Names!$B$2:$B$161)","v":"طارق عبد الغني السحار"},100,{"$f":"Sheet1!$M$7","v":0},{"$f":"AA74","v":4},"E",4,{"$f":"Score!C32","v":26},{"$f":"LOOKUP(Q15,Names!$A$2:$A$161,Names!$B$2:$B$161)","v":"علاء شوقي جبريل"},150,{"$f":"Sheet1!$M$6","v":1.9000000000000001},{"$f":"AA75","v":14},"E",4,{"$f":"Score!C36","v":29},{"$f":"LOOKUP(X15,Names!$A$2:$A$161,Names!$B$2:$B$161)","v":"اسلام نصر الغنام"},95,{"$f":"Sheet1!$M$7","v":0},{"$f":"AA76","v":2.5}]
[null,null,null,9,null,null,null,null,null,null,10,null,null,null,null,null,null,11,null,null,null,null,null,null,12]
[null,null,null,"Names","Sc.","Tab",null,null,null,null,"Names","Sc.","Tab",null,null,null,null,"Names","Sc.","Tab",null,null,null,null,"Names","Sc.","Tab"]
["N",1,{"$f":"Score!C37","v":20},{"$f":"LOOKUP(C18,Names!$A$2:$A$161,Names!$B$2:$B$161)","v":"عصام الدين محمد عبد العاطي"},108,{"$f":"Sheet1!$M$7","v":0},{"$f":"F77","v":3},"N",1,{"$f":"Score!C41","v":37},{"$f":"LOOKUP(J18,Names!$A$2:$A$161,Names!$B$2:$B$161)","v":0},null,null,{"$f":"F78","v":0},"N",1,{"$f":"Score!C45","v":41},{"$f":"LOOKUP(Q18,Names!$A$2:$A$161,Names!$B$2:$B$161)","v":0},null,null,{"$f":"F79","v":0},"N",1,{"$f":"Score!C49","v":45},{"$f":"LOOKUP(X18,Names!$A$2:$A$161,Names!$B$2:$B$161)","v":0},null,null,{"$f":"F80","v":0}]
["W",2,{"$f":"Score!C38","v":9},{"$f":"LOOKUP(C19,Names!$A$2:$A$161,Names!$B$2:$B$161)","v":" عمرو محمد مصطفى"},127,{"$f":"Sheet1!$M$5","v":2.85},{"$f":"M77","v":8},"W",2,{"$f":"Score!C42","v":38},{"$f":"LOOKUP(J19,Names!$A$2:$A$161,Names!$B$2:$B$161)","v":0},null,null,{"$f":"M78","v":0},"W",2,{"$f":"Score!C46","v":42},{"$f":"LOOKUP(Q19,Names!$A$2:$A$161,Names!$B$2:$B$161)","v":0},null,null,{"$f":"M79","v":0},"W",2,{"$f":"Score!C50","v":46},{"$f":"LOOKUP(X19,Names!$A$2:$A$161,Names!$B$2:$B$161)","v":0},null,null,{"$f":"M80","v":0}]
["S",3,{"$f":"Score!C39","v":25},{"$f":"LOOKUP(C20,Names!$A$2:$A$161,Names!$B$2:$B$161)","v":"خالد حمدي محمد السيد"},119,{"$f":"Sheet1!$M$6","v":1.9000000000000001},{"$f":"T77","v":3},"S",3,{"$f":"Score!C43","v":39},{"$f":"LOOKUP(J20,Names!$A$2:$A$161,Names!$B$2:$B$161)","v":0},null,null,{"$f":"T78","v":0},"S",3,{"$f":"Score!C47","v":43},{"$f":"LOOKUP(Q20,Names!$A$2:$A$161,Names!$B$2:$B$161)","v":0},null,null,{"$f":"T79","v":0},"S",3,{"$f":"Score!C51","v":47},{"$f":"LOOKUP(X20,Names!$A$2:$A$161,Names!$B$2:$B$161)","v":0},null,null,{"$f":"T80","v":0}]
["E",4,{"$f":"Score!C40","v":36},{"$f":"LOOKUP(C21,Names!$A$2:$A$161,Names!$B$2:$B$161)","v":"محمد محمود فضل"},183,{"$f":"Sheet1!$M$4","v":4.75},{"$f":"AA77","v":16},"E",4,{"$f":"Score!C44","v":40},{"$f":"LOOKUP(J21,Names!$A$2:$A$161,Names!$B$2:$B$161)","v":0},null,null,{"$f":"AA78","v":0},"E",4,{"$f":"Score!C48","v":44},{"$f":"LOOKUP(Q21,Names!$A$2:$A$161,Names!$B$2:$B$161)","v":0},null,null,{"$f":"AA79","v":0},"E",4,{"$f":"Score!C52","v":48},{"$f":"LOOKUP(X21,Names!$A$2:$A$161,Names!$B$2:$B$161)","v":0},null,null,{"$f":"AA80","v":0}]
[null,null,null,13,null,null,null,null,null,null,14,null,null,null,null,null,null,15,null,null,null,null,null,null,16]
[null,null,null,"Names","Sc.","Tab",null,null,null,null,"Names","Sc.","Tab",null,null,null,null,"Names","Sc.","Tab",null,null,null,null,"Names","Sc.","Tab"]
["N",1,{"$f":"Score!C53","v":49},{"$f":"LOOKUP(C24,Names!$A$2:$A$161,Names!$B$2:$B$161)","v":0},null,null,{"$f":"F81","v":0},"N",1,{"$f":"Score!C57","v":53},{"$f":"LOOKUP(J24,Names!$A$2:$A$161,Names!$B$2:$B$161)","v":0},null,null,{"$f":"F82","v":0},"N",1,{"$f":"Score!C61","v":57},{"$f":"LOOKUP(Q24,Names!$A$2:$A$161,Names!$B$2:$B$161)","v":0},null,null,{"$f":"F83","v":0},"N",1,{"$f":"Score!C65","v":61},{"$f":"LOOKUP(X24,Names!$A$2:$A$161,Names!$B$2:$B$161)","v":0},null,null,{"$f":"F84","v":0}]
["W",2,{"$f":"Score!C54","v":50},{"$f":"LOOKUP(C25,Names!$A$2:$A$161,Names!$B$2:$B$161)","v":0},null,null,{"$f":"M81","v":0},"W",2,{"$f":"Score!C58","v":54},{"$f":"LOOKUP(J25,Names!$A$2:$A$161,Names!$B$2:$B$161)","v":0},null,null,{"$f":"M82","v":0},"W",2,{"$f":"Score!C62","v":58},{"$f":"LOOKUP(Q25,Names!$A$2:$A$161,Names!$B$2:$B$161)","v":0},null,null,{"$f":"M83","v":0},"W",2,{"$f":"Score!C66","v":62},{"$f":"LOOKUP(X25,Names!$A$2:$A$161,Names!$B$2:$B$161)","v":0},null,null,{"$f":"M84","v":0}]
["S",3,{"$f":"Score!C55","v":51},{"$f":"LOOKUP(C26,Names!$A$2:$A$161,Names!$B$2:$B$161)","v":0},null,null,{"$f":"T81","v":0},"S",3,{"$f":"Score!C59","v":55},{"$f":"LOOKUP(J26,Names!$A$2:$A$161,Names!$B$2:$B$161)","v":0},null,null,{"$f":"T82","v":0},"S",3,{"$f":"Score!C63","v":59},{"$f":"LOOKUP(Q26,Names!$A$2:$A$161,Names!$B$2:$B$161)","v":0},null,null,{"$f":"T83","v":0},"S",3,{"$f":"Score!C67","v":63},{"$f":"LOOKUP(X26,Names!$A$2:$A$161,Names!$B$2:$B$161)","v":0},null,null,{"$f":"T84","v":0}]
["E",4,{"$f":"Score!C56","v":52},{"$f":"LOOKUP(C27,Names!$A$2:$A$161,Names!$B$2:$B$161)","v":0},null,null,{"$f":"AA81","v":0},"E",4,{"$f":"Score!C60","v":56},{"$f":"LOOKUP(J27,Names!$A$2:$A$161,Names!$B$2:$B$161)","v":0},null,null,{"$f":"AA82","v":0},"E",4,{"$f":"Score!C64","v":60},{"$f":"LOOKUP(Q27,Names!$A$2:$A$161,Names!$B$2:$B$161)","v":0},null,null,{"$f":"AA83","v":0},"E",4,{"$f":"Score!C68","v":64},{"$f":"LOOKUP(X27,Names!$A$2:$A$161,Names!$B$2:$B$161)","v":0},null,null,{"$f":"AA84","v":0}]
[null,null,null,17,null,null,null,null,null,null,18,null,null,null,null,null,null,19,null,null,null,null,null,null,20]
[null,null,null,"Names","Sc.","Tab",null,null,null,null,"Names","Sc.","Tab",null,null,null,null,"Names","Sc.","Tab",null,null,null,null,"Names","Sc.","Tab"]
["N",1,{"$f":"Score!C69","v":65},{"$f":"LOOKUP(C30,Names!$A$2:$A$161,Names!$B$2:$B$161)","v":0},null,null,{"$f":"F85","v":0},"N",1,{"$f":"Score!C73","v":69},{"$f":"LOOKUP(J30,Names!$A$2:$A$161,Names!$B$2:$B$161)","v":0},null,null,{"$f":"F86","v":0},"N",1,{"$f":"Score!C77","v":73},{"$f":"LOOKUP(Q30,Names!$A$2:$A$161,Names!$B$2:$B$161)","v":0},null,null,{"$f":"F87","v":0},"N",1,{"$f":"Score!C81","v":77},{"$f":"LOOKUP(X30,Names!$A$2:$A$161,Names!$B$2:$B$161)","v":0},null,null,{"$f":"F88","v":0}]
["W",2,{"$f":"Score!C70","v":66},{"$f":"LOOKUP(C31,Names!$A$2:$A$161,Names!$B$2:$B$161)","v":0},null,null,{"$f":"M85","v":0},"W",2,{"$f":"Score!C74","v":70},{"$f":"LOOKUP(J31,Names!$A$2:$A$161,Names!$B$2:$B$161)","v":0},null,null,{"$f":"M86","v":0},"W",2,{"$f":"Score!C78","v":74},{"$f":"LOOKUP(Q31,Names!$A$2:$A$161,Names!$B$2:$B$161)","v":0},null,null,{"$f":"M87","v":0},"W",2,{"$f":"Score!C82","v":78},{"$f":"LOOKUP(X31,Names!$A$2:$A$161,Names!$B$2:$B$161)","v":0},null,null,{"$f":"M88","v":0}]
["S",3,{"$f":"Score!C71","v":67},{"$f":"LOOKUP(C32,Names!$A$2:$A$161,Names!$B$2:$B$161)","v":0},null,null,{"$f":"T85","v":0},"S",3,{"$f":"Score!C75","v":71},{"$f":"LOOKUP(J32,Names!$A$2:$A$161,Names!$B$2:$B$161)","v":0},null,null,{"$f":"T86","v":0},"S",3,{"$f":"Score!C79","v":75},{"$f":"LOOKUP(Q32,Names!$A$2:$A$161,Names!$B$2:$B$161)","v":0},null,null,{"$f":"T87","v":0},"S",3,{"$f":"Score!C83","v":79},{"$f":"LOOKUP(X32,Names!$A$2:$A$161,Names!$B$2:$B$161)","v":0},null,null,{"$f":"T88","v":0}]
["E",4,{"$f":"Score!C72","v":68},{"$f":"LOOKUP(C33,Names!$A$2:$A$161,Names!$B$2:$B$161)","v":0},null,null,{"$f":"AA85","v":0},"E",4,{"$f":"Score!C76","v":72},{"$f":"LOOKUP(J33,Names!$A$2:$A$161,Names!$B$2:$B$161)","v":0},null,null,{"$f":"AA86","v":0},"E",4,{"$f":"Score!C80","v":76},{"$f":"LOOKUP(Q33,Names!$A$2:$A$161,Names!$B$2:$B$161)","v":0},null,null,{"$f":"AA87","v":0},"E",4,{"$f":"Score!C84","v":80},{"$f":"LOOKUP(X33,Names!$A$2:$A$161,Names!$B$2:$B$161)","v":0},null,null,{"$f":"AA88","v":0}]
[]
[null,null,null,21,null,null,null,null,null,null,22,null,null,null,null,null,null,23,null,null,null,null,null,null,24]
[null,null,null,"Names","Sc.","Tab",null,null,null,null,"Names","Sc.","Tab",null,null,null,null,"Names","Sc.","Tab",null,null,null,null,"Names","Sc.","Tab"]
["N",1,{"$f":"Score!C85","v":81},{"$f":"LOOKUP(C37,Names!$A$2:$A$161,Names!$B$2:$B$161)","v":"راجي محمد صبحي"},185,{"$f":"Sheet1!$M$5","v":2.85},{"$f":"F89","v":15},"N",1,{"$f":"Score!C89","v":85},{"$f":"LOOKUP(J37,Names!$A$2:$A$161,Names!$B$2:$B$161)","v":"محمد عبد الهادي أبو القاسم"},164,{"$f":"Sheet1!$M$5","v":2.85},{"$f":"F90","v":11},"N",1,{"$f":"Score!C93","v":89},{"$f":"LOOKUP(Q37,Names!$A$2:$A$161,Names!$B$2:$B$161)","v":"محمد بلبع"},129,{"$f":"Sheet1!$M$6","v":1.9000000000000001},{"$f":"F91","v":6},"N",1,{"$f":"Score!C97","v":93},{"$f":"LOOKUP(X37,Names!$A$2:$A$161,Names!$B$2:$B$161)","v":"جمال السيد توفيق"},109,{"$f":"Sheet1!$M$7","v":0},{"$f":"F92","v":4}]
["W",2,{"$f":"Score!C86","v":82},{"$f":"LOOKUP(C38,Names!$A$2:$A$161,Names!$B$2:$B$161)","v":"أحمد صلاح الدين دياب"},171,{"$f":"Sheet1!$M$6","v":1.9000000000000001},{"$f":"M89","v":14.5},"W",2,{"$f":"Score!C90","v":86},{"$f":"LOOKUP(J38,Names!$A$2:$A$161,Names!$B$2:$B$161)","v":"ايهاب يوسف عمارة"},131,{"$f":"Sheet1!$M$6","v":1.9000000000000001},{"$f":"M90","v":9},"W",2,{"$f":"Score!C94","v":90},{"$f":"LOOKUP(Q38,Names!$A$2:$A$161,Names!$B$2:$B$161)","v":"محمد علي حسن طه الأمام"},149,{"$f":"Sheet1!$M$4","v":4.75},{"$f":"M91","v":12},"W",2,{"$f":"Score!C98","v":94},{"$f":"LOOKUP(X38,Names!$A$2:$A$161,Names!$B$2:$B$161)","v":"محمد عصام الدين القاضي"},196,{"$f":"Sheet1!$M$4","v":4.75},{"$f":"M92","v":17}]
["S",3,{"$f":"Score!C87","v":83},{"$f":"LOOKUP(C39,Names!$A$2:$A$161,Names!$B$2:$B$161)","v":"أسامة لطفى نجيب"},187,{"$f":"Sheet1!$M$4","v":4.75},{"$f":"T89","v":14},"S",3,{"$f":"Score!C91","v":87},{"$f":"LOOKUP(J39,Names!$A$2:$A$161,Names!$B$2:$B$161)","v":"ياسر شاهين"},216,{"$f":"Sheet1!$M$4","v":4.75},{"$f":"T90","v":17},"S",3,{"$f":"Score!C95","v":91},{"$f":"LOOKUP(Q39,Names!$A$2:$A$161,Names!$B$2:$B$161)","v":"عماد محمد فؤاد مرسي"},133,{"$f":"Sheet1!$M$5","v":2.85},{"$f":"T91","v":6},"S",3,{"$f":"Score!C99","v":95},{"$f":"LOOKUP(X39,Names!$A$2:$A$161,Names!$B$2:$B$161)","v":"احمد طنطاوى"},174,{"$f":"Sheet1!$M$6","v":1.9000000000000001},{"$f":"T92","v":13}]
["E",4,{"$f":"Score!C88","v":84},{"$f":"LOOKUP(C40,Names!$A$2:$A$161,Names!$B$2:$B$161)","v":"أحمد عز العرب السماحي"},162,{"$f":"Sheet1!$M$7","v":0},{"$f":"AA89","v":15},"E",4,{"$f":"Score!C92","v":88},{"$f":"LOOKUP(J40,Names!$A$2:$A$161,Names!$B$2:$B$161)","v":"أحمد علي خليل حسن"},118,{"$f":"Sheet1!$M$7","v":0},{"$f":"AA90","v":8},"E",4,{"$f":"Score!C96","v":92},{"$f":"LOOKUP(Q40,Names!$A$2:$A$161,Names!$B$2:$B$161)","v":"أحمد مصطفى راشد"},67,{"$f":"Sheet1!$M$7","v":0},{"$f":"AA91","v":1},"E",4,{"$f":"Score!C100","v":96},{"$f":"LOOKUP(X40,Names!$A$2:$A$161,Names!$B$2:$B$161)","v":"أحمد رمزي الديب"},189,{"$f":"Sheet1!$M$5","v":2.85},{"$f":"AA92","v":17}]
[null,null,null,25,null,null,null,null,null,null,26,null,null,null,null,null,null,27,null,null,null,null,null,null,28]
[null,null,null,"Names","Sc.","Tab",null,null,null,null,"Names","Sc.","Tab",null,null,null,null,"Names","Sc.","Tab",null,null,null,null,"Names","Sc.","Tab"]
["N",1,{"$f":"Score!C101","v":97},{"$f":"LOOKUP(C43,Names!$A$2:$A$161,Names!$B$2:$B$161)","v":"خالد محمد شبارة"},200,{"$f":"Sheet1!$M$4","v":4.75},{"$f":"F93","v":19},"N",1,{"$f":"Score!C105","v":101},{"$f":"LOOKUP(J43,Names!$A$2:$A$161,Names!$B$2:$B$161)","v":"أحمد محمد شوقى عبد الحميد"},130,{"$f":"Sheet1!$M$6","v":1.9000000000000001},{"$f":"F94","v":7},"N",1,{"$f":"Score!C109","v":105},{"$f":"LOOKUP(Q43,Names!$A$2:$A$161,Names!$B$2:$B$161)","v":"مصطفى عبد الحفيظ علي"},144,{"$f":"Sheet1!$M$6","v":1.9000000000000001},{"$f":"F95","v":9},"N",1,{"$f":"Score!C113","v":109},{"$f":"LOOKUP(X43,Names!$A$2:$A$161,Names!$B$2:$B$161)","v":"نبيل خلف زكي"},162,{"$f":"Sheet1!$M$4","v":4.75},{"$f":"F96","v":10}]
["W",2,{"$f":"Score!C102","v":98},{"$f":"LOOKUP(C44,Names!$A$2:$A$161,Names!$B$2:$B$161)","v":"محمد محمود شعبان رمضان"},110,{"$f":"Sheet1!$M$6","v":1.9000000000000001},{"$f":"M93","v":4},"W",2,{"$f":"Score!C106","v":102},{"$f":"LOOKUP(J44,Names!$A$2:$A$161,Names!$B$2:$B$161)","v":"سامي محمود الفولي"},113,{"$f":"Sheet1!$M$7","v":0},{"$f":"M94","v":5},"W",2,{"$f":"Score!C110","v":106},{"$f":"LOOKUP(Q44,Names!$A$2:$A$161,Names!$B$2:$B$161)","v":"أحمد عبد العزيز العطار"},171,{"$f":"Sheet1!$M$4","v":4.75},{"$f":"M95","v":14.5},"W",2,{"$f":"Score!C114","v":110},{"$f":"LOOKUP(X44,Names!$A$2:$A$161,Names!$B$2:$B$161)","v":"أسامة أحمد زكي"},101,{"$f":"Sheet1!$M$7","v":0},{"$f":"M96","v":3}]
["S",3,{"$f":"Score!C103","v":99},{"$f":"LOOKUP(C45,Names!$A$2:$A$161,Names!$B$2:$B$161)","v":"ماجد محمد فكري"},121,{"$f":"Sheet1!$M$5","v":2.85},{"$f":"T93","v":4},"S",3,{"$f":"Score!C107","v":103},{"$f":"LOOKUP(J45,Names!$A$2:$A$161,Names!$B$2:$B$161)","v":"عمرو عماد الدين أبو العلا"},155,{"$f":"Sheet1!$M$5","v":2.85},{"$f":"T94","v":11},"S",3,{"$f":"Score!C111","v":107},{"$f":"LOOKUP(Q45,Names!$A$2:$A$161,Names!$B$2:$B$161)","v":"شادي أحمد محمود وهبة"},118,{"$f":"Sheet1!$M$7","v":0},{"$f":"T95","v":2},"S",3,{"$f":"Score!C115","v":111},{"$f":"LOOKUP(X45,Names!$A$2:$A$161,Names!$B$2:$B$161)","v":"عادل محمد أبو زيد"},148,{"$f":"Sheet1!$M$5","v":2.85},{"$f":"T96","v":10}]
["E",4,{"$f":"Score!C104","v":100},{"$f":"LOOKUP(C46,Names!$A$2:$A$161,Names!$B$2:$B$161)","v":"عبد الرحمن الدمراوى"},106,{"$f":"Sheet1!$M$7","v":0},{"$f":"AA93","v":7},"E",4,{"$f":"Score!C108","v":104},{"$f":"LOOKUP(J46,Names!$A$2:$A$161,Names!$B$2:$B$161)","v":"كريم إيهاب عامر"},200,{"$f":"Sheet1!$M$4","v":4.75},{"$f":"AA94","v":19},"E",4,{"$f":"Score!C112","v":108},{"$f":"LOOKUP(Q46,Names!$A$2:$A$161,Names!$B$2:$B$161)","v":"كريم احمد ناصر"},146,{"$f":"Sheet1!$M$5","v":2.85},{"$f":"AA95","v":12.5},"E",4,{"$f":"Score!C116","v":112},{"$f":"LOOKUP(X46,Names!$A$2:$A$161,Names!$B$2:$B$161)","v":"عمرو محمد محسن"},146,{"$f":"Sheet1!$M$6","v":1.9000000000000001},{"$f":"AA96","v":12.5}]
[null,null,null,29,null,null,null,null,null,null,30,null,null,null,null,null,null,31,null,null,null,null,null,null,32]
[null,null,null,"Names","Sc.","Tab",null,null,null,null,"Names","Sc.","Tab",null,null,null,null,"Names","Sc.","Tab",null,null,null,null,"Names","Sc.","Tab"]
["N",1,{"$f":"Score!C117","v":113},{"$f":"LOOKUP(C49,Names!$A$2:$A$161,Names!$B$2:$B$161)","v":"محمد حسن فهيم"},187,{"$f":"Sheet1!$M$4","v":4.75},{"$f":"F97","v":16.5},"N",1,{"$f":"Score!C121","v":117},{"$f":"LOOKUP(J49,Names!$A$2:$A$161,Names!$B$2:$B$161)","v":0},null,null,{"$f":"F98","v":0},"N",1,{"$f":"Score!C125","v":121},{"$f":"LOOKUP(Q49,Names!$A$2:$A$161,Names!$B$2:$B$161)","v":0},null,null,{"$f":"F99","v":0},"N",1,{"$f":"Score!C129","v":125},{"$f":"LOOKUP(X49,Names!$A$2:$A$161,Names!$B$2:$B$161)","v":0},null,null,{"$f":"F100","v":0}]
["W",2,{"$f":"Score!C118","v":114},{"$f":"LOOKUP(C50,Names!$A$2:$A$161,Names!$B$2:$B$161)","v":"احمد سردينة"},140,{"$f":"Sheet1!$M$5","v":2.85},{"$f":"M97","v":11},"W",2,{"$f":"Score!C122","v":118},{"$f":"LOOKUP(J50,Names!$A$2:$A$161,Names!$B$2:$B$161)","v":0},null,null,{"$f":"M98","v":0},"W",2,{"$f":"Score!C126","v":122},{"$f":"LOOKUP(Q50,Names!$A$2:$A$161,Names!$B$2:$B$161)","v":0},null,null,{"$f":"M99","v":0},"W",2,{"$f":"Score!C130","v":126},{"$f":"LOOKUP(X50,Names!$A$2:$A$161,Names!$B$2:$B$161)","v":0},null,null,{"$f":"M100","v":0}]
["S",3,{"$f":"Score!C119","v":115},{"$f":"LOOKUP(C51,Names!$A$2:$A$161,Names!$B$2:$B$161)","v":"خالد عبد العظيم"},75,{"$f":"Sheet1!$M$7","v":0},{"$f":"T97","v":1},"S",3,{"$f":"Score!C123","v":119},{"$f":"LOOKUP(J51,Names!$A$2:$A$161,Names!$B$2:$B$161)","v":0},null,null,{"$f":"T98","v":0},"S",3,{"$f":"Score!C127","v":123},{"$f":"LOOKUP(Q51,Names!$A$2:$A$161,Names!$B$2:$B$161)","v":0},null,null,{"$f":"T99","v":0},"S",3,{"$f":"Score!C131","v":127},{"$f":"LOOKUP(X51,Names!$A$2:$A$161,Names!$B$2:$B$161)","v":0},null,null,{"$f":"T100","v":0}]
["E",4,{"$f":"Score!C120","v":116},{"$f":"LOOKUP(C52,Names!$A$2:$A$161,Names!$B$2:$B$161)","v":"اسامة قاسم"},124,{"$f":"Sheet1!$M$6","v":1.9000000000000001},{"$f":"AA97","v":9},"E",4,{"$f":"Score!C124","v":120},{"$f":"LOOKUP(J52,Names!$A$2:$A$161,Names!$B$2:$B$161)","v":0},null,null,{"$f":"AA98","v":0},"E",4,{"$f":"Score!C128","v":124},{"$f":"LOOKUP(Q52,Names!$A$2:$A$161,Names!$B$2:$B$161)","v":0},null,null,{"$f":"AA99","v":0},"E",4,{"$f":"Score!C132","v":128},{"$f":"LOOKUP(X52,Names!$A$2:$A$161,Names!$B$2:$B$161)","v":0},null,null,{"$f":"AA100","v":0}]
[null,null,null,33,null,null,null,null,null,null,34,null,null,null,null,null,null,35,null,null,null,null,null,null,36]
[null,null,null,"Names","Sc.","Tab",null,null,null,null,"Names","Sc.","Tab",null,null,null,null,"Names","Sc.","Tab",null,null,null,null,"Names","Sc.","Tab"]
["N",1,{"$f":"Score!C133","v":129},{"$f":"LOOKUP(C55,Names!$A$2:$A$161,Names!$B$2:$B$161)","v":0},null,null,{"$f":"F101","v":0},"N",1,{"$f":"Score!C137","v":133},{"$f":"LOOKUP(J55,Names!$A$2:$A$161,Names!$B$2:$B$161)","v":0},null,null,{"$f":"F102","v":0},"N",1,{"$f":"Score!C141","v":137},{"$f":"LOOKUP(Q55,Names!$A$2:$A$161,Names!$B$2:$B$161)","v":0},null,null,{"$f":"F103","v":0},"N",1,{"$f":"Score!C145","v":141},{"$f":"LOOKUP(X55,Names!$A$2:$A$161,Names!$B$2:$B$161)","v":0},null,null,{"$f":"F104","v":0}]
["W",2,{"$f":"Score!C134","v":130},{"$f":"LOOKUP(C56,Names!$A$2:$A$161,Names!$B$2:$B$161)","v":0},null,null,{"$f":"M101","v":0},"W",2,{"$f":"Score!C138","v":134},{"$f":"LOOKUP(J56,Names!$A$2:$A$161,Names!$B$2:$B$161)","v":0},null,null,{"$f":"M102","v":0},"W",2,{"$f":"Score!C142","v":138},{"$f":"LOOKUP(Q56,Names!$A$2:$A$161,Names!$B$2:$B$161)","v":0},null,null,{"$f":"M103","v":0},"W",2,{"$f":"Score!C146","v":142},{"$f":"LOOKUP(X56,Names!$A$2:$A$161,Names!$B$2:$B$161)","v":0},null,null,{"$f":"M104","v":0}]
["S",3,{"$f":"Score!C135","v":131},{"$f":"LOOKUP(C57,Names!$A$2:$A$161,Names!$B$2:$B$161)","v":0},null,null,{"$f":"T101","v":0},"S",3,{"$f":"Score!C139","v":135},{"$f":"LOOKUP(J57,Names!$A$2:$A$161,Names!$B$2:$B$161)","v":0},null,null,{"$f":"T102","v":0},"S",3,{"$f":"Score!C143","v":139},{"$f":"LOOKUP(Q57,Names!$A$2:$A$161,Names!$B$2:$B$161)","v":0},null,null,{"$f":"T103","v":0},"S",3,{"$f":"Score!C147","v":143},{"$f":"LOOKUP(X57,Names!$A$2:$A$161,Names!$B$2:$B$161)","v":0},null,null,{"$f":"T104","v":0}]
["E",4,{"$f":"Score!C136","v":132},{"$f":"LOOKUP(C58,Names!$A$2:$A$161,Names!$B$2:$B$161)","v":0},null,null,{"$f":"AA101","v":0},"E",4,{"$f":"Score!C140","v":136},{"$f":"LOOKUP(J58,Names!$A$2:$A$161,Names!$B$2:$B$161)","v":0},null,null,{"$f":"AA102","v":0},"E",4,{"$f":"Score!C144","v":140},{"$f":"LOOKUP(Q58,Names!$A$2:$A$161,Names!$B$2:$B$161)","v":0},null,null,{"$f":"AA103","v":0},"E",4,{"$f":"Score!C148","v":144},{"$f":"LOOKUP(X58,Names!$A$2:$A$161,Names!$B$2:$B$161)","v":0},null,null,{"$f":"AA104","v":0}]
[null,null,null,37,null,null,null,null,null,null,38,null,null,null,null,null,null,39,null,null,null,null,null,null,40]
[null,null,null,"Names","Sc.","Tab",null,null,null,null,"Names","Sc.","Tab",null,null,null,null,"Names","Sc.","Tab",null,null,null,null,"Names","Sc.","Tab"]
["N",1,{"$f":"Score!C149","v":145},{"$f":"LOOKUP(C61,Names!$A$2:$A$161,Names!$B$2:$B$161)","v":0},null,null,{"$f":"F105","v":0},"N",1,{"$f":"Score!C153","v":149},{"$f":"LOOKUP(J61,Names!$A$2:$A$161,Names!$B$2:$B$161)","v":0},null,null,{"$f":"F106","v":0},"N",1,{"$f":"Score!C157","v":153},{"$f":"LOOKUP(Q61,Names!$A$2:$A$161,Names!$B$2:$B$161)","v":0},null,null,{"$f":"F107","v":0},"N",1,{"$f":"Score!C161","v":157},{"$f":"LOOKUP(X61,Names!$A$2:$A$161,Names!$B$2:$B$161)","v":0},null,null,{"$f":"F108","v":0}]
["W",2,{"$f":"Score!C150","v":146},{"$f":"LOOKUP(C62,Names!$A$2:$A$161,Names!$B$2:$B$161)","v":0},null,null,{"$f":"M105","v":0},"W",2,{"$f":"Score!C154","v":150},{"$f":"LOOKUP(J62,Names!$A$2:$A$161,Names!$B$2:$B$161)","v":0},null,null,{"$f":"M106","v":0},"W",2,{"$f":"Score!C158","v":154},{"$f":"LOOKUP(Q62,Names!$A$2:$A$161,Names!$B$2:$B$161)","v":0},null,null,{"$f":"M107","v":0},"W",2,{"$f":"Score!C162","v":158},{"$f":"LOOKUP(X62,Names!$A$2:$A$161,Names!$B$2:$B$161)","v":0},null,null,{"$f":"M108","v":0}]
["S",3,{"$f":"Score!C151","v":147},{"$f":"LOOKUP(C63,Names!$A$2:$A$161,Names!$B$2:$B$161)","v":0},null,null,{"$f":"T105","v":0},"S",3,{"$f":"Score!C155","v":151},{"$f":"LOOKUP(J63,Names!$A$2:$A$161,Names!$B$2:$B$161)","v":0},null,null,{"$f":"T106","v":0},"S",3,{"$f":"Score!C159","v":155},{"$f":"LOOKUP(Q63,Names!$A$2:$A$161,Names!$B$2:$B$161)","v":0},null,null,{"$f":"T107","v":0},"S",3,{"$f":"Score!C163","v":159},{"$f":"LOOKUP(X63,Names!$A$2:$A$161,Names!$B$2:$B$161)","v":0},null,null,{"$f":"T108","v":0}]
["E",4,{"$f":"Score!C152","v":148},{"$f":"LOOKUP(C64,Names!$A$2:$A$161,Names!$B$2:$B$161)","v":0},null,null,{"$f":"AA105","v":0},"E",4,{"$f":"Score!C156","v":152},{"$f":"LOOKUP(J64,Names!$A$2:$A$161,Names!$B$2:$B$161)","v":0},null,null,{"$f":"AA106","v":0},"E",4,{"$f":"Score!C160","v":156},{"$f":"LOOKUP(Q64,Names!$A$2:$A$161,Names!$B$2:$B$161)","v":0},null,null,{"$f":"AA107","v":0},"E",4,{"$f":"Score!C164","v":160},{"$f":"LOOKUP(X64,Names!$A$2:$A$161,Names!$B$2:$B$161)","v":0},null,null,{"$f":"AA108","v":0}]
[]
[null,null,null,null,null,null,null,null,null,null,"Axe"]
[null,null,null,"North",null,null,null,null,null,null,"West",null,null,null,null,null,null,"South",null,null,null,null,null,null,"East"]
[null,null,null,"Names","Sc.","Axe",null,null,null,null,"Names","Sc.","Axe",null,null,null,null,"Names","Sc.","Axe",null,null,null,null,"Names","Sc.","Axe"]
[1,1,{"$f":"$C$6","v":1},{"$f":"LOOKUP(C69,Names!$A$2:$A$161,Names!$B$2:$B$161)","v":"إبراهيم عرفان السقا"},{"$f":"$E$6","v":135},{"$f":"Sheet1!L13","v":8},null,null,1,{"$f":"$C$7","v":17},{"$f":"LOOKUP(J69,Names!$A$2:$A$161,Names!$B$2:$B$161)","v":"مينا ناجح صبحي"},{"$f":"$E$7","v":114},{"$f":"Sheet1!L15","v":6},null,null,1,{"$f":"$C$8","v":33},{"$f":"LOOKUP(Q69,Names!$A$2:$A$161,Names!$B$2:$B$161)","v":"أحمد إبراهيم غانم"},{"$f":"$E$8","v":224},{"$f":"Sheet1!L3","v":19},null,null,1,{"$f":"$C$9","v":14},{"$f":"LOOKUP(X69,Names!$A$2:$A$161,Names!$B$2:$B$161)","v":"أحمد محمد محمدي"},{"$f":"$E$9","v":133},{"$f":"Sheet1!L11","v":10}]
[2,2,{"$f":"$J$6","v":30},{"$f":"LOOKUP(C70,Names!$A$2:$A$161,Names!$B$2:$B$161)","v":"محمد سعيد الفطاطري"},{"$f":"$L$6","v":176},{"$f":"Sheet1!L7","v":14},null,null,2,{"$f":"$J$7","v":11},{"$f":"LOOKUP(J70,Names!$A$2:$A$161,Names!$B$2:$B$161)","v":"هيثم العشماوي"},{"$f":"$L$7","v":100},{"$f":"Sheet1!L19","v":2},null,null,2,{"$f":"$J$8","v":27},{"$f":"LOOKUP(Q70,Names!$A$2:$A$161,Names!$B$2:$B$161)","v":"أحمد سمير خلف على"},{"$f":"$L$8","v":191},{"$f":"Sheet1!L6","v":15},null,null,2,{"$f":"$J$9","v":8},{"$f":"LOOKUP(X70,Names!$A$2:$A$161,Names!$B$2:$B$161)","v":"عبد الرحمن محمود عثمان"},{"$f":"$L$9","v":95},2.5]
[3,3,{"$f":"$Q$6","v":24},{"$f":"LOOKUP(C71,Names!$A$2:$A$161,Names!$B$2:$B$161)","v":"يامن محمد حسن"},{"$f":"$S$6","v":96},{"$f":"Sheet1!L19","v":2},null,null,3,{"$f":"$Q$7","v":5},{"$f":"LOOKUP(J71,Names!$A$2:$A$161,Names!$B$2:$B$161)","v":"أحمد محمد أمين"},{"$f":"$S$7","v":98},{"$f":"Sheet1!L20","v":1},null,null,3,{"$f":"$Q$8","v":18},{"$f":"LOOKUP(Q71,Names!$A$2:$A$161,Names!$B$2:$B$161)","v":"وليد شعبان إسماعيل علي"},{"$f":"$S$8","v":136},{"$f":"Sheet1!L13","v":8},null,null,3,{"$f":"$Q$9","v":2},{"$f":"LOOKUP(X71,Names!$A$2:$A$161,Names!$B$2:$B$161)","v":"مصطفى محمد علي شرف"},{"$f":"$S$9","v":144},{"$f":"Sheet1!L10","v":11}]
[4,4,{"$f":"$X$6","v":21},{"$f":"LOOKUP(C72,Names!$A$2:$A$161,Names!$B$2:$B$161)","v":"محمد طارق عبد الله"},{"$f":"$Z$6","v":187},16.5,null,null,4,{"$f":"$X$7","v":34},{"$f":"LOOKUP(J72,Names!$A$2:$A$161,Names!$B$2:$B$161)","v":"شريف حلمي"},{"$f":"$Z$7","v":182},{"$f":"Sheet1!L5","v":16},null,null,4,{"$f":"$X$8","v":15},{"$f":"LOOKUP(Q72,Names!$A$2:$A$161,Names!$B$2:$B$161)","v":"حسام الدين صلاح أبو الفتوح"},{"$f":"$Z$8","v":134},{"$f":"Sheet1!L14","v":7},null,null,4,{"$f":"$X$9","v":31},{"$f":"LOOKUP(X72,Names!$A$2:$A$161,Names!$B$2:$B$161)","v":"أحمد بسيوني"},{"$f":"$Z$9","v":104},{"$f":"Sheet1!L15","v":6}]
[5,5,{"$f":"$C$12","v":12},{"$f":"LOOKUP(C73,Names!$A$2:$A$161,Names!$B$2:$B$161)","v":"أحمد علي السيد شرع"},{"$f":"$E$12","v":167},{"$f":"Sheet1!L9","v":12},null,null,5,{"$f":"$C$13","v":28},{"$f":"LOOKUP(J73,Names!$A$2:$A$161,Names!$B$2:$B$161)","v":"محمد حسن عبد القادر"},{"$f":"$E$13","v":137},{"$f":"Sheet1!L11","v":10},null,null,5,{"$f":"$C$14","v":6},{"$f":"LOOKUP(Q73,Names!$A$2:$A$161,Names!$B$2:$B$161)","v":"معتز محمد عبد المنعم"},{"$f":"$E$14","v":129},{"$f":"Sheet1!L16","v":5},null,null,5,{"$f":"$C$15","v":22},{"$f":"LOOKUP(X73,Names!$A$2:$A$161,Names!$B$2:$B$161)","v":"يوسف مسعد فراج"},{"$f":"$E$15","v":103},{"$f":"Sheet1!L16","v":5}]
[6,6,{"$f":"$J$12","v":3},{"$f":"LOOKUP(C74,Names!$A$2:$A$161,Names!$B$2:$B$161)","v":"أحمد محمد حمدي صالح"},{"$f":"$L$12","v":175},{"$f":"Sheet1!L8","v":13},null,null,6,{"$f":"$J$13","v":19},{"$f":"LOOKUP(J74,Names!$A$2:$A$161,Names!$B$2:$B$161)","v":"محمد أحمد محمد عبد الله"},{"$f":"$L$13","v":208},{"$f":"Sheet1!L3","v":19},null,null,6,{"$f":"$J$14","v":35},{"$f":"LOOKUP(Q74,Names!$A$2:$A$161,Names!$B$2:$B$161)","v":"أحمد فؤاد حسنين"},{"$f":"$L$14","v":212},{"$f":"Sheet1!L5","v":16},null,null,6,{"$f":"$J$15","v":16},{"$f":"LOOKUP(X74,Names!$A$2:$A$161,Names!$B$2:$B$161)","v":"طارق عبد الغني السحار"},{"$f":"$L$15","v":100},{"$f":"Sheet1!L17","v":4}]
[7,7,{"$f":"$Q$12","v":32},{"$f":"LOOKUP(C75,Names!$A$2:$A$161,Names!$B$2:$B$161)","v":"أمير محمد خطاب"},{"$f":"$S$12","v":84},{"$f":"Sheet1!L20","v":1},null,null,7,{"$f":"$Q$13","v":13},{"$f":"LOOKUP(J75,Names!$A$2:$A$161,Names!$B$2:$B$161)","v":"عمرو سمير دسوقي"},{"$f":"$S$13","v":158},{"$f":"Sheet1!L8","v":13},null,null,7,{"$f":"$Q$14","v":10},{"$f":"LOOKUP(Q75,Names!$A$2:$A$161,Names!$B$2:$B$161)","v":"تامر تيمور شكري"},{"$f":"$S$14","v":157},{"$f":"Sheet1!L9","v":12},null,null,7,{"$f":"$Q$15","v":26},{"$f":"LOOKUP(X75,Names!$A$2:$A$161,Names!$B$2:$B$161)","v":"علاء شوقي جبريل"},{"$f":"$S$15","v":150},{"$f":"Sheet1!L7","v":14}]
[8,8,{"$f":"$X$12","v":7},{"$f":"LOOKUP(C76,Names!$A$2:$A$161,Names!$B$2:$B$161)","v":"هيثم محمد شبانة"},{"$f":"$Z$12","v":114},{"$f":"Sheet1!L16","v":5},null,null,8,{"$f":"$X$13","v":23},{"$f":"LOOKUP(J76,Names!$A$2:$A$161,Names!$B$2:$B$161)","v":"جمال احمد محمد جمال"},{"$f":"$Z$13","v":122},{"$f":"Sheet1!L14","v":7},null,null,8,{"$f":"$X$14","v":4},{"$f":"LOOKUP(Q76,Names!$A$2:$A$161,Names!$B$2:$B$161)","v":"أحمد جميل السيد"},{"$f":"$Z$14","v":137},{"$f":"Sheet1!L12","v":9},null,null,8,{"$f":"$X$15","v":29},{"$f":"LOOKUP(X76,Names!$A$2:$A$161,Names!$B$2:$B$161)","v":"اسلام نصر الغنام"},{"$f":"$Z$15","v":95},2.5]
[9,9,{"$f":"$C$18","v":20},{"$f":"LOOKUP(C77,Names!$A$2:$A$161,Names!$B$2:$B$161)","v":"عصام الدين محمد عبد العاطي"},{"$f":"$E$18","v":108},{"$f":"Sheet1!L18","v":3},null,null,9,{"$f":"$C$19","v":9},{"$f":"LOOKUP(J77,Names!$A$2:$A$161,Names!$B$2:$B$161)","v":" عمرو محمد مصطفى"},{"$f":"$E$19","v":127},{"$f":"Sheet1!L13","v":8},null,null,9,{"$f":"$C$20","v":25},{"$f":"LOOKUP(Q77,Names!$A$2:$A$161,Names!$B$2:$B$161)","v":"خالد حمدي محمد السيد"},{"$f":"$E$20","v":119},{"$f":"Sheet1!L18","v":3},null,null,9,{"$f":"$C$21","v":36},{"$f":"LOOKUP(X77,Names!$A$2:$A$161,Names!$B$2:$B$161)","v":"محمد محمود فضل"},{"$f":"$E$21","v":183},{"$f":"Sheet1!L5","v":16}]
[10,10,{"$f":"$J$18","v":37},{"$f":"LOOKUP(C78,Names!$A$2:$A$161,Names!$B$2:$B$161)","v":0},{"$f":"$L$18","v":0},{"$f":"Sheet1!L21","v":0},null,null,10,{"$f":"$J$19","v":38},{"$f":"LOOKUP(J78,Names!$A$2:$A$161,Names!$B$2:$B$161)","v":0},{"$f":"$L$19","v":0},{"$f":"Sheet1!L21","v":0},null,null,10,{"$f":"$J$20","v":39},{"$f":"LOOKUP(Q78,Names!$A$2:$A$161,Names!$B$2:$B$161)","v":0},{"$f":"$L$20","v":0},{"$f":"Sheet1!L21","v":0},null,null,10,{"$f":"$J$21","v":40},{"$f":"LOOKUP(X78,Names!$A$2:$A$161,Names!$B$2:$B$161)","v":0},{"$f":"$L$21","v":0},{"$f":"Sheet1!L21","v":0}]
[11,11,{"$f":"$Q$18","v":41},{"$f":"LOOKUP(C79,Names!$A$2:$A$161,Names!$B$2:$B$161)","v":0},null,null,null,null,11,{"$f":"$Q$19","v":42},{"$f":"LOOKUP(J79,Names!$A$2:$A$161,Names!$B$2:$B$161)","v":0},null,null,null,null,11,{"$f":"$Q$20","v":43},{"$f":"LOOKUP(Q79,Names!$A$2:$A$161,Names!$B$2:$B$161)","v":0},null,null,null,null,11,{"$f":"$Q$21","v":44},{"$f":"LOOKUP(X79,Names!$A$2:$A$161,Names!$B$2:$B$161)","v":0}]
[12,12,{"$f":"$X$18","v":45},{"$f":"LOOKUP(C80,Names!$A$2:$A$161,Names!$B$2:$B$161)","v":0},null,null,null,null,12,{"$f":"$X$19","v":46},{"$f":"LOOKUP(J80,Names!$A$2:$A$161,Names!$B$2:$B$161)","v":0},null,null,null,null,12,{"$f":"$X$20","v":47},{"$f":"LOOKUP(Q80,Names!$A$2:$A$161,Names!$B$2:$B$161)","v":0},null,null,null,null,12,{"$f":"$X$21","v":48},{"$f":"LOOKUP(X80,Names!$A$2:$A$161,Names!$B$2:$B$161)","v":0}]
[13,13,{"$f":"$C$24","v":49},{"$f":"LOOKUP(C81,Names!$A$2:$A$161,Names!$B$2:$B$161)","v":0},null,null,null,null,13,{"$f":"$C$25","v":50},{"$f":"LOOKUP(J81,Names!$A$2:$A$161,Names!$B$2:$B$161)","v":0},null,null,null,null,13,{"$f":"$C$26","v":51},{"$f":"LOOKUP(Q81,Names!$A$2:$A$161,Names!$B$2:$B$161)","v":0},null,null,null,null,13,{"$f":"$C$27","v":52},{"$f":"LOOKUP(X81,Names!$A$2:$A$161,Names!$B$2:$B$161)","v":0}]
[14,14,{"$f":"$J$24","v":53},{"$f":"LOOKUP(C82,Names!$A$2:$A$161,Names!$B$2:$B$161)","v":0},null,null,null,null,14,{"$f":"$J$25","v":54},{"$f":"LOOKUP(J82,Names!$A$2:$A$161,Names!$B$2:$B$161)","v":0},null,null,null,null,14,{"$f":"$J$26","v":55},{"$f":"LOOKUP(Q82,Names!$A$2:$A$161,Names!$B$2:$B$161)","v":0},null,null,null,null,14,{"$f":"$J$27","v":56},{"$f":"LOOKUP(X82,Names!$A$2:$A$161,Names!$B$2:$B$161)","v":0}]
[15,15,{"$f":"$Q$24","v":57},{"$f":"LOOKUP(C83,Names!$A$2:$A$161,Names!$B$2:$B$161)","v":0},null,null,null,null,15,{"$f":"$Q$25","v":58},{"$f":"LOOKUP(J83,Names!$A$2:$A$161,Names!$B$2:$B$161)","v":0},null,null,null,null,15,{"$f":"$Q$26","v":59},{"$f":"LOOKUP(Q83,Names!$A$2:$A$161,Names!$B$2:$B$161)","v":0},null,null,null,null,15,{"$f":"$Q$27","v":60},{"$f":"LOOKUP(X83,Names!$A$2:$A$161,Names!$B$2:$B$161)","v":0}]
[16,16,{"$f":"$X$24","v":61},{"$f":"LOOKUP(C84,Names!$A$2:$A$161,Names!$B$2:$B$161)","v":0},null,null,null,null,16,{"$f":"$X$25","v":62},{"$f":"LOOKUP(J84,Names!$A$2:$A$161,Names!$B$2:$B$161)","v":0},null,null,null,null,16,{"$f":"$X$26","v":63},{"$f":"LOOKUP(Q84,Names!$A$2:$A$161,Names!$B$2:$B$161)","v":0},null,null,null,null,16,{"$f":"$X$27","v":64},{"$f":"LOOKUP(X84,Names!$A$2:$A$161,Names!$B$2:$B$161)","v":0}]
[17,17,{"$f":"$C$30","v":65},{"$f":"LOOKUP(C85,Names!$A$2:$A$161,Names!$B$2:$B$161)","v":0},null,null,null,null,17,{"$f":"$C$31","v":66},{"$f":"LOOKUP(J85,Names!$A$2:$A$161,Names!$B$2:$B$161)","v":0},null,null,null,null,17,{"$f":"$C$32","v":67},{"$f":"LOOKUP(Q85,Names!$A$2:$A$161,Names!$B$2:$B$161)","v":0},null,null,null,null,17,{"$f":"$C$33","v":68},{"$f":"LOOKUP(X85,Names!$A$2:$A$161,Names!$B$2:$B$161)","v":0}]
[18,18,{"$f":"$J$30","v":69},{"$f":"LOOKUP(C86,Names!$A$2:$A$161,Names!$B$2:$B$161)","v":0},null,null,null,null,18,{"$f":"$J$31","v":70},{"$f":"LOOKUP(J86,Names!$A$2:$A$161,Names!$B$2:$B$161)","v":0},null,null,null,null,18,{"$f":"$J$32","v":71},{"$f":"LOOKUP(Q86,Names!$A$2:$A$161,Names!$B$2:$B$161)","v":0},null,null,null,null,18,{"$f":"$J$33","v":72},{"$f":"LOOKUP(X86,Names!$A$2:$A$161,Names!$B$2:$B$161)","v":0}]
[19,19,{"$f":"$Q$30","v":73},{"$f":"LOOKUP(C87,Names!$A$2:$A$161,Names!$B$2:$B$161)","v":0},null,null,null,null,19,{"$f":"$Q$31","v":74},{"$f":"LOOKUP(J87,Names!$A$2:$A$161,Names!$B$2:$B$161)","v":0},null,null,null,null,19,{"$f":"$Q$32","v":75},{"$f":"LOOKUP(Q87,Names!$A$2:$A$161,Names!$B$2:$B$161)","v":0},null,null,null,null,19,{"$f":"$Q$33","v":76},{"$f":"LOOKUP(X87,Names!$A$2:$A$161,Names!$B$2:$B$161)","v":0}]
[20,20,{"$f":"$X$30","v":77},{"$f":"LOOKUP(C88,Names!$A$2:$A$161,Names!$B$2:$B$161)","v":0},null,null,null,null,20,{"$f":"$X$31","v":78},{"$f":"LOOKUP(J88,Names!$A$2:$A$161,Names!$B$2:$B$161)","v":0},null,null,null,null,20,{"$f":"$X$32","v":79},{"$f":"LOOKUP(Q88,Names!$A$2:$A$161,Names!$B$2:$B$161)","v":0},null,null,null,null,20,{"$f":"$X$33","v":80},{"$f":"LOOKUP(X88,Names!$A$2:$A$161,Names!$B$2:$B$161)","v":0}]
[21,21,{"$f":"$C$37","v":81},{"$f":"LOOKUP(C89,Names!$A$2:$A$161,Names!$B$2:$B$161)","v":"راجي محمد صبحي"},{"$f":"$E$37","v":185},{"$f":"Sheet1!L6","v":15},null,null,21,{"$f":"$C$38","v":82},{"$f":"LOOKUP(J89,Names!$A$2:$A$161,Names!$B$2:$B$161)","v":"أحمد صلاح الدين دياب"},{"$f":"$E$38","v":171},14.5,null,null,21,{"$f":"$C$39","v":83},{"$f":"LOOKUP(Q89,Names!$A$2:$A$161,Names!$B$2:$B$161)","v":"أسامة لطفى نجيب"},{"$f":"$E$39","v":187},{"$f":"Sheet1!L7","v":14},null,null,21,{"$f":"$C$40","v":84},{"$f":"LOOKUP(X89,Names!$A$2:$A$161,Names!$B$2:$B$161)","v":"أحمد عز العرب السماحي"},{"$f":"$E$40","v":162},{"$f":"Sheet1!L6","v":15}]
[22,22,{"$f":"$J$37","v":85},{"$f":"LOOKUP(C90,Names!$A$2:$A$161,Names!$B$2:$B$161)","v":"محمد عبد الهادي أبو القاسم"},{"$f":"$L$37","v":164},{"$f":"Sheet1!L10","v":11},null,null,22,{"$f":"$J$38","v":86},{"$f":"LOOKUP(J90,Names!$A$2:$A$161,Names!$B$2:$B$161)","v":"ايهاب يوسف عمارة"},{"$f":"$L$38","v":131},{"$f":"Sheet1!L12","v":9},null,null,22,{"$f":"$J$39","v":87},{"$f":"LOOKUP(Q90,Names!$A$2:$A$161,Names!$B$2:$B$161)","v":"ياسر شاهين"},{"$f":"$L$39","v":216},{"$f":"Sheet1!L4","v":17},null,null,22,{"$f":"$J$40","v":88},{"$f":"LOOKUP(X90,Names!$A$2:$A$161,Names!$B$2:$B$161)","v":"أحمد علي خليل حسن"},{"$f":"$L$40","v":118},{"$f":"Sheet1!L13","v":8}]
[23,23,{"$f":"$Q$37","v":89},{"$f":"LOOKUP(C91,Names!$A$2:$A$161,Names!$B$2:$B$161)","v":"محمد بلبع"},{"$f":"$S$37","v":129},{"$f":"Sheet1!L15","v":6},null,null,23,{"$f":"$Q$38","v":90},{"$f":"LOOKUP(J91,Names!$A$2:$A$161,Names!$B$2:$B$161)","v":"محمد علي حسن طه الأمام"},{"$f":"$S$38","v":149},{"$f":"Sheet1!L9","v":12},null,null,23,{"$f":"$Q$39","v":91},{"$f":"LOOKUP(Q91,Names!$A$2:$A$161,Names!$B$2:$B$161)","v":"عماد محمد فؤاد مرسي"},{"$f":"$S$39","v":133},{"$f":"Sheet1!L15","v":6},null,null,23,{"$f":"$Q$40","v":92},{"$f":"LOOKUP(X91,Names!$A$2:$A$161,Names!$B$2:$B$161)","v":"أحمد مصطفى راشد"},{"$f":"$S$40","v":67},{"$f":"Sheet1!L20","v":1}]
[24,24,{"$f":"$X$37","v":93},{"$f":"LOOKUP(C92,Names!$A$2:$A$161,Names!$B$2:$B$161)","v":"جمال السيد توفيق"},{"$f":"$Z$37","v":109},{"$f":"Sheet1!L17","v":4},null,null,24,{"$f":"$X$38","v":94},{"$f":"LOOKUP(J92,Names!$A$2:$A$161,Names!$B$2:$B$161)","v":"محمد عصام الدين القاضي"},{"$f":"$Z$38","v":196},{"$f":"Sheet1!L4","v":17},null,null,24,{"$f":"$X$39","v":95},{"$f":"LOOKUP(Q92,Names!$A$2:$A$161,Names!$B$2:$B$161)","v":"احمد طنطاوى"},{"$f":"$Z$39","v":174},{"$f":"Sheet1!L8","v":13},null,null,24,{"$f":"$X$40","v":96},{"$f":"LOOKUP(X92,Names!$A$2:$A$161,Names!$B$2:$B$161)","v":"أحمد رمزي الديب"},{"$f":"$Z$40","v":189},{"$f":"Sheet1!L4","v":17}]
[25,25,{"$f":"$C$43","v":97},{"$f":"LOOKUP(C93,Names!$A$2:$A$161,Names!$B$2:$B$161)","v":"خالد محمد شبارة"},{"$f":"$E$43","v":200},{"$f":"Sheet1!L3","v":19},null,null,25,{"$f":"$C$44","v":98},{"$f":"LOOKUP(J93,Names!$A$2:$A$161,Names!$B$2:$B$161)","v":"محمد محمود شعبان رمضان"},{"$f":"$E$44","v":110},{"$f":"Sheet1!L17","v":4},null,null,25,{"$f":"$C$45","v":99},{"$f":"LOOKUP(Q93,Names!$A$2:$A$161,Names!$B$2:$B$161)","v":"ماجد محمد فكري"},{"$f":"$E$45","v":121},{"$f":"Sheet1!L17","v":4},null,null,25,{"$f":"$C$46","v":100},{"$f":"LOOKUP(X93,Names!$A$2:$A$161,Names!$B$2:$B$161)","v":"عبد الرحمن الدمراوى"},{"$f":"$E$46","v":106},{"$f":"Sheet1!L14","v":7}]
[26,26,{"$f":"$J$43","v":101},{"$f":"LOOKUP(C94,Names!$A$2:$A$161,Names!$B$2:$B$161)","v":"أحمد محمد شوقى عبد الحميد"},{"$f":"$L$43","v":130},{"$f":"Sheet1!L14","v":7},null,null,26,{"$f":"$J$44","v":102},{"$f":"LOOKUP(J94,Names!$A$2:$A$161,Names!$B$2:$B$161)","v":"سامي محمود الفولي"},{"$f":"$L$44","v":113},{"$f":"Sheet1!L16","v":5},null,null,26,{"$f":"$J$45","v":103},{"$f":"LOOKUP(Q94,Names!$A$2:$A$161,Names!$B$2:$B$161)","v":"عمرو عماد الدين أبو العلا"},{"$f":"$L$45","v":155},{"$f":"Sheet1!L10","v":11},null,null,26,{"$f":"$J$46","v":104},{"$f":"LOOKUP(X94,Names!$A$2:$A$161,Names!$B$2:$B$161)","v":"كريم إيهاب عامر"},{"$f":"$L$46","v":200},{"$f":"Sheet1!L3","v":19}]
[27,27,{"$f":"$Q$43","v":105},{"$f":"LOOKUP(C95,Names!$A$2:$A$161,Names!$B$2:$B$161)","v":"مصطفى عبد الحفيظ علي"},{"$f":"$S$43","v":144},{"$f":"Sheet1!L12","v":9},null,null,27,{"$f":"$Q$44","v":106},{"$f":"LOOKUP(J95,Names!$A$2:$A$161,Names!$B$2:$B$161)","v":"أحمد عبد العزيز العطار"},{"$f":"$S$44","v":171},14.5,null,null,27,{"$f":"$Q$45","v":107},{"$f":"LOOKUP(Q95,Names!$A$2:$A$161,Names!$B$2:$B$161)","v":"شادي أحمد محمود وهبة"},{"$f":"$S$45","v":118},{"$f":"Sheet1!L19","v":2},null,null,27,{"$f":"$Q$46","v":108},{"$f":"LOOKUP(X95,Names!$A$2:$A$161,Names!$B$2:$B$161)","v":"كريم احمد ناصر"},{"$f":"$S$46","v":146},12.5]
[28,28,{"$f":"$X$43","v":109},{"$f":"LOOKUP(C96,Names!$A$2:$A$161,Names!$B$2:$B$161)","v":"نبيل خلف زكي"},{"$f":"$Z$43","v":162},{"$f":"Sheet1!L11","v":10},null,null,28,{"$f":"$X$44","v":110},{"$f":"LOOKUP(J96,Names!$A$2:$A$161,Names!$B$2:$B$161)","v":"أسامة أحمد زكي"},{"$f":"$Z$44","v":101},{"$f":"Sheet1!L18","v":3},null,null,28,{"$f":"$X$45","v":111},{"$f":"LOOKUP(Q96,Names!$A$2:$A$161,Names!$B$2:$B$161)","v":"عادل محمد أبو زيد"},{"$f":"$Z$45","v":148},{"$f":"Sheet1!L11","v":10},null,null,28,{"$f":"$X$46","v":112},{"$f":"LOOKUP(X96,Names!$A$2:$A$161,Names!$B$2:$B$161)","v":"عمرو محمد محسن"},{"$f":"$Z$46","v":146},12.5]
[29,29,{"$f":"$C$49","v":113},{"$f":"LOOKUP(C97,Names!$A$2:$A$161,Names!$B$2:$B$161)","v":"محمد حسن فهيم"},{"$f":"$E$49","v":187},16.5,null,null,29,{"$f":"$C$50","v":114},{"$f":"LOOKUP(J97,Names!$A$2:$A$161,Names!$B$2:$B$161)","v":"احمد سردينة"},{"$f":"$E$50","v":140},{"$f":"Sheet1!L10","v":11},null,null,29,{"$f":"$C$51","v":115},{"$f":"LOOKUP(Q97,Names!$A$2:$A$161,Names!$B$2:$B$161)","v":"خالد عبد العظيم"},{"$f":"$E$51","v":75},{"$f":"Sheet1!L20","v":1},null,null,29,{"$f":"$C$52","v":116},{"$f":"LOOKUP(X97,Names!$A$2:$A$161,Names!$B$2:$B$161)","v":"اسامة قاسم"},{"$f":"$E$52","v":124},{"$f":"Sheet1!L12","v":9}]
[30,30,{"$f":"$J$49","v":117},{"$f":"LOOKUP(C98,Names!$A$2:$A$161,Names!$B$2:$B$161)","v":0},null,null,null,null,30,{"$f":"$J$50","v":118},{"$f":"LOOKUP(J98,Names!$A$2:$A$161,Names!$B$2:$B$161)","v":0},null,null,null,null,30,{"$f":"$J$51","v":119},{"$f":"LOOKUP(Q98,Names!$A$2:$A$161,Names!$B$2:$B$161)","v":0},null,null,null,null,30,{"$f":"$J$52","v":120},{"$f":"LOOKUP(X98,Names!$A$2:$A$161,Names!$B$2:$B$161)","v":0}]
[31,31,{"$f":"$Q$49","v":121},{"$f":"LOOKUP(C99,Names!$A$2:$A$161,Names!$B$2:$B$161)","v":0},null,null,null,null,31,{"$f":"$Q$50","v":122},{"$f":"LOOKUP(J99,Names!$A$2:$A$161,Names!$B$2:$B$161)","v":0},null,null,null,null,31,{"$f":"$Q$51","v":123},{"$f":"LOOKUP(Q99,Names!$A$2:$A$161,Names!$B$2:$B$161)","v":0},null,null,null,null,31,{"$f":"$Q$52","v":124},{"$f":"LOOKUP(X99,Names!$A$2:$A$161,Names!$B$2:$B$161)","v":0}]
[32,32,{"$f":"$X$49","v":125},{"$f":"LOOKUP(C100,Names!$A$2:$A$161,Names!$B$2:$B$161)","v":0},null,null,null,null,32,{"$f":"$X$50","v":126},{"$f":"LOOKUP(J100,Names!$A$2:$A$161,Names!$B$2:$B$161)","v":0},null,null,null,null,32,{"$f":"$X$51","v":127},{"$f":"LOOKUP(Q100,Names!$A$2:$A$161,Names!$B$2:$B$161)","v":0},null,null,null,null,32,{"$f":"$X$52","v":128},{"$f":"LOOKUP(X100,Names!$A$2:$A$161,Names!$B$2:$B$161)","v":0}]
[33,33,{"$f":"$C$55","v":129},{"$f":"LOOKUP(C101,Names!$A$2:$A$161,Names!$B$2:$B$161)","v":0},null,null,null,null,33,{"$f":"$C$56","v":130},{"$f":"LOOKUP(J101,Names!$A$2:$A$161,Names!$B$2:$B$161)","v":0},null,null,null,null,33,{"$f":"$C$57","v":131},{"$f":"LOOKUP(Q101,Names!$A$2:$A$161,Names!$B$2:$B$161)","v":0},null,null,null,null,33,{"$f":"$C$58","v":132},{"$f":"LOOKUP(X101,Names!$A$2:$A$161,Names!$B$2:$B$161)","v":0}]
[34,34,{"$f":"$J$55","v":133},{"$f":"LOOKUP(C102,Names!$A$2:$A$161,Names!$B$2:$B$161)","v":0},null,null,null,null,34,{"$f":"$J$56","v":134},{"$f":"LOOKUP(J102,Names!$A$2:$A$161,Names!$B$2:$B$161)","v":0},null,null,null,null,34,{"$f":"$J$57","v":135},{"$f":"LOOKUP(Q102,Names!$A$2:$A$161,Names!$B$2:$B$161)","v":0},null,null,null,null,34,{"$f":"$J$58","v":136},{"$f":"LOOKUP(X102,Names!$A$2:$A$161,Names!$B$2:$B$161)","v":0}]
[35,35,{"$f":"$Q$55","v":137},{"$f":"LOOKUP(C103,Names!$A$2:$A$161,Names!$B$2:$B$161)","v":0},null,null,null,null,35,{"$f":"$Q$56","v":138},{"$f":"LOOKUP(J103,Names!$A$2:$A$161,Names!$B$2:$B$161)","v":0},null,null,null,null,35,{"$f":"$Q$57","v":139},{"$f":"LOOKUP(Q103,Names!$A$2:$A$161,Names!$B$2:$B$161)","v":0},null,null,null,null,35,{"$f":"$Q$58","v":140},{"$f":"LOOKUP(X103,Names!$A$2:$A$161,Names!$B$2:$B$161)","v":0}]
[36,36,{"$f":"$X$55","v":141},{"$f":"LOOKUP(C104,Names!$A$2:$A$161,Names!$B$2:$B$161)","v":0},null,null,null,null,36,{"$f":"$X$56","v":142},{"$f":"LOOKUP(J104,Names!$A$2:$A$161,Names!$B$2:$B$161)","v":0},null,null,null,null,36,{"$f":"$X$57","v":143},{"$f":"LOOKUP(Q104,Names!$A$2:$A$161,Names!$B$2:$B$161)","v":0},null,null,null,null,36,{"$f":"$X$58","v":144},{"$f":"LOOKUP(X104,Names!$A$2:$A$161,Names!$B$2:$B$161)","v":0}]
[37,37,{"$f":"$C$61","v":145},{"$f":"LOOKUP(C105,Names!$A$2:$A$161,Names!$B$2:$B$161)","v":0},null,null,null,null,37,{"$f":"$C$62","v":146},{"$f":"LOOKUP(J105,Names!$A$2:$A$161,Names!$B$2:$B$161)","v":0},null,null,null,null,37,{"$f":"$C$63","v":147},{"$f":"LOOKUP(Q105,Names!$A$2:$A$161,Names!$B$2:$B$161)","v":0},null,null,null,null,37,{"$f":"$C$64","v":148},{"$f":"LOOKUP(X105,Names!$A$2:$A$161,Names!$B$2:$B$161)","v":0}]
[38,38,{"$f":"$J$61","v":149},{"$f":"LOOKUP(C106,Names!$A$2:$A$161,Names!$B$2:$B$161)","v":0},null,null,null,null,38,{"$f":"$J$62","v":150},{"$f":"LOOKUP(J106,Names!$A$2:$A$161,Names!$B$2:$B$161)","v":0},null,null,null,null,38,{"$f":"$J$63","v":151},{"$f":"LOOKUP(Q106,Names!$A$2:$A$161,Names!$B$2:$B$161)","v":0},null,null,null,null,38,{"$f":"$J$64","v":152},{"$f":"LOOKUP(X106,Names!$A$2:$A$161,Names!$B$2:$B$161)","v":0}]
[39,39,{"$f":"$Q$61","v":153},{"$f":"LOOKUP(C107,Names!$A$2:$A$161,Names!$B$2:$B$161)","v":0},null,null,null,null,39,{"$f":"$Q$62","v":154},{"$f":"LOOKUP(J107,Names!$A$2:$A$161,Names!$B$2:$B$161)","v":0},null,null,null,null,39,{"$f":"$Q$63","v":155},{"$f":"LOOKUP(Q107,Names!$A$2:$A$161,Names!$B$2:$B$161)","v":0},null,null,null,null,39,{"$f":"$Q$64","v":156},{"$f":"LOOKUP(X107,Names!$A$2:$A$161,Names!$B$2:$B$161)","v":0}]
[40,40,{"$f":"$X$61","v":157},{"$f":"LOOKUP(C108,Names!$A$2:$A$161,Names!$B$2:$B$161)","v":0},null,null,null,null,40,{"$f":"$X$62","v":158},{"$f":"LOOKUP(J108,Names!$A$2:$A$161,Names!$B$2:$B$161)","v":0},null,null,null,null,40,{"$f":"$X$63","v":159},{"$f":"LOOKUP(Q108,Names!$A$2:$A$161,Names!$B$2:$B$161)","v":0},null,null,null,null,40,{"$f":"$X$64","v":160},{"$f":"LOOKUP(X108,Names!$A$2:$A$161,Names!$B$2:$B$161)","v":0}]

{"sheet":"R2","index":3,"n_rows":108,"n_cols":31,"rows_kept":108,"cut":false,"hidden":false,"merged":[[58,24,58,26],[40,3,40,5],[40,10,40,12],[40,17,40,19],[40,24,40,26],[46,3,46,5],[46,10,46,12],[46,17,46,19],[46,24,46,26],[27,3,27,5],[27,10,27,12],[27,17,27,19],[27,24,27,26],[66,3,66,5],[66,10,66,12],[66,17,66,19],[66,24,66,26],[52,3,52,5],[52,10,52,12],[52,17,52,19],[52,24,52,26],[65,10,65,19],[58,3,58,5],[58,10,58,12],[58,17,58,19],[34,3,34,5],[34,10,34,12],[34,17,34,19],[34,24,34,26],[9,3,9,5],[9,10,9,12],[9,17,9,19],[9,24,9,26],[15,3,15,5],[15,10,15,12],[15,17,15,19],[15,24,15,26],[21,3,21,5],[21,10,21,12],[21,17,21,19],[21,24,21,26],[0,24,2,26],[3,3,3,5],[3,10,3,12],[3,17,3,19],[3,24,3,26],[0,11,0,17],[2,11,2,17]]}
[null,null,null,null,null,null,null,null,null,null,null,"Round ( 2 )",null,null,null,null,null,null,null,null,null,null,null,null,{"$f":"Score!Q1","v":"بطولة الاتحاد الثامنة للفردي المفتوح"}]
[]
[null,null,null,null,null,null,null,null,null,null,null,"Tab."]
[null,null,null,1,null,null,null,null,null,null,2,null,null,null,null,null,null,3,null,null,null,null,null,null,4]
[null,null,null,"Names","Sc.","Tab",null,null,null,null,"Names","Sc.","Tab",null,null,null,null,"Names","Sc.","Tab",null,null,null,null,"Names","Sc.","Tab"]
["N",1,{"$f":"Score!I5","v":1},{"$f":"LOOKUP(C6,Names!$A$2:$A$161,Names!$B$2:$B$161)","v":"إبراهيم عرفان السقا"},165,{"$f":"Sheet1!$M$4","v":4.75},{"$f":"F69","v":10.5},"N",1,{"$f":"Score!I9","v":17},{"$f":"LOOKUP(J6,Names!$A$2:$A$161,Names!$B$2:$B$161)","v":"مينا ناجح صبحي"},228,{"$f":"Sheet1!$M$4","v":4.75},{"$f":"F70","v":16},"N",1,{"$f":"Score!I13","v":33},{"$f":"LOOKUP(Q6,Names!$A$2:$A$161,Names!$B$2:$B$161)","v":"أحمد إبراهيم غانم"},165,{"$f":"Sheet1!$M$5","v":2.85},{"$f":"F71","v":10.5},"N",1,{"$f":"Score!I17","v":14},{"$f":"LOOKUP(X6,Names!$A$2:$A$161,Names!$B$2:$B$161)","v":"أحمد محمد محمدي"},146,{"$f":"Sheet1!$M$6","v":1.9000000000000001},{"$f":"F72","v":6.5}]
["W",2,{"$f":"Score!I6","v":5},{"$f":"LOOKUP(C7,Names!$A$2:$A$161,Names!$B$2:$B$161)","v":"أحمد محمد أمين"},154,{"$f":"Sheet1!$M$5","v":2.85},{"$f":"M69","v":13},"W",2,{"$f":"Score!I10","v":21},{"$f":"LOOKUP(J7,Names!$A$2:$A$161,Names!$B$2:$B$161)","v":"محمد طارق عبد الله"},102,{"$f":"Sheet1!$M$6","v":1.9000000000000001},{"$f":"M70","v":1},"W",2,{"$f":"Score!I14","v":2},{"$f":"LOOKUP(Q7,Names!$A$2:$A$161,Names!$B$2:$B$161)","v":"مصطفى محمد علي شرف"},190,{"$f":"Sheet1!$M$4","v":4.75},{"$f":"M71","v":15},"W",2,{"$f":"Score!I18","v":18},{"$f":"LOOKUP(X7,Names!$A$2:$A$161,Names!$B$2:$B$161)","v":"وليد شعبان إسماعيل علي"},148,{"$f":"Sheet1!$M$5","v":2.85},{"$f":"M72","v":10}]
["S",3,{"$f":"Score!I7","v":9},{"$f":"LOOKUP(C8,Names!$A$2:$A$161,Names!$B$2:$B$161)","v":" عمرو محمد مصطفى"},68,{"$f":"Sheet1!$M$7","v":0},{"$f":"T69","v":3},"S",3,{"$f":"Score!I11","v":25},{"$f":"LOOKUP(J8,Names!$A$2:$A$161,Names!$B$2:$B$161)","v":"خالد حمدي محمد السيد"},127,{"$f":"Sheet1!$M$5","v":2.85},{"$f":"T70","v":9},"S",3,{"$f":"Score!I15","v":6},{"$f":"LOOKUP(Q8,Names!$A$2:$A$161,Names!$B$2:$B$161)","v":"معتز محمد عبد المنعم"},60,{"$f":"Sheet1!$M$7","v":0},{"$f":"T71","v":2},"S",3,{"$f":"Score!I19","v":22},{"$f":"LOOKUP(X8,Names!$A$2:$A$161,Names!$B$2:$B$161)","v":"يوسف مسعد فراج"},184,{"$f":"Sheet1!$M$4","v":4.75},{"$f":"T72","v":16}]
["E",4,{"$f":"Score!I8","v":13},{"$f":"LOOKUP(C9,Names!$A$2:$A$161,Names!$B$2:$B$161)","v":"عمرو سمير دسوقي"},143,{"$f":"Sheet1!$M$6","v":1.9000000000000001},{"$f":"AA69","v":10},"E",4,{"$f":"Score!I12","v":29},{"$f":"LOOKUP(J9,Names!$A$2:$A$161,Names!$B$2:$B$161)","v":"اسلام نصر الغنام"},29,{"$f":"Sheet1!$M$7","v":0},{"$f":"AA70","v":1},"E",4,{"$f":"Score!I16","v":10},{"$f":"LOOKUP(Q9,Names!$A$2:$A$161,Names!$B$2:$B$161)","v":"تامر تيمور شكري"},159,{"$f":"Sheet1!$M$6","v":1.9000000000000001},{"$f":"AA71","v":11},"E",4,{"$f":"Score!I20","v":26},{"$f":"LOOKUP(X9,Names!$A$2:$A$161,Names!$B$2:$B$161)","v":"علاء شوقي جبريل"},105,{"$f":"Sheet1!$M$7","v":0},{"$f":"AA72","v":5}]
[null,null,null,5,null,null,null,null,null,null,6,null,null,null,null,null,null,7,null,null,null,null,null,null,8]
[null,null,null,"Names","Sc.","Tab",null,null,null,null,"Names","Sc.","Tab",null,null,null,null,"Names","Sc.","Tab",null,null,null,null,"Names","Sc.","Tab"]
["N",1,{"$f":"Score!I21","v":30},{"$f":"LOOKUP(C12,Names!$A$2:$A$161,Names!$B$2:$B$161)","v":"محمد سعيد الفطاطري"},146,{"$f":"Sheet1!$M$5","v":2.85},{"$f":"F73","v":6.5},"N",1,{"$f":"Score!I25","v":11},{"$f":"LOOKUP(J12,Names!$A$2:$A$161,Names!$B$2:$B$161)","v":"هيثم العشماوي"},140,{"$f":"Sheet1!$M$5","v":2.85},{"$f":"F74","v":4},"N",1,{"$f":"Score!I29","v":27},{"$f":"LOOKUP(Q12,Names!$A$2:$A$161,Names!$B$2:$B$161)","v":"أحمد سمير خلف على"},233,{"$f":"Sheet1!$M$4","v":4.75},{"$f":"F75","v":17},"N",1,{"$f":"Score!I33","v":8},{"$f":"LOOKUP(X12,Names!$A$2:$A$161,Names!$B$2:$B$161)","v":"عبد الرحمن محمود عثمان"},94,{"$f":"Sheet1!$M$7","v":0},{"$f":"F76","v":1}]
["W",2,{"$f":"Score!I22","v":34},{"$f":"LOOKUP(C13,Names!$A$2:$A$161,Names!$B$2:$B$161)","v":"شريف حلمي"},153,{"$f":"Sheet1!$M$4","v":4.75},{"$f":"M73","v":12},"W",2,{"$f":"Score!I26","v":15},{"$f":"LOOKUP(J13,Names!$A$2:$A$161,Names!$B$2:$B$161)","v":"حسام الدين صلاح أبو الفتوح"},114,{"$f":"Sheet1!$M$7","v":0},{"$f":"M74","v":3},"W",2,{"$f":"Score!I30","v":31},{"$f":"LOOKUP(Q13,Names!$A$2:$A$161,Names!$B$2:$B$161)","v":"أحمد بسيوني"},121,{"$f":"Sheet1!$M$6","v":1.9000000000000001},{"$f":"M75","v":5},"W",2,{"$f":"Score!I34","v":12},{"$f":"LOOKUP(X13,Names!$A$2:$A$161,Names!$B$2:$B$161)","v":"أحمد علي السيد شرع"},149,{"$f":"Sheet1!$M$4","v":4.75},{"$f":"M76","v":11}]
["S",3,{"$f":"Score!I23","v":3},{"$f":"LOOKUP(C14,Names!$A$2:$A$161,Names!$B$2:$B$161)","v":"أحمد محمد حمدي صالح"},112,{"$f":"Sheet1!$M$7","v":0},{"$f":"T73","v":8},"S",3,{"$f":"Score!I27","v":19},{"$f":"LOOKUP(J14,Names!$A$2:$A$161,Names!$B$2:$B$161)","v":"محمد أحمد محمد عبد الله"},203,{"$f":"Sheet1!$M$4","v":4.75},{"$f":"T74","v":19},"S",3,{"$f":"Score!I31","v":35},{"$f":"LOOKUP(Q14,Names!$A$2:$A$161,Names!$B$2:$B$161)","v":"أحمد فؤاد حسنين"},43,{"$f":"Sheet1!$M$7","v":0},{"$f":"T75","v":1},"S",3,{"$f":"Score!I35","v":16},{"$f":"LOOKUP(X14,Names!$A$2:$A$161,Names!$B$2:$B$161)","v":"طارق عبد الغني السحار"},99,{"$f":"Sheet1!$M$6","v":1.9000000000000001},{"$f":"T76","v":6}]
["E",4,{"$f":"Score!I24","v":7},{"$f":"LOOKUP(C15,Names!$A$2:$A$161,Names!$B$2:$B$161)","v":"هيثم محمد شبانة"},120,{"$f":"Sheet1!$M$6","v":1.9000000000000001},{"$f":"AA73","v":7},"E",4,{"$f":"Score!I28","v":23},{"$f":"LOOKUP(J15,Names!$A$2:$A$161,Names!$B$2:$B$161)","v":"جمال احمد محمد جمال"},134,{"$f":"Sheet1!$M$6","v":1.9000000000000001},{"$f":"AA74","v":9},"E",4,{"$f":"Score!I32","v":4},{"$f":"LOOKUP(Q15,Names!$A$2:$A$161,Names!$B$2:$B$161)","v":"أحمد جميل السيد"},163,{"$f":"Sheet1!$M$5","v":2.85},{"$f":"AA75","v":13},"E",4,{"$f":"Score!I36","v":20},{"$f":"LOOKUP(X15,Names!$A$2:$A$161,Names!$B$2:$B$161)","v":"عصام الدين محمد عبد العاطي"},127,{"$f":"Sheet1!$M$5","v":2.85},{"$f":"AA76","v":8}]
[null,null,null,9,null,null,null,null,null,null,10,null,null,null,null,null,null,11,null,null,null,null,null,null,12]
[null,null,null,"Names","Sc.","Tab",null,null,null,null,"Names","Sc.","Tab",null,null,null,null,"Names","Sc.","Tab",null,null,null,null,"Names","Sc.","Tab"]
["N",1,{"$f":"Score!I37","v":24},{"$f":"LOOKUP(C18,Names!$A$2:$A$161,Names!$B$2:$B$161)","v":"يامن محمد حسن"},160,{"$f":"Sheet1!$M$5","v":2.85},{"$f":"F77","v":8},"N",1,{"$f":"Score!I41","v":0},{"$f":"LOOKUP(J18,Names!$A$2:$A$161,Names!$B$2:$B$161)","v":{"$error":"#N/A"}},null,null,{"$f":"F78","v":0},"N",1,{"$f":"Score!I45","v":0},{"$f":"LOOKUP(Q18,Names!$A$2:$A$161,Names!$B$2:$B$161)","v":{"$error":"#N/A"}},null,null,{"$f":"F79","v":0},"N",1,{"$f":"Score!I49","v":0},{"$f":"LOOKUP(X18,Names!$A$2:$A$161,Names!$B$2:$B$161)","v":{"$error":"#N/A"}},null,null,{"$f":"F80","v":0}]
["W",2,{"$f":"Score!I38","v":28},{"$f":"LOOKUP(C19,Names!$A$2:$A$161,Names!$B$2:$B$161)","v":"محمد حسن عبد القادر"},237,{"$f":"Sheet1!$M$4","v":4.75},{"$f":"M77","v":19},"W",2,{"$f":"Score!I42","v":0},{"$f":"LOOKUP(J19,Names!$A$2:$A$161,Names!$B$2:$B$161)","v":{"$error":"#N/A"}},null,null,{"$f":"M78","v":0},"W",2,{"$f":"Score!I46","v":0},{"$f":"LOOKUP(Q19,Names!$A$2:$A$161,Names!$B$2:$B$161)","v":{"$error":"#N/A"}},null,null,{"$f":"M79","v":0},"W",2,{"$f":"Score!I50","v":0},{"$f":"LOOKUP(X19,Names!$A$2:$A$161,Names!$B$2:$B$161)","v":{"$error":"#N/A"}},null,null,{"$f":"M80","v":0}]
["S",3,{"$f":"Score!I39","v":32},{"$f":"LOOKUP(C20,Names!$A$2:$A$161,Names!$B$2:$B$161)","v":"أمير محمد خطاب"},131,{"$f":"Sheet1!$M$6","v":1.9000000000000001},{"$f":"T77","v":13},"S",3,{"$f":"Score!I43","v":0},{"$f":"LOOKUP(J20,Names!$A$2:$A$161,Names!$B$2:$B$161)","v":{"$error":"#N/A"}},null,null,{"$f":"T78","v":0},"S",3,{"$f":"Score!I47","v":0},{"$f":"LOOKUP(Q20,Names!$A$2:$A$161,Names!$B$2:$B$161)","v":{"$error":"#N/A"}},null,null,{"$f":"T79","v":0},"S",3,{"$f":"Score!I51","v":0},{"$f":"LOOKUP(X20,Names!$A$2:$A$161,Names!$B$2:$B$161)","v":{"$error":"#N/A"}},null,null,{"$f":"T80","v":0}]
["E",4,{"$f":"Score!I40","v":36},{"$f":"LOOKUP(C21,Names!$A$2:$A$161,Names!$B$2:$B$161)","v":"محمد محمود فضل"},84,{"$f":"Sheet1!$M$7","v":0},{"$f":"AA77","v":3},"E",4,{"$f":"Score!I44","v":0},{"$f":"LOOKUP(J21,Names!$A$2:$A$161,Names!$B$2:$B$161)","v":{"$error":"#N/A"}},null,null,{"$f":"AA78","v":0},"E",4,{"$f":"Score!I48","v":0},{"$f":"LOOKUP(Q21,Names!$A$2:$A$161,Names!$B$2:$B$161)","v":{"$error":"#N/A"}},null,null,{"$f":"AA79","v":0},"E",4,{"$f":"Score!I52","v":0},{"$f":"LOOKUP(X21,Names!$A$2:$A$161,Names!$B$2:$B$161)","v":{"$error":"#N/A"}},null,null,{"$f":"AA80","v":0}]
[null,null,null,13,null,null,null,null,null,null,14,null,null,null,null,null,null,15,null,null,null,null,null,null,16]
[null,null,null,"Names","Sc.","Tab",null,null,null,null,"Names","Sc.","Tab",null,null,null,null,"Names","Sc.","Tab",null,null,null,null,"Names","Sc.","Tab"]
["N",1,{"$f":"Score!I53","v":0},{"$f":"LOOKUP(C24,Names!$A$2:$A$161,Names!$B$2:$B$161)","v":{"$error":"#N/A"}},0,{"$f":"Sheet1!$M$4","v":4.75},{"$f":"F81","v":0},"N",1,{"$f":"Score!I57","v":0},{"$f":"LOOKUP(J24,Names!$A$2:$A$161,Names!$B$2:$B$161)","v":{"$error":"#N/A"}},0,{"$f":"Sheet1!$M$4","v":4.75},{"$f":"F82","v":0},"N",1,{"$f":"Score!I61","v":0},{"$f":"LOOKUP(Q24,Names!$A$2:$A$161,Names!$B$2:$B$161)","v":{"$error":"#N/A"}},0,{"$f":"Sheet1!$M$4","v":4.75},{"$f":"F83","v":0},"N",1,{"$f":"Score!I65","v":0},{"$f":"LOOKUP(X24,Names!$A$2:$A$161,Names!$B$2:$B$161)","v":{"$error":"#N/A"}},0,{"$f":"Sheet1!$M$4","v":4.75},{"$f":"F84","v":0}]
["W",2,{"$f":"Score!I54","v":0},{"$f":"LOOKUP(C25,Names!$A$2:$A$161,Names!$B$2:$B$161)","v":{"$error":"#N/A"}},0,{"$f":"Sheet1!$M$5","v":2.85},{"$f":"M81","v":0},"W",2,{"$f":"Score!I58","v":0},{"$f":"LOOKUP(J25,Names!$A$2:$A$161,Names!$B$2:$B$161)","v":{"$error":"#N/A"}},0,{"$f":"Sheet1!$M$5","v":2.85},{"$f":"M82","v":0},"W",2,{"$f":"Score!I62","v":0},{"$f":"LOOKUP(Q25,Names!$A$2:$A$161,Names!$B$2:$B$161)","v":{"$error":"#N/A"}},0,{"$f":"Sheet1!$M$5","v":2.85},{"$f":"M83","v":0},"W",2,{"$f":"Score!I66","v":0},{"$f":"LOOKUP(X25,Names!$A$2:$A$161,Names!$B$2:$B$161)","v":{"$error":"#N/A"}},0,{"$f":"Sheet1!$M$5","v":2.85},{"$f":"M84","v":0}]
["S",3,{"$f":"Score!I55","v":0},{"$f":"LOOKUP(C26,Names!$A$2:$A$161,Names!$B$2:$B$161)","v":{"$error":"#N/A"}},0,{"$f":"Sheet1!$M$6","v":1.9000000000000001},{"$f":"T81","v":0},"S",3,{"$f":"Score!I59","v":0},{"$f":"LOOKUP(J26,Names!$A$2:$A$161,Names!$B$2:$B$161)","v":{"$error":"#N/A"}},0,{"$f":"Sheet1!$M$6","v":1.9000000000000001},{"$f":"T82","v":0},"S",3,{"$f":"Score!I63","v":0},{"$f":"LOOKUP(Q26,Names!$A$2:$A$161,Names!$B$2:$B$161)","v":{"$error":"#N/A"}},0,{"$f":"Sheet1!$M$6","v":1.9000000000000001},{"$f":"T83","v":0},"S",3,{"$f":"Score!I67","v":0},{"$f":"LOOKUP(X26,Names!$A$2:$A$161,Names!$B$2:$B$161)","v":{"$error":"#N/A"}},0,{"$f":"Sheet1!$M$6","v":1.9000000000000001},{"$f":"T84","v":0}]
["E",4,{"$f":"Score!I56","v":0},{"$f":"LOOKUP(C27,Names!$A$2:$A$161,Names!$B$2:$B$161)","v":{"$error":"#N/A"}},0,{"$f":"Sheet1!$M$7","v":0},{"$f":"AA81","v":0},"E",4,{"$f":"Score!I60","v":0},{"$f":"LOOKUP(J27,Names!$A$2:$A$161,Names!$B$2:$B$161)","v":{"$error":"#N/A"}},0,{"$f":"Sheet1!$M$7","v":0},{"$f":"AA82","v":0},"E",4,{"$f":"Score!I64","v":0},{"$f":"LOOKUP(Q27,Names!$A$2:$A$161,Names!$B$2:$B$161)","v":{"$error":"#N/A"}},0,{"$f":"Sheet1!$M$7","v":0},{"$f":"AA83","v":0},"E",4,{"$f":"Score!I68","v":0},{"$f":"LOOKUP(X27,Names!$A$2:$A$161,Names!$B$2:$B$161)","v":{"$error":"#N/A"}},0,{"$f":"Sheet1!$M$7","v":0},{"$f":"AA84","v":0}]
[null,null,null,17,null,null,null,null,null,null,18,null,null,null,null,null,null,19,null,null,null,null,null,null,20]
[null,null,null,"Names","Sc.","Tab",null,null,null,null,"Names","Sc.","Tab",null,null,null,null,"Names","Sc.","Tab",null,null,null,null,"Names","Sc.","Tab"]
["N",1,{"$f":"Score!I69","v":0},{"$f":"LOOKUP(C30,Names!$A$2:$A$161,Names!$B$2:$B$161)","v":{"$error":"#N/A"}},0,{"$f":"Sheet1!$M$4","v":4.75},{"$f":"F85","v":0},"N",1,{"$f":"Score!I73","v":0},{"$f":"LOOKUP(J30,Names!$A$2:$A$161,Names!$B$2:$B$161)","v":{"$error":"#N/A"}},0,{"$f":"Sheet1!$M$4","v":4.75},{"$f":"F86","v":0},"N",1,{"$f":"Score!I77","v":0},{"$f":"LOOKUP(Q30,Names!$A$2:$A$161,Names!$B$2:$B$161)","v":{"$error":"#N/A"}},0,{"$f":"Sheet1!$M$4","v":4.75},{"$f":"F87","v":0},"N",1,{"$f":"Score!I81","v":0},{"$f":"LOOKUP(X30,Names!$A$2:$A$161,Names!$B$2:$B$161)","v":{"$error":"#N/A"}},0,{"$f":"Sheet1!$M$4","v":4.75},{"$f":"F88","v":0}]
["W",2,{"$f":"Score!I70","v":0},{"$f":"LOOKUP(C31,Names!$A$2:$A$161,Names!$B$2:$B$161)","v":{"$error":"#N/A"}},0,{"$f":"Sheet1!$M$5","v":2.85},{"$f":"M85","v":0},"W",2,{"$f":"Score!I74","v":0},{"$f":"LOOKUP(J31,Names!$A$2:$A$161,Names!$B$2:$B$161)","v":{"$error":"#N/A"}},0,{"$f":"Sheet1!$M$5","v":2.85},{"$f":"M86","v":0},"W",2,{"$f":"Score!I78","v":0},{"$f":"LOOKUP(Q31,Names!$A$2:$A$161,Names!$B$2:$B$161)","v":{"$error":"#N/A"}},0,{"$f":"Sheet1!$M$5","v":2.85},{"$f":"M87","v":0},"W",2,{"$f":"Score!I82","v":0},{"$f":"LOOKUP(X31,Names!$A$2:$A$161,Names!$B$2:$B$161)","v":{"$error":"#N/A"}},0,{"$f":"Sheet1!$M$5","v":2.85},{"$f":"M88","v":0}]
["S",3,{"$f":"Score!I71","v":0},{"$f":"LOOKUP(C32,Names!$A$2:$A$161,Names!$B$2:$B$161)","v":{"$error":"#N/A"}},0,{"$f":"Sheet1!$M$6","v":1.9000000000000001},{"$f":"T85","v":0},"S",3,{"$f":"Score!I75","v":0},{"$f":"LOOKUP(J32,Names!$A$2:$A$161,Names!$B$2:$B$161)","v":{"$error":"#N/A"}},0,{"$f":"Sheet1!$M$6","v":1.9000000000000001},{"$f":"T86","v":0},"S",3,{"$f":"Score!I79","v":0},{"$f":"LOOKUP(Q32,Names!$A$2:$A$161,Names!$B$2:$B$161)","v":{"$error":"#N/A"}},0,{"$f":"Sheet1!$M$6","v":1.9000000000000001},{"$f":"T87","v":0},"S",3,{"$f":"Score!I83","v":0},{"$f":"LOOKUP(X32,Names!$A$2:$A$161,Names!$B$2:$B$161)","v":{"$error":"#N/A"}},0,{"$f":"Sheet1!$M$6","v":1.9000000000000001},{"$f":"T88","v":0}]
["E",4,{"$f":"Score!I72","v":0},{"$f":"LOOKUP(C33,Names!$A$2:$A$161,Names!$B$2:$B$161)","v":{"$error":"#N/A"}},0,{"$f":"Sheet1!$M$7","v":0},{"$f":"AA85","v":0},"E",4,{"$f":"Score!I76","v":0},{"$f":"LOOKUP(J33,Names!$A$2:$A$161,Names!$B$2:$B$161)","v":{"$error":"#N/A"}},0,{"$f":"Sheet1!$M$7","v":0},{"$f":"AA86","v":0},"E",4,{"$f":"Score!I80","v":0},{"$f":"LOOKUP(Q33,Names!$A$2:$A$161,Names!$B$2:$B$161)","v":{"$error":"#N/A"}},0,{"$f":"Sheet1!$M$7","v":0},{"$f":"AA87","v":0},"E",4,{"$f":"Score!I84","v":0},{"$f":"LOOKUP(X33,Names!$A$2:$A$161,Names!$B$2:$B$161)","v":{"$error":"#N/A"}},0,{"$f":"Sheet1!$M$7","v":0},{"$f":"AA88","v":0}]
[]
[null,null,null,21,null,null,null,null,null,null,22,null,null,null,null,null,null,23,null,null,null,null,null,null,24]
[null,null,null,"Names","Sc.","Tab",null,null,null,null,"Names","Sc.","Tab",null,null,null,null,"Names","Sc.","Tab",null,null,null,null,"Names","Sc.","Tab"]
["N",1,{"$f":"Score!I85","v":81},{"$f":"LOOKUP(C37,Names!$A$2:$A$161,Names!$B$2:$B$161)","v":"راجي محمد صبحي"},113,{"$f":"Sheet1!$M$6","v":1.9000000000000001},{"$f":"F89","v":2},"N",1,{"$f":"Score!I89","v":97},{"$f":"LOOKUP(J37,Names!$A$2:$A$161,Names!$B$2:$B$161)","v":"خالد محمد شبارة"},167,{"$f":"Sheet1!$M$6","v":1.9000000000000001},{"$f":"F90","v":12},"N",1,{"$f":"Score!I93","v":113},{"$f":"LOOKUP(Q37,Names!$A$2:$A$161,Names!$B$2:$B$161)","v":"محمد حسن فهيم"},181,{"$f":"Sheet1!$M$5","v":2.85},{"$f":"F91","v":13},"N",1,{"$f":"Score!I97","v":94},{"$f":"LOOKUP(X37,Names!$A$2:$A$161,Names!$B$2:$B$161)","v":"محمد عصام الدين القاضي"},250,{"$f":"Sheet1!$M$4","v":4.75},{"$f":"F92","v":19}]
["W",2,{"$f":"Score!I86","v":85},{"$f":"LOOKUP(C38,Names!$A$2:$A$161,Names!$B$2:$B$161)","v":"محمد عبد الهادي أبو القاسم"},109,{"$f":"Sheet1!$M$7","v":0},{"$f":"M89","v":2},"W",2,{"$f":"Score!I90","v":101},{"$f":"LOOKUP(J38,Names!$A$2:$A$161,Names!$B$2:$B$161)","v":"أحمد محمد شوقى عبد الحميد"},136,{"$f":"Sheet1!$M$7","v":0},{"$f":"M90","v":7},"W",2,{"$f":"Score!I94","v":82},{"$f":"LOOKUP(Q38,Names!$A$2:$A$161,Names!$B$2:$B$161)","v":"أحمد صلاح الدين دياب"},118,{"$f":"Sheet1!$M$7","v":0},{"$f":"M91","v":4},"W",2,{"$f":"Score!I98","v":98},{"$f":"LOOKUP(X38,Names!$A$2:$A$161,Names!$B$2:$B$161)","v":"محمد محمود شعبان رمضان"},205,{"$f":"Sheet1!$M$5","v":2.85},{"$f":"M92","v":16}]
["S",3,{"$f":"Score!I87","v":89},{"$f":"LOOKUP(C39,Names!$A$2:$A$161,Names!$B$2:$B$161)","v":"محمد بلبع"},128,{"$f":"Sheet1!$M$5","v":2.85},{"$f":"T89","v":10},"S",3,{"$f":"Score!I91","v":105},{"$f":"LOOKUP(J39,Names!$A$2:$A$161,Names!$B$2:$B$161)","v":"مصطفى عبد الحفيظ علي"},175,{"$f":"Sheet1!$M$5","v":2.85},{"$f":"T90","v":15},"S",3,{"$f":"Score!I95","v":86},{"$f":"LOOKUP(Q39,Names!$A$2:$A$161,Names!$B$2:$B$161)","v":"ايهاب يوسف عمارة"},173,{"$f":"Sheet1!$M$6","v":1.9000000000000001},{"$f":"T91","v":14},"S",3,{"$f":"Score!I99","v":102},{"$f":"LOOKUP(X39,Names!$A$2:$A$161,Names!$B$2:$B$161)","v":"سامي محمود الفولي"},97,{"$f":"Sheet1!$M$7","v":0},{"$f":"T92","v":5}]
["E",4,{"$f":"Score!I88","v":93},{"$f":"LOOKUP(C40,Names!$A$2:$A$161,Names!$B$2:$B$161)","v":"جمال السيد توفيق"},172,{"$f":"Sheet1!$M$4","v":4.75},{"$f":"AA89","v":14},"E",4,{"$f":"Score!I92","v":109},{"$f":"LOOKUP(J40,Names!$A$2:$A$161,Names!$B$2:$B$161)","v":"نبيل خلف زكي"},206,{"$f":"Sheet1!$M$4","v":4.75},{"$f":"AA90","v":16},"E",4,{"$f":"Score!I96","v":90},{"$f":"LOOKUP(Q40,Names!$A$2:$A$161,Names!$B$2:$B$161)","v":"محمد علي حسن طه الأمام"},217,{"$f":"Sheet1!$M$4","v":4.75},{"$f":"AA91","v":17},"E",4,{"$f":"Score!I100","v":106},{"$f":"LOOKUP(X40,Names!$A$2:$A$161,Names!$B$2:$B$161)","v":"أحمد عبد العزيز العطار"},113,{"$f":"Sheet1!$M$6","v":1.9000000000000001},{"$f":"AA92","v":6}]
[null,null,null,25,null,null,null,null,null,null,26,null,null,null,null,null,null,27,null,null,null,null,null,null,28]
[null,null,null,"Names","Sc.","Tab",null,null,null,null,"Names","Sc.","Tab",null,null,null,null,"Names","Sc.","Tab",null,null,null,null,"Names","Sc.","Tab"]
["N",1,{"$f":"Score!I101","v":110},{"$f":"LOOKUP(C43,Names!$A$2:$A$161,Names!$B$2:$B$161)","v":"أسامة أحمد زكي"},224,{"$f":"Sheet1!$M$4","v":4.75},{"$f":"F93","v":15},"N",1,{"$f":"Score!I105","v":91},{"$f":"LOOKUP(J43,Names!$A$2:$A$161,Names!$B$2:$B$161)","v":"عماد محمد فؤاد مرسي"},164,{"$f":"Sheet1!$M$4","v":4.75},{"$f":"F94","v":9},"N",1,{"$f":"Score!I109","v":107},{"$f":"LOOKUP(Q43,Names!$A$2:$A$161,Names!$B$2:$B$161)","v":"شادي أحمد محمود وهبة"},130,{"$f":"Sheet1!$M$6","v":1.9000000000000001},{"$f":"F95","v":3},"N",1,{"$f":"Score!I113","v":88},{"$f":"LOOKUP(X43,Names!$A$2:$A$161,Names!$B$2:$B$161)","v":"أحمد علي خليل حسن"},143,{"$f":"Sheet1!$M$7","v":0},{"$f":"F96","v":5},null,null,164]
["W",2,{"$f":"Score!I102","v":114},{"$f":"LOOKUP(C44,Names!$A$2:$A$161,Names!$B$2:$B$161)","v":"احمد سردينة"},183,{"$f":"Sheet1!$M$5","v":2.85},{"$f":"M93","v":14},"W",2,{"$f":"Score!I106","v":95},{"$f":"LOOKUP(J44,Names!$A$2:$A$161,Names!$B$2:$B$161)","v":"احمد طنطاوى"},135,{"$f":"Sheet1!$M$6","v":1.9000000000000001},{"$f":"M94","v":6},"W",2,{"$f":"Score!I110","v":111},{"$f":"LOOKUP(Q44,Names!$A$2:$A$161,Names!$B$2:$B$161)","v":"عادل محمد أبو زيد"},206,{"$f":"Sheet1!$M$5","v":2.85},{"$f":"M95","v":17},"W",2,{"$f":"Score!I114","v":92},{"$f":"LOOKUP(X44,Names!$A$2:$A$161,Names!$B$2:$B$161)","v":"أحمد مصطفى راشد"},146,{"$f":"Sheet1!$M$6","v":1.9000000000000001},{"$f":"M96","v":9},null,null,135]
["S",3,{"$f":"Score!I103","v":83},{"$f":"LOOKUP(C45,Names!$A$2:$A$161,Names!$B$2:$B$161)","v":"أسامة لطفى نجيب"},111,{"$f":"Sheet1!$M$7","v":0},{"$f":"T93","v":7},"S",3,{"$f":"Score!I107","v":99},{"$f":"LOOKUP(J45,Names!$A$2:$A$161,Names!$B$2:$B$161)","v":"ماجد محمد فكري"},130,{"$f":"Sheet1!$M$5","v":2.85},{"$f":"T94","v":12},"S",3,{"$f":"Score!I111","v":115},{"$f":"LOOKUP(Q45,Names!$A$2:$A$161,Names!$B$2:$B$161)","v":"خالد عبد العظيم"},77,{"$f":"Sheet1!$M$7","v":0},{"$f":"T95","v":4},"S",3,{"$f":"Score!I115","v":96},{"$f":"LOOKUP(X45,Names!$A$2:$A$161,Names!$B$2:$B$161)","v":"أحمد رمزي الديب"},201,{"$f":"Sheet1!$M$5","v":2.85},{"$f":"T96","v":17},null,null,130]
["E",4,{"$f":"Score!I104","v":87},{"$f":"LOOKUP(C46,Names!$A$2:$A$161,Names!$B$2:$B$161)","v":"ياسر شاهين"},160,{"$f":"Sheet1!$M$6","v":1.9000000000000001},{"$f":"AA93","v":12},"E",4,{"$f":"Score!I108","v":103},{"$f":"LOOKUP(J46,Names!$A$2:$A$161,Names!$B$2:$B$161)","v":"عمرو عماد الدين أبو العلا"},34,{"$f":"Sheet1!$M$7","v":0},{"$f":"AA94","v":2},"E",4,{"$f":"Score!I112","v":84},{"$f":"LOOKUP(Q46,Names!$A$2:$A$161,Names!$B$2:$B$161)","v":"أحمد عز العرب السماحي"},229,{"$f":"Sheet1!$M$4","v":4.75},{"$f":"AA95","v":19},"E",4,{"$f":"Score!I116","v":100},{"$f":"LOOKUP(X46,Names!$A$2:$A$161,Names!$B$2:$B$161)","v":"عبد الرحمن الدمراوى"},205,{"$f":"Sheet1!$M$4","v":4.75},{"$f":"AA96","v":15},null,null,34]
[null,null,null,29,null,null,null,null,null,null,30,null,null,null,null,null,null,31,null,null,null,null,null,null,32]
[null,null,null,"Names","Sc.","Tab",null,null,null,null,"Names","Sc.","Tab",null,null,null,null,"Names","Sc.","Tab",null,null,null,null,"Names","Sc.","Tab"]
["N",1,{"$f":"Score!I117","v":104},{"$f":"LOOKUP(C49,Names!$A$2:$A$161,Names!$B$2:$B$161)","v":"كريم إيهاب عامر"},221,{"$f":"Sheet1!$M$4","v":4.75},{"$f":"F97","v":14},"N",1,{"$f":"Score!I121","v":0},{"$f":"LOOKUP(J49,Names!$A$2:$A$161,Names!$B$2:$B$161)","v":{"$error":"#N/A"}},null,null,{"$f":"F98","v":0},"N",1,{"$f":"Score!I125","v":0},{"$f":"LOOKUP(Q49,Names!$A$2:$A$161,Names!$B$2:$B$161)","v":{"$error":"#N/A"}},null,null,{"$f":"F99","v":0},"N",1,{"$f":"Score!I129","v":0},{"$f":"LOOKUP(X49,Names!$A$2:$A$161,Names!$B$2:$B$161)","v":{"$error":"#N/A"}},null,null,{"$f":"F100","v":0}]
["W",2,{"$f":"Score!I118","v":108},{"$f":"LOOKUP(C50,Names!$A$2:$A$161,Names!$B$2:$B$161)","v":"كريم احمد ناصر"},137,{"$f":"Sheet1!$M$5","v":2.85},{"$f":"M97","v":8},"W",2,{"$f":"Score!I122","v":0},{"$f":"LOOKUP(J50,Names!$A$2:$A$161,Names!$B$2:$B$161)","v":{"$error":"#N/A"}},null,null,{"$f":"M98","v":0},"W",2,{"$f":"Score!I126","v":0},{"$f":"LOOKUP(Q50,Names!$A$2:$A$161,Names!$B$2:$B$161)","v":{"$error":"#N/A"}},null,null,{"$f":"M99","v":0},"W",2,{"$f":"Score!I130","v":0},{"$f":"LOOKUP(X50,Names!$A$2:$A$161,Names!$B$2:$B$161)","v":{"$error":"#N/A"}},null,null,{"$f":"M100","v":0}]
["S",3,{"$f":"Score!I119","v":112},{"$f":"LOOKUP(C51,Names!$A$2:$A$161,Names!$B$2:$B$161)","v":"عمرو محمد محسن"},129,{"$f":"Sheet1!$M$6","v":1.9000000000000001},{"$f":"T97","v":11},"S",3,{"$f":"Score!I123","v":0},{"$f":"LOOKUP(J51,Names!$A$2:$A$161,Names!$B$2:$B$161)","v":{"$error":"#N/A"}},null,null,{"$f":"T98","v":0},"S",3,{"$f":"Score!I127","v":0},{"$f":"LOOKUP(Q51,Names!$A$2:$A$161,Names!$B$2:$B$161)","v":{"$error":"#N/A"}},null,null,{"$f":"T99","v":0},"S",3,{"$f":"Score!I131","v":0},{"$f":"LOOKUP(X51,Names!$A$2:$A$161,Names!$B$2:$B$161)","v":{"$error":"#N/A"}},null,null,{"$f":"T100","v":0}]
["E",4,{"$f":"Score!I120","v":116},{"$f":"LOOKUP(C52,Names!$A$2:$A$161,Names!$B$2:$B$161)","v":"اسامة قاسم"},88,{"$f":"Sheet1!$M$7","v":0},{"$f":"AA97","v":4},"E",4,{"$f":"Score!I124","v":0},{"$f":"LOOKUP(J52,Names!$A$2:$A$161,Names!$B$2:$B$161)","v":{"$error":"#N/A"}},null,null,{"$f":"AA98","v":0},"E",4,{"$f":"Score!I128","v":0},{"$f":"LOOKUP(Q52,Names!$A$2:$A$161,Names!$B$2:$B$161)","v":{"$error":"#N/A"}},null,null,{"$f":"AA99","v":0},"E",4,{"$f":"Score!I132","v":0},{"$f":"LOOKUP(X52,Names!$A$2:$A$161,Names!$B$2:$B$161)","v":{"$error":"#N/A"}},null,null,{"$f":"AA100","v":0}]
[null,null,null,33,null,null,null,null,null,null,34,null,null,null,null,null,null,35,null,null,null,null,null,null,36]
[null,null,null,"Names","Sc.","Tab",null,null,null,null,"Names","Sc.","Tab",null,null,null,null,"Names","Sc.","Tab",null,null,null,null,"Names","Sc.","Tab"]
["N",1,{"$f":"Score!I133","v":0},{"$f":"LOOKUP(C55,Names!$A$2:$A$161,Names!$B$2:$B$161)","v":{"$error":"#N/A"}},0,{"$f":"Sheet1!$M$4","v":4.75},{"$f":"F101","v":0},"N",1,{"$f":"Score!I137","v":0},{"$f":"LOOKUP(J55,Names!$A$2:$A$161,Names!$B$2:$B$161)","v":{"$error":"#N/A"}},0,{"$f":"Sheet1!$M$4","v":4.75},{"$f":"F102","v":0},"N",1,{"$f":"Score!I141","v":0},{"$f":"LOOKUP(Q55,Names!$A$2:$A$161,Names!$B$2:$B$161)","v":{"$error":"#N/A"}},0,{"$f":"Sheet1!$M$4","v":4.75},{"$f":"F103","v":0},"N",1,{"$f":"Score!I145","v":0},{"$f":"LOOKUP(X55,Names!$A$2:$A$161,Names!$B$2:$B$161)","v":{"$error":"#N/A"}},0,{"$f":"Sheet1!$M$4","v":4.75},{"$f":"F104","v":0}]
["W",2,{"$f":"Score!I134","v":0},{"$f":"LOOKUP(C56,Names!$A$2:$A$161,Names!$B$2:$B$161)","v":{"$error":"#N/A"}},0,{"$f":"Sheet1!$M$5","v":2.85},{"$f":"M101","v":0},"W",2,{"$f":"Score!I138","v":0},{"$f":"LOOKUP(J56,Names!$A$2:$A$161,Names!$B$2:$B$161)","v":{"$error":"#N/A"}},0,{"$f":"Sheet1!$M$5","v":2.85},{"$f":"M102","v":0},"W",2,{"$f":"Score!I142","v":0},{"$f":"LOOKUP(Q56,Names!$A$2:$A$161,Names!$B$2:$B$161)","v":{"$error":"#N/A"}},0,{"$f":"Sheet1!$M$5","v":2.85},{"$f":"M103","v":0},"W",2,{"$f":"Score!I146","v":0},{"$f":"LOOKUP(X56,Names!$A$2:$A$161,Names!$B$2:$B$161)","v":{"$error":"#N/A"}},0,{"$f":"Sheet1!$M$5","v":2.85},{"$f":"M104","v":0}]
["S",3,{"$f":"Score!I135","v":0},{"$f":"LOOKUP(C57,Names!$A$2:$A$161,Names!$B$2:$B$161)","v":{"$error":"#N/A"}},0,{"$f":"Sheet1!$M$6","v":1.9000000000000001},{"$f":"T101","v":0},"S",3,{"$f":"Score!I139","v":0},{"$f":"LOOKUP(J57,Names!$A$2:$A$161,Names!$B$2:$B$161)","v":{"$error":"#N/A"}},0,{"$f":"Sheet1!$M$6","v":1.9000000000000001},{"$f":"T102","v":0},"S",3,{"$f":"Score!I143","v":0},{"$f":"LOOKUP(Q57,Names!$A$2:$A$161,Names!$B$2:$B$161)","v":{"$error":"#N/A"}},0,{"$f":"Sheet1!$M$6","v":1.9000000000000001},{"$f":"T103","v":0},"S",3,{"$f":"Score!I147","v":0},{"$f":"LOOKUP(X57,Names!$A$2:$A$161,Names!$B$2:$B$161)","v":{"$error":"#N/A"}},0,{"$f":"Sheet1!$M$6","v":1.9000000000000001},{"$f":"T104","v":0}]
["E",4,{"$f":"Score!I136","v":0},{"$f":"LOOKUP(C58,Names!$A$2:$A$161,Names!$B$2:$B$161)","v":{"$error":"#N/A"}},0,{"$f":"Sheet1!$M$7","v":0},{"$f":"AA101","v":0},"E",4,{"$f":"Score!I140","v":0},{"$f":"LOOKUP(J58,Names!$A$2:$A$161,Names!$B$2:$B$161)","v":{"$error":"#N/A"}},0,{"$f":"Sheet1!$M$7","v":0},{"$f":"AA102","v":0},"E",4,{"$f":"Score!I144","v":0},{"$f":"LOOKUP(Q58,Names!$A$2:$A$161,Names!$B$2:$B$161)","v":{"$error":"#N/A"}},0,{"$f":"Sheet1!$M$7","v":0},{"$f":"AA103","v":0},"E",4,{"$f":"Score!I148","v":0},{"$f":"LOOKUP(X58,Names!$A$2:$A$161,Names!$B$2:$B$161)","v":{"$error":"#N/A"}},0,{"$f":"Sheet1!$M$7","v":0},{"$f":"AA104","v":0}]
[null,null,null,37,null,null,null,null,null,null,38,null,null,null,null,null,null,39,null,null,null,null,null,null,40]
[null,null,null,"Names","Sc.","Tab",null,null,null,null,"Names","Sc.","Tab",null,null,null,null,"Names","Sc.","Tab",null,null,null,null,"Names","Sc.","Tab"]
["N",1,{"$f":"Score!I149","v":0},{"$f":"LOOKUP(C61,Names!$A$2:$A$161,Names!$B$2:$B$161)","v":{"$error":"#N/A"}},0,{"$f":"Sheet1!$M$4","v":4.75},{"$f":"F105","v":0},"N",1,{"$f":"Score!I153","v":0},{"$f":"LOOKUP(J61,Names!$A$2:$A$161,Names!$B$2:$B$161)","v":{"$error":"#N/A"}},0,{"$f":"Sheet1!$M$4","v":4.75},{"$f":"F106","v":0},"N",1,{"$f":"Score!I157","v":0},{"$f":"LOOKUP(Q61,Names!$A$2:$A$161,Names!$B$2:$B$161)","v":{"$error":"#N/A"}},0,{"$f":"Sheet1!$M$4","v":4.75},{"$f":"F107","v":0},"N",1,{"$f":"Score!I161","v":0},{"$f":"LOOKUP(X61,Names!$A$2:$A$161,Names!$B$2:$B$161)","v":{"$error":"#N/A"}},0,{"$f":"Sheet1!$M$4","v":4.75},{"$f":"F108","v":0}]
["W",2,{"$f":"Score!I150","v":0},{"$f":"LOOKUP(C62,Names!$A$2:$A$161,Names!$B$2:$B$161)","v":{"$error":"#N/A"}},0,{"$f":"Sheet1!$M$5","v":2.85},{"$f":"M105","v":0},"W",2,{"$f":"Score!I154","v":0},{"$f":"LOOKUP(J62,Names!$A$2:$A$161,Names!$B$2:$B$161)","v":{"$error":"#N/A"}},0,{"$f":"Sheet1!$M$5","v":2.85},{"$f":"M106","v":0},"W",2,{"$f":"Score!I158","v":0},{"$f":"LOOKUP(Q62,Names!$A$2:$A$161,Names!$B$2:$B$161)","v":{"$error":"#N/A"}},0,{"$f":"Sheet1!$M$5","v":2.85},{"$f":"M107","v":0},"W",2,{"$f":"Score!I162","v":0},{"$f":"LOOKUP(X62,Names!$A$2:$A$161,Names!$B$2:$B$161)","v":{"$error":"#N/A"}},0,{"$f":"Sheet1!$M$5","v":2.85},{"$f":"M108","v":0}]
["S",3,{"$f":"Score!I151","v":0},{"$f":"LOOKUP(C63,Names!$A$2:$A$161,Names!$B$2:$B$161)","v":{"$error":"#N/A"}},0,{"$f":"Sheet1!$M$6","v":1.9000000000000001},{"$f":"T105","v":0},"S",3,{"$f":"Score!I155","v":0},{"$f":"LOOKUP(J63,Names!$A$2:$A$161,Names!$B$2:$B$161)","v":{"$error":"#N/A"}},0,{"$f":"Sheet1!$M$6","v":1.9000000000000001},{"$f":"T106","v":0},"S",3,{"$f":"Score!I159","v":0},{"$f":"LOOKUP(Q63,Names!$A$2:$A$161,Names!$B$2:$B$161)","v":{"$error":"#N/A"}},0,{"$f":"Sheet1!$M$6","v":1.9000000000000001},{"$f":"T107","v":0},"S",3,{"$f":"Score!I163","v":0},{"$f":"LOOKUP(X63,Names!$A$2:$A$161,Names!$B$2:$B$161)","v":{"$error":"#N/A"}},0,{"$f":"Sheet1!$M$6","v":1.9000000000000001},{"$f":"T108","v":0}]
["E",4,{"$f":"Score!I152","v":0},{"$f":"LOOKUP(C64,Names!$A$2:$A$161,Names!$B$2:$B$161)","v":{"$error":"#N/A"}},0,{"$f":"Sheet1!$M$7","v":0},{"$f":"AA105","v":0},"E",4,{"$f":"Score!I156","v":0},{"$f":"LOOKUP(J64,Names!$A$2:$A$161,Names!$B$2:$B$161)","v":{"$error":"#N/A"}},0,{"$f":"Sheet1!$M$7","v":0},{"$f":"AA106","v":0},"E",4,{"$f":"Score!I160","v":0},{"$f":"LOOKUP(Q64,Names!$A$2:$A$161,Names!$B$2:$B$161)","v":{"$error":"#N/A"}},0,{"$f":"Sheet1!$M$7","v":0},{"$f":"AA107","v":0},"E",4,{"$f":"Score!I164","v":0},{"$f":"LOOKUP(X64,Names!$A$2:$A$161,Names!$B$2:$B$161)","v":{"$error":"#N/A"}},0,{"$f":"Sheet1!$M$7","v":0},{"$f":"AA108","v":0}]
[]
[null,null,null,null,null,null,null,null,null,null,"Axe"]
[null,null,null,"North",null,null,null,null,null,null,"West",null,null,null,null,null,null,"South",null,null,null,null,null,null,"East"]
[null,null,null,"Names","Sc.","Axe",null,null,null,null,"Names","Sc.","Axe",null,null,null,null,"Names","Sc.","Axe",null,null,null,null,"Names","Sc.","Axe"]
[1,1,{"$f":"$C$6","v":1},{"$f":"LOOKUP(C69,Names!$A$2:$A$161,Names!$B$2:$B$161)","v":"إبراهيم عرفان السقا"},{"$f":"$E$6","v":165},10.5,null,null,1,{"$f":"$C$7","v":5},{"$f":"LOOKUP(J69,Names!$A$2:$A$161,Names!$B$2:$B$161)","v":"أحمد محمد أمين"},{"$f":"$E$7","v":154},13,null,null,1,{"$f":"$C$8","v":9},{"$f":"LOOKUP(Q69,Names!$A$2:$A$161,Names!$B$2:$B$161)","v":" عمرو محمد مصطفى"},{"$f":"$E$8","v":68},3,null,null,1,{"$f":"$C$9","v":13},{"$f":"LOOKUP(X69,Names!$A$2:$A$161,Names!$B$2:$B$161)","v":"عمرو سمير دسوقي"},{"$f":"$E$9","v":143},10]
[2,2,{"$f":"$J$6","v":17},{"$f":"LOOKUP(C70,Names!$A$2:$A$161,Names!$B$2:$B$161)","v":"مينا ناجح صبحي"},{"$f":"$L$6","v":228},16,null,null,2,{"$f":"$J$7","v":21},{"$f":"LOOKUP(J70,Names!$A$2:$A$161,Names!$B$2:$B$161)","v":"محمد طارق عبد الله"},{"$f":"$L$7","v":102},1,null,null,2,{"$f":"$J$8","v":25},{"$f":"LOOKUP(Q70,Names!$A$2:$A$161,Names!$B$2:$B$161)","v":"خالد حمدي محمد السيد"},{"$f":"$L$8","v":127},9,null,null,2,{"$f":"$J$9","v":29},{"$f":"LOOKUP(X70,Names!$A$2:$A$161,Names!$B$2:$B$161)","v":"اسلام نصر الغنام"},{"$f":"$L$9","v":29},1]
[3,3,{"$f":"$Q$6","v":33},{"$f":"LOOKUP(C71,Names!$A$2:$A$161,Names!$B$2:$B$161)","v":"أحمد إبراهيم غانم"},{"$f":"$S$6","v":165},10.5,null,null,3,{"$f":"$Q$7","v":2},{"$f":"LOOKUP(J71,Names!$A$2:$A$161,Names!$B$2:$B$161)","v":"مصطفى محمد علي شرف"},{"$f":"$S$7","v":190},15,null,null,3,{"$f":"$Q$8","v":6},{"$f":"LOOKUP(Q71,Names!$A$2:$A$161,Names!$B$2:$B$161)","v":"معتز محمد عبد المنعم"},{"$f":"$S$8","v":60},2,null,null,3,{"$f":"$Q$9","v":10},{"$f":"LOOKUP(X71,Names!$A$2:$A$161,Names!$B$2:$B$161)","v":"تامر تيمور شكري"},{"$f":"$S$9","v":159},11]
[4,4,{"$f":"$X$6","v":14},{"$f":"LOOKUP(C72,Names!$A$2:$A$161,Names!$B$2:$B$161)","v":"أحمد محمد محمدي"},{"$f":"$Z$6","v":146},6.5,null,null,4,{"$f":"$X$7","v":18},{"$f":"LOOKUP(J72,Names!$A$2:$A$161,Names!$B$2:$B$161)","v":"وليد شعبان إسماعيل علي"},{"$f":"$Z$7","v":148},10,null,null,4,{"$f":"$X$8","v":22},{"$f":"LOOKUP(Q72,Names!$A$2:$A$161,Names!$B$2:$B$161)","v":"يوسف مسعد فراج"},{"$f":"$Z$8","v":184},16,null,null,4,{"$f":"$X$9","v":26},{"$f":"LOOKUP(X72,Names!$A$2:$A$161,Names!$B$2:$B$161)","v":"علاء شوقي جبريل"},{"$f":"$Z$9","v":105},5]
[5,5,{"$f":"$C$12","v":30},{"$f":"LOOKUP(C73,Names!$A$2:$A$161,Names!$B$2:$B$161)","v":"محمد سعيد الفطاطري"},{"$f":"$E$12","v":146},6.5,null,null,5,{"$f":"$C$13","v":34},{"$f":"LOOKUP(J73,Names!$A$2:$A$161,Names!$B$2:$B$161)","v":"شريف حلمي"},{"$f":"$E$13","v":153},12,null,null,5,{"$f":"$C$14","v":3},{"$f":"LOOKUP(Q73,Names!$A$2:$A$161,Names!$B$2:$B$161)","v":"أحمد محمد حمدي صالح"},{"$f":"$E$14","v":112},8,null,null,5,{"$f":"$C$15","v":7},{"$f":"LOOKUP(X73,Names!$A$2:$A$161,Names!$B$2:$B$161)","v":"هيثم محمد شبانة"},{"$f":"$E$15","v":120},7]
[6,6,{"$f":"$J$12","v":11},{"$f":"LOOKUP(C74,Names!$A$2:$A$161,Names!$B$2:$B$161)","v":"هيثم العشماوي"},{"$f":"$L$12","v":140},4,null,null,6,{"$f":"$J$13","v":15},{"$f":"LOOKUP(J74,Names!$A$2:$A$161,Names!$B$2:$B$161)","v":"حسام الدين صلاح أبو الفتوح"},{"$f":"$L$13","v":114},3,null,null,6,{"$f":"$J$14","v":19},{"$f":"LOOKUP(Q74,Names!$A$2:$A$161,Names!$B$2:$B$161)","v":"محمد أحمد محمد عبد الله"},{"$f":"$L$14","v":203},19,null,null,6,{"$f":"$J$15","v":23},{"$f":"LOOKUP(X74,Names!$A$2:$A$161,Names!$B$2:$B$161)","v":"جمال احمد محمد جمال"},{"$f":"$L$15","v":134},9]
[7,7,{"$f":"$Q$12","v":27},{"$f":"LOOKUP(C75,Names!$A$2:$A$161,Names!$B$2:$B$161)","v":"أحمد سمير خلف على"},{"$f":"$S$12","v":233},17,null,null,7,{"$f":"$Q$13","v":31},{"$f":"LOOKUP(J75,Names!$A$2:$A$161,Names!$B$2:$B$161)","v":"أحمد بسيوني"},{"$f":"$S$13","v":121},5,null,null,7,{"$f":"$Q$14","v":35},{"$f":"LOOKUP(Q75,Names!$A$2:$A$161,Names!$B$2:$B$161)","v":"أحمد فؤاد حسنين"},{"$f":"$S$14","v":43},1,null,null,7,{"$f":"$Q$15","v":4},{"$f":"LOOKUP(X75,Names!$A$2:$A$161,Names!$B$2:$B$161)","v":"أحمد جميل السيد"},{"$f":"$S$15","v":163},13]
[8,8,{"$f":"$X$12","v":8},{"$f":"LOOKUP(C76,Names!$A$2:$A$161,Names!$B$2:$B$161)","v":"عبد الرحمن محمود عثمان"},{"$f":"$Z$12","v":94},1,null,null,8,{"$f":"$X$13","v":12},{"$f":"LOOKUP(J76,Names!$A$2:$A$161,Names!$B$2:$B$161)","v":"أحمد علي السيد شرع"},{"$f":"$Z$13","v":149},11,null,null,8,{"$f":"$X$14","v":16},{"$f":"LOOKUP(Q76,Names!$A$2:$A$161,Names!$B$2:$B$161)","v":"طارق عبد الغني السحار"},{"$f":"$Z$14","v":99},6,null,null,8,{"$f":"$X$15","v":20},{"$f":"LOOKUP(X76,Names!$A$2:$A$161,Names!$B$2:$B$161)","v":"عصام الدين محمد عبد العاطي"},{"$f":"$Z$15","v":127},8]
[9,9,{"$f":"$C$18","v":24},{"$f":"LOOKUP(C77,Names!$A$2:$A$161,Names!$B$2:$B$161)","v":"يامن محمد حسن"},{"$f":"$E$18","v":160},8,null,null,9,{"$f":"$C$19","v":28},{"$f":"LOOKUP(J77,Names!$A$2:$A$161,Names!$B$2:$B$161)","v":"محمد حسن عبد القادر"},{"$f":"$E$19","v":237},19,null,null,9,{"$f":"$C$20","v":32},{"$f":"LOOKUP(Q77,Names!$A$2:$A$161,Names!$B$2:$B$161)","v":"أمير محمد خطاب"},{"$f":"$E$20","v":131},13,null,null,9,{"$f":"$C$21","v":36},{"$f":"LOOKUP(X77,Names!$A$2:$A$161,Names!$B$2:$B$161)","v":"محمد محمود فضل"},{"$f":"$E$21","v":84},3]
[10,10,{"$f":"$J$18","v":0},{"$f":"LOOKUP(C78,Names!$A$2:$A$161,Names!$B$2:$B$161)","v":{"$error":"#N/A"}},{"$f":"$L$18","v":0},null,null,null,10,{"$f":"$J$19","v":0},{"$f":"LOOKUP(J78,Names!$A$2:$A$161,Names!$B$2:$B$161)","v":{"$error":"#N/A"}},{"$f":"$L$19","v":0},null,null,null,10,{"$f":"$J$20","v":0},{"$f":"LOOKUP(Q78,Names!$A$2:$A$161,Names!$B$2:$B$161)","v":{"$error":"#N/A"}},{"$f":"$L$20","v":0},null,null,null,10,{"$f":"$J$21","v":0},{"$f":"LOOKUP(X78,Names!$A$2:$A$161,Names!$B$2:$B$161)","v":{"$error":"#N/A"}},{"$f":"$L$21","v":0}]
[11,11,{"$f":"$Q$18","v":0},{"$f":"LOOKUP(C79,Names!$A$2:$A$161,Names!$B$2:$B$161)","v":{"$error":"#N/A"}},null,null,null,null,11,{"$f":"$Q$19","v":0},{"$f":"LOOKUP(J79,Names!$A$2:$A$161,Names!$B$2:$B$161)","v":{"$error":"#N/A"}},null,null,null,null,11,{"$f":"$Q$20","v":0},{"$f":"LOOKUP(Q79,Names!$A$2:$A$161,Names!$B$2:$B$161)","v":{"$error":"#N/A"}},null,null,null,null,11,{"$f":"$Q$21","v":0},{"$f":"LOOKUP(X79,Names!$A$2:$A$161,Names!$B$2:$B$161)","v":{"$error":"#N/A"}}]
[12,12,{"$f":"$X$18","v":0},{"$f":"LOOKUP(C80,Names!$A$2:$A$161,Names!$B$2:$B$161)","v":{"$error":"#N/A"}},null,null,null,null,12,{"$f":"$X$19","v":0},{"$f":"LOOKUP(J80,Names!$A$2:$A$161,Names!$B$2:$B$161)","v":{"$error":"#N/A"}},null,null,null,null,12,{"$f":"$X$20","v":0},{"$f":"LOOKUP(Q80,Names!$A$2:$A$161,Names!$B$2:$B$161)","v":{"$error":"#N/A"}},null,null,null,null,12,{"$f":"$X$21","v":0},{"$f":"LOOKUP(X80,Names!$A$2:$A$161,Names!$B$2:$B$161)","v":{"$error":"#N/A"}}]
[13,13,{"$f":"$C$24","v":0},{"$f":"LOOKUP(C81,Names!$A$2:$A$161,Names!$B$2:$B$161)","v":{"$error":"#N/A"}},null,null,null,null,13,{"$f":"$C$25","v":0},{"$f":"LOOKUP(J81,Names!$A$2:$A$161,Names!$B$2:$B$161)","v":{"$error":"#N/A"}},null,null,null,null,13,{"$f":"$C$26","v":0},{"$f":"LOOKUP(Q81,Names!$A$2:$A$161,Names!$B$2:$B$161)","v":{"$error":"#N/A"}},null,null,null,null,13,{"$f":"$C$27","v":0},{"$f":"LOOKUP(X81,Names!$A$2:$A$161,Names!$B$2:$B$161)","v":{"$error":"#N/A"}}]
[14,14,{"$f":"$J$24","v":0},{"$f":"LOOKUP(C82,Names!$A$2:$A$161,Names!$B$2:$B$161)","v":{"$error":"#N/A"}},null,null,null,null,14,{"$f":"$J$25","v":0},{"$f":"LOOKUP(J82,Names!$A$2:$A$161,Names!$B$2:$B$161)","v":{"$error":"#N/A"}},null,null,null,null,14,{"$f":"$J$26","v":0},{"$f":"LOOKUP(Q82,Names!$A$2:$A$161,Names!$B$2:$B$161)","v":{"$error":"#N/A"}},null,null,null,null,14,{"$f":"$J$27","v":0},{"$f":"LOOKUP(X82,Names!$A$2:$A$161,Names!$B$2:$B$161)","v":{"$error":"#N/A"}}]
[15,15,{"$f":"$Q$24","v":0},{"$f":"LOOKUP(C83,Names!$A$2:$A$161,Names!$B$2:$B$161)","v":{"$error":"#N/A"}},null,null,null,null,15,{"$f":"$Q$25","v":0},{"$f":"LOOKUP(J83,Names!$A$2:$A$161,Names!$B$2:$B$161)","v":{"$error":"#N/A"}},null,null,null,null,15,{"$f":"$Q$26","v":0},{"$f":"LOOKUP(Q83,Names!$A$2:$A$161,Names!$B$2:$B$161)","v":{"$error":"#N/A"}},null,null,null,null,15,{"$f":"$Q$27","v":0},{"$f":"LOOKUP(X83,Names!$A$2:$A$161,Names!$B$2:$B$161)","v":{"$error":"#N/A"}}]
[16,16,{"$f":"$X$24","v":0},{"$f":"LOOKUP(C84,Names!$A$2:$A$161,Names!$B$2:$B$161)","v":{"$error":"#N/A"}},null,null,null,null,16,{"$f":"$X$25","v":0},{"$f":"LOOKUP(J84,Names!$A$2:$A$161,Names!$B$2:$B$161)","v":{"$error":"#N/A"}},null,null,null,null,16,{"$f":"$X$26","v":0},{"$f":"LOOKUP(Q84,Names!$A$2:$A$161,Names!$B$2:$B$161)","v":{"$error":"#N/A"}},null,null,null,null,16,{"$f":"$X$27","v":0},{"$f":"LOOKUP(X84,Names!$A$2:$A$161,Names!$B$2:$B$161)","v":{"$error":"#N/A"}}]
[17,17,{"$f":"$C$30","v":0},{"$f":"LOOKUP(C85,Names!$A$2:$A$161,Names!$B$2:$B$161)","v":{"$error":"#N/A"}},null,null,null,null,17,{"$f":"$C$31","v":0},{"$f":"LOOKUP(J85,Names!$A$2:$A$161,Names!$B$2:$B$161)","v":{"$error":"#N/A"}},null,null,null,null,17,{"$f":"$C$32","v":0},{"$f":"LOOKUP(Q85,Names!$A$2:$A$161,Names!$B$2:$B$161)","v":{"$error":"#N/A"}},null,null,null,null,17,{"$f":"$C$33","v":0},{"$f":"LOOKUP(X85,Names!$A$2:$A$161,Names!$B$2:$B$161)","v":{"$error":"#N/A"}}]
[18,18,{"$f":"$J$30","v":0},{"$f":"LOOKUP(C86,Names!$A$2:$A$161,Names!$B$2:$B$161)","v":{"$error":"#N/A"}},null,null,null,null,18,{"$f":"$J$31","v":0},{"$f":"LOOKUP(J86,Names!$A$2:$A$161,Names!$B$2:$B$161)","v":{"$error":"#N/A"}},null,null,null,null,18,{"$f":"$J$32","v":0},{"$f":"LOOKUP(Q86,Names!$A$2:$A$161,Names!$B$2:$B$161)","v":{"$error":"#N/A"}},null,null,null,null,18,{"$f":"$J$33","v":0},{"$f":"LOOKUP(X86,Names!$A$2:$A$161,Names!$B$2:$B$161)","v":{"$error":"#N/A"}}]
[19,19,{"$f":"$Q$30","v":0},{"$f":"LOOKUP(C87,Names!$A$2:$A$161,Names!$B$2:$B$161)","v":{"$error":"#N/A"}},null,null,null,null,19,{"$f":"$Q$31","v":0},{"$f":"LOOKUP(J87,Names!$A$2:$A$161,Names!$B$2:$B$161)","v":{"$error":"#N/A"}},null,null,null,null,19,{"$f":"$Q$32","v":0},{"$f":"LOOKUP(Q87,Names!$A$2:$A$161,Names!$B$2:$B$161)","v":{"$error":"#N/A"}},null,null,null,null,19,{"$f":"$Q$33","v":0},{"$f":"LOOKUP(X87,Names!$A$2:$A$161,Names!$B$2:$B$161)","v":{"$error":"#N/A"}}]
[20,20,{"$f":"$X$30","v":0},{"$f":"LOOKUP(C88,Names!$A$2:$A$161,Names!$B$2:$B$161)","v":{"$error":"#N/A"}},null,null,null,null,20,{"$f":"$X$31","v":0},{"$f":"LOOKUP(J88,Names!$A$2:$A$161,Names!$B$2:$B$161)","v":{"$error":"#N/A"}},null,null,null,null,20,{"$f":"$X$32","v":0},{"$f":"LOOKUP(Q88,Names!$A$2:$A$161,Names!$B$2:$B$161)","v":{"$error":"#N/A"}},null,null,null,null,20,{"$f":"$X$33","v":0},{"$f":"LOOKUP(X88,Names!$A$2:$A$161,Names!$B$2:$B$161)","v":{"$error":"#N/A"}}]
[21,21,{"$f":"$C$37","v":81},{"$f":"LOOKUP(C89,Names!$A$2:$A$161,Names!$B$2:$B$161)","v":"راجي محمد صبحي"},{"$f":"$E$37","v":113},2,null,null,21,{"$f":"$C$38","v":85},{"$f":"LOOKUP(J89,Names!$A$2:$A$161,Names!$B$2:$B$161)","v":"محمد عبد الهادي أبو القاسم"},{"$f":"$E$38","v":109},2,null,null,21,{"$f":"$C$39","v":89},{"$f":"LOOKUP(Q89,Names!$A$2:$A$161,Names!$B$2:$B$161)","v":"محمد بلبع"},{"$f":"$E$39","v":128},10,null,null,21,{"$f":"$C$40","v":93},{"$f":"LOOKUP(X89,Names!$A$2:$A$161,Names!$B$2:$B$161)","v":"جمال السيد توفيق"},{"$f":"$E$40","v":172},14]
[22,22,{"$f":"$J$37","v":97},{"$f":"LOOKUP(C90,Names!$A$2:$A$161,Names!$B$2:$B$161)","v":"خالد محمد شبارة"},{"$f":"$L$37","v":167},12,null,null,22,{"$f":"$J$38","v":101},{"$f":"LOOKUP(J90,Names!$A$2:$A$161,Names!$B$2:$B$161)","v":"أحمد محمد شوقى عبد الحميد"},{"$f":"$L$38","v":136},7,null,null,22,{"$f":"$J$39","v":105},{"$f":"LOOKUP(Q90,Names!$A$2:$A$161,Names!$B$2:$B$161)","v":"مصطفى عبد الحفيظ علي"},{"$f":"$L$39","v":175},15,null,null,22,{"$f":"$J$40","v":109},{"$f":"LOOKUP(X90,Names!$A$2:$A$161,Names!$B$2:$B$161)","v":"نبيل خلف زكي"},{"$f":"$L$40","v":206},16]
[23,23,{"$f":"$Q$37","v":113},{"$f":"LOOKUP(C91,Names!$A$2:$A$161,Names!$B$2:$B$161)","v":"محمد حسن فهيم"},{"$f":"$S$37","v":181},13,null,null,23,{"$f":"$Q$38","v":82},{"$f":"LOOKUP(J91,Names!$A$2:$A$161,Names!$B$2:$B$161)","v":"أحمد صلاح الدين دياب"},{"$f":"$S$38","v":118},4,null,null,23,{"$f":"$Q$39","v":86},{"$f":"LOOKUP(Q91,Names!$A$2:$A$161,Names!$B$2:$B$161)","v":"ايهاب يوسف عمارة"},{"$f":"$S$39","v":173},14,null,null,23,{"$f":"$Q$40","v":90},{"$f":"LOOKUP(X91,Names!$A$2:$A$161,Names!$B$2:$B$161)","v":"محمد علي حسن طه الأمام"},{"$f":"$S$40","v":217},17]
[24,24,{"$f":"$X$37","v":94},{"$f":"LOOKUP(C92,Names!$A$2:$A$161,Names!$B$2:$B$161)","v":"محمد عصام الدين القاضي"},{"$f":"$Z$37","v":250},19,null,null,24,{"$f":"$X$38","v":98},{"$f":"LOOKUP(J92,Names!$A$2:$A$161,Names!$B$2:$B$161)","v":"محمد محمود شعبان رمضان"},{"$f":"$Z$38","v":205},16,null,null,24,{"$f":"$X$39","v":102},{"$f":"LOOKUP(Q92,Names!$A$2:$A$161,Names!$B$2:$B$161)","v":"سامي محمود الفولي"},{"$f":"$Z$39","v":97},5,null,null,24,{"$f":"$X$40","v":106},{"$f":"LOOKUP(X92,Names!$A$2:$A$161,Names!$B$2:$B$161)","v":"أحمد عبد العزيز العطار"},{"$f":"$Z$40","v":113},6]
[25,25,{"$f":"$C$43","v":110},{"$f":"LOOKUP(C93,Names!$A$2:$A$161,Names!$B$2:$B$161)","v":"أسامة أحمد زكي"},{"$f":"$E$43","v":224},15,null,null,25,{"$f":"$C$44","v":114},{"$f":"LOOKUP(J93,Names!$A$2:$A$161,Names!$B$2:$B$161)","v":"احمد سردينة"},{"$f":"$E$44","v":183},14,null,null,25,{"$f":"$C$45","v":83},{"$f":"LOOKUP(Q93,Names!$A$2:$A$161,Names!$B$2:$B$161)","v":"أسامة لطفى نجيب"},{"$f":"$E$45","v":111},7,null,null,25,{"$f":"$C$46","v":87},{"$f":"LOOKUP(X93,Names!$A$2:$A$161,Names!$B$2:$B$161)","v":"ياسر شاهين"},{"$f":"$E$46","v":160},12]
[26,26,{"$f":"$J$43","v":91},{"$f":"LOOKUP(C94,Names!$A$2:$A$161,Names!$B$2:$B$161)","v":"عماد محمد فؤاد مرسي"},{"$f":"$L$43","v":164},9,null,null,26,{"$f":"$J$44","v":95},{"$f":"LOOKUP(J94,Names!$A$2:$A$161,Names!$B$2:$B$161)","v":"احمد طنطاوى"},{"$f":"$L$44","v":135},6,null,null,26,{"$f":"$J$45","v":99},{"$f":"LOOKUP(Q94,Names!$A$2:$A$161,Names!$B$2:$B$161)","v":"ماجد محمد فكري"},{"$f":"$L$45","v":130},12,null,null,26,{"$f":"$J$46","v":103},{"$f":"LOOKUP(X94,Names!$A$2:$A$161,Names!$B$2:$B$161)","v":"عمرو عماد الدين أبو العلا"},{"$f":"$L$46","v":34},2]
[27,27,{"$f":"$Q$43","v":107},{"$f":"LOOKUP(C95,Names!$A$2:$A$161,Names!$B$2:$B$161)","v":"شادي أحمد محمود وهبة"},{"$f":"$S$43","v":130},3,null,null,27,{"$f":"$Q$44","v":111},{"$f":"LOOKUP(J95,Names!$A$2:$A$161,Names!$B$2:$B$161)","v":"عادل محمد أبو زيد"},{"$f":"$S$44","v":206},17,null,null,27,{"$f":"$Q$45","v":115},{"$f":"LOOKUP(Q95,Names!$A$2:$A$161,Names!$B$2:$B$161)","v":"خالد عبد العظيم"},{"$f":"$S$45","v":77},4,null,null,27,{"$f":"$Q$46","v":84},{"$f":"LOOKUP(X95,Names!$A$2:$A$161,Names!$B$2:$B$161)","v":"أحمد عز العرب السماحي"},{"$f":"$S$46","v":229},19]
[28,28,{"$f":"$X$43","v":88},{"$f":"LOOKUP(C96,Names!$A$2:$A$161,Names!$B$2:$B$161)","v":"أحمد علي خليل حسن"},{"$f":"$Z$43","v":143},5,null,null,28,{"$f":"$X$44","v":92},{"$f":"LOOKUP(J96,Names!$A$2:$A$161,Names!$B$2:$B$161)","v":"أحمد مصطفى راشد"},{"$f":"$Z$44","v":146},9,null,null,28,{"$f":"$X$45","v":96},{"$f":"LOOKUP(Q96,Names!$A$2:$A$161,Names!$B$2:$B$161)","v":"أحمد رمزي الديب"},{"$f":"$Z$45","v":201},17,null,null,28,{"$f":"$X$46","v":100},{"$f":"LOOKUP(X96,Names!$A$2:$A$161,Names!$B$2:$B$161)","v":"عبد الرحمن الدمراوى"},{"$f":"$Z$46","v":205},15]
[29,29,{"$f":"$C$49","v":104},{"$f":"LOOKUP(C97,Names!$A$2:$A$161,Names!$B$2:$B$161)","v":"كريم إيهاب عامر"},{"$f":"$E$49","v":221},14,null,null,29,{"$f":"$C$50","v":108},{"$f":"LOOKUP(J97,Names!$A$2:$A$161,Names!$B$2:$B$161)","v":"كريم احمد ناصر"},{"$f":"$E$50","v":137},8,null,null,29,{"$f":"$C$51","v":112},{"$f":"LOOKUP(Q97,Names!$A$2:$A$161,Names!$B$2:$B$161)","v":"عمرو محمد محسن"},{"$f":"$E$51","v":129},11,null,null,29,{"$f":"$C$52","v":116},{"$f":"LOOKUP(X97,Names!$A$2:$A$161,Names!$B$2:$B$161)","v":"اسامة قاسم"},{"$f":"$E$52","v":88},4]
[30,30,{"$f":"$J$49","v":0},{"$f":"LOOKUP(C98,Names!$A$2:$A$161,Names!$B$2:$B$161)","v":{"$error":"#N/A"}},null,null,null,null,30,{"$f":"$J$50","v":0},{"$f":"LOOKUP(J98,Names!$A$2:$A$161,Names!$B$2:$B$161)","v":{"$error":"#N/A"}},null,null,null,null,30,{"$f":"$J$51","v":0},{"$f":"LOOKUP(Q98,Names!$A$2:$A$161,Names!$B$2:$B$161)","v":{"$error":"#N/A"}},null,null,null,null,30,{"$f":"$J$52","v":0},{"$f":"LOOKUP(X98,Names!$A$2:$A$161,Names!$B$2:$B$161)","v":{"$error":"#N/A"}}]
[31,31,{"$f":"$Q$49","v":0},{"$f":"LOOKUP(C99,Names!$A$2:$A$161,Names!$B$2:$B$161)","v":{"$error":"#N/A"}},null,null,null,null,31,{"$f":"$Q$50","v":0},{"$f":"LOOKUP(J99,Names!$A$2:$A$161,Names!$B$2:$B$161)","v":{"$error":"#N/A"}},null,null,null,null,31,{"$f":"$Q$51","v":0},{"$f":"LOOKUP(Q99,Names!$A$2:$A$161,Names!$B$2:$B$161)","v":{"$error":"#N/A"}},null,null,null,null,31,{"$f":"$Q$52","v":0},{"$f":"LOOKUP(X99,Names!$A$2:$A$161,Names!$B$2:$B$161)","v":{"$error":"#N/A"}}]
[32,32,{"$f":"$X$49","v":0},{"$f":"LOOKUP(C100,Names!$A$2:$A$161,Names!$B$2:$B$161)","v":{"$error":"#N/A"}},null,null,null,null,32,{"$f":"$X$50","v":0},{"$f":"LOOKUP(J100,Names!$A$2:$A$161,Names!$B$2:$B$161)","v":{"$error":"#N/A"}},null,null,null,null,32,{"$f":"$X$51","v":0},{"$f":"LOOKUP(Q100,Names!$A$2:$A$161,Names!$B$2:$B$161)","v":{"$error":"#N/A"}},null,null,null,null,32,{"$f":"$X$52","v":0},{"$f":"LOOKUP(X100,Names!$A$2:$A$161,Names!$B$2:$B$161)","v":{"$error":"#N/A"}}]
[33,33,{"$f":"$C$55","v":0},{"$f":"LOOKUP(C101,Names!$A$2:$A$161,Names!$B$2:$B$161)","v":{"$error":"#N/A"}},null,null,null,null,33,{"$f":"$C$56","v":0},{"$f":"LOOKUP(J101,Names!$A$2:$A$161,Names!$B$2:$B$161)","v":{"$error":"#N/A"}},null,null,null,null,33,{"$f":"$C$57","v":0},{"$f":"LOOKUP(Q101,Names!$A$2:$A$161,Names!$B$2:$B$161)","v":{"$error":"#N/A"}},null,null,null,null,33,{"$f":"$C$58","v":0},{"$f":"LOOKUP(X101,Names!$A$2:$A$161,Names!$B$2:$B$161)","v":{"$error":"#N/A"}}]
[34,34,{"$f":"$J$55","v":0},{"$f":"LOOKUP(C102,Names!$A$2:$A$161,Names!$B$2:$B$161)","v":{"$error":"#N/A"}},null,null,null,null,34,{"$f":"$J$56","v":0},{"$f":"LOOKUP(J102,Names!$A$2:$A$161,Names!$B$2:$B$161)","v":{"$error":"#N/A"}},null,null,null,null,34,{"$f":"$J$57","v":0},{"$f":"LOOKUP(Q102,Names!$A$2:$A$161,Names!$B$2:$B$161)","v":{"$error":"#N/A"}},null,null,null,null,34,{"$f":"$J$58","v":0},{"$f":"LOOKUP(X102,Names!$A$2:$A$161,Names!$B$2:$B$161)","v":{"$error":"#N/A"}}]
[35,35,{"$f":"$Q$55","v":0},{"$f":"LOOKUP(C103,Names!$A$2:$A$161,Names!$B$2:$B$161)","v":{"$error":"#N/A"}},null,null,null,null,35,{"$f":"$Q$56","v":0},{"$f":"LOOKUP(J103,Names!$A$2:$A$161,Names!$B$2:$B$161)","v":{"$error":"#N/A"}},null,null,null,null,35,{"$f":"$Q$57","v":0},{"$f":"LOOKUP(Q103,Names!$A$2:$A$161,Names!$B$2:$B$161)","v":{"$error":"#N/A"}},null,null,null,null,35,{"$f":"$Q$58","v":0},{"$f":"LOOKUP(X103,Names!$A$2:$A$161,Names!$B$2:$B$161)","v":{"$error":"#N/A"}}]
[36,36,{"$f":"$X$55","v":0},{"$f":"LOOKUP(C104,Names!$A$2:$A$161,Names!$B$2:$B$161)","v":{"$error":"#N/A"}},null,null,null,null,36,{"$f":"$X$56","v":0},{"$f":"LOOKUP(J104,Names!$A$2:$A$161,Names!$B$2:$B$161)","v":{"$error":"#N/A"}},null,null,null,null,36,{"$f":"$X$57","v":0},{"$f":"LOOKUP(Q104,Names!$A$2:$A$161,Names!$B$2:$B$161)","v":{"$error":"#N/A"}},null,null,null,null,36,{"$f":"$X$58","v":0},{"$f":"LOOKUP(X104,Names!$A$2:$A$161,Names!$B$2:$B$161)","v":{"$error":"#N/A"}}]
[37,37,{"$f":"$C$61","v":0},{"$f":"LOOKUP(C105,Names!$A$2:$A$161,Names!$B$2:$B$161)","v":{"$error":"#N/A"}},null,null,null,null,37,{"$f":"$C$62","v":0},{"$f":"LOOKUP(J105,Names!$A$2:$A$161,Names!$B$2:$B$161)","v":{"$error":"#N/A"}},null,null,null,null,37,{"$f":"$C$63","v":0},{"$f":"LOOKUP(Q105,Names!$A$2:$A$161,Names!$B$2:$B$161)","v":{"$error":"#N/A"}},null,null,null,null,37,{"$f":"$C$64","v":0},{"$f":"LOOKUP(X105,Names!$A$2:$A$161,Names!$B$2:$B$161)","v":{"$error":"#N/A"}}]
[38,38,{"$f":"$J$61","v":0},{"$f":"LOOKUP(C106,Names!$A$2:$A$161,Names!$B$2:$B$161)","v":{"$error":"#N/A"}},null,null,null,null,38,{"$f":"$J$62","v":0},{"$f":"LOOKUP(J106,Names!$A$2:$A$161,Names!$B$2:$B$161)","v":{"$error":"#N/A"}},null,null,null,null,38,{"$f":"$J$63","v":0},{"$f":"LOOKUP(Q106,Names!$A$2:$A$161,Names!$B$2:$B$161)","v":{"$error":"#N/A"}},null,null,null,null,38,{"$f":"$J$64","v":0},{"$f":"LOOKUP(X106,Names!$A$2:$A$161,Names!$B$2:$B$161)","v":{"$error":"#N/A"}}]
[39,39,{"$f":"$Q$61","v":0},{"$f":"LOOKUP(C107,Names!$A$2:$A$161,Names!$B$2:$B$161)","v":{"$error":"#N/A"}},null,null,null,null,39,{"$f":"$Q$62","v":0},{"$f":"LOOKUP(J107,Names!$A$2:$A$161,Names!$B$2:$B$161)","v":{"$error":"#N/A"}},null,null,null,null,39,{"$f":"$Q$63","v":0},{"$f":"LOOKUP(Q107,Names!$A$2:$A$161,Names!$B$2:$B$161)","v":{"$error":"#N/A"}},null,null,null,null,39,{"$f":"$Q$64","v":0},{"$f":"LOOKUP(X107,Names!$A$2:$A$161,Names!$B$2:$B$161)","v":{"$error":"#N/A"}}]
[40,40,{"$f":"$X$61","v":0},{"$f":"LOOKUP(C108,Names!$A$2:$A$161,Names!$B$2:$B$161)","v":{"$error":"#N/A"}},null,null,null,null,40,{"$f":"$X$62","v":0},{"$f":"LOOKUP(J108,Names!$A$2:$A$161,Names!$B$2:$B$161)","v":{"$error":"#N/A"}},null,null,null,null,40,{"$f":"$X$63","v":0},{"$f":"LOOKUP(Q108,Names!$A$2:$A$161,Names!$B$2:$B$161)","v":{"$error":"#N/A"}},null,null,null,null,40,{"$f":"$X$64","v":0},{"$f":"LOOKUP(X108,Names!$A$2:$A$161,Names!$B$2:$B$161)","v":{"$error":"#N/A"}}]

{"sheet":"R3","index":4,"n_rows":108,"n_cols":28,"rows_kept":108,"cut":false,"hidden":false,"merged":[[58,24,58,26],[40,3,40,5],[40,10,40,12],[40,17,40,19],[40,24,40,26],[46,3,46,5],[46,10,46,12],[46,17,46,19],[46,24,46,26],[27,3,27,5],[27,10,27,12],[27,17,27,19],[27,24,27,26],[66,3,66,5],[66,10,66,12],[66,17,66,19],[66,24,66,26],[52,3,52,5],[52,10,52,12],[52,17,52,19],[52,24,52,26],[65,10,65,19],[58,3,58,5],[58,10,58,12],[58,17,58,19],[34,3,34,5],[34,10,34,12],[34,17,34,19],[34,24,34,26],[9,3,9,5],[9,10,9,12],[9,17,9,19],[9,24,9,26],[15,3,15,5],[15,10,15,12],[15,17,15,19],[15,24,15,26],[21,3,21,5],[21,10,21,12],[21,17,21,19],[21,24,21,26],[0,24,2,26],[3,3,3,5],[3,10,3,12],[3,17,3,19],[3,24,3,26],[0,11,0,17],[2,11,2,17]]}
[null,null,null,null,null,null,null,null,null,null,null,"Round ( 3 )",null,null,null,null,null,null,null,null,null,null,null,null,{"$f":"Score!Q1","v":"بطولة الاتحاد الثامنة للفردي المفتوح"}]
[]
[null,null,null,null,null,null,null,null,null,null,null,"Tab."]
[null,null,null,1,null,null,null,null,null,null,2,null,null,null,null,null,null,3,null,null,null,null,null,null,4]
[null,null,null,"Names","Sc.","Tab",null,null,null,null,"Names","Sc.","Tab",null,null,null,null,"Names","Sc.","Tab",null,null,null,null,"Names","Sc.","Tab"]
["N",1,{"$f":"Score!O5","v":1},{"$f":"LOOKUP(C6,Names!$A$2:$A$161,Names!$B$2:$B$161)","v":"إبراهيم عرفان السقا"},166,{"$f":"Sheet1!$M$5","v":2.85},{"$f":"F69","v":11},"N",1,{"$f":"Score!O9","v":5},{"$f":"LOOKUP(J6,Names!$A$2:$A$161,Names!$B$2:$B$161)","v":"أحمد محمد أمين"},51,{"$f":"Sheet1!$M$7","v":0},{"$f":"F70","v":2},"N",1,{"$f":"Score!O13","v":9},{"$f":"LOOKUP(Q6,Names!$A$2:$A$161,Names!$B$2:$B$161)","v":" عمرو محمد مصطفى"},82,{"$f":"Sheet1!$M$6","v":1.9000000000000001},{"$f":"F71","v":4},"N",1,{"$f":"Score!O17","v":13},{"$f":"LOOKUP(X6,Names!$A$2:$A$161,Names!$B$2:$B$161)","v":"عمرو سمير دسوقي"},115,{"$f":"Sheet1!$M$7","v":0},{"$f":"F72","v":7}]
["W",2,{"$f":"Score!O6","v":2},{"$f":"LOOKUP(C7,Names!$A$2:$A$161,Names!$B$2:$B$161)","v":"مصطفى محمد علي شرف"},135,{"$f":"Sheet1!$M$7","v":0},{"$f":"M69","v":4},"W",2,{"$f":"Score!O10","v":6},{"$f":"LOOKUP(J7,Names!$A$2:$A$161,Names!$B$2:$B$161)","v":"معتز محمد عبد المنعم"},163,{"$f":"Sheet1!$M$5","v":2.85},{"$f":"M70","v":9},"W",2,{"$f":"Score!O14","v":10},{"$f":"LOOKUP(Q7,Names!$A$2:$A$161,Names!$B$2:$B$161)","v":"تامر تيمور شكري"},43,{"$f":"Sheet1!$M$7","v":0},{"$f":"M71","v":1},"W",2,{"$f":"Score!O18","v":14},{"$f":"LOOKUP(X7,Names!$A$2:$A$161,Names!$B$2:$B$161)","v":"أحمد محمد محمدي"},154,3.8,{"$f":"M72","v":7}]
["S",3,{"$f":"Score!O7","v":3},{"$f":"LOOKUP(C8,Names!$A$2:$A$161,Names!$B$2:$B$161)","v":"أحمد محمد حمدي صالح"},187,{"$f":"Sheet1!$M$4","v":4.75},{"$f":"T69","v":17},"S",3,{"$f":"Score!O11","v":7},{"$f":"LOOKUP(J8,Names!$A$2:$A$161,Names!$B$2:$B$161)","v":"هيثم محمد شبانة"},180,{"$f":"Sheet1!$M$4","v":4.75},{"$f":"T70","v":14},"S",3,{"$f":"Score!O15","v":11},{"$f":"LOOKUP(Q8,Names!$A$2:$A$161,Names!$B$2:$B$161)","v":"هيثم العشماوي"},230,{"$f":"Sheet1!$M$4","v":4.75},{"$f":"T71","v":19},"S",3,{"$f":"Score!O19","v":15},{"$f":"LOOKUP(X8,Names!$A$2:$A$161,Names!$B$2:$B$161)","v":"حسام الدين صلاح أبو الفتوح"},144,{"$f":"Sheet1!$M$6","v":1.9000000000000001},{"$f":"T72","v":11}]
["E",4,{"$f":"Score!O8","v":4},{"$f":"LOOKUP(C9,Names!$A$2:$A$161,Names!$B$2:$B$161)","v":"أحمد جميل السيد"},149,{"$f":"Sheet1!$M$6","v":1.9000000000000001},{"$f":"AA69","v":10},"E",4,{"$f":"Score!O12","v":8},{"$f":"LOOKUP(J9,Names!$A$2:$A$161,Names!$B$2:$B$161)","v":"عبد الرحمن محمود عثمان"},101,{"$f":"Sheet1!$M$6","v":1.9000000000000001},{"$f":"AA70","v":3},"E",4,{"$f":"Score!O16","v":12},{"$f":"LOOKUP(Q9,Names!$A$2:$A$161,Names!$B$2:$B$161)","v":"أحمد علي السيد شرع"},128,{"$f":"Sheet1!$M$5","v":2.85},{"$f":"AA71","v":6},"E",4,{"$f":"Score!O20","v":16},{"$f":"LOOKUP(X9,Names!$A$2:$A$161,Names!$B$2:$B$161)","v":"طارق عبد الغني السحار"},154,3.8,{"$f":"AA72","v":12}]
[null,null,null,5,null,null,null,null,null,null,6,null,null,null,null,null,null,7,null,null,null,null,null,null,8]
[null,null,null,"Names","Sc.","Tab",null,null,null,null,"Names","Sc.","Tab",null,null,null,null,"Names","Sc.","Tab",null,null,null,null,"Names","Sc.","Tab"]
["N",1,{"$f":"Score!O21","v":17},{"$f":"LOOKUP(C12,Names!$A$2:$A$161,Names!$B$2:$B$161)","v":"مينا ناجح صبحي"},145,{"$f":"Sheet1!$M$6","v":1.9000000000000001},{"$f":"F73","v":9},"N",1,{"$f":"Score!O25","v":21},{"$f":"LOOKUP(J12,Names!$A$2:$A$161,Names!$B$2:$B$161)","v":"محمد طارق عبد الله"},249,{"$f":"Sheet1!$M$4","v":4.75},{"$f":"F74","v":17},"N",1,{"$f":"Score!O29","v":25},{"$f":"LOOKUP(Q12,Names!$A$2:$A$161,Names!$B$2:$B$161)","v":"خالد حمدي محمد السيد"},25,{"$f":"Sheet1!$M$7","v":0},{"$f":"F75","v":1},"N",1,{"$f":"Score!O33","v":29},{"$f":"LOOKUP(X12,Names!$A$2:$A$161,Names!$B$2:$B$161)","v":"اسلام نصر الغنام"},106,{"$f":"Sheet1!$M$6","v":1.9000000000000001},{"$f":"F76","v":5}]
["W",2,{"$f":"Score!O22","v":18},{"$f":"LOOKUP(C13,Names!$A$2:$A$161,Names!$B$2:$B$161)","v":"وليد شعبان إسماعيل علي"},155,{"$f":"Sheet1!$M$5","v":2.85},{"$f":"M73","v":8},"W",2,{"$f":"Score!O26","v":22},{"$f":"LOOKUP(J13,Names!$A$2:$A$161,Names!$B$2:$B$161)","v":"يوسف مسعد فراج"},215,{"$f":"Sheet1!$M$5","v":2.85},{"$f":"M74","v":19},"W",2,{"$f":"Score!O30","v":26},{"$f":"LOOKUP(Q13,Names!$A$2:$A$161,Names!$B$2:$B$161)","v":"علاء شوقي جبريل"},132,{"$f":"Sheet1!$M$6","v":1.9000000000000001},{"$f":"M75","v":3},"W",2,{"$f":"Score!O34","v":30},{"$f":"LOOKUP(X13,Names!$A$2:$A$161,Names!$B$2:$B$161)","v":"محمد سعيد الفطاطري"},167,{"$f":"Sheet1!$M$4","v":4.75},{"$f":"M76","v":11}]
["S",3,{"$f":"Score!O23","v":19},{"$f":"LOOKUP(C14,Names!$A$2:$A$161,Names!$B$2:$B$161)","v":"محمد أحمد محمد عبد الله"},69,{"$f":"Sheet1!$M$7","v":0},{"$f":"T73","v":4},"S",3,{"$f":"Score!O27","v":23},{"$f":"LOOKUP(J14,Names!$A$2:$A$161,Names!$B$2:$B$161)","v":"جمال احمد محمد جمال"},70,{"$f":"Sheet1!$M$7","v":0},{"$f":"T74","v":5},"S",3,{"$f":"Score!O31","v":27},{"$f":"LOOKUP(Q14,Names!$A$2:$A$161,Names!$B$2:$B$161)","v":"أحمد سمير خلف على"},186,{"$f":"Sheet1!$M$4","v":4.75},{"$f":"T75","v":16},"S",3,{"$f":"Score!O35","v":31},{"$f":"LOOKUP(X14,Names!$A$2:$A$161,Names!$B$2:$B$161)","v":"أحمد بسيوني"},42,{"$f":"Sheet1!$M$7","v":0},{"$f":"T76","v":3}]
["E",4,{"$f":"Score!O24","v":20},{"$f":"LOOKUP(C15,Names!$A$2:$A$161,Names!$B$2:$B$161)","v":"عصام الدين محمد عبد العاطي"},161,{"$f":"Sheet1!$M$4","v":4.75},{"$f":"AA73","v":15},"E",4,{"$f":"Score!O28","v":24},{"$f":"LOOKUP(J15,Names!$A$2:$A$161,Names!$B$2:$B$161)","v":"يامن محمد حسن"},126,{"$f":"Sheet1!$M$6","v":1.9000000000000001},{"$f":"AA74","v":5},"E",4,{"$f":"Score!O32","v":28},{"$f":"LOOKUP(Q15,Names!$A$2:$A$161,Names!$B$2:$B$161)","v":"محمد حسن عبد القادر"},133,{"$f":"Sheet1!$M$5","v":2.85},{"$f":"AA75","v":7},"E",4,{"$f":"Score!O36","v":32},{"$f":"LOOKUP(X15,Names!$A$2:$A$161,Names!$B$2:$B$161)","v":"أمير محمد خطاب"},144,{"$f":"Sheet1!$M$5","v":2.85},{"$f":"AA76","v":9}]
[null,null,null,9,null,null,null,null,null,null,10,null,null,null,null,null,null,11,null,null,null,null,null,null,12]
[null,null,null,"Names","Sc.","Tab",null,null,null,null,"Names","Sc.","Tab",null,null,null,null,"Names","Sc.","Tab",null,null,null,null,"Names","Sc.","Tab"]
["N",1,{"$f":"Score!O37","v":33},{"$f":"LOOKUP(C18,Names!$A$2:$A$161,Names!$B$2:$B$161)","v":"أحمد إبراهيم غانم"},176,{"$f":"Sheet1!$M$4","v":4.75},{"$f":"F77","v":12},"N",1,{"$f":"Score!O41","v":37},{"$f":"LOOKUP(J18,Names!$A$2:$A$161,Names!$B$2:$B$161)","v":0},null,null,{"$f":"F78","v":0},"N",1,{"$f":"Score!O45","v":41},{"$f":"LOOKUP(Q18,Names!$A$2:$A$161,Names!$B$2:$B$161)","v":0},null,null,{"$f":"F79","v":0},"N",1,{"$f":"Score!O49","v":45},{"$f":"LOOKUP(X18,Names!$A$2:$A$161,Names!$B$2:$B$161)","v":0},null,null,{"$f":"F80","v":0}]
["W",2,{"$f":"Score!O38","v":34},{"$f":"LOOKUP(C19,Names!$A$2:$A$161,Names!$B$2:$B$161)","v":"شريف حلمي"},167,{"$f":"Sheet1!$M$5","v":2.85},{"$f":"M77","v":11},"W",2,{"$f":"Score!O42","v":38},{"$f":"LOOKUP(J19,Names!$A$2:$A$161,Names!$B$2:$B$161)","v":0},null,null,{"$f":"M78","v":0},"W",2,{"$f":"Score!O46","v":42},{"$f":"LOOKUP(Q19,Names!$A$2:$A$161,Names!$B$2:$B$161)","v":0},null,null,{"$f":"M79","v":0},"W",2,{"$f":"Score!O50","v":46},{"$f":"LOOKUP(X19,Names!$A$2:$A$161,Names!$B$2:$B$161)","v":0},null,null,{"$f":"M80","v":0}]
["S",3,{"$f":"Score!O39","v":35},{"$f":"LOOKUP(C20,Names!$A$2:$A$161,Names!$B$2:$B$161)","v":"أحمد فؤاد حسنين"},72,{"$f":"Sheet1!$M$7","v":0},{"$f":"T77","v":6},"S",3,{"$f":"Score!O43","v":39},{"$f":"LOOKUP(J20,Names!$A$2:$A$161,Names!$B$2:$B$161)","v":0},null,null,{"$f":"T78","v":0},"S",3,{"$f":"Score!O47","v":43},{"$f":"LOOKUP(Q20,Names!$A$2:$A$161,Names!$B$2:$B$161)","v":0},null,null,{"$f":"T79","v":0},"S",3,{"$f":"Score!O51","v":47},{"$f":"LOOKUP(X20,Names!$A$2:$A$161,Names!$B$2:$B$161)","v":0},null,null,{"$f":"T80","v":0}]
["E",4,{"$f":"Score!O40","v":36},{"$f":"LOOKUP(C21,Names!$A$2:$A$161,Names!$B$2:$B$161)","v":"محمد محمود فضل"},164,{"$f":"Sheet1!$M$6","v":1.9000000000000001},{"$f":"AA77","v":16},"E",4,{"$f":"Score!O44","v":40},{"$f":"LOOKUP(J21,Names!$A$2:$A$161,Names!$B$2:$B$161)","v":0},null,null,{"$f":"AA78","v":0},"E",4,{"$f":"Score!O48","v":44},{"$f":"LOOKUP(Q21,Names!$A$2:$A$161,Names!$B$2:$B$161)","v":0},null,null,{"$f":"AA79","v":0},"E",4,{"$f":"Score!O52","v":48},{"$f":"LOOKUP(X21,Names!$A$2:$A$161,Names!$B$2:$B$161)","v":0},null,null,{"$f":"AA80","v":0}]
[null,null,null,13,null,null,null,null,null,null,14,null,null,null,null,null,null,15,null,null,null,null,null,null,16]
[null,null,null,"Names","Sc.","Tab",null,null,null,null,"Names","Sc.","Tab",null,null,null,null,"Names","Sc.","Tab",null,null,null,null,"Names","Sc.","Tab"]
["N",1,{"$f":"Score!O53","v":49},{"$f":"LOOKUP(C24,Names!$A$2:$A$161,Names!$B$2:$B$161)","v":0},0,{"$f":"Sheet1!$M$4","v":4.75},{"$f":"F81","v":0},"N",1,{"$f":"Score!O57","v":53},{"$f":"LOOKUP(J24,Names!$A$2:$A$161,Names!$B$2:$B$161)","v":0},0,{"$f":"Sheet1!$M$4","v":4.75},{"$f":"F82","v":0},"N",1,{"$f":"Score!O61","v":57},{"$f":"LOOKUP(Q24,Names!$A$2:$A$161,Names!$B$2:$B$161)","v":0},0,{"$f":"Sheet1!$M$4","v":4.75},{"$f":"F83","v":0},"N",1,{"$f":"Score!O65","v":61},{"$f":"LOOKUP(X24,Names!$A$2:$A$161,Names!$B$2:$B$161)","v":0},0,{"$f":"Sheet1!$M$4","v":4.75},{"$f":"F84","v":0}]
["W",2,{"$f":"Score!O54","v":50},{"$f":"LOOKUP(C25,Names!$A$2:$A$161,Names!$B$2:$B$161)","v":0},0,{"$f":"Sheet1!$M$5","v":2.85},{"$f":"M81","v":0},"W",2,{"$f":"Score!O58","v":54},{"$f":"LOOKUP(J25,Names!$A$2:$A$161,Names!$B$2:$B$161)","v":0},0,{"$f":"Sheet1!$M$5","v":2.85},{"$f":"M82","v":0},"W",2,{"$f":"Score!O62","v":58},{"$f":"LOOKUP(Q25,Names!$A$2:$A$161,Names!$B$2:$B$161)","v":0},0,{"$f":"Sheet1!$M$5","v":2.85},{"$f":"M83","v":0},"W",2,{"$f":"Score!O66","v":62},{"$f":"LOOKUP(X25,Names!$A$2:$A$161,Names!$B$2:$B$161)","v":0},0,{"$f":"Sheet1!$M$5","v":2.85},{"$f":"M84","v":0}]
["S",3,{"$f":"Score!O55","v":51},{"$f":"LOOKUP(C26,Names!$A$2:$A$161,Names!$B$2:$B$161)","v":0},0,{"$f":"Sheet1!$M$6","v":1.9000000000000001},{"$f":"T81","v":0},"S",3,{"$f":"Score!O59","v":55},{"$f":"LOOKUP(J26,Names!$A$2:$A$161,Names!$B$2:$B$161)","v":0},0,{"$f":"Sheet1!$M$6","v":1.9000000000000001},{"$f":"T82","v":0},"S",3,{"$f":"Score!O63","v":59},{"$f":"LOOKUP(Q26,Names!$A$2:$A$161,Names!$B$2:$B$161)","v":0},0,{"$f":"Sheet1!$M$6","v":1.9000000000000001},{"$f":"T83","v":0},"S",3,{"$f":"Score!O67","v":63},{"$f":"LOOKUP(X26,Names!$A$2:$A$161,Names!$B$2:$B$161)","v":0},0,{"$f":"Sheet1!$M$6","v":1.9000000000000001},{"$f":"T84","v":0}]
["E",4,{"$f":"Score!O56","v":52},{"$f":"LOOKUP(C27,Names!$A$2:$A$161,Names!$B$2:$B$161)","v":0},0,{"$f":"Sheet1!$M$7","v":0},{"$f":"AA81","v":0},"E",4,{"$f":"Score!O60","v":56},{"$f":"LOOKUP(J27,Names!$A$2:$A$161,Names!$B$2:$B$161)","v":0},0,{"$f":"Sheet1!$M$7","v":0},{"$f":"AA82","v":0},"E",4,{"$f":"Score!O64","v":60},{"$f":"LOOKUP(Q27,Names!$A$2:$A$161,Names!$B$2:$B$161)","v":0},0,{"$f":"Sheet1!$M$7","v":0},{"$f":"AA83","v":0},"E",4,{"$f":"Score!O68","v":64},{"$f":"LOOKUP(X27,Names!$A$2:$A$161,Names!$B$2:$B$161)","v":0},0,{"$f":"Sheet1!$M$7","v":0},{"$f":"AA84","v":0}]
[null,null,null,17,null,null,null,null,null,null,18,null,null,null,null,null,null,19,null,null,null,null,null,null,20]
[null,null,null,"Names","Sc.","Tab",null,null,null,null,"Names","Sc.","Tab",null,null,null,null,"Names","Sc.","Tab",null,null,null,null,"Names","Sc.","Tab"]
["N",1,{"$f":"Score!O69","v":65},{"$f":"LOOKUP(C30,Names!$A$2:$A$161,Names!$B$2:$B$161)","v":0},0,{"$f":"Sheet1!$M$4","v":4.75},{"$f":"F85","v":0},"N",1,{"$f":"Score!O73","v":69},{"$f":"LOOKUP(J30,Names!$A$2:$A$161,Names!$B$2:$B$161)","v":0},0,{"$f":"Sheet1!$M$4","v":4.75},{"$f":"F86","v":0},"N",1,{"$f":"Score!O77","v":73},{"$f":"LOOKUP(Q30,Names!$A$2:$A$161,Names!$B$2:$B$161)","v":0},0,{"$f":"Sheet1!$M$4","v":4.75},{"$f":"F87","v":0},"N",1,{"$f":"Score!O81","v":77},{"$f":"LOOKUP(X30,Names!$A$2:$A$161,Names!$B$2:$B$161)","v":0},0,{"$f":"Sheet1!$M$4","v":4.75},{"$f":"F88","v":0}]
["W",2,{"$f":"Score!O70","v":66},{"$f":"LOOKUP(C31,Names!$A$2:$A$161,Names!$B$2:$B$161)","v":0},0,{"$f":"Sheet1!$M$5","v":2.85},{"$f":"M85","v":0},"W",2,{"$f":"Score!O74","v":70},{"$f":"LOOKUP(J31,Names!$A$2:$A$161,Names!$B$2:$B$161)","v":0},0,{"$f":"Sheet1!$M$5","v":2.85},{"$f":"M86","v":0},"W",2,{"$f":"Score!O78","v":74},{"$f":"LOOKUP(Q31,Names!$A$2:$A$161,Names!$B$2:$B$161)","v":0},0,{"$f":"Sheet1!$M$5","v":2.85},{"$f":"M87","v":0},"W",2,{"$f":"Score!O82","v":78},{"$f":"LOOKUP(X31,Names!$A$2:$A$161,Names!$B$2:$B$161)","v":0},0,{"$f":"Sheet1!$M$5","v":2.85},{"$f":"M88","v":0}]
["S",3,{"$f":"Score!O71","v":67},{"$f":"LOOKUP(C32,Names!$A$2:$A$161,Names!$B$2:$B$161)","v":0},0,{"$f":"Sheet1!$M$6","v":1.9000000000000001},{"$f":"T85","v":0},"S",3,{"$f":"Score!O75","v":71},{"$f":"LOOKUP(J32,Names!$A$2:$A$161,Names!$B$2:$B$161)","v":0},0,{"$f":"Sheet1!$M$6","v":1.9000000000000001},{"$f":"T86","v":0},"S",3,{"$f":"Score!O79","v":75},{"$f":"LOOKUP(Q32,Names!$A$2:$A$161,Names!$B$2:$B$161)","v":0},0,{"$f":"Sheet1!$M$6","v":1.9000000000000001},{"$f":"T87","v":0},"S",3,{"$f":"Score!O83","v":79},{"$f":"LOOKUP(X32,Names!$A$2:$A$161,Names!$B$2:$B$161)","v":0},0,{"$f":"Sheet1!$M$6","v":1.9000000000000001},{"$f":"T88","v":0}]
["E",4,{"$f":"Score!O72","v":68},{"$f":"LOOKUP(C33,Names!$A$2:$A$161,Names!$B$2:$B$161)","v":0},0,{"$f":"Sheet1!$M$7","v":0},{"$f":"AA85","v":0},"E",4,{"$f":"Score!O76","v":72},{"$f":"LOOKUP(J33,Names!$A$2:$A$161,Names!$B$2:$B$161)","v":0},0,{"$f":"Sheet1!$M$7","v":0},{"$f":"AA86","v":0},"E",4,{"$f":"Score!O80","v":76},{"$f":"LOOKUP(Q33,Names!$A$2:$A$161,Names!$B$2:$B$161)","v":0},0,{"$f":"Sheet1!$M$7","v":0},{"$f":"AA87","v":0},"E",4,{"$f":"Score!O84","v":80},{"$f":"LOOKUP(X33,Names!$A$2:$A$161,Names!$B$2:$B$161)","v":0},0,{"$f":"Sheet1!$M$7","v":0},{"$f":"AA88","v":0}]
[]
[null,null,null,21,null,null,null,null,null,null,22,null,null,null,null,null,null,23,null,null,null,null,null,null,24]
[null,null,null,"Names","Sc.","Tab",null,null,null,null,"Names","Sc.","Tab",null,null,null,null,"Names","Sc.","Tab",null,null,null,null,"Names","Sc.","Tab"]
["N",1,{"$f":"Score!O85","v":81},{"$f":"LOOKUP(C37,Names!$A$2:$A$161,Names!$B$2:$B$161)","v":"راجي محمد صبحي"},107,{"$f":"Sheet1!$M$6","v":1.9000000000000001},{"$f":"F89","v":6},"N",1,{"$f":"Score!O89","v":110},{"$f":"LOOKUP(J37,Names!$A$2:$A$161,Names!$B$2:$B$161)","v":"أسامة أحمد زكي"},181,{"$f":"Sheet1!$M$5","v":2.85},{"$f":"F90","v":13},"N",1,{"$f":"Score!O93","v":104},{"$f":"LOOKUP(Q37,Names!$A$2:$A$161,Names!$B$2:$B$161)","v":"كريم إيهاب عامر"},186,{"$f":"Sheet1!$M$4","v":4.75},{"$f":"F91","v":14},"N",1,{"$f":"Score!O97","v":101},{"$f":"LOOKUP(X37,Names!$A$2:$A$161,Names!$B$2:$B$161)","v":"أحمد محمد شوقى عبد الحميد"},55,{"$f":"Sheet1!$M$7","v":0},{"$f":"F92","v":3}]
["W",2,{"$f":"Score!O86","v":97},{"$f":"LOOKUP(C38,Names!$A$2:$A$161,Names!$B$2:$B$161)","v":"خالد محمد شبارة"},167,{"$f":"Sheet1!$M$4","v":4.75},{"$f":"M89","v":11},"W",2,{"$f":"Score!O90","v":91},{"$f":"LOOKUP(J38,Names!$A$2:$A$161,Names!$B$2:$B$161)","v":"عماد محمد فؤاد مرسي"},184,{"$f":"Sheet1!$M$4","v":4.75},{"$f":"M90","v":14.5},"W",2,{"$f":"Score!O94","v":85},{"$f":"LOOKUP(Q38,Names!$A$2:$A$161,Names!$B$2:$B$161)","v":"محمد عبد الهادي أبو القاسم"},185,{"$f":"Sheet1!$M$5","v":2.85},{"$f":"M91","v":16},"W",2,{"$f":"Score!O98","v":114},{"$f":"LOOKUP(X38,Names!$A$2:$A$161,Names!$B$2:$B$161)","v":"احمد سردينة"},184,{"$f":"Sheet1!$M$4","v":4.75},{"$f":"M92","v":14.5}]
["S",3,{"$f":"Score!O87","v":113},{"$f":"LOOKUP(C39,Names!$A$2:$A$161,Names!$B$2:$B$161)","v":"محمد حسن فهيم"},159,{"$f":"Sheet1!$M$5","v":2.85},{"$f":"T89","v":12},"S",3,{"$f":"Score!O91","v":107},{"$f":"LOOKUP(J39,Names!$A$2:$A$161,Names!$B$2:$B$161)","v":"شادي أحمد محمود وهبة"},92,{"$f":"Sheet1!$M$7","v":0},{"$f":"T90","v":7},"S",3,{"$f":"Score!O95","v":98},{"$f":"LOOKUP(Q39,Names!$A$2:$A$161,Names!$B$2:$B$161)","v":"محمد محمود شعبان رمضان"},96,{"$f":"Sheet1!$M$7","v":0},{"$f":"T91","v":8},"S",3,{"$f":"Score!O99","v":95},{"$f":"LOOKUP(X39,Names!$A$2:$A$161,Names!$B$2:$B$161)","v":"احمد طنطاوى"},169,{"$f":"Sheet1!$M$5","v":2.85},{"$f":"T92","v":13}]
["E",4,{"$f":"Score!O88","v":94},{"$f":"LOOKUP(C40,Names!$A$2:$A$161,Names!$B$2:$B$161)","v":"محمد عصام الدين القاضي"},106,{"$f":"Sheet1!$M$7","v":0},{"$f":"AA89","v":4},"E",4,{"$f":"Score!O92","v":88},{"$f":"LOOKUP(J40,Names!$A$2:$A$161,Names!$B$2:$B$161)","v":"أحمد علي خليل حسن"},178,{"$f":"Sheet1!$M$6","v":1.9000000000000001},{"$f":"AA90","v":17},"E",4,{"$f":"Score!O96","v":82},{"$f":"LOOKUP(Q40,Names!$A$2:$A$161,Names!$B$2:$B$161)","v":"أحمد صلاح الدين دياب"},152,{"$f":"Sheet1!$M$6","v":1.9000000000000001},{"$f":"AA91","v":11},"E",4,{"$f":"Score!O100","v":111},{"$f":"LOOKUP(X40,Names!$A$2:$A$161,Names!$B$2:$B$161)","v":"عادل محمد أبو زيد"},160,{"$f":"Sheet1!$M$6","v":1.9000000000000001},{"$f":"AA92","v":14}]
[null,null,null,25,null,null,null,null,null,null,26,null,null,null,null,null,null,27,null,null,null,null,null,null,28]
[null,null,null,"Names","Sc.","Tab",null,null,null,null,"Names","Sc.","Tab",null,null,null,null,"Names","Sc.","Tab",null,null,null,null,"Names","Sc.","Tab"]
["N",1,{"$f":"Score!O101","v":92},{"$f":"LOOKUP(C43,Names!$A$2:$A$161,Names!$B$2:$B$161)","v":"أحمد مصطفى راشد"},198,{"$f":"Sheet1!$M$4","v":4.75},{"$f":"F93","v":15},"N",1,{"$f":"Score!O105","v":83},{"$f":"LOOKUP(J43,Names!$A$2:$A$161,Names!$B$2:$B$161)","v":"أسامة لطفى نجيب"},162,{"$f":"Sheet1!$M$5","v":2.85},{"$f":"F94","v":10},"N",1,{"$f":"Score!O109","v":112},{"$f":"LOOKUP(Q43,Names!$A$2:$A$161,Names!$B$2:$B$161)","v":"عمرو محمد محسن"},202,{"$f":"Sheet1!$M$5","v":2.85},{"$f":"F95","v":16},"N",1,{"$f":"Score!O113","v":87},{"$f":"LOOKUP(X43,Names!$A$2:$A$161,Names!$B$2:$B$161)","v":"ياسر شاهين"},370,{"$f":"Sheet1!$M$4","v":4.75},{"$f":"F96","v":19}]
["W",2,{"$f":"Score!O102","v":108},{"$f":"LOOKUP(C44,Names!$A$2:$A$161,Names!$B$2:$B$161)","v":"كريم احمد ناصر"},173,{"$f":"Sheet1!$M$5","v":2.85},{"$f":"M93","v":13},"W",2,{"$f":"Score!O106","v":99},{"$f":"LOOKUP(J44,Names!$A$2:$A$161,Names!$B$2:$B$161)","v":"ماجد محمد فكري"},152,{"$f":"Sheet1!$M$6","v":1.9000000000000001},{"$f":"M94","v":6},"W",2,{"$f":"Score!O110","v":93},{"$f":"LOOKUP(Q44,Names!$A$2:$A$161,Names!$B$2:$B$161)","v":"جمال السيد توفيق"},141,{"$f":"Sheet1!$M$6","v":1.9000000000000001},{"$f":"M95","v":5},"W",2,{"$f":"Score!O114","v":103},{"$f":"LOOKUP(X44,Names!$A$2:$A$161,Names!$B$2:$B$161)","v":"عمرو عماد الدين أبو العلا"},65,{"$f":"Sheet1!$M$6","v":1.9000000000000001},{"$f":"M96","v":2}]
["S",3,{"$f":"Score!O103","v":86},{"$f":"LOOKUP(C45,Names!$A$2:$A$161,Names!$B$2:$B$161)","v":"ايهاب يوسف عمارة"},121,{"$f":"Sheet1!$M$7","v":0},{"$f":"T93","v":10},"S",3,{"$f":"Score!O107","v":115},{"$f":"LOOKUP(J45,Names!$A$2:$A$161,Names!$B$2:$B$161)","v":"خالد عبد العظيم"},185,{"$f":"Sheet1!$M$4","v":4.75},{"$f":"T94","v":15},"S",3,{"$f":"Score!O111","v":90},{"$f":"LOOKUP(Q45,Names!$A$2:$A$161,Names!$B$2:$B$161)","v":"محمد علي حسن طه الأمام"},27,{"$f":"Sheet1!$M$7","v":0},{"$f":"T95","v":1},"S",3,{"$f":"Score!O115","v":84},{"$f":"LOOKUP(X45,Names!$A$2:$A$161,Names!$B$2:$B$161)","v":"أحمد عز العرب السماحي"},30,{"$f":"Sheet1!$M$7","v":0},{"$f":"T96","v":2}]
["E",4,{"$f":"Score!O104","v":102},{"$f":"LOOKUP(C46,Names!$A$2:$A$161,Names!$B$2:$B$161)","v":"سامي محمود الفولي"},135,{"$f":"Sheet1!$M$6","v":1.9000000000000001},{"$f":"AA93","v":8},"E",4,{"$f":"Score!O108","v":96},{"$f":"LOOKUP(J46,Names!$A$2:$A$161,Names!$B$2:$B$161)","v":"أحمد رمزي الديب"},15,{"$f":"Sheet1!$M$7","v":0},{"$f":"AA94","v":1},"E",4,{"$f":"Score!O112","v":106},{"$f":"LOOKUP(Q46,Names!$A$2:$A$161,Names!$B$2:$B$161)","v":"أحمد عبد العزيز العطار"},204,{"$f":"Sheet1!$M$4","v":4.75},{"$f":"AA95","v":19},"E",4,{"$f":"Score!O116","v":109},{"$f":"LOOKUP(X46,Names!$A$2:$A$161,Names!$B$2:$B$161)","v":"نبيل خلف زكي"},80,{"$f":"Sheet1!$M$5","v":2.85},{"$f":"AA96","v":2}]
[null,null,null,29,null,null,null,null,null,null,30,null,null,null,null,null,null,31,null,null,null,null,null,null,32]
[null,null,null,"Names","Sc.","Tab",null,null,null,null,"Names","Sc.","Tab",null,null,null,null,"Names","Sc.","Tab",null,null,null,null,"Names","Sc.","Tab"]
["N",1,{"$f":"Score!O117","v":100},{"$f":"LOOKUP(C49,Names!$A$2:$A$161,Names!$B$2:$B$161)","v":"عبد الرحمن الدمراوى"},125,{"$f":"Sheet1!$M$6","v":1.9000000000000001},{"$f":"F97","v":8},"N",1,{"$f":"Score!O121","v":0},{"$f":"LOOKUP(J49,Names!$A$2:$A$161,Names!$B$2:$B$161)","v":{"$error":"#N/A"}},null,null,{"$f":"F98","v":0},"N",1,{"$f":"Score!O125","v":0},{"$f":"LOOKUP(Q49,Names!$A$2:$A$161,Names!$B$2:$B$161)","v":{"$error":"#N/A"}},null,null,{"$f":"F99","v":0},"N",1,{"$f":"Score!O129","v":0},{"$f":"LOOKUP(X49,Names!$A$2:$A$161,Names!$B$2:$B$161)","v":{"$error":"#N/A"}},null,null,{"$f":"F100","v":0}]
["W",2,{"$f":"Score!O118","v":89},{"$f":"LOOKUP(C50,Names!$A$2:$A$161,Names!$B$2:$B$161)","v":"محمد بلبع"},206,{"$f":"Sheet1!$M$4","v":4.75},{"$f":"M97","v":17},"W",2,{"$f":"Score!O122","v":0},{"$f":"LOOKUP(J50,Names!$A$2:$A$161,Names!$B$2:$B$161)","v":{"$error":"#N/A"}},null,null,{"$f":"M98","v":0},"W",2,{"$f":"Score!O126","v":0},{"$f":"LOOKUP(Q50,Names!$A$2:$A$161,Names!$B$2:$B$161)","v":{"$error":"#N/A"}},null,null,{"$f":"M99","v":0},"W",2,{"$f":"Score!O130","v":0},{"$f":"LOOKUP(X50,Names!$A$2:$A$161,Names!$B$2:$B$161)","v":{"$error":"#N/A"}},null,null,{"$f":"M100","v":0}]
["S",3,{"$f":"Score!O119","v":105},{"$f":"LOOKUP(C51,Names!$A$2:$A$161,Names!$B$2:$B$161)","v":"مصطفى عبد الحفيظ علي"},104,{"$f":"Sheet1!$M$7","v":0},{"$f":"T97","v":9},"S",3,{"$f":"Score!O123","v":0},{"$f":"LOOKUP(J51,Names!$A$2:$A$161,Names!$B$2:$B$161)","v":{"$error":"#N/A"}},null,null,{"$f":"T98","v":0},"S",3,{"$f":"Score!O127","v":0},{"$f":"LOOKUP(Q51,Names!$A$2:$A$161,Names!$B$2:$B$161)","v":{"$error":"#N/A"}},null,null,{"$f":"T99","v":0},"S",3,{"$f":"Score!O131","v":0},{"$f":"LOOKUP(X51,Names!$A$2:$A$161,Names!$B$2:$B$161)","v":{"$error":"#N/A"}},null,null,{"$f":"T100","v":0}]
["E",4,{"$f":"Score!O120","v":116},{"$f":"LOOKUP(C52,Names!$A$2:$A$161,Names!$B$2:$B$161)","v":"اسامة قاسم"},156,{"$f":"Sheet1!$M$5","v":2.85},{"$f":"AA97","v":13},"E",4,{"$f":"Score!O124","v":0},{"$f":"LOOKUP(J52,Names!$A$2:$A$161,Names!$B$2:$B$161)","v":{"$error":"#N/A"}},null,null,{"$f":"AA98","v":0},"E",4,{"$f":"Score!O128","v":0},{"$f":"LOOKUP(Q52,Names!$A$2:$A$161,Names!$B$2:$B$161)","v":{"$error":"#N/A"}},null,null,{"$f":"AA99","v":0},"E",4,{"$f":"Score!O132","v":0},{"$f":"LOOKUP(X52,Names!$A$2:$A$161,Names!$B$2:$B$161)","v":{"$error":"#N/A"}},null,null,{"$f":"AA100","v":0}]
[null,null,null,33,null,null,null,null,null,null,34,null,null,null,null,null,null,35,null,null,null,null,null,null,36]
[null,null,null,"Names","Sc.","Tab",null,null,null,null,"Names","Sc.","Tab",null,null,null,null,"Names","Sc.","Tab",null,null,null,null,"Names","Sc.","Tab"]
["N",1,{"$f":"Score!O133","v":0},{"$f":"LOOKUP(C55,Names!$A$2:$A$161,Names!$B$2:$B$161)","v":{"$error":"#N/A"}},0,{"$f":"Sheet1!$M$4","v":4.75},{"$f":"F101","v":0},"N",1,{"$f":"Score!O137","v":0},{"$f":"LOOKUP(J55,Names!$A$2:$A$161,Names!$B$2:$B$161)","v":{"$error":"#N/A"}},0,{"$f":"Sheet1!$M$4","v":4.75},{"$f":"F102","v":0},"N",1,{"$f":"Score!O141","v":0},{"$f":"LOOKUP(Q55,Names!$A$2:$A$161,Names!$B$2:$B$161)","v":{"$error":"#N/A"}},0,{"$f":"Sheet1!$M$4","v":4.75},{"$f":"F103","v":0},"N",1,{"$f":"Score!O145","v":0},{"$f":"LOOKUP(X55,Names!$A$2:$A$161,Names!$B$2:$B$161)","v":{"$error":"#N/A"}},0,{"$f":"Sheet1!$M$4","v":4.75},{"$f":"F104","v":0}]
["W",2,{"$f":"Score!O134","v":0},{"$f":"LOOKUP(C56,Names!$A$2:$A$161,Names!$B$2:$B$161)","v":{"$error":"#N/A"}},0,{"$f":"Sheet1!$M$5","v":2.85},{"$f":"M101","v":0},"W",2,{"$f":"Score!O138","v":0},{"$f":"LOOKUP(J56,Names!$A$2:$A$161,Names!$B$2:$B$161)","v":{"$error":"#N/A"}},0,{"$f":"Sheet1!$M$5","v":2.85},{"$f":"M102","v":0},"W",2,{"$f":"Score!O142","v":0},{"$f":"LOOKUP(Q56,Names!$A$2:$A$161,Names!$B$2:$B$161)","v":{"$error":"#N/A"}},0,{"$f":"Sheet1!$M$5","v":2.85},{"$f":"M103","v":0},"W",2,{"$f":"Score!O146","v":0},{"$f":"LOOKUP(X56,Names!$A$2:$A$161,Names!$B$2:$B$161)","v":{"$error":"#N/A"}},0,{"$f":"Sheet1!$M$5","v":2.85},{"$f":"M104","v":0}]
["S",3,{"$f":"Score!O135","v":0},{"$f":"LOOKUP(C57,Names!$A$2:$A$161,Names!$B$2:$B$161)","v":{"$error":"#N/A"}},0,{"$f":"Sheet1!$M$6","v":1.9000000000000001},{"$f":"T101","v":0},"S",3,{"$f":"Score!O139","v":0},{"$f":"LOOKUP(J57,Names!$A$2:$A$161,Names!$B$2:$B$161)","v":{"$error":"#N/A"}},0,{"$f":"Sheet1!$M$6","v":1.9000000000000001},{"$f":"T102","v":0},"S",3,{"$f":"Score!O143","v":0},{"$f":"LOOKUP(Q57,Names!$A$2:$A$161,Names!$B$2:$B$161)","v":{"$error":"#N/A"}},0,{"$f":"Sheet1!$M$6","v":1.9000000000000001},{"$f":"T103","v":0},"S",3,{"$f":"Score!O147","v":0},{"$f":"LOOKUP(X57,Names!$A$2:$A$161,Names!$B$2:$B$161)","v":{"$error":"#N/A"}},0,{"$f":"Sheet1!$M$6","v":1.9000000000000001},{"$f":"T104","v":0}]
["E",4,{"$f":"Score!O136","v":0},{"$f":"LOOKUP(C58,Names!$A$2:$A$161,Names!$B$2:$B$161)","v":{"$error":"#N/A"}},0,{"$f":"Sheet1!$M$7","v":0},{"$f":"AA101","v":0},"E",4,{"$f":"Score!O140","v":0},{"$f":"LOOKUP(J58,Names!$A$2:$A$161,Names!$B$2:$B$161)","v":{"$error":"#N/A"}},0,{"$f":"Sheet1!$M$7","v":0},{"$f":"AA102","v":0},"E",4,{"$f":"Score!O144","v":0},{"$f":"LOOKUP(Q58,Names!$A$2:$A$161,Names!$B$2:$B$161)","v":{"$error":"#N/A"}},0,{"$f":"Sheet1!$M$7","v":0},{"$f":"AA103","v":0},"E",4,{"$f":"Score!O148","v":0},{"$f":"LOOKUP(X58,Names!$A$2:$A$161,Names!$B$2:$B$161)","v":{"$error":"#N/A"}},0,{"$f":"Sheet1!$M$7","v":0},{"$f":"AA104","v":0}]
[null,null,null,37,null,null,null,null,null,null,38,null,null,null,null,null,null,39,null,null,null,null,null,null,40]
[null,null,null,"Names","Sc.","Tab",null,null,null,null,"Names","Sc.","Tab",null,null,null,null,"Names","Sc.","Tab",null,null,null,null,"Names","Sc.","Tab"]
["N",1,{"$f":"Score!O149","v":0},{"$f":"LOOKUP(C61,Names!$A$2:$A$161,Names!$B$2:$B$161)","v":{"$error":"#N/A"}},0,{"$f":"Sheet1!$M$4","v":4.75},{"$f":"F105","v":0},"N",1,{"$f":"Score!O153","v":0},{"$f":"LOOKUP(J61,Names!$A$2:$A$161,Names!$B$2:$B$161)","v":{"$error":"#N/A"}},0,{"$f":"Sheet1!$M$4","v":4.75},{"$f":"F106","v":0},"N",1,{"$f":"Score!O157","v":0},{"$f":"LOOKUP(Q61,Names!$A$2:$A$161,Names!$B$2:$B$161)","v":{"$error":"#N/A"}},0,{"$f":"Sheet1!$M$4","v":4.75},{"$f":"F107","v":0},"N",1,{"$f":"Score!O161","v":0},{"$f":"LOOKUP(X61,Names!$A$2:$A$161,Names!$B$2:$B$161)","v":{"$error":"#N/A"}},0,{"$f":"Sheet1!$M$4","v":4.75},{"$f":"F108","v":0}]
["W",2,{"$f":"Score!O150","v":0},{"$f":"LOOKUP(C62,Names!$A$2:$A$161,Names!$B$2:$B$161)","v":{"$error":"#N/A"}},0,{"$f":"Sheet1!$M$5","v":2.85},{"$f":"M105","v":0},"W",2,{"$f":"Score!O154","v":0},{"$f":"LOOKUP(J62,Names!$A$2:$A$161,Names!$B$2:$B$161)","v":{"$error":"#N/A"}},0,{"$f":"Sheet1!$M$5","v":2.85},{"$f":"M106","v":0},"W",2,{"$f":"Score!O158","v":0},{"$f":"LOOKUP(Q62,Names!$A$2:$A$161,Names!$B$2:$B$161)","v":{"$error":"#N/A"}},0,{"$f":"Sheet1!$M$5","v":2.85},{"$f":"M107","v":0},"W",2,{"$f":"Score!O162","v":0},{"$f":"LOOKUP(X62,Names!$A$2:$A$161,Names!$B$2:$B$161)","v":{"$error":"#N/A"}},0,{"$f":"Sheet1!$M$5","v":2.85},{"$f":"M108","v":0}]
["S",3,{"$f":"Score!O151","v":0},{"$f":"LOOKUP(C63,Names!$A$2:$A$161,Names!$B$2:$B$161)","v":{"$error":"#N/A"}},0,{"$f":"Sheet1!$M$6","v":1.9000000000000001},{"$f":"T105","v":0},"S",3,{"$f":"Score!O155","v":0},{"$f":"LOOKUP(J63,Names!$A$2:$A$161,Names!$B$2:$B$161)","v":{"$error":"#N/A"}},0,{"$f":"Sheet1!$M$6","v":1.9000000000000001},{"$f":"T106","v":0},"S",3,{"$f":"Score!O159","v":0},{"$f":"LOOKUP(Q63,Names!$A$2:$A$161,Names!$B$2:$B$161)","v":{"$error":"#N/A"}},0,{"$f":"Sheet1!$M$6","v":1.9000000000000001},{"$f":"T107","v":0},"S",3,{"$f":"Score!O163","v":0},{"$f":"LOOKUP(X63,Names!$A$2:$A$161,Names!$B$2:$B$161)","v":{"$error":"#N/A"}},0,{"$f":"Sheet1!$M$6","v":1.9000000000000001},{"$f":"T108","v":0}]
["E",4,{"$f":"Score!O152","v":0},{"$f":"LOOKUP(C64,Names!$A$2:$A$161,Names!$B$2:$B$161)","v":{"$error":"#N/A"}},0,{"$f":"Sheet1!$M$7","v":0},{"$f":"AA105","v":0},"E",4,{"$f":"Score!O156","v":0},{"$f":"LOOKUP(J64,Names!$A$2:$A$161,Names!$B$2:$B$161)","v":{"$error":"#N/A"}},0,{"$f":"Sheet1!$M$7","v":0},{"$f":"AA106","v":0},"E",4,{"$f":"Score!O160","v":0},{"$f":"LOOKUP(Q64,Names!$A$2:$A$161,Names!$B$2:$B$161)","v":{"$error":"#N/A"}},0,{"$f":"Sheet1!$M$7","v":0},{"$f":"AA107","v":0},"E",4,{"$f":"Score!O164","v":0},{"$f":"LOOKUP(X64,Names!$A$2:$A$161,Names!$B$2:$B$161)","v":{"$error":"#N/A"}},0,{"$f":"Sheet1!$M$7","v":0},{"$f":"AA108","v":0}]
[]
[null,null,null,null,null,null,null,null,null,null,"Axe"]
[null,null,null,"North",null,null,null,null,null,null,"West",null,null,null,null,null,null,"South",null,null,null,null,null,null,"East"]
[null,null,null,"Names","Sc.","Axe",null,null,null,null,"Names","Sc.","Axe",null,null,null,null,"Names","Sc.","Axe",null,null,null,null,"Names","Sc.","Axe"]
[1,1,{"$f":"$C$6","v":1},{"$f":"LOOKUP(C69,Names!$A$2:$A$161,Names!$B$2:$B$161)","v":"إبراهيم عرفان السقا"},{"$f":"$E$6","v":166},{"$f":"Sheet1!L10","v":11},null,null,1,{"$f":"$C$7","v":2},{"$f":"LOOKUP(J69,Names!$A$2:$A$161,Names!$B$2:$B$161)","v":"مصطفى محمد علي شرف"},{"$f":"$E$7","v":135},{"$f":"Sheet1!L17","v":4},null,null,1,{"$f":"$C$8","v":3},{"$f":"LOOKUP(Q69,Names!$A$2:$A$161,Names!$B$2:$B$161)","v":"أحمد محمد حمدي صالح"},{"$f":"$E$8","v":187},{"$f":"Sheet1!L4","v":17},null,null,1,{"$f":"$C$9","v":4},{"$f":"LOOKUP(X69,Names!$A$2:$A$161,Names!$B$2:$B$161)","v":"أحمد جميل السيد"},{"$f":"$E$9","v":149},{"$f":"Sheet1!L11","v":10}]
[2,2,{"$f":"$J$6","v":5},{"$f":"LOOKUP(C70,Names!$A$2:$A$161,Names!$B$2:$B$161)","v":"أحمد محمد أمين"},{"$f":"$L$6","v":51},{"$f":"Sheet1!L19","v":2},null,null,2,{"$f":"$J$7","v":6},{"$f":"LOOKUP(J70,Names!$A$2:$A$161,Names!$B$2:$B$161)","v":"معتز محمد عبد المنعم"},{"$f":"$L$7","v":163},{"$f":"Sheet1!L12","v":9},null,null,2,{"$f":"$J$8","v":7},{"$f":"LOOKUP(Q70,Names!$A$2:$A$161,Names!$B$2:$B$161)","v":"هيثم محمد شبانة"},{"$f":"$L$8","v":180},{"$f":"Sheet1!L7","v":14},null,null,2,{"$f":"$J$9","v":8},{"$f":"LOOKUP(X70,Names!$A$2:$A$161,Names!$B$2:$B$161)","v":"عبد الرحمن محمود عثمان"},{"$f":"$L$9","v":101},{"$f":"Sheet1!L18","v":3}]
[3,3,{"$f":"$Q$6","v":9},{"$f":"LOOKUP(C71,Names!$A$2:$A$161,Names!$B$2:$B$161)","v":" عمرو محمد مصطفى"},{"$f":"$S$6","v":82},{"$f":"Sheet1!L17","v":4},null,null,3,{"$f":"$Q$7","v":10},{"$f":"LOOKUP(J71,Names!$A$2:$A$161,Names!$B$2:$B$161)","v":"تامر تيمور شكري"},{"$f":"$S$7","v":43},{"$f":"Sheet1!L20","v":1},null,null,3,{"$f":"$Q$8","v":11},{"$f":"LOOKUP(Q71,Names!$A$2:$A$161,Names!$B$2:$B$161)","v":"هيثم العشماوي"},{"$f":"$S$8","v":230},{"$f":"Sheet1!L3","v":19},null,null,3,{"$f":"$Q$9","v":12},{"$f":"LOOKUP(X71,Names!$A$2:$A$161,Names!$B$2:$B$161)","v":"أحمد علي السيد شرع"},{"$f":"$S$9","v":128},{"$f":"Sheet1!L15","v":6}]
[4,4,{"$f":"$X$6","v":13},{"$f":"LOOKUP(C72,Names!$A$2:$A$161,Names!$B$2:$B$161)","v":"عمرو سمير دسوقي"},{"$f":"$Z$6","v":115},{"$f":"Sheet1!L14","v":7},null,null,4,{"$f":"$X$7","v":14},{"$f":"LOOKUP(J72,Names!$A$2:$A$161,Names!$B$2:$B$161)","v":"أحمد محمد محمدي"},{"$f":"$Z$7","v":154},{"$f":"Sheet1!L14","v":7},null,null,4,{"$f":"$X$8","v":15},{"$f":"LOOKUP(Q72,Names!$A$2:$A$161,Names!$B$2:$B$161)","v":"حسام الدين صلاح أبو الفتوح"},{"$f":"$Z$8","v":144},{"$f":"Sheet1!L10","v":11},null,null,4,{"$f":"$X$9","v":16},{"$f":"LOOKUP(X72,Names!$A$2:$A$161,Names!$B$2:$B$161)","v":"طارق عبد الغني السحار"},{"$f":"$Z$9","v":154},{"$f":"Sheet1!L9","v":12}]
[5,5,{"$f":"$C$12","v":17},{"$f":"LOOKUP(C73,Names!$A$2:$A$161,Names!$B$2:$B$161)","v":"مينا ناجح صبحي"},{"$f":"$E$12","v":145},{"$f":"Sheet1!L12","v":9},null,null,5,{"$f":"$C$13","v":18},{"$f":"LOOKUP(J73,Names!$A$2:$A$161,Names!$B$2:$B$161)","v":"وليد شعبان إسماعيل علي"},{"$f":"$E$13","v":155},{"$f":"Sheet1!L13","v":8},null,null,5,{"$f":"$C$14","v":19},{"$f":"LOOKUP(Q73,Names!$A$2:$A$161,Names!$B$2:$B$161)","v":"محمد أحمد محمد عبد الله"},{"$f":"$E$14","v":69},{"$f":"Sheet1!L17","v":4},null,null,5,{"$f":"$C$15","v":20},{"$f":"LOOKUP(X73,Names!$A$2:$A$161,Names!$B$2:$B$161)","v":"عصام الدين محمد عبد العاطي"},{"$f":"$E$15","v":161},{"$f":"Sheet1!L6","v":15}]
[6,6,{"$f":"$J$12","v":21},{"$f":"LOOKUP(C74,Names!$A$2:$A$161,Names!$B$2:$B$161)","v":"محمد طارق عبد الله"},{"$f":"$L$12","v":249},{"$f":"Sheet1!L4","v":17},null,null,6,{"$f":"$J$13","v":22},{"$f":"LOOKUP(J74,Names!$A$2:$A$161,Names!$B$2:$B$161)","v":"يوسف مسعد فراج"},{"$f":"$L$13","v":215},{"$f":"Sheet1!L3","v":19},null,null,6,{"$f":"$J$14","v":23},{"$f":"LOOKUP(Q74,Names!$A$2:$A$161,Names!$B$2:$B$161)","v":"جمال احمد محمد جمال"},{"$f":"$L$14","v":70},{"$f":"Sheet1!L16","v":5},null,null,6,{"$f":"$J$15","v":24},{"$f":"LOOKUP(X74,Names!$A$2:$A$161,Names!$B$2:$B$161)","v":"يامن محمد حسن"},{"$f":"$L$15","v":126},{"$f":"Sheet1!L16","v":5}]
[7,7,{"$f":"$Q$12","v":25},{"$f":"LOOKUP(C75,Names!$A$2:$A$161,Names!$B$2:$B$161)","v":"خالد حمدي محمد السيد"},{"$f":"$S$12","v":25},{"$f":"Sheet1!L20","v":1},null,null,7,{"$f":"$Q$13","v":26},{"$f":"LOOKUP(J75,Names!$A$2:$A$161,Names!$B$2:$B$161)","v":"علاء شوقي جبريل"},{"$f":"$S$13","v":132},{"$f":"Sheet1!L18","v":3},null,null,7,{"$f":"$Q$14","v":27},{"$f":"LOOKUP(Q75,Names!$A$2:$A$161,Names!$B$2:$B$161)","v":"أحمد سمير خلف على"},{"$f":"$S$14","v":186},{"$f":"Sheet1!L5","v":16},null,null,7,{"$f":"$Q$15","v":28},{"$f":"LOOKUP(X75,Names!$A$2:$A$161,Names!$B$2:$B$161)","v":"محمد حسن عبد القادر"},{"$f":"$S$15","v":133},{"$f":"Sheet1!L14","v":7}]
[8,8,{"$f":"$X$12","v":29},{"$f":"LOOKUP(C76,Names!$A$2:$A$161,Names!$B$2:$B$161)","v":"اسلام نصر الغنام"},{"$f":"$Z$12","v":106},{"$f":"Sheet1!L16","v":5},null,null,8,{"$f":"$X$13","v":30},{"$f":"LOOKUP(J76,Names!$A$2:$A$161,Names!$B$2:$B$161)","v":"محمد سعيد الفطاطري"},{"$f":"$Z$13","v":167},11,null,null,8,{"$f":"$X$14","v":31},{"$f":"LOOKUP(Q76,Names!$A$2:$A$161,Names!$B$2:$B$161)","v":"أحمد بسيوني"},{"$f":"$Z$14","v":42},{"$f":"Sheet1!L18","v":3},null,null,8,{"$f":"$X$15","v":32},{"$f":"LOOKUP(X76,Names!$A$2:$A$161,Names!$B$2:$B$161)","v":"أمير محمد خطاب"},{"$f":"$Z$15","v":144},{"$f":"Sheet1!L12","v":9}]
[9,9,{"$f":"$C$18","v":33},{"$f":"LOOKUP(C77,Names!$A$2:$A$161,Names!$B$2:$B$161)","v":"أحمد إبراهيم غانم"},{"$f":"$E$18","v":176},{"$f":"Sheet1!L9","v":12},null,null,9,{"$f":"$C$19","v":34},{"$f":"LOOKUP(J77,Names!$A$2:$A$161,Names!$B$2:$B$161)","v":"شريف حلمي"},{"$f":"$E$19","v":167},{"$f":"Sheet1!L10","v":11},null,null,9,{"$f":"$C$20","v":35},{"$f":"LOOKUP(Q77,Names!$A$2:$A$161,Names!$B$2:$B$161)","v":"أحمد فؤاد حسنين"},{"$f":"$E$20","v":72},{"$f":"Sheet1!L15","v":6},null,null,9,{"$f":"$C$21","v":36},{"$f":"LOOKUP(X77,Names!$A$2:$A$161,Names!$B$2:$B$161)","v":"محمد محمود فضل"},{"$f":"$E$21","v":164},{"$f":"Sheet1!L5","v":16}]
[10,10,{"$f":"$J$18","v":37},{"$f":"LOOKUP(C78,Names!$A$2:$A$161,Names!$B$2:$B$161)","v":0},{"$f":"$L$18","v":0},{"$f":"Sheet1!L21","v":0},null,null,10,{"$f":"$J$19","v":38},{"$f":"LOOKUP(J78,Names!$A$2:$A$161,Names!$B$2:$B$161)","v":0},{"$f":"$L$19","v":0},{"$f":"Sheet1!L21","v":0},null,null,10,{"$f":"$J$20","v":39},{"$f":"LOOKUP(Q78,Names!$A$2:$A$161,Names!$B$2:$B$161)","v":0},{"$f":"$L$20","v":0},{"$f":"Sheet1!L21","v":0},null,null,10,{"$f":"$J$21","v":40},{"$f":"LOOKUP(X78,Names!$A$2:$A$161,Names!$B$2:$B$161)","v":0},{"$f":"$L$21","v":0},{"$f":"Sheet1!L21","v":0}]
[11,11,{"$f":"$Q$18","v":41},{"$f":"LOOKUP(C79,Names!$A$2:$A$161,Names!$B$2:$B$161)","v":0},null,null,null,null,11,{"$f":"$Q$19","v":42},{"$f":"LOOKUP(J79,Names!$A$2:$A$161,Names!$B$2:$B$161)","v":0},null,null,null,null,11,{"$f":"$Q$20","v":43},{"$f":"LOOKUP(Q79,Names!$A$2:$A$161,Names!$B$2:$B$161)","v":0},null,null,null,null,11,{"$f":"$Q$21","v":44},{"$f":"LOOKUP(X79,Names!$A$2:$A$161,Names!$B$2:$B$161)","v":0}]
[12,12,{"$f":"$X$18","v":45},{"$f":"LOOKUP(C80,Names!$A$2:$A$161,Names!$B$2:$B$161)","v":0},null,null,null,null,12,{"$f":"$X$19","v":46},{"$f":"LOOKUP(J80,Names!$A$2:$A$161,Names!$B$2:$B$161)","v":0},null,null,null,null,12,{"$f":"$X$20","v":47},{"$f":"LOOKUP(Q80,Names!$A$2:$A$161,Names!$B$2:$B$161)","v":0},null,null,null,null,12,{"$f":"$X$21","v":48},{"$f":"LOOKUP(X80,Names!$A$2:$A$161,Names!$B$2:$B$161)","v":0}]
[13,13,{"$f":"$C$24","v":49},{"$f":"LOOKUP(C81,Names!$A$2:$A$161,Names!$B$2:$B$161)","v":0},null,null,null,null,13,{"$f":"$C$25","v":50},{"$f":"LOOKUP(J81,Names!$A$2:$A$161,Names!$B$2:$B$161)","v":0},null,null,null,null,13,{"$f":"$C$26","v":51},{"$f":"LOOKUP(Q81,Names!$A$2:$A$161,Names!$B$2:$B$161)","v":0},null,null,null,null,13,{"$f":"$C$27","v":52},{"$f":"LOOKUP(X81,Names!$A$2:$A$161,Names!$B$2:$B$161)","v":0}]
[14,14,{"$f":"$J$24","v":53},{"$f":"LOOKUP(C82,Names!$A$2:$A$161,Names!$B$2:$B$161)","v":0},null,null,null,null,14,{"$f":"$J$25","v":54},{"$f":"LOOKUP(J82,Names!$A$2:$A$161,Names!$B$2:$B$161)","v":0},null,null,null,null,14,{"$f":"$J$26","v":55},{"$f":"LOOKUP(Q82,Names!$A$2:$A$161,Names!$B$2:$B$161)","v":0},null,null,null,null,14,{"$f":"$J$27","v":56},{"$f":"LOOKUP(X82,Names!$A$2:$A$161,Names!$B$2:$B$161)","v":0}]
[15,15,{"$f":"$Q$24","v":57},{"$f":"LOOKUP(C83,Names!$A$2:$A$161,Names!$B$2:$B$161)","v":0},null,null,null,null,15,{"$f":"$Q$25","v":58},{"$f":"LOOKUP(J83,Names!$A$2:$A$161,Names!$B$2:$B$161)","v":0},null,null,null,null,15,{"$f":"$Q$26","v":59},{"$f":"LOOKUP(Q83,Names!$A$2:$A$161,Names!$B$2:$B$161)","v":0},null,null,null,null,15,{"$f":"$Q$27","v":60},{"$f":"LOOKUP(X83,Names!$A$2:$A$161,Names!$B$2:$B$161)","v":0}]
[16,16,{"$f":"$X$24","v":61},{"$f":"LOOKUP(C84,Names!$A$2:$A$161,Names!$B$2:$B$161)","v":0},null,null,null,null,16,{"$f":"$X$25","v":62},{"$f":"LOOKUP(J84,Names!$A$2:$A$161,Names!$B$2:$B$161)","v":0},null,null,null,null,16,{"$f":"$X$26","v":63},{"$f":"LOOKUP(Q84,Names!$A$2:$A$161,Names!$B$2:$B$161)","v":0},null,null,null,null,16,{"$f":"$X$27","v":64},{"$f":"LOOKUP(X84,Names!$A$2:$A$161,Names!$B$2:$B$161)","v":0}]
[17,17,{"$f":"$C$30","v":65},{"$f":"LOOKUP(C85,Names!$A$2:$A$161,Names!$B$2:$B$161)","v":0},null,null,null,null,17,{"$f":"$C$31","v":66},{"$f":"LOOKUP(J85,Names!$A$2:$A$161,Names!$B$2:$B$161)","v":0},null,null,null,null,17,{"$f":"$C$32","v":67},{"$f":"LOOKUP(Q85,Names!$A$2:$A$161,Names!$B$2:$B$161)","v":0},null,null,null,null,17,{"$f":"$C$33","v":68},{"$f":"LOOKUP(X85,Names!$A$2:$A$161,Names!$B$2:$B$161)","v":0}]
[18,18,{"$f":"$J$30","v":69},{"$f":"LOOKUP(C86,Names!$A$2:$A$161,Names!$B$2:$B$161)","v":0},null,null,null,null,18,{"$f":"$J$31","v":70},{"$f":"LOOKUP(J86,Names!$A$2:$A$161,Names!$B$2:$B$161)","v":0},null,null,null,null,18,{"$f":"$J$32","v":71},{"$f":"LOOKUP(Q86,Names!$A$2:$A$161,Names!$B$2:$B$161)","v":0},null,null,null,null,18,{"$f":"$J$33","v":72},{"$f":"LOOKUP(X86,Names!$A$2:$A$161,Names!$B$2:$B$161)","v":0}]
[19,19,{"$f":"$Q$30","v":73},{"$f":"LOOKUP(C87,Names!$A$2:$A$161,Names!$B$2:$B$161)","v":0},null,null,null,null,19,{"$f":"$Q$31","v":74},{"$f":"LOOKUP(J87,Names!$A$2:$A$161,Names!$B$2:$B$161)","v":0},null,null,null,null,19,{"$f":"$Q$32","v":75},{"$f":"LOOKUP(Q87,Names!$A$2:$A$161,Names!$B$2:$B$161)","v":0},null,null,null,null,19,{"$f":"$Q$33","v":76},{"$f":"LOOKUP(X87,Names!$A$2:$A$161,Names!$B$2:$B$161)","v":0}]
[20,20,{"$f":"$X$30","v":77},{"$f":"LOOKUP(C88,Names!$A$2:$A$161,Names!$B$2:$B$161)","v":0},null,null,null,null,20,{"$f":"$X$31","v":78},{"$f":"LOOKUP(J88,Names!$A$2:$A$161,Names!$B$2:$B$161)","v":0},null,null,null,null,20,{"$f":"$X$32","v":79},{"$f":"LOOKUP(Q88,Names!$A$2:$A$161,Names!$B$2:$B$161)","v":0},null,null,null,null,20,{"$f":"$X$33","v":80},{"$f":"LOOKUP(X88,Names!$A$2:$A$161,Names!$B$2:$B$161)","v":0}]
[21,21,{"$f":"$C$37","v":81},{"$f":"LOOKUP(C89,Names!$A$2:$A$161,Names!$B$2:$B$161)","v":"راجي محمد صبحي"},{"$f":"$E$37","v":107},{"$f":"Sheet1!L15","v":6},null,null,21,{"$f":"$C$38","v":97},{"$f":"LOOKUP(J89,Names!$A$2:$A$161,Names!$B$2:$B$161)","v":"خالد محمد شبارة"},{"$f":"$E$38","v":167},11,null,null,21,{"$f":"$C$39","v":113},{"$f":"LOOKUP(Q89,Names!$A$2:$A$161,Names!$B$2:$B$161)","v":"محمد حسن فهيم"},{"$f":"$E$39","v":159},{"$f":"Sheet1!L9","v":12},null,null,21,{"$f":"$C$40","v":94},{"$f":"LOOKUP(X89,Names!$A$2:$A$161,Names!$B$2:$B$161)","v":"محمد عصام الدين القاضي"},{"$f":"$E$40","v":106},{"$f":"Sheet1!L17","v":4}]
[22,22,{"$f":"$J$37","v":110},{"$f":"LOOKUP(C90,Names!$A$2:$A$161,Names!$B$2:$B$161)","v":"أسامة أحمد زكي"},{"$f":"$L$37","v":181},{"$f":"Sheet1!L8","v":13},null,null,22,{"$f":"$J$38","v":91},{"$f":"LOOKUP(J90,Names!$A$2:$A$161,Names!$B$2:$B$161)","v":"عماد محمد فؤاد مرسي"},{"$f":"$L$38","v":184},14.5,null,null,22,{"$f":"$J$39","v":107},{"$f":"LOOKUP(Q90,Names!$A$2:$A$161,Names!$B$2:$B$161)","v":"شادي أحمد محمود وهبة"},{"$f":"$L$39","v":92},{"$f":"Sheet1!L14","v":7},null,null,22,{"$f":"$J$40","v":88},{"$f":"LOOKUP(X90,Names!$A$2:$A$161,Names!$B$2:$B$161)","v":"أحمد علي خليل حسن"},{"$f":"$L$40","v":178},{"$f":"Sheet1!L4","v":17}]
[23,23,{"$f":"$Q$37","v":104},{"$f":"LOOKUP(C91,Names!$A$2:$A$161,Names!$B$2:$B$161)","v":"كريم إيهاب عامر"},{"$f":"$S$37","v":186},{"$f":"Sheet1!L7","v":14},null,null,23,{"$f":"$Q$38","v":85},{"$f":"LOOKUP(J91,Names!$A$2:$A$161,Names!$B$2:$B$161)","v":"محمد عبد الهادي أبو القاسم"},{"$f":"$S$38","v":185},{"$f":"Sheet1!L5","v":16},null,null,23,{"$f":"$Q$39","v":98},{"$f":"LOOKUP(Q91,Names!$A$2:$A$161,Names!$B$2:$B$161)","v":"محمد محمود شعبان رمضان"},{"$f":"$S$39","v":96},{"$f":"Sheet1!L13","v":8},null,null,23,{"$f":"$Q$40","v":82},{"$f":"LOOKUP(X91,Names!$A$2:$A$161,Names!$B$2:$B$161)","v":"أحمد صلاح الدين دياب"},{"$f":"$S$40","v":152},{"$f":"Sheet1!L10","v":11}]
[24,24,{"$f":"$X$37","v":101},{"$f":"LOOKUP(C92,Names!$A$2:$A$161,Names!$B$2:$B$161)","v":"أحمد محمد شوقى عبد الحميد"},{"$f":"$Z$37","v":55},{"$f":"Sheet1!L18","v":3},null,null,24,{"$f":"$X$38","v":114},{"$f":"LOOKUP(J92,Names!$A$2:$A$161,Names!$B$2:$B$161)","v":"احمد سردينة"},{"$f":"$Z$38","v":184},14.5,null,null,24,{"$f":"$X$39","v":95},{"$f":"LOOKUP(Q92,Names!$A$2:$A$161,Names!$B$2:$B$161)","v":"احمد طنطاوى"},{"$f":"$Z$39","v":169},{"$f":"Sheet1!L8","v":13},null,null,24,{"$f":"$X$40","v":111},{"$f":"LOOKUP(X92,Names!$A$2:$A$161,Names!$B$2:$B$161)","v":"عادل محمد أبو زيد"},{"$f":"$Z$40","v":160},{"$f":"Sheet1!L7","v":14}]
[25,25,{"$f":"$C$43","v":92},{"$f":"LOOKUP(C93,Names!$A$2:$A$161,Names!$B$2:$B$161)","v":"أحمد مصطفى راشد"},{"$f":"$E$43","v":198},{"$f":"Sheet1!L6","v":15},null,null,25,{"$f":"$C$44","v":108},{"$f":"LOOKUP(J93,Names!$A$2:$A$161,Names!$B$2:$B$161)","v":"كريم احمد ناصر"},{"$f":"$E$44","v":173},{"$f":"Sheet1!L8","v":13},null,null,25,{"$f":"$C$45","v":86},{"$f":"LOOKUP(Q93,Names!$A$2:$A$161,Names!$B$2:$B$161)","v":"ايهاب يوسف عمارة"},{"$f":"$E$45","v":121},{"$f":"Sheet1!L11","v":10},null,null,25,{"$f":"$C$46","v":102},{"$f":"LOOKUP(X93,Names!$A$2:$A$161,Names!$B$2:$B$161)","v":"سامي محمود الفولي"},{"$f":"$E$46","v":135},{"$f":"Sheet1!L13","v":8}]
[26,26,{"$f":"$J$43","v":83},{"$f":"LOOKUP(C94,Names!$A$2:$A$161,Names!$B$2:$B$161)","v":"أسامة لطفى نجيب"},{"$f":"$L$43","v":162},{"$f":"Sheet1!L11","v":10},null,null,26,{"$f":"$J$44","v":99},{"$f":"LOOKUP(J94,Names!$A$2:$A$161,Names!$B$2:$B$161)","v":"ماجد محمد فكري"},{"$f":"$L$44","v":152},{"$f":"Sheet1!L15","v":6},null,null,26,{"$f":"$J$45","v":115},{"$f":"LOOKUP(Q94,Names!$A$2:$A$161,Names!$B$2:$B$161)","v":"خالد عبد العظيم"},{"$f":"$L$45","v":185},{"$f":"Sheet1!L6","v":15},null,null,26,{"$f":"$J$46","v":96},{"$f":"LOOKUP(X94,Names!$A$2:$A$161,Names!$B$2:$B$161)","v":"أحمد رمزي الديب"},{"$f":"$L$46","v":15},{"$f":"Sheet1!L20","v":1}]
[27,27,{"$f":"$Q$43","v":112},{"$f":"LOOKUP(C95,Names!$A$2:$A$161,Names!$B$2:$B$161)","v":"عمرو محمد محسن"},{"$f":"$S$43","v":202},{"$f":"Sheet1!L5","v":16},null,null,27,{"$f":"$Q$44","v":93},{"$f":"LOOKUP(J95,Names!$A$2:$A$161,Names!$B$2:$B$161)","v":"جمال السيد توفيق"},{"$f":"$S$44","v":141},{"$f":"Sheet1!L16","v":5},null,null,27,{"$f":"$Q$45","v":90},{"$f":"LOOKUP(Q95,Names!$A$2:$A$161,Names!$B$2:$B$161)","v":"محمد علي حسن طه الأمام"},{"$f":"$S$45","v":27},{"$f":"Sheet1!L20","v":1},null,null,27,{"$f":"$Q$46","v":106},{"$f":"LOOKUP(X95,Names!$A$2:$A$161,Names!$B$2:$B$161)","v":"أحمد عبد العزيز العطار"},{"$f":"$S$46","v":204},{"$f":"Sheet1!L3","v":19}]
[28,28,{"$f":"$X$43","v":87},{"$f":"LOOKUP(C96,Names!$A$2:$A$161,Names!$B$2:$B$161)","v":"ياسر شاهين"},{"$f":"$Z$43","v":370},{"$f":"Sheet1!L3","v":19},null,null,28,{"$f":"$X$44","v":103},{"$f":"LOOKUP(J96,Names!$A$2:$A$161,Names!$B$2:$B$161)","v":"عمرو عماد الدين أبو العلا"},{"$f":"$Z$44","v":65},{"$f":"Sheet1!L19","v":2},null,null,28,{"$f":"$X$45","v":84},{"$f":"LOOKUP(Q96,Names!$A$2:$A$161,Names!$B$2:$B$161)","v":"أحمد عز العرب السماحي"},{"$f":"$Z$45","v":30},{"$f":"Sheet1!L19","v":2},null,null,28,{"$f":"$X$46","v":109},{"$f":"LOOKUP(X96,Names!$A$2:$A$161,Names!$B$2:$B$161)","v":"نبيل خلف زكي"},{"$f":"$Z$46","v":80},{"$f":"Sheet1!L19","v":2}]
[29,29,{"$f":"$C$49","v":100},{"$f":"LOOKUP(C97,Names!$A$2:$A$161,Names!$B$2:$B$161)","v":"عبد الرحمن الدمراوى"},{"$f":"$E$49","v":125},{"$f":"Sheet1!L13","v":8},null,null,29,{"$f":"$C$50","v":89},{"$f":"LOOKUP(J97,Names!$A$2:$A$161,Names!$B$2:$B$161)","v":"محمد بلبع"},{"$f":"$E$50","v":206},{"$f":"Sheet1!L4","v":17},null,null,29,{"$f":"$C$51","v":105},{"$f":"LOOKUP(Q97,Names!$A$2:$A$161,Names!$B$2:$B$161)","v":"مصطفى عبد الحفيظ علي"},{"$f":"$E$51","v":104},{"$f":"Sheet1!L12","v":9},null,null,29,{"$f":"$C$52","v":116},{"$f":"LOOKUP(X97,Names!$A$2:$A$161,Names!$B$2:$B$161)","v":"اسامة قاسم"},{"$f":"$E$52","v":156},{"$f":"Sheet1!L8","v":13}]
[30,30,{"$f":"$J$49","v":0},{"$f":"LOOKUP(C98,Names!$A$2:$A$161,Names!$B$2:$B$161)","v":{"$error":"#N/A"}},null,null,null,null,30,{"$f":"$J$50","v":0},{"$f":"LOOKUP(J98,Names!$A$2:$A$161,Names!$B$2:$B$161)","v":{"$error":"#N/A"}},null,null,null,null,30,{"$f":"$J$51","v":0},{"$f":"LOOKUP(Q98,Names!$A$2:$A$161,Names!$B$2:$B$161)","v":{"$error":"#N/A"}},null,null,null,null,30,{"$f":"$J$52","v":0},{"$f":"LOOKUP(X98,Names!$A$2:$A$161,Names!$B$2:$B$161)","v":{"$error":"#N/A"}}]
[31,31,{"$f":"$Q$49","v":0},{"$f":"LOOKUP(C99,Names!$A$2:$A$161,Names!$B$2:$B$161)","v":{"$error":"#N/A"}},null,null,null,null,31,{"$f":"$Q$50","v":0},{"$f":"LOOKUP(J99,Names!$A$2:$A$161,Names!$B$2:$B$161)","v":{"$error":"#N/A"}},null,null,null,null,31,{"$f":"$Q$51","v":0},{"$f":"LOOKUP(Q99,Names!$A$2:$A$161,Names!$B$2:$B$161)","v":{"$error":"#N/A"}},null,null,null,null,31,{"$f":"$Q$52","v":0},{"$f":"LOOKUP(X99,Names!$A$2:$A$161,Names!$B$2:$B$161)","v":{"$error":"#N/A"}}]
[32,32,{"$f":"$X$49","v":0},{"$f":"LOOKUP(C100,Names!$A$2:$A$161,Names!$B$2:$B$161)","v":{"$error":"#N/A"}},null,null,null,null,32,{"$f":"$X$50","v":0},{"$f":"LOOKUP(J100,Names!$A$2:$A$161,Names!$B$2:$B$161)","v":{"$error":"#N/A"}},null,null,null,null,32,{"$f":"$X$51","v":0},{"$f":"LOOKUP(Q100,Names!$A$2:$A$161,Names!$B$2:$B$161)","v":{"$error":"#N/A"}},null,null,null,null,32,{"$f":"$X$52","v":0},{"$f":"LOOKUP(X100,Names!$A$2:$A$161,Names!$B$2:$B$161)","v":{"$error":"#N/A"}}]
[33,33,{"$f":"$C$55","v":0},{"$f":"LOOKUP(C101,Names!$A$2:$A$161,Names!$B$2:$B$161)","v":{"$error":"#N/A"}},null,null,null,null,33,{"$f":"$C$56","v":0},{"$f":"LOOKUP(J101,Names!$A$2:$A$161,Names!$B$2:$B$161)","v":{"$error":"#N/A"}},null,null,null,null,33,{"$f":"$C$57","v":0},{"$f":"LOOKUP(Q101,Names!$A$2:$A$161,Names!$B$2:$B$161)","v":{"$error":"#N/A"}},null,null,null,null,33,{"$f":"$C$58","v":0},{"$f":"LOOKUP(X101,Names!$A$2:$A$161,Names!$B$2:$B$161)","v":{"$error":"#N/A"}}]
[34,34,{"$f":"$J$55","v":0},{"$f":"LOOKUP(C102,Names!$A$2:$A$161,Names!$B$2:$B$161)","v":{"$error":"#N/A"}},null,null,null,null,34,{"$f":"$J$56","v":0},{"$f":"LOOKUP(J102,Names!$A$2:$A$161,Names!$B$2:$B$161)","v":{"$error":"#N/A"}},null,null,null,null,34,{"$f":"$J$57","v":0},{"$f":"LOOKUP(Q102,Names!$A$2:$A$161,Names!$B$2:$B$161)","v":{"$error":"#N/A"}},null,null,null,null,34,{"$f":"$J$58","v":0},{"$f":"LOOKUP(X102,Names!$A$2:$A$161,Names!$B$2:$B$161)","v":{"$error":"#N/A"}}]
[35,35,{"$f":"$Q$55","v":0},{"$f":"LOOKUP(C103,Names!$A$2:$A$161,Names!$B$2:$B$161)","v":{"$error":"#N/A"}},null,null,null,null,35,{"$f":"$Q$56","v":0},{"$f":"LOOKUP(J103,Names!$A$2:$A$161,Names!$B$2:$B$161)","v":{"$error":"#N/A"}},null,null,null,null,35,{"$f":"$Q$57","v":0},{"$f":"LOOKUP(Q103,Names!$A$2:$A$161,Names!$B$2:$B$161)","v":{"$error":"#N/A"}},null,null,null,null,35,{"$f":"$Q$58","v":0},{"$f":"LOOKUP(X103,Names!$A$2:$A$161,Names!$B$2:$B$161)","v":{"$error":"#N/A"}}]
[36,36,{"$f":"$X$55","v":0},{"$f":"LOOKUP(C104,Names!$A$2:$A$161,Names!$B$2:$B$161)","v":{"$error":"#N/A"}},null,null,null,null,36,{"$f":"$X$56","v":0},{"$f":"LOOKUP(J104,Names!$A$2:$A$161,Names!$B$2:$B$161)","v":{"$error":"#N/A"}},null,null,null,null,36,{"$f":"$X$57","v":0},{"$f":"LOOKUP(Q104,Names!$A$2:$A$161,Names!$B$2:$B$161)","v":{"$error":"#N/A"}},null,null,null,null,36,{"$f":"$X$58","v":0},{"$f":"LOOKUP(X104,Names!$A$2:$A$161,Names!$B$2:$B$161)","v":{"$error":"#N/A"}}]
[37,37,{"$f":"$C$61","v":0},{"$f":"LOOKUP(C105,Names!$A$2:$A$161,Names!$B$2:$B$161)","v":{"$error":"#N/A"}},null,null,null,null,37,{"$f":"$C$62","v":0},{"$f":"LOOKUP(J105,Names!$A$2:$A$161,Names!$B$2:$B$161)","v":{"$error":"#N/A"}},null,null,null,null,37,{"$f":"$C$63","v":0},{"$f":"LOOKUP(Q105,Names!$A$2:$A$161,Names!$B$2:$B$161)","v":{"$error":"#N/A"}},null,null,null,null,37,{"$f":"$C$64","v":0},{"$f":"LOOKUP(X105,Names!$A$2:$A$161,Names!$B$2:$B$161)","v":{"$error":"#N/A"}}]
[38,38,{"$f":"$J$61","v":0},{"$f":"LOOKUP(C106,Names!$A$2:$A$161,Names!$B$2:$B$161)","v":{"$error":"#N/A"}},null,null,null,null,38,{"$f":"$J$62","v":0},{"$f":"LOOKUP(J106,Names!$A$2:$A$161,Names!$B$2:$B$161)","v":{"$error":"#N/A"}},null,null,null,null,38,{"$f":"$J$63","v":0},{"$f":"LOOKUP(Q106,Names!$A$2:$A$161,Names!$B$2:$B$161)","v":{"$error":"#N/A"}},null,null,null,null,38,{"$f":"$J$64","v":0},{"$f":"LOOKUP(X106,Names!$A$2:$A$161,Names!$B$2:$B$161)","v":{"$error":"#N/A"}}]
[39,39,{"$f":"$Q$61","v":0},{"$f":"LOOKUP(C107,Names!$A$2:$A$161,Names!$B$2:$B$161)","v":{"$error":"#N/A"}},null,null,null,null,39,{"$f":"$Q$62","v":0},{"$f":"LOOKUP(J107,Names!$A$2:$A$161,Names!$B$2:$B$161)","v":{"$error":"#N/A"}},null,null,null,null,39,{"$f":"$Q$63","v":0},{"$f":"LOOKUP(Q107,Names!$A$2:$A$161,Names!$B$2:$B$161)","v":{"$error":"#N/A"}},null,null,null,null,39,{"$f":"$Q$64","v":0},{"$f":"LOOKUP(X107,Names!$A$2:$A$161,Names!$B$2:$B$161)","v":{"$error":"#N/A"}}]
[40,40,{"$f":"$X$61","v":0},{"$f":"LOOKUP(C108,Names!$A$2:$A$161,Names!$B$2:$B$161)","v":{"$error":"#N/A"}},null,null,null,null,40,{"$f":"$X$62","v":0},{"$f":"LOOKUP(J108,Names!$A$2:$A$161,Names!$B$2:$B$161)","v":{"$error":"#N/A"}},null,null,null,null,40,{"$f":"$X$63","v":0},{"$f":"LOOKUP(Q108,Names!$A$2:$A$161,Names!$B$2:$B$161)","v":{"$error":"#N/A"}},null,null,null,null,40,{"$f":"$X$64","v":0},{"$f":"LOOKUP(X108,Names!$A$2:$A$161,Names!$B$2:$B$161)","v":{"$error":"#N/A"}}]

{"sheet":"Sheet1","index":5,"n_rows":82,"n_cols":15,"rows_kept":82,"cut":false,"hidden":false,"merged":[[46,0,49,0],[2,0,5,0],[6,0,9,0],[10,0,13,0],[14,0,17,0],[18,0,21,0],[22,0,25,0],[26,0,29,0],[30,0,33,0],[34,0,37,0],[38,0,41,0],[42,0,45,0],[74,0,77,0],[78,0,81,0],[50,0,53,0],[54,0,57,0],[58,0,61,0],[62,0,65,0],[66,0,69,0],[70,0,73,0]]}
[]
[]
[1,81,1,null,1,{"$f":"LOOKUP(E3,$C$3:$C$82,$B$3:$B$82)","v":81},null,1,1,null,null,{"$f":"$M$3+1","v":19},18,"عدد الطاولات"]
[null,82,2,null,17,{"$f":"LOOKUP(E4,$C$3:$C$82,$B$3:$B$82)","v":97},null,2,2,null,null,{"$f":"L3-2","v":17},{"$f":"N4*($M$3+1)","v":4.75},0.25,"الأول"]
[null,83,3,null,33,113,null,3,3,null,null,{"$f":"L4-1","v":16},{"$f":"N5*($M$3+1)","v":2.85},0.15,"الثاني"]
[null,84,4,null,14,94,null,4,4,null,null,15,1.9000000000000001,0.1,"الثالث"]
[2,85,5,null,30,110,null,5,5,null,null,14,0,0,"الرابع"]
[null,86,6,null,11,91,null,6,6,null,null,13]
[null,87,7,null,27,107,null,7,7,null,null,12]
[null,88,8,null,8,88,null,8,8,null,null,11]
[3,89,9,null,24,104,null,9,9,null,null,10]
[null,90,10,null,5,85,null,10,10,null,null,9]
[null,91,11,null,18,98,null,11,11,null,null,8]
[null,92,12,null,2,82,null,12,12,null,null,7]
[4,93,13,null,21,101,null,13,13,null,null,6]
[null,94,14,null,34,114,null,14,14,null,null,5]
[null,95,15,null,15,95,null,15,15,null,null,4]
[null,96,16,null,31,111,null,16,16,null,null,3]
[5,97,17,null,12,92,null,17,17,null,null,2]
[null,98,18,null,28,{"$f":"LOOKUP(E20,$C$3:$C$82,$B$3:$B$82)","v":108},null,18,18,null,null,1]
[null,99,19,null,6,86,null,19,19,null,null,0]
[null,100,20,null,22,102,null,20,20,null,null,-1]
[6,101,21,null,3,83,null,21,21,null,null,-2]
[null,102,22,null,19,99,null,22,22,null,null,-3]
[null,103,23,null,35,115,null,23,23,null,null,-4]
[null,104,24,null,16,96,null,24,24,null,null,-5]
[7,105,25,null,32,112,null,25,25,null,null,-6]
[null,106,26,null,13,93,null,26,26,null,null,-7]
[null,107,27,null,10,90,null,27,27,null,null,-8]
[null,108,28,null,26,106,null,28,28,null,null,-9]
[8,109,29,null,7,87,null,29,29,null,null,-10]
[null,110,30,null,23,103,null,30,30,null,null,-11]
[null,111,31,null,4,84,null,31,31,null,null,-12]
[null,112,32,null,29,109,null,32,32,null,null,-13]
[9,113,33,null,20,100,null,33,33,null,null,-14]
[null,114,34,null,9,{"$f":"LOOKUP(E36,$C$3:$C$82,$B$3:$B$82)","v":89},null,34,34,null,null,-15]
[null,115,35,null,25,105,null,35,35,null,null,-16]
[null,116,36,null,36,116,null,36,36,null,null,-17]
[10,117,37,null,null,{"$error":"#N/A"},null,37,37,null,null,-18]
[null,118,38,null,null,{"$error":"#N/A"},null,38,38,null,null,-19]
[null,119,39,null,null,{"$error":"#N/A"},null,39,39,null,null,-20]
[null,120,40,null,null,{"$error":"#N/A"},null,40,40,null,null,-21]
[11,121,41,null,null,{"$error":"#N/A"},null,41,41]
[null,122,42,null,null,{"$error":"#N/A"},null,42,42]
[null,123,43,null,null,{"$error":"#N/A"},null,43,43]
[null,124,44,null,null,{"$error":"#N/A"},null,44,44]
[12,125,45,null,null,{"$error":"#N/A"},null,45,45]
[null,126,46,null,null,{"$error":"#N/A"},null,46,46]
[null,127,47,null,null,{"$error":"#N/A"},null,47,47]
[null,128,48,null,null,{"$error":"#N/A"},null,48,48]
[13,129,49,null,null,{"$error":"#N/A"},null,49,49]
[null,130,50,null,null,{"$f":"LOOKUP(E52,$C$3:$C$82,$B$3:$B$82)","v":{"$error":"#N/A"}},null,50,50]
[null,131,51,null,null,{"$error":"#N/A"},null,51,51]
[null,132,52,null,null,{"$error":"#N/A"},null,52,52]
[14,133,53,null,null,{"$error":"#N/A"},null,53,53]
[null,134,54,null,null,{"$error":"#N/A"},null,54,54]
[null,135,55,null,null,{"$error":"#N/A"},null,55,55]
[null,136,56,null,null,{"$error":"#N/A"},null,56,56]
[15,null,57,null,null,{"$error":"#N/A"},null,57,57]
[null,null,58,null,null,{"$error":"#N/A"},null,58,58]
[null,null,59,null,null,{"$error":"#N/A"},null,59,59]
[null,null,60,null,null,{"$error":"#N/A"},null,60,60]
[16,null,61,null,null,{"$error":"#N/A"},null,61,61]
[null,null,62,null,null,{"$error":"#N/A"},null,62,62]
[null,null,63,null,null,{"$error":"#N/A"},null,63,63]
[null,null,64,null,null,{"$error":"#N/A"},null,64,64]
[17,null,65,null,null,{"$error":"#N/A"},null,65,65]
[null,null,66,null,null,{"$f":"LOOKUP(E68,$C$3:$C$82,$B$3:$B$82)","v":{"$error":"#N/A"}},null,66,66]
[null,null,67,null,null,{"$error":"#N/A"},null,67,67]
[null,null,68,null,null,{"$error":"#N/A"},null,68,68]
[18,null,69,null,null,{"$error":"#N/A"},null,69,69]
[null,null,70,null,null,{"$error":"#N/A"},null,70,70]
[null,null,71,null,null,{"$error":"#N/A"},null,71,71]
[null,null,72,null,null,{"$error":"#N/A"},null,72,72]
[19,null,73,null,null,{"$error":"#N/A"},null,73,73]
[null,null,74,null,null,{"$error":"#N/A"},null,74,74]
[null,null,75,null,null,{"$error":"#N/A"},null,null,75]
[null,null,76,null,null,{"$error":"#N/A"},null,null,76]
[20,null,77,null,null,{"$error":"#N/A"},null,77,77]
[null,null,78,null,null,{"$error":"#N/A"},null,78,78]
[null,null,79,null,null,{"$error":"#N/A"},null,null,79]
[null,null,80,null,null,{"$error":"#N/A"},null,null,80]

{"sheet":"MP_PP","index":6,"n_rows":162,"n_cols":6,"rows_kept":162,"cut":false,"hidden":false,"merged":[[0,0,1,0],[0,1,1,1],[0,2,1,2],[0,3,1,3]]}
["P. No.","Names","رقم العضوية","R."]
[]
[27,{"$f":"LOOKUP(A3,Names!$A$2:$A$161,Names!$B$2:$B$161)","v":"أحمد سمير خلف على"},{"$f":"LOOKUP(A3,Names!$A$2:$A$161,Names!$C$2:$C$161)","v":706},1,400,4]
[104,{"$f":"LOOKUP(A4,Names!$A$2:$A$161,Names!$B$2:$B$161)","v":"كريم إيهاب عامر"},{"$f":"LOOKUP(A4,Names!$A$2:$A$161,Names!$C$2:$C$161)","v":606},2,320,2]
[87,{"$f":"LOOKUP(A5,Names!$A$2:$A$161,Names!$B$2:$B$161)","v":"ياسر شاهين"},{"$f":"LOOKUP(A5,Names!$A$2:$A$161,Names!$C$2:$C$161)","v":660},3,280,1]
[33,{"$f":"LOOKUP(A6,Names!$A$2:$A$161,Names!$B$2:$B$161)","v":"أحمد إبراهيم غانم"},{"$f":"LOOKUP(A6,Names!$A$2:$A$161,Names!$C$2:$C$161)","v":366},4,200]
[97,{"$f":"LOOKUP(A7,Names!$A$2:$A$161,Names!$B$2:$B$161)","v":"خالد محمد شبارة"},{"$f":"LOOKUP(A7,Names!$A$2:$A$161,Names!$C$2:$C$161)","v":6},5,186.12]
[113,{"$f":"LOOKUP(A8,Names!$A$2:$A$161,Names!$B$2:$B$161)","v":"محمد حسن فهيم"},{"$f":"LOOKUP(A8,Names!$A$2:$A$161,Names!$C$2:$C$161)","v":"جديد"},6,183.34]
[106,{"$f":"LOOKUP(A9,Names!$A$2:$A$161,Names!$B$2:$B$161)","v":"أحمد عبد العزيز العطار"},{"$f":"LOOKUP(A9,Names!$A$2:$A$161,Names!$C$2:$C$161)","v":572},7,180.56]
[114,{"$f":"LOOKUP(A10,Names!$A$2:$A$161,Names!$B$2:$B$161)","v":"احمد سردينة"},{"$f":"LOOKUP(A10,Names!$A$2:$A$161,Names!$C$2:$C$161)","v":317},8,177.78]
[19,{"$f":"LOOKUP(A11,Names!$A$2:$A$161,Names!$B$2:$B$161)","v":"محمد أحمد محمد عبد الله"},{"$f":"LOOKUP(A11,Names!$A$2:$A$161,Names!$C$2:$C$161)","v":360},9,175]
[94,{"$f":"LOOKUP(A12,Names!$A$2:$A$161,Names!$B$2:$B$161)","v":"محمد عصام الدين القاضي"},{"$f":"LOOKUP(A12,Names!$A$2:$A$161,Names!$C$2:$C$161)","v":304},10,172.23]
[34,{"$f":"LOOKUP(A13,Names!$A$2:$A$161,Names!$B$2:$B$161)","v":"شريف حلمي"},{"$f":"LOOKUP(A13,Names!$A$2:$A$161,Names!$C$2:$C$161)","v":501},11,169.45]
[111,{"$f":"LOOKUP(A14,Names!$A$2:$A$161,Names!$B$2:$B$161)","v":"عادل محمد أبو زيد"},{"$f":"LOOKUP(A14,Names!$A$2:$A$161,Names!$C$2:$C$161)","v":757},12,166.67]
[22,{"$f":"LOOKUP(A15,Names!$A$2:$A$161,Names!$B$2:$B$161)","v":"يوسف مسعد فراج"},{"$f":"LOOKUP(A15,Names!$A$2:$A$161,Names!$C$2:$C$161)","v":735},13,163.89]
[28,{"$f":"LOOKUP(A16,Names!$A$2:$A$161,Names!$B$2:$B$161)","v":"محمد حسن عبد القادر"},{"$f":"LOOKUP(A16,Names!$A$2:$A$161,Names!$C$2:$C$161)","v":310},14,161.12]
[112,{"$f":"LOOKUP(A17,Names!$A$2:$A$161,Names!$B$2:$B$161)","v":"عمرو محمد محسن"},{"$f":"LOOKUP(A17,Names!$A$2:$A$161,Names!$C$2:$C$161)","v":390},15,158.34]
[21,{"$f":"LOOKUP(A18,Names!$A$2:$A$161,Names!$B$2:$B$161)","v":"محمد طارق عبد الله"},{"$f":"LOOKUP(A18,Names!$A$2:$A$161,Names!$C$2:$C$161)","v":367},16,155.56]
[3,{"$f":"LOOKUP(A19,Names!$A$2:$A$161,Names!$B$2:$B$161)","v":"أحمد محمد حمدي صالح"},{"$f":"LOOKUP(A19,Names!$A$2:$A$161,Names!$C$2:$C$161)","v":396},17,152.78]
[89,{"$f":"LOOKUP(A20,Names!$A$2:$A$161,Names!$B$2:$B$161)","v":"محمد بلبع"},{"$f":"LOOKUP(A20,Names!$A$2:$A$161,Names!$C$2:$C$161)","v":324},18,150]
[108,{"$f":"LOOKUP(A21,Names!$A$2:$A$161,Names!$B$2:$B$161)","v":"كريم احمد ناصر"},{"$f":"LOOKUP(A21,Names!$A$2:$A$161,Names!$C$2:$C$161)","v":"--"},19,147.22999999999999]
[30,{"$f":"LOOKUP(A22,Names!$A$2:$A$161,Names!$B$2:$B$161)","v":"محمد سعيد الفطاطري"},{"$f":"LOOKUP(A22,Names!$A$2:$A$161,Names!$C$2:$C$161)","v":550},20,144.44999999999999]
[91,{"$f":"LOOKUP(A23,Names!$A$2:$A$161,Names!$B$2:$B$161)","v":"عماد محمد فؤاد مرسي"},{"$f":"LOOKUP(A23,Names!$A$2:$A$161,Names!$C$2:$C$161)","v":681},21,141.66999999999999]
[36,{"$f":"LOOKUP(A24,Names!$A$2:$A$161,Names!$B$2:$B$161)","v":"محمد محمود فضل"},{"$f":"LOOKUP(A24,Names!$A$2:$A$161,Names!$C$2:$C$161)","v":379},22,138.88999999999999]
[4,{"$f":"LOOKUP(A25,Names!$A$2:$A$161,Names!$B$2:$B$161)","v":"أحمد جميل السيد"},{"$f":"LOOKUP(A25,Names!$A$2:$A$161,Names!$C$2:$C$161)","v":368},23,136.12]
[12,{"$f":"LOOKUP(A26,Names!$A$2:$A$161,Names!$B$2:$B$161)","v":"أحمد علي السيد شرع"},{"$f":"LOOKUP(A26,Names!$A$2:$A$161,Names!$C$2:$C$161)","v":536},24,133.34]
[84,{"$f":"LOOKUP(A27,Names!$A$2:$A$161,Names!$B$2:$B$161)","v":"أحمد عز العرب السماحي"},{"$f":"LOOKUP(A27,Names!$A$2:$A$161,Names!$C$2:$C$161)","v":655},24,133.34]
[96,{"$f":"LOOKUP(A28,Names!$A$2:$A$161,Names!$B$2:$B$161)","v":"أحمد رمزي الديب"},{"$f":"LOOKUP(A28,Names!$A$2:$A$161,Names!$C$2:$C$161)","v":547},26,127.78]
[109,{"$f":"LOOKUP(A29,Names!$A$2:$A$161,Names!$B$2:$B$161)","v":"نبيل خلف زكي"},{"$f":"LOOKUP(A29,Names!$A$2:$A$161,Names!$C$2:$C$161)","v":392},27,125]
[1,{"$f":"LOOKUP(A30,Names!$A$2:$A$161,Names!$B$2:$B$161)","v":"إبراهيم عرفان السقا"},{"$f":"LOOKUP(A30,Names!$A$2:$A$161,Names!$C$2:$C$161)","v":721},28,122.23]
[2,{"$f":"LOOKUP(A31,Names!$A$2:$A$161,Names!$B$2:$B$161)","v":"مصطفى محمد علي شرف"},{"$f":"LOOKUP(A31,Names!$A$2:$A$161,Names!$C$2:$C$161)","v":449},29,119.45]
[90,{"$f":"LOOKUP(A32,Names!$A$2:$A$161,Names!$B$2:$B$161)","v":"محمد علي حسن طه الأمام"},{"$f":"LOOKUP(A32,Names!$A$2:$A$161,Names!$C$2:$C$161)","v":305},29,119.45]
[95,{"$f":"LOOKUP(A33,Names!$A$2:$A$161,Names!$B$2:$B$161)","v":"احمد طنطاوى"},{"$f":"LOOKUP(A33,Names!$A$2:$A$161,Names!$C$2:$C$161)","v":670},29,119.45]
[110,{"$f":"LOOKUP(A34,Names!$A$2:$A$161,Names!$B$2:$B$161)","v":"أسامة أحمد زكي"},{"$f":"LOOKUP(A34,Names!$A$2:$A$161,Names!$C$2:$C$161)","v":603},32,111.12]
[83,{"$f":"LOOKUP(A35,Names!$A$2:$A$161,Names!$B$2:$B$161)","v":"أسامة لطفى نجيب"},{"$f":"LOOKUP(A35,Names!$A$2:$A$161,Names!$C$2:$C$161)","v":751},32,111.12]
[105,{"$f":"LOOKUP(A36,Names!$A$2:$A$161,Names!$B$2:$B$161)","v":"مصطفى عبد الحفيظ علي"},{"$f":"LOOKUP(A36,Names!$A$2:$A$161,Names!$C$2:$C$161)","v":669},34,105.56]
[17,{"$f":"LOOKUP(A37,Names!$A$2:$A$161,Names!$B$2:$B$161)","v":"مينا ناجح صبحي"},{"$f":"LOOKUP(A37,Names!$A$2:$A$161,Names!$C$2:$C$161)","v":611},35,102.78]
[86,{"$f":"LOOKUP(A38,Names!$A$2:$A$161,Names!$B$2:$B$161)","v":"ايهاب يوسف عمارة"},{"$f":"LOOKUP(A38,Names!$A$2:$A$161,Names!$C$2:$C$161)","v":756},36,100]
[100,{"$f":"LOOKUP(A39,Names!$A$2:$A$161,Names!$B$2:$B$161)","v":"عبد الرحمن الدمراوى"},{"$f":"LOOKUP(A39,Names!$A$2:$A$161,Names!$C$2:$C$161)","v":"-"},37,97.23]
[13,{"$f":"LOOKUP(A40,Names!$A$2:$A$161,Names!$B$2:$B$161)","v":"عمرو سمير دسوقي"},{"$f":"LOOKUP(A40,Names!$A$2:$A$161,Names!$C$2:$C$161)","v":709},38,94.45]
[85,{"$f":"LOOKUP(A41,Names!$A$2:$A$161,Names!$B$2:$B$161)","v":"محمد عبد الهادي أبو القاسم"},{"$f":"LOOKUP(A41,Names!$A$2:$A$161,Names!$C$2:$C$161)","v":393},39,91.67]
[18,{"$f":"LOOKUP(A42,Names!$A$2:$A$161,Names!$B$2:$B$161)","v":"وليد شعبان إسماعيل علي"},{"$f":"LOOKUP(A42,Names!$A$2:$A$161,Names!$C$2:$C$161)","v":450},40,88.89]
[7,{"$f":"LOOKUP(A43,Names!$A$2:$A$161,Names!$B$2:$B$161)","v":"هيثم محمد شبانة"},{"$f":"LOOKUP(A43,Names!$A$2:$A$161,Names!$C$2:$C$161)","v":668},40,88.89]
[11,{"$f":"LOOKUP(A44,Names!$A$2:$A$161,Names!$B$2:$B$161)","v":"هيثم العشماوي"},{"$f":"LOOKUP(A44,Names!$A$2:$A$161,Names!$C$2:$C$161)","v":300},42,83.34]
[20,{"$f":"LOOKUP(A45,Names!$A$2:$A$161,Names!$B$2:$B$161)","v":"عصام الدين محمد عبد العاطي"},{"$f":"LOOKUP(A45,Names!$A$2:$A$161,Names!$C$2:$C$161)","v":467},43,80.56]
[82,{"$f":"LOOKUP(A46,Names!$A$2:$A$161,Names!$B$2:$B$161)","v":"أحمد صلاح الدين دياب"},{"$f":"LOOKUP(A46,Names!$A$2:$A$161,Names!$C$2:$C$161)","v":510},44,77.78]
[98,{"$f":"LOOKUP(A47,Names!$A$2:$A$161,Names!$B$2:$B$161)","v":"محمد محمود شعبان رمضان"},{"$f":"LOOKUP(A47,Names!$A$2:$A$161,Names!$C$2:$C$161)","v":486},45,75]
[88,{"$f":"LOOKUP(A48,Names!$A$2:$A$161,Names!$B$2:$B$161)","v":"أحمد علي خليل حسن"},{"$f":"LOOKUP(A48,Names!$A$2:$A$161,Names!$C$2:$C$161)","v":664},46,72.23]
[92,{"$f":"LOOKUP(A49,Names!$A$2:$A$161,Names!$B$2:$B$161)","v":"أحمد مصطفى راشد"},{"$f":"LOOKUP(A49,Names!$A$2:$A$161,Names!$C$2:$C$161)","v":306},47,69.45]
[14,{"$f":"LOOKUP(A50,Names!$A$2:$A$161,Names!$B$2:$B$161)","v":"أحمد محمد محمدي"},{"$f":"LOOKUP(A50,Names!$A$2:$A$161,Names!$C$2:$C$161)","v":356},48,66.67]
[116,{"$f":"LOOKUP(A51,Names!$A$2:$A$161,Names!$B$2:$B$161)","v":"اسامة قاسم"},{"$f":"LOOKUP(A51,Names!$A$2:$A$161,Names!$C$2:$C$161)","v":"-"},49,63.89]
[93,{"$f":"LOOKUP(A52,Names!$A$2:$A$161,Names!$B$2:$B$161)","v":"جمال السيد توفيق"},{"$f":"LOOKUP(A52,Names!$A$2:$A$161,Names!$C$2:$C$161)","v":758},50,61.12]
[81,{"$f":"LOOKUP(A53,Names!$A$2:$A$161,Names!$B$2:$B$161)","v":"راجي محمد صبحي"},{"$f":"LOOKUP(A53,Names!$A$2:$A$161,Names!$C$2:$C$161)","v":111},51,58.339999999999996]
[99,{"$f":"LOOKUP(A54,Names!$A$2:$A$161,Names!$B$2:$B$161)","v":"ماجد محمد فكري"},{"$f":"LOOKUP(A54,Names!$A$2:$A$161,Names!$C$2:$C$161)","v":649},52,55.559999999999995]
[10,{"$f":"LOOKUP(A55,Names!$A$2:$A$161,Names!$B$2:$B$161)","v":"تامر تيمور شكري"},{"$f":"LOOKUP(A55,Names!$A$2:$A$161,Names!$C$2:$C$161)","v":318},53,52.78]
[32,{"$f":"LOOKUP(A56,Names!$A$2:$A$161,Names!$B$2:$B$161)","v":"أمير محمد خطاب"},{"$f":"LOOKUP(A56,Names!$A$2:$A$161,Names!$C$2:$C$161)","v":200},54,50]
[35,{"$f":"LOOKUP(A57,Names!$A$2:$A$161,Names!$B$2:$B$161)","v":"أحمد فؤاد حسنين"},{"$f":"LOOKUP(A57,Names!$A$2:$A$161,Names!$C$2:$C$161)","v":363},54,50]
[16,{"$f":"LOOKUP(A58,Names!$A$2:$A$161,Names!$B$2:$B$161)","v":"طارق عبد الغني السحار"},{"$f":"LOOKUP(A58,Names!$A$2:$A$161,Names!$C$2:$C$161)","v":671},56,44.449999999999996]
[26,{"$f":"LOOKUP(A59,Names!$A$2:$A$161,Names!$B$2:$B$161)","v":"علاء شوقي جبريل"},{"$f":"LOOKUP(A59,Names!$A$2:$A$161,Names!$C$2:$C$161)","v":361},57,41.669999999999995]
[23,{"$f":"LOOKUP(A60,Names!$A$2:$A$161,Names!$B$2:$B$161)","v":"جمال احمد محمد جمال"},{"$f":"LOOKUP(A60,Names!$A$2:$A$161,Names!$C$2:$C$161)","v":"--"},58,38.89]
[15,{"$f":"LOOKUP(A61,Names!$A$2:$A$161,Names!$B$2:$B$161)","v":"حسام الدين صلاح أبو الفتوح"},{"$f":"LOOKUP(A61,Names!$A$2:$A$161,Names!$C$2:$C$161)","v":362},59,36.119999999999997]
[115,{"$f":"LOOKUP(A62,Names!$A$2:$A$161,Names!$B$2:$B$161)","v":"خالد عبد العظيم"},{"$f":"LOOKUP(A62,Names!$A$2:$A$161,Names!$C$2:$C$161)","v":"-"},60,33.339999999999996]
[6,{"$f":"LOOKUP(A63,Names!$A$2:$A$161,Names!$B$2:$B$161)","v":"معتز محمد عبد المنعم"},{"$f":"LOOKUP(A63,Names!$A$2:$A$161,Names!$C$2:$C$161)","v":351},61,30.560000000000002]
[5,{"$f":"LOOKUP(A64,Names!$A$2:$A$161,Names!$B$2:$B$161)","v":"أحمد محمد أمين"},{"$f":"LOOKUP(A64,Names!$A$2:$A$161,Names!$C$2:$C$161)","v":358},61,30.560000000000002]
[102,{"$f":"LOOKUP(A65,Names!$A$2:$A$161,Names!$B$2:$B$161)","v":"سامي محمود الفولي"},{"$f":"LOOKUP(A65,Names!$A$2:$A$161,Names!$C$2:$C$161)","v":383},63,25]
[24,{"$f":"LOOKUP(A66,Names!$A$2:$A$161,Names!$B$2:$B$161)","v":"يامن محمد حسن"},{"$f":"LOOKUP(A66,Names!$A$2:$A$161,Names!$C$2:$C$161)","v":350},64,22.23]
[9,{"$f":"LOOKUP(A67,Names!$A$2:$A$161,Names!$B$2:$B$161)","v":" عمرو محمد مصطفى"},{"$f":"LOOKUP(A67,Names!$A$2:$A$161,Names!$C$2:$C$161)","v":"--"},64,22.23]
[103,{"$f":"LOOKUP(A68,Names!$A$2:$A$161,Names!$B$2:$B$161)","v":"عمرو عماد الدين أبو العلا"},{"$f":"LOOKUP(A68,Names!$A$2:$A$161,Names!$C$2:$C$161)","v":454},64,22.23]
[101,{"$f":"LOOKUP(A69,Names!$A$2:$A$161,Names!$B$2:$B$161)","v":"أحمد محمد شوقى عبد الحميد"},{"$f":"LOOKUP(A69,Names!$A$2:$A$161,Names!$C$2:$C$161)","v":477},67,13.89]
[25,{"$f":"LOOKUP(A70,Names!$A$2:$A$161,Names!$B$2:$B$161)","v":"خالد حمدي محمد السيد"},{"$f":"LOOKUP(A70,Names!$A$2:$A$161,Names!$C$2:$C$161)","v":316},68,11.12]
[31,{"$f":"LOOKUP(A71,Names!$A$2:$A$161,Names!$B$2:$B$161)","v":"أحمد بسيوني"},{"$f":"LOOKUP(A71,Names!$A$2:$A$161,Names!$C$2:$C$161)","v":399},69,8.34]
[107,{"$f":"LOOKUP(A72,Names!$A$2:$A$161,Names!$B$2:$B$161)","v":"شادي أحمد محمود وهبة"},{"$f":"LOOKUP(A72,Names!$A$2:$A$161,Names!$C$2:$C$161)","v":458},70,5.56]
[29,{"$f":"LOOKUP(A73,Names!$A$2:$A$161,Names!$B$2:$B$161)","v":"اسلام نصر الغنام"},{"$f":"LOOKUP(A73,Names!$A$2:$A$161,Names!$C$2:$C$161)","v":"--"},71,2.78]
[8,{"$f":"LOOKUP(A74,Names!$A$2:$A$161,Names!$B$2:$B$161)","v":"عبد الرحمن محمود عثمان"},{"$f":"LOOKUP(A74,Names!$A$2:$A$161,Names!$C$2:$C$161)","v":596},72,2.78]
[null,{"$f":"LOOKUP(A75,Names!$A$2:$A$161,Names!$B$2:$B$161)","v":{"$error":"#N/A"}},{"$f":"LOOKUP(A75,Names!$A$2:$A$161,Names!$C$2:$C$161)","v":{"$error":"#N/A"}}]
[null,{"$f":"LOOKUP(A76,Names!$A$2:$A$161,Names!$B$2:$B$161)","v":{"$error":"#N/A"}},{"$f":"LOOKUP(A76,Names!$A$2:$A$161,Names!$C$2:$C$161)","v":{"$error":"#N/A"}}]
[null,{"$f":"LOOKUP(A77,Names!$A$2:$A$161,Names!$B$2:$B$161)","v":{"$error":"#N/A"}},{"$f":"LOOKUP(A77,Names!$A$2:$A$161,Names!$C$2:$C$161)","v":{"$error":"#N/A"}}]
[null,{"$f":"LOOKUP(A78,Names!$A$2:$A$161,Names!$B$2:$B$161)","v":{"$error":"#N/A"}},{"$f":"LOOKUP(A78,Names!$A$2:$A$161,Names!$C$2:$C$161)","v":{"$error":"#N/A"}}]
[null,{"$f":"LOOKUP(A79,Names!$A$2:$A$161,Names!$B$2:$B$161)","v":{"$error":"#N/A"}},{"$f":"LOOKUP(A79,Names!$A$2:$A$161,Names!$C$2:$C$161)","v":{"$error":"#N/A"}}]
[null,{"$f":"LOOKUP(A80,Names!$A$2:$A$161,Names!$B$2:$B$161)","v":{"$error":"#N/A"}},{"$f":"LOOKUP(A80,Names!$A$2:$A$161,Names!$C$2:$C$161)","v":{"$error":"#N/A"}}]
[null,{"$f":"LOOKUP(A81,Names!$A$2:$A$161,Names!$B$2:$B$161)","v":{"$error":"#N/A"}},{"$f":"LOOKUP(A81,Names!$A$2:$A$161,Names!$C$2:$C$161)","v":{"$error":"#N/A"}}]
[null,{"$f":"LOOKUP(A82,Names!$A$2:$A$161,Names!$B$2:$B$161)","v":{"$error":"#N/A"}},{"$f":"LOOKUP(A82,Names!$A$2:$A$161,Names!$C$2:$C$161)","v":{"$error":"#N/A"}}]
[null,{"$f":"LOOKUP(A83,Names!$A$2:$A$161,Names!$B$2:$B$161)","v":{"$error":"#N/A"}},{"$f":"LOOKUP(A83,Names!$A$2:$A$161,Names!$C$2:$C$161)","v":{"$error":"#N/A"}}]
[null,{"$f":"LOOKUP(A84,Names!$A$2:$A$161,Names!$B$2:$B$161)","v":{"$error":"#N/A"}},{"$f":"LOOKUP(A84,Names!$A$2:$A$161,Names!$C$2:$C$161)","v":{"$error":"#N/A"}}]
[null,{"$f":"LOOKUP(A85,Names!$A$2:$A$161,Names!$B$2:$B$161)","v":{"$error":"#N/A"}},{"$f":"LOOKUP(A85,Names!$A$2:$A$161,Names!$C$2:$C$161)","v":{"$error":"#N/A"}}]
[null,{"$f":"LOOKUP(A86,Names!$A$2:$A$161,Names!$B$2:$B$161)","v":{"$error":"#N/A"}},{"$f":"LOOKUP(A86,Names!$A$2:$A$161,Names!$C$2:$C$161)","v":{"$error":"#N/A"}}]
[null,{"$f":"LOOKUP(A87,Names!$A$2:$A$161,Names!$B$2:$B$161)","v":{"$error":"#N/A"}},{"$f":"LOOKUP(A87,Names!$A$2:$A$161,Names!$C$2:$C$161)","v":{"$error":"#N/A"}}]
[null,{"$f":"LOOKUP(A88,Names!$A$2:$A$161,Names!$B$2:$B$161)","v":{"$error":"#N/A"}},{"$f":"LOOKUP(A88,Names!$A$2:$A$161,Names!$C$2:$C$161)","v":{"$error":"#N/A"}}]
[null,{"$f":"LOOKUP(A89,Names!$A$2:$A$161,Names!$B$2:$B$161)","v":{"$error":"#N/A"}},{"$f":"LOOKUP(A89,Names!$A$2:$A$161,Names!$C$2:$C$161)","v":{"$error":"#N/A"}}]
[null,{"$f":"LOOKUP(A90,Names!$A$2:$A$161,Names!$B$2:$B$161)","v":{"$error":"#N/A"}},{"$f":"LOOKUP(A90,Names!$A$2:$A$161,Names!$C$2:$C$161)","v":{"$error":"#N/A"}}]
[null,{"$f":"LOOKUP(A91,Names!$A$2:$A$161,Names!$B$2:$B$161)","v":{"$error":"#N/A"}},{"$f":"LOOKUP(A91,Names!$A$2:$A$161,Names!$C$2:$C$161)","v":{"$error":"#N/A"}}]
[null,{"$f":"LOOKUP(A92,Names!$A$2:$A$161,Names!$B$2:$B$161)","v":{"$error":"#N/A"}},{"$f":"LOOKUP(A92,Names!$A$2:$A$161,Names!$C$2:$C$161)","v":{"$error":"#N/A"}}]
[null,{"$f":"LOOKUP(A93,Names!$A$2:$A$161,Names!$B$2:$B$161)","v":{"$error":"#N/A"}},{"$f":"LOOKUP(A93,Names!$A$2:$A$161,Names!$C$2:$C$161)","v":{"$error":"#N/A"}}]
[null,{"$f":"LOOKUP(A94,Names!$A$2:$A$161,Names!$B$2:$B$161)","v":{"$error":"#N/A"}},{"$f":"LOOKUP(A94,Names!$A$2:$A$161,Names!$C$2:$C$161)","v":{"$error":"#N/A"}}]
[null,{"$f":"LOOKUP(A95,Names!$A$2:$A$161,Names!$B$2:$B$161)","v":{"$error":"#N/A"}},{"$f":"LOOKUP(A95,Names!$A$2:$A$161,Names!$C$2:$C$161)","v":{"$error":"#N/A"}}]
[null,{"$f":"LOOKUP(A96,Names!$A$2:$A$161,Names!$B$2:$B$161)","v":{"$error":"#N/A"}},{"$f":"LOOKUP(A96,Names!$A$2:$A$161,Names!$C$2:$C$161)","v":{"$error":"#N/A"}}]
[null,{"$f":"LOOKUP(A97,Names!$A$2:$A$161,Names!$B$2:$B$161)","v":{"$error":"#N/A"}},{"$f":"LOOKUP(A97,Names!$A$2:$A$161,Names!$C$2:$C$161)","v":{"$error":"#N/A"}}]
[null,{"$f":"LOOKUP(A98,Names!$A$2:$A$161,Names!$B$2:$B$161)","v":{"$error":"#N/A"}},{"$f":"LOOKUP(A98,Names!$A$2:$A$161,Names!$C$2:$C$161)","v":{"$error":"#N/A"}}]
[null,{"$f":"LOOKUP(A99,Names!$A$2:$A$161,Names!$B$2:$B$161)","v":{"$error":"#N/A"}},{"$f":"LOOKUP(A99,Names!$A$2:$A$161,Names!$C$2:$C$161)","v":{"$error":"#N/A"}}]
[null,{"$f":"LOOKUP(A100,Names!$A$2:$A$161,Names!$B$2:$B$161)","v":{"$error":"#N/A"}},{"$f":"LOOKUP(A100,Names!$A$2:$A$161,Names!$C$2:$C$161)","v":{"$error":"#N/A"}}]
[null,{"$f":"LOOKUP(A101,Names!$A$2:$A$161,Names!$B$2:$B$161)","v":{"$error":"#N/A"}},{"$f":"LOOKUP(A101,Names!$A$2:$A$161,Names!$C$2:$C$161)","v":{"$error":"#N/A"}}]
[null,{"$f":"LOOKUP(A102,Names!$A$2:$A$161,Names!$B$2:$B$161)","v":{"$error":"#N/A"}},{"$f":"LOOKUP(A102,Names!$A$2:$A$161,Names!$C$2:$C$161)","v":{"$error":"#N/A"}}]
[null,{"$f":"LOOKUP(A103,Names!$A$2:$A$161,Names!$B$2:$B$161)","v":{"$error":"#N/A"}},{"$f":"LOOKUP(A103,Names!$A$2:$A$161,Names!$C$2:$C$161)","v":{"$error":"#N/A"}}]
[null,{"$f":"LOOKUP(A104,Names!$A$2:$A$161,Names!$B$2:$B$161)","v":{"$error":"#N/A"}},{"$f":"LOOKUP(A104,Names!$A$2:$A$161,Names!$C$2:$C$161)","v":{"$error":"#N/A"}}]
[null,{"$f":"LOOKUP(A105,Names!$A$2:$A$161,Names!$B$2:$B$161)","v":{"$error":"#N/A"}},{"$f":"LOOKUP(A105,Names!$A$2:$A$161,Names!$C$2:$C$161)","v":{"$error":"#N/A"}}]
[null,{"$f":"LOOKUP(A106,Names!$A$2:$A$161,Names!$B$2:$B$161)","v":{"$error":"#N/A"}},{"$f":"LOOKUP(A106,Names!$A$2:$A$161,Names!$C$2:$C$161)","v":{"$error":"#N/A"}}]
[null,{"$f":"LOOKUP(A107,Names!$A$2:$A$161,Names!$B$2:$B$161)","v":{"$error":"#N/A"}},{"$f":"LOOKUP(A107,Names!$A$2:$A$161,Names!$C$2:$C$161)","v":{"$error":"#N/A"}}]
[null,{"$f":"LOOKUP(A108,Names!$A$2:$A$161,Names!$B$2:$B$161)","v":{"$error":"#N/A"}},{"$f":"LOOKUP(A108,Names!$A$2:$A$161,Names!$C$2:$C$161)","v":{"$error":"#N/A"}}]
[null,{"$f":"LOOKUP(A109,Names!$A$2:$A$161,Names!$B$2:$B$161)","v":{"$error":"#N/A"}},{"$f":"LOOKUP(A109,Names!$A$2:$A$161,Names!$C$2:$C$161)","v":{"$error":"#N/A"}}]
[null,{"$f":"LOOKUP(A110,Names!$A$2:$A$161,Names!$B$2:$B$161)","v":{"$error":"#N/A"}},{"$f":"LOOKUP(A110,Names!$A$2:$A$161,Names!$C$2:$C$161)","v":{"$error":"#N/A"}}]
[null,{"$f":"LOOKUP(A111,Names!$A$2:$A$161,Names!$B$2:$B$161)","v":{"$error":"#N/A"}},{"$f":"LOOKUP(A111,Names!$A$2:$A$161,Names!$C$2:$C$161)","v":{"$error":"#N/A"}}]
[null,{"$f":"LOOKUP(A112,Names!$A$2:$A$161,Names!$B$2:$B$161)","v":{"$error":"#N/A"}},{"$f":"LOOKUP(A112,Names!$A$2:$A$161,Names!$C$2:$C$161)","v":{"$error":"#N/A"}}]
[null,{"$f":"LOOKUP(A113,Names!$A$2:$A$161,Names!$B$2:$B$161)","v":{"$error":"#N/A"}},{"$f":"LOOKUP(A113,Names!$A$2:$A$161,Names!$C$2:$C$161)","v":{"$error":"#N/A"}}]
[null,{"$f":"LOOKUP(A114,Names!$A$2:$A$161,Names!$B$2:$B$161)","v":{"$error":"#N/A"}},{"$f":"LOOKUP(A114,Names!$A$2:$A$161,Names!$C$2:$C$161)","v":{"$error":"#N/A"}}]
[null,{"$f":"LOOKUP(A115,Names!$A$2:$A$161,Names!$B$2:$B$161)","v":{"$error":"#N/A"}},{"$f":"LOOKUP(A115,Names!$A$2:$A$161,Names!$C$2:$C$161)","v":{"$error":"#N/A"}}]
[null,{"$f":"LOOKUP(A116,Names!$A$2:$A$161,Names!$B$2:$B$161)","v":{"$error":"#N/A"}},{"$f":"LOOKUP(A116,Names!$A$2:$A$161,Names!$C$2:$C$161)","v":{"$error":"#N/A"}}]
[null,{"$f":"LOOKUP(A117,Names!$A$2:$A$161,Names!$B$2:$B$161)","v":{"$error":"#N/A"}},{"$f":"LOOKUP(A117,Names!$A$2:$A$161,Names!$C$2:$C$161)","v":{"$error":"#N/A"}}]
[null,{"$f":"LOOKUP(A118,Names!$A$2:$A$161,Names!$B$2:$B$161)","v":{"$error":"#N/A"}},{"$f":"LOOKUP(A118,Names!$A$2:$A$161,Names!$C$2:$C$161)","v":{"$error":"#N/A"}}]
[null,{"$f":"LOOKUP(A119,Names!$A$2:$A$161,Names!$B$2:$B$161)","v":{"$error":"#N/A"}},{"$f":"LOOKUP(A119,Names!$A$2:$A$161,Names!$C$2:$C$161)","v":{"$error":"#N/A"}}]
[null,{"$f":"LOOKUP(A120,Names!$A$2:$A$161,Names!$B$2:$B$161)","v":{"$error":"#N/A"}},{"$f":"LOOKUP(A120,Names!$A$2:$A$161,Names!$C$2:$C$161)","v":{"$error":"#N/A"}}]
[null,{"$f":"LOOKUP(A121,Names!$A$2:$A$161,Names!$B$2:$B$161)","v":{"$error":"#N/A"}},{"$f":"LOOKUP(A121,Names!$A$2:$A$161,Names!$C$2:$C$161)","v":{"$error":"#N/A"}}]
[null,{"$f":"LOOKUP(A122,Names!$A$2:$A$161,Names!$B$2:$B$161)","v":{"$error":"#N/A"}},{"$f":"LOOKUP(A122,Names!$A$2:$A$161,Names!$C$2:$C$161)","v":{"$error":"#N/A"}}]
[null,{"$f":"LOOKUP(A123,Names!$A$2:$A$161,Names!$B$2:$B$161)","v":{"$error":"#N/A"}},{"$f":"LOOKUP(A123,Names!$A$2:$A$161,Names!$C$2:$C$161)","v":{"$error":"#N/A"}}]
[null,{"$f":"LOOKUP(A124,Names!$A$2:$A$161,Names!$B$2:$B$161)","v":{"$error":"#N/A"}},{"$f":"LOOKUP(A124,Names!$A$2:$A$161,Names!$C$2:$C$161)","v":{"$error":"#N/A"}}]
[null,{"$f":"LOOKUP(A125,Names!$A$2:$A$161,Names!$B$2:$B$161)","v":{"$error":"#N/A"}},{"$f":"LOOKUP(A125,Names!$A$2:$A$161,Names!$C$2:$C$161)","v":{"$error":"#N/A"}}]
[null,{"$f":"LOOKUP(A126,Names!$A$2:$A$161,Names!$B$2:$B$161)","v":{"$error":"#N/A"}},{"$f":"LOOKUP(A126,Names!$A$2:$A$161,Names!$C$2:$C$161)","v":{"$error":"#N/A"}}]
[null,{"$f":"LOOKUP(A127,Names!$A$2:$A$161,Names!$B$2:$B$161)","v":{"$error":"#N/A"}},{"$f":"LOOKUP(A127,Names!$A$2:$A$161,Names!$C$2:$C$161)","v":{"$error":"#N/A"}}]
[null,{"$f":"LOOKUP(A128,Names!$A$2:$A$161,Names!$B$2:$B$161)","v":{"$error":"#N/A"}},{"$f":"LOOKUP(A128,Names!$A$2:$A$161,Names!$C$2:$C$161)","v":{"$error":"#N/A"}}]
[null,{"$f":"LOOKUP(A129,Names!$A$2:$A$161,Names!$B$2:$B$161)","v":{"$error":"#N/A"}},{"$f":"LOOKUP(A129,Names!$A$2:$A$161,Names!$C$2:$C$161)","v":{"$error":"#N/A"}}]
[null,{"$f":"LOOKUP(A130,Names!$A$2:$A$161,Names!$B$2:$B$161)","v":{"$error":"#N/A"}},{"$f":"LOOKUP(A130,Names!$A$2:$A$161,Names!$C$2:$C$161)","v":{"$error":"#N/A"}}]
[null,{"$f":"LOOKUP(A131,Names!$A$2:$A$161,Names!$B$2:$B$161)","v":{"$error":"#N/A"}},{"$f":"LOOKUP(A131,Names!$A$2:$A$161,Names!$C$2:$C$161)","v":{"$error":"#N/A"}}]
[null,{"$f":"LOOKUP(A132,Names!$A$2:$A$161,Names!$B$2:$B$161)","v":{"$error":"#N/A"}},{"$f":"LOOKUP(A132,Names!$A$2:$A$161,Names!$C$2:$C$161)","v":{"$error":"#N/A"}}]
[null,{"$f":"LOOKUP(A133,Names!$A$2:$A$161,Names!$B$2:$B$161)","v":{"$error":"#N/A"}},{"$f":"LOOKUP(A133,Names!$A$2:$A$161,Names!$C$2:$C$161)","v":{"$error":"#N/A"}}]
[null,{"$f":"LOOKUP(A134,Names!$A$2:$A$161,Names!$B$2:$B$161)","v":{"$error":"#N/A"}},{"$f":"LOOKUP(A134,Names!$A$2:$A$161,Names!$C$2:$C$161)","v":{"$error":"#N/A"}}]
[null,{"$f":"LOOKUP(A135,Names!$A$2:$A$161,Names!$B$2:$B$161)","v":{"$error":"#N/A"}},{"$f":"LOOKUP(A135,Names!$A$2:$A$161,Names!$C$2:$C$161)","v":{"$error":"#N/A"}}]
[null,{"$f":"LOOKUP(A136,Names!$A$2:$A$161,Names!$B$2:$B$161)","v":{"$error":"#N/A"}},{"$f":"LOOKUP(A136,Names!$A$2:$A$161,Names!$C$2:$C$161)","v":{"$error":"#N/A"}}]
[null,{"$f":"LOOKUP(A137,Names!$A$2:$A$161,Names!$B$2:$B$161)","v":{"$error":"#N/A"}},{"$f":"LOOKUP(A137,Names!$A$2:$A$161,Names!$C$2:$C$161)","v":{"$error":"#N/A"}}]
[null,{"$f":"LOOKUP(A138,Names!$A$2:$A$161,Names!$B$2:$B$161)","v":{"$error":"#N/A"}},{"$f":"LOOKUP(A138,Names!$A$2:$A$161,Names!$C$2:$C$161)","v":{"$error":"#N/A"}}]
[null,{"$f":"LOOKUP(A139,Names!$A$2:$A$161,Names!$B$2:$B$161)","v":{"$error":"#N/A"}},{"$f":"LOOKUP(A139,Names!$A$2:$A$161,Names!$C$2:$C$161)","v":{"$error":"#N/A"}}]
[null,{"$f":"LOOKUP(A140,Names!$A$2:$A$161,Names!$B$2:$B$161)","v":{"$error":"#N/A"}},{"$f":"LOOKUP(A140,Names!$A$2:$A$161,Names!$C$2:$C$161)","v":{"$error":"#N/A"}}]
[null,{"$f":"LOOKUP(A141,Names!$A$2:$A$161,Names!$B$2:$B$161)","v":{"$error":"#N/A"}},{"$f":"LOOKUP(A141,Names!$A$2:$A$161,Names!$C$2:$C$161)","v":{"$error":"#N/A"}}]
[null,{"$f":"LOOKUP(A142,Names!$A$2:$A$161,Names!$B$2:$B$161)","v":{"$error":"#N/A"}},{"$f":"LOOKUP(A142,Names!$A$2:$A$161,Names!$C$2:$C$161)","v":{"$error":"#N/A"}}]
[null,{"$f":"LOOKUP(A143,Names!$A$2:$A$161,Names!$B$2:$B$161)","v":{"$error":"#N/A"}},{"$f":"LOOKUP(A143,Names!$A$2:$A$161,Names!$C$2:$C$161)","v":{"$error":"#N/A"}}]
[null,{"$f":"LOOKUP(A144,Names!$A$2:$A$161,Names!$B$2:$B$161)","v":{"$error":"#N/A"}},{"$f":"LOOKUP(A144,Names!$A$2:$A$161,Names!$C$2:$C$161)","v":{"$error":"#N/A"}}]
[null,{"$f":"LOOKUP(A145,Names!$A$2:$A$161,Names!$B$2:$B$161)","v":{"$error":"#N/A"}},{"$f":"LOOKUP(A145,Names!$A$2:$A$161,Names!$C$2:$C$161)","v":{"$error":"#N/A"}}]
[null,{"$f":"LOOKUP(A146,Names!$A$2:$A$161,Names!$B$2:$B$161)","v":{"$error":"#N/A"}},{"$f":"LOOKUP(A146,Names!$A$2:$A$161,Names!$C$2:$C$161)","v":{"$error":"#N/A"}}]
[null,{"$f":"LOOKUP(A147,Names!$A$2:$A$161,Names!$B$2:$B$161)","v":{"$error":"#N/A"}},{"$f":"LOOKUP(A147,Names!$A$2:$A$161,Names!$C$2:$C$161)","v":{"$error":"#N/A"}}]
[null,{"$f":"LOOKUP(A148,Names!$A$2:$A$161,Names!$B$2:$B$161)","v":{"$error":"#N/A"}},{"$f":"LOOKUP(A148,Names!$A$2:$A$161,Names!$C$2:$C$161)","v":{"$error":"#N/A"}}]
[null,{"$f":"LOOKUP(A149,Names!$A$2:$A$161,Names!$B$2:$B$161)","v":{"$error":"#N/A"}},{"$f":"LOOKUP(A149,Names!$A$2:$A$161,Names!$C$2:$C$161)","v":{"$error":"#N/A"}}]
[null,{"$f":"LOOKUP(A150,Names!$A$2:$A$161,Names!$B$2:$B$161)","v":{"$error":"#N/A"}},{"$f":"LOOKUP(A150,Names!$A$2:$A$161,Names!$C$2:$C$161)","v":{"$error":"#N/A"}}]
[null,{"$f":"LOOKUP(A151,Names!$A$2:$A$161,Names!$B$2:$B$161)","v":{"$error":"#N/A"}},{"$f":"LOOKUP(A151,Names!$A$2:$A$161,Names!$C$2:$C$161)","v":{"$error":"#N/A"}}]
[null,{"$f":"LOOKUP(A152,Names!$A$2:$A$161,Names!$B$2:$B$161)","v":{"$error":"#N/A"}},{"$f":"LOOKUP(A152,Names!$A$2:$A$161,Names!$C$2:$C$161)","v":{"$error":"#N/A"}}]
[null,{"$f":"LOOKUP(A153,Names!$A$2:$A$161,Names!$B$2:$B$161)","v":{"$error":"#N/A"}},{"$f":"LOOKUP(A153,Names!$A$2:$A$161,Names!$C$2:$C$161)","v":{"$error":"#N/A"}}]
[null,{"$f":"LOOKUP(A154,Names!$A$2:$A$161,Names!$B$2:$B$161)","v":{"$error":"#N/A"}},{"$f":"LOOKUP(A154,Names!$A$2:$A$161,Names!$C$2:$C$161)","v":{"$error":"#N/A"}}]
[null,{"$f":"LOOKUP(A155,Names!$A$2:$A$161,Names!$B$2:$B$161)","v":{"$error":"#N/A"}},{"$f":"LOOKUP(A155,Names!$A$2:$A$161,Names!$C$2:$C$161)","v":{"$error":"#N/A"}}]
[null,{"$f":"LOOKUP(A156,Names!$A$2:$A$161,Names!$B$2:$B$161)","v":{"$error":"#N/A"}},{"$f":"LOOKUP(A156,Names!$A$2:$A$161,Names!$C$2:$C$161)","v":{"$error":"#N/A"}}]
[null,{"$f":"LOOKUP(A157,Names!$A$2:$A$161,Names!$B$2:$B$161)","v":{"$error":"#N/A"}},{"$f":"LOOKUP(A157,Names!$A$2:$A$161,Names!$C$2:$C$161)","v":{"$error":"#N/A"}}]
[null,{"$f":"LOOKUP(A158,Names!$A$2:$A$161,Names!$B$2:$B$161)","v":{"$error":"#N/A"}},{"$f":"LOOKUP(A158,Names!$A$2:$A$161,Names!$C$2:$C$161)","v":{"$error":"#N/A"}}]
[null,{"$f":"LOOKUP(A159,Names!$A$2:$A$161,Names!$B$2:$B$161)","v":{"$error":"#N/A"}},{"$f":"LOOKUP(A159,Names!$A$2:$A$161,Names!$C$2:$C$161)","v":{"$error":"#N/A"}}]
[null,{"$f":"LOOKUP(A160,Names!$A$2:$A$161,Names!$B$2:$B$161)","v":{"$error":"#N/A"}},{"$f":"LOOKUP(A160,Names!$A$2:$A$161,Names!$C$2:$C$161)","v":{"$error":"#N/A"}}]
[null,{"$f":"LOOKUP(A161,Names!$A$2:$A$161,Names!$B$2:$B$161)","v":{"$error":"#N/A"}},{"$f":"LOOKUP(A161,Names!$A$2:$A$161,Names!$C$2:$C$161)","v":{"$error":"#N/A"}}]
[null,{"$f":"LOOKUP(A162,Names!$A$2:$A$161,Names!$B$2:$B$161)","v":{"$error":"#N/A"}},{"$f":"LOOKUP(A162,Names!$A$2:$A$161,Names!$C$2:$C$161)","v":{"$error":"#N/A"}}]