{"text_format":"1","workbook":"xlsx","n_sheets":8,"sheets":["Names","Score","R1","R2","R3","R4","Sheet1","MP_PP"],"not_rendered":{"charts":0,"images":1,"macros":1,"external_links":4,"defined_names":5,"comments":0,"pivot_tables":0},"unopened":[],"bounds":{"document_bytes":16777216,"sheet_cells":100000,"rows_first":2000,"rows_last":500,"rows_between":2000,"halvings":0,"cell_chars":16384,"cell_head_chars":4096},"cells_cut":0,"cells_raw":0,"read":"whole","date_system":"1900"}

{"sheet":"Names","index":0,"n_rows":188,"n_cols":17,"rows_kept":188,"cut":false,"hidden":false,"merged":[[125,3,128,3],[129,3,132,3],[133,3,136,3],[137,3,140,3],[164,11,164,12],[141,3,144,3],[145,3,148,3],[149,3,152,3],[153,3,156,3],[157,3,160,3],[105,3,108,3],[109,3,112,3],[113,3,116,3],[117,3,120,3],[121,3,124,3],[85,3,88,3],[89,3,92,3],[93,3,96,3],[97,3,100,3],[101,3,104,3],[57,3,60,3],[61,3,64,3],[65,3,68,3],[69,3,72,3],[81,3,84,3],[73,3,76,3],[77,3,80,3],[49,3,52,3],[45,3,48,3],[1,3,4,3],[5,3,8,3],[9,3,12,3],[13,3,16,3],[17,3,20,3],[21,3,24,3],[25,3,28,3],[29,3,32,3],[33,3,36,3],[37,3,40,3],[41,3,44,3],[53,3,56,3]]}
[0,"Names",null,"Tab.",null,null,null,null,null,0,null,null,"LE","Ins","Vod"]
[1,"راجي صبحي  ",111,1,null,{"$f":"LOOKUP(H2,$I$2:$I$161,$K$2:$K$161)","v":"راجي محمد صبحي  "},{"$f":"LOOKUP(H2,$I$2:$I$161,$L$2:$L$161)","v":111},1,1,{"$f":"_xlfn.IFNA(LOOKUP(L2,[1]Rank!B$9:B$795,[1]Rank!E$9:E$795),\"\")","v":"*"},{"$f":"LOOKUP(L2,[2]الأسماء!A$3:A$962,[2]الأسماء!C$3:C$962)","v":"راجي محمد صبحي  "},111,{"$f":"SUM(N2:P2)","v":0},null,null,null,"راجي محمد صبحي  "]
[2,"شريف أحمد محمد حمروش",2003,null,null,"شريف أحمد محمد حمروش",{"$f":"LOOKUP(H3,$I$2:$I$161,$L$2:$L$161)","v":2003},11,2,{"$f":"_xlfn.IFNA(LOOKUP(L3,[1]Rank!B$9:B$795,[1]Rank!E$9:E$795),\"\")","v":"*"},{"$f":"LOOKUP(L3,[2]الأسماء!A$3:A$962,[2]الأسماء!C$3:C$962)","v":"باسم أسحق صموائيل عزيز "},516,{"$f":"SUM(N3:P3)","v":300},300,null,null,"باسم أسحق صموائيل عزيز "]
[3,"إيهاب يوسف عمارة ",756,null,null,"إيهاب يوسف عبد القادر عمارة ",756,27,3,{"$f":"_xlfn.IFNA(LOOKUP(L4,[1]Rank!B$9:B$795,[1]Rank!E$9:E$795),\"\")","v":0},"أمير كمال جميل",2001,300,300,null,null,"أمير كمال جميل"]
[4,"محمد سعيد الفطاطري",550,null,null,"محمد سعيد زكي محمد الفطاطري",550,10,4,{"$f":"_xlfn.IFNA(LOOKUP(L5,[1]Rank!B$9:B$795,[1]Rank!E$9:E$795),\"\")","v":"*"},{"$f":"LOOKUP(L5,[2]الأسماء!A$3:A$962,[2]الأسماء!C$3:C$962)","v":"أحمد محمد يوسف حجازي "},322,0,null,null,null,"أحمد محمد يوسف حجازي "]
[5,"محمد عصام الدين القاضي ",304,2,null,"أحمد مصطفى سعد أحمد راشد",306,28,5,{"$f":"_xlfn.IFNA(LOOKUP(L6,[1]Rank!B$9:B$795,[1]Rank!E$9:E$795),\"\")","v":0},"مصطفى يوسف محمد",2002,300,300,null,null,"مصطفى يوسف محمد"]
[6,"إبراهيم عرفان السقا  ",721,null,null,"إبراهيم عرفان السقا  ",721,9,6,{"$f":"_xlfn.IFNA(LOOKUP(L7,[1]Rank!B$9:B$795,[1]Rank!E$9:E$795),\"\")","v":"*"},{"$f":"LOOKUP(L7,[2]الأسماء!A$3:A$962,[2]الأسماء!C$3:C$962)","v":"عبد الرحمن محمود عبد السميع محمد عثمان"},596,0,null,null,null,"عبد الرحمن محمود عبد السميع محمد عثمان"]
[7,"باسم أسحق صموائيل",516,null,null,"باسم أسحق صموائيل عزيز ",516,2,7,{"$f":"_xlfn.IFNA(LOOKUP(L8,[1]Rank!B$9:B$795,[1]Rank!E$9:E$795),\"\")","v":"*"},{"$f":"LOOKUP(L8,[2]الأسماء!A$3:A$962,[2]الأسماء!C$3:C$962)","v":"أحمد شيرين محمود عز الدين بسيوني"},399,0,null,null,null,"أحمد شيرين محمود عز الدين بسيوني"]
[8,"إيهاب  محمد الزهيري ",342,null,null,"إيهاب  محمد الزهيري امين ",342,12,8,{"$f":"_xlfn.IFNA(LOOKUP(L9,[1]Rank!B$9:B$795,[1]Rank!E$9:E$795),\"\")","v":"*"},{"$f":"LOOKUP(L9,[2]الأسماء!A$3:A$962,[2]الأسماء!C$3:C$962)","v":"أحمد محمود عبد الفتاح عرفه "},588,300,300,null,null,"أحمد محمود عبد الفتاح عرفه "]
[9,"رأفت الصياد",3001,3,null,"رأفت الصياد",3001,26,9,{"$f":"_xlfn.IFNA(LOOKUP(L10,[1]Rank!B$9:B$795,[1]Rank!E$9:E$795),\"\")","v":"*"},{"$f":"LOOKUP(L10,[2]الأسماء!A$3:A$962,[2]الأسماء!C$3:C$962)","v":"إبراهيم عرفان السقا  "},721,0,null,null,null,"إبراهيم عرفان السقا  "]
[10,"نبيل خلف زكي حسنين ",392,null,null,"نبيل خلف زكي حسنين ",392,29,10,{"$f":"_xlfn.IFNA(LOOKUP(L11,[1]Rank!B$9:B$795,[1]Rank!E$9:E$795),\"\")","v":"*"},{"$f":"LOOKUP(L11,[2]الأسماء!A$3:A$962,[2]الأسماء!C$3:C$962)","v":"محمد سعيد زكي محمد الفطاطري"},550,0,null,null,null,"محمد سعيد زكي محمد الفطاطري"]
[11,"معتز محمد مدبولي ",548,null,null,"معتز محمد مدبولي  ",548,19,11,{"$f":"_xlfn.IFNA(LOOKUP(L12,[1]Rank!B$9:B$795,[1]Rank!E$9:E$795),\"\")","v":0},"شريف أحمد محمد حمروش",2003,300,300,null,null,"شريف أحمد محمد حمروش"]
[12,"أمير كمال جميل",2001,null,null,"أمير كمال جميل",2001,3,12,{"$f":"_xlfn.IFNA(LOOKUP(L13,[1]Rank!B$9:B$795,[1]Rank!E$9:E$795),\"\")","v":"*"},{"$f":"LOOKUP(L13,[2]الأسماء!A$3:A$962,[2]الأسماء!C$3:C$962)","v":"إيهاب  محمد الزهيري امين "},342,0,null,null,null,"إيهاب  محمد الزهيري امين "]
[13,"أحمد جميل السيد ",368,4,null,"أحمد جميل السيد  ",368,13,13,{"$f":"_xlfn.IFNA(LOOKUP(L14,[1]Rank!B$9:B$795,[1]Rank!E$9:E$795),\"\")","v":"*"},{"$f":"LOOKUP(L14,[2]الأسماء!A$3:A$962,[2]الأسماء!C$3:C$962)","v":"أحمد جميل السيد  "},368,0,null,null,null,"أحمد جميل السيد  "]
[14,"عماد محمد فؤاد",681,null,null,"عماد محمد فؤاد مرسي ",681,40,14,{"$f":"_xlfn.IFNA(LOOKUP(L15,[1]Rank!B$9:B$795,[1]Rank!E$9:E$795),\"\")","v":0},"أحمد ممدوح أحمد عبد الدايم",2004,300,300,null,null,"أحمد ممدوح أحمد عبد الدايم"]
[15,"أحمد رمزي الديب ",547,null,null,"أحمد رمزي الديب  ",547,25,15,{"$f":"_xlfn.IFNA(LOOKUP(L16,[1]Rank!B$9:B$795,[1]Rank!E$9:E$795),\"\")","v":"*"},{"$f":"LOOKUP(L16,[2]الأسماء!A$3:A$962,[2]الأسماء!C$3:C$962)","v":"هيثم محمد أحمد إبراهيم شبانة"},668,0,null,null,null,"هيثم محمد أحمد إبراهيم شبانة"]
[16,"عبد الرحمن سعد موسى",2018,null,null,"محمد علي حسن طه الأمام",305,36,16,{"$f":"_xlfn.IFNA(LOOKUP(L17,[1]Rank!B$9:B$795,[1]Rank!E$9:E$795),\"\")","v":"*"},{"$f":"LOOKUP(L17,[2]الأسماء!A$3:A$962,[2]الأسماء!C$3:C$962)","v":"شريف جلال عبد السلام سماحة "},718,0,null,null,null,"شريف جلال عبد السلام سماحة "]
[17,"أحمد علي خليل حسن ",664,5,null,"أحمد محمد يوسف حجازي ",322,4,17,{"$f":"_xlfn.IFNA(LOOKUP(L18,[1]Rank!B$9:B$795,[1]Rank!E$9:E$795),\"\")","v":0},null,2005,0]
[18,"أحمد ممدوح عبد الدايم",2004,null,null,"أحمد ممدوح أحمد عبد الدايم",2004,14,18,{"$f":"_xlfn.IFNA(LOOKUP(L19,[1]Rank!B$9:B$795,[1]Rank!E$9:E$795),\"\")","v":0},"حمدي محمود عبد العزيز",2006,300,null,300,null,"حمدي محمود عبد العزيز"]
[19,"إبراهيم عنتر  ",338,null,null,"إبراهيم عنتر بخيت حسين ",338,30,19,{"$f":"_xlfn.IFNA(LOOKUP(L20,[1]Rank!B$9:B$795,[1]Rank!E$9:E$795),\"\")","v":0},{"$f":"LOOKUP(L20,[2]الأسماء!A$3:A$962,[2]الأسماء!C$3:C$962)","v":"معتز محمد مدبولي  "},548,300,300,null,null,"معتز محمد مدبولي  "]
[20,"إسلام قاسم",2008,null,null,"إسلام قاسم",2008,39,20,{"$f":"_xlfn.IFNA(LOOKUP(L21,[1]Rank!B$9:B$795,[1]Rank!E$9:E$795),\"\")","v":"*"},{"$f":"LOOKUP(L21,[2]الأسماء!A$3:A$962,[2]الأسماء!C$3:C$962)","v":"خالد محمود أحمد شباره "},6,0,null,null,null,"خالد محمود أحمد شباره "]
[21,"أحمد محمد حمدي صالح ",396,6,null,"أحمد محمد حمدي صالح ",396,24,21,{"$f":"_xlfn.IFNA(LOOKUP(L22,[1]Rank!B$9:B$795,[1]Rank!E$9:E$795),\"\")","v":0},{"$f":"LOOKUP(L22,[2]الأسماء!A$3:A$962,[2]الأسماء!C$3:C$962)","v":"فؤاد عزت الضلعي  "},250,0,null,null,null,"فؤاد عزت الضلعي  "]
[22,"طه إبراهيم طه  ",344,null,null,"طه إبراهيم طه ابراهيم ",344,37,22,{"$f":"_xlfn.IFNA(LOOKUP(L23,[1]Rank!B$9:B$795,[1]Rank!E$9:E$795),\"\")","v":"*"},{"$f":"LOOKUP(L23,[2]الأسماء!A$3:A$962,[2]الأسماء!C$3:C$962)","v":"ماجد  محمد  فكري ابراهيم عبد العاطى"},649,0,null,null,null,"ماجد  محمد  فكري ابراهيم عبد العاطى"]
[23,"مصطفى يوسف محمد",2002,null,null,"مصطفى يوسف محمد",2002,5,23,{"$f":"_xlfn.IFNA(LOOKUP(L24,[1]Rank!B$9:B$795,[1]Rank!E$9:E$795),\"\")","v":"*"},{"$f":"LOOKUP(L24,[2]الأسماء!A$3:A$962,[2]الأسماء!C$3:C$962)","v":"أحمد عبد العظيم عثمان الطنطاوي "},670,0,null,null,null,"أحمد عبد العظيم عثمان الطنطاوي "]
[24,"هيثم محمد شبانة",668,null,null,"هيثم محمد أحمد إبراهيم شبانة",668,15,24,{"$f":"_xlfn.IFNA(LOOKUP(L25,[1]Rank!B$9:B$795,[1]Rank!E$9:E$795),\"\")","v":"*"},{"$f":"LOOKUP(L25,[2]الأسماء!A$3:A$962,[2]الأسماء!C$3:C$962)","v":"أحمد محمد حمدي صالح "},396,0,null,null,null,"أحمد محمد حمدي صالح "]
[25,"خالد شباره ",6,7,null,"خالد محمود أحمد شباره ",6,20,25,{"$f":"_xlfn.IFNA(LOOKUP(L26,[1]Rank!B$9:B$795,[1]Rank!E$9:E$795),\"\")","v":"*"},{"$f":"LOOKUP(L26,[2]الأسماء!A$3:A$962,[2]الأسماء!C$3:C$962)","v":"أحمد رمزي الديب  "},547,0,null,null,null,"أحمد رمزي الديب  "]
[26,"أحمد الطنطاوي ",670,null,null,"أحمد عبد العظيم عثمان الطنطاوي ",670,23,26,{"$f":"_xlfn.IFNA(LOOKUP(L27,[1]Rank!B$9:B$795,[1]Rank!E$9:E$795),\"\")","v":0},"رأفت الصياد",3001,0,null,null,null,"رأفت الصياد"]
[27,"سمير الحوفي",2007,null,null,"سمير الحوفي",2007,31,27,{"$f":"_xlfn.IFNA(LOOKUP(L28,[1]Rank!B$9:B$795,[1]Rank!E$9:E$795),\"\")","v":"*"},{"$f":"LOOKUP(L28,[2]الأسماء!A$3:A$962,[2]الأسماء!C$3:C$962)","v":"إيهاب يوسف عبد القادر عمارة "},756,0,null,null,null,"إيهاب يوسف عبد القادر عمارة "]
[28,"عمرو محسن فرج ",390,null,null,"عمرو محمد محسن فرج ",390,38,28,{"$f":"_xlfn.IFNA(LOOKUP(L29,[1]Rank!B$9:B$795,[1]Rank!E$9:E$795),\"\")","v":"*"},{"$f":"LOOKUP(L29,[2]الأسماء!A$3:A$962,[2]الأسماء!C$3:C$962)","v":"أحمد مصطفى سعد أحمد راشد"},306,0,null,null,null,"أحمد مصطفى سعد أحمد راشد"]
[29,"عبد الرحمن عثمان",596,8,null,"عبد الرحمن محمود عبد السميع محمد عثمان",596,6,29,{"$f":"_xlfn.IFNA(LOOKUP(L30,[1]Rank!B$9:B$795,[1]Rank!E$9:E$795),\"\")","v":"*"},{"$f":"LOOKUP(L30,[2]الأسماء!A$3:A$962,[2]الأسماء!C$3:C$962)","v":"نبيل خلف زكي حسنين "},392,0,null,null,null,"نبيل خلف زكي حسنين "]
[30,"شريف جلال سماحة ",718,null,null,"شريف جلال عبد السلام سماحة ",718,16,30,{"$f":"_xlfn.IFNA(LOOKUP(L31,[1]Rank!B$9:B$795,[1]Rank!E$9:E$795),\"\")","v":"*"},{"$f":"LOOKUP(L31,[2]الأسماء!A$3:A$962,[2]الأسماء!C$3:C$962)","v":"إبراهيم عنتر بخيت حسين "},338,0,null,null,null,"إبراهيم عنتر بخيت حسين "]
[31,"ماجد  محمد  فكري ",649,null,null,"ماجد  محمد  فكري ابراهيم عبد العاطى",649,22,31,{"$f":"_xlfn.IFNA(LOOKUP(L32,[1]Rank!B$9:B$795,[1]Rank!E$9:E$795),\"\")","v":0},"سمير الحوفي",2007,0,null,null,null,"سمير الحوفي"]
[32,"حمزة أحمد محمد",2021,null,null,"باسم عماد عبد القادر رمضان مطاوع",330,32,32,{"$f":"_xlfn.IFNA(LOOKUP(L33,[1]Rank!B$9:B$795,[1]Rank!E$9:E$795),\"\")","v":"*"},{"$f":"LOOKUP(L33,[2]الأسماء!A$3:A$962,[2]الأسماء!C$3:C$962)","v":"باسم عماد عبد القادر رمضان مطاوع"},330,0,null,null,null,"باسم عماد عبد القادر رمضان مطاوع"]
[33,"أحمد بسيوني",399,9,null,{"$f":"LOOKUP(H34,$I$2:$I$161,$K$2:$K$161)","v":"أحمد شيرين محمود عز الدين بسيوني"},{"$f":"LOOKUP(H34,$I$2:$I$161,$L$2:$L$161)","v":399},7,33,{"$f":"_xlfn.IFNA(LOOKUP(L34,[1]Rank!B$9:B$795,[1]Rank!E$9:E$795),\"\")","v":"*"},{"$f":"LOOKUP(L34,[2]الأسماء!A$3:A$962,[2]الأسماء!C$3:C$962)","v":"أسامة لطفي نجيب واصف "},751,0,null,null,null,"أسامة لطفي نجيب واصف "]
[34,"عماد الدين جمعة هلال  ",391,null,null,0,2005,17,34,{"$f":"_xlfn.IFNA(LOOKUP(L35,[1]Rank!B$9:B$795,[1]Rank!E$9:E$795),\"\")","v":"*"},{"$f":"LOOKUP(L35,[2]الأسماء!A$3:A$962,[2]الأسماء!C$3:C$962)","v":"إسلام أحمد السيد أحمد عمر"},337,0,null,null,null,"إسلام أحمد السيد أحمد عمر"]
[35,"عمرو عماد الدين أبوالعلا  ",454,null,null,"عماد الدين جمعة هلال سلامة ",391,35,35,{"$f":"_xlfn.IFNA(LOOKUP(L36,[1]Rank!B$9:B$795,[1]Rank!E$9:E$795),\"\")","v":0},{"$f":"LOOKUP(L36,[2]الأسماء!A$3:A$962,[2]الأسماء!C$3:C$962)","v":"عماد الدين جمعة هلال سلامة "},391,0,null,null,null,"عماد الدين جمعة هلال سلامة "]
[36,"أحمد عبد الفتاح عرفه ",588,null,null,"فؤاد عزت الضلعي  ",250,21,36,{"$f":"_xlfn.IFNA(LOOKUP(L37,[1]Rank!B$9:B$795,[1]Rank!E$9:E$795),\"\")","v":"*"},{"$f":"LOOKUP(L37,[2]الأسماء!A$3:A$962,[2]الأسماء!C$3:C$962)","v":"محمد علي حسن طه الأمام"},305,0,null,null,null,"محمد علي حسن طه الأمام"]
[37,"حمدي محمود عبد العزيز",2006,10,null,"أحمد محمود عبد الفتاح عرفه ",588,8,37,{"$f":"_xlfn.IFNA(LOOKUP(L38,[1]Rank!B$9:B$795,[1]Rank!E$9:E$795),\"\")","v":"*"},{"$f":"LOOKUP(L38,[2]الأسماء!A$3:A$962,[2]الأسماء!C$3:C$962)","v":"طه إبراهيم طه ابراهيم "},344,0,null,null,null,"طه إبراهيم طه ابراهيم "]
[38,"أسامة لطفي نجيب  ",751,null,null,"حمدي محمود عبد العزيز",2006,18,38,{"$f":"_xlfn.IFNA(LOOKUP(L39,[1]Rank!B$9:B$795,[1]Rank!E$9:E$795),\"\")","v":"*"},{"$f":"LOOKUP(L39,[2]الأسماء!A$3:A$962,[2]الأسماء!C$3:C$962)","v":"عمرو محمد محسن فرج "},390,0,null,null,null,"عمرو محمد محسن فرج "]
[39,"إسلام أحمد السيد عمر",337,null,null,"أسامة لطفي نجيب واصف ",751,33,39,{"$f":"_xlfn.IFNA(LOOKUP(L40,[1]Rank!B$9:B$795,[1]Rank!E$9:E$795),\"\")","v":0},"إسلام قاسم",2008,0,null,null,null,"إسلام قاسم"]
[40,"احمد محمود عبد الرزاق  ",639,null,null,"إسلام أحمد السيد أحمد عمر",337,34,40,{"$f":"_xlfn.IFNA(LOOKUP(L41,[1]Rank!B$9:B$795,[1]Rank!E$9:E$795),\"\")","v":"*"},{"$f":"LOOKUP(L41,[2]الأسماء!A$3:A$962,[2]الأسماء!C$3:C$962)","v":"عماد محمد فؤاد مرسي "},681,0,null,null,null,"عماد محمد فؤاد مرسي "]
[41,"خالد مصطفى عزت ",726,11,null,"احمد محمود عبد الرزاق محمد ",639,45,41,{"$f":"_xlfn.IFNA(LOOKUP(L42,[1]Rank!B$9:B$795,[1]Rank!E$9:E$795),\"\")","v":"*"},{"$f":"LOOKUP(L42,[2]الأسماء!A$3:A$962,[2]الأسماء!C$3:C$962)","v":"مصطفى كامل محمد فؤاد الشحري"},340,0,null,null,null,"مصطفى كامل محمد فؤاد الشحري"]
[42,"محمد عبد الهادي أبو القاسم ",393,null,null,"خالد مصطفى أحمد عزت عبد الخالق",726,59,42,{"$f":"_xlfn.IFNA(LOOKUP(L43,[1]Rank!B$9:B$795,[1]Rank!E$9:E$795),\"\")","v":"*"},{"$f":"LOOKUP(L43,[2]الأسماء!A$3:A$962,[2]الأسماء!C$3:C$962)","v":"أحمد طارق   "},346,0,null,null,null,"أحمد طارق   "]
[43,"أمير محمد خطاب  ",200,null,null,"محمد عبد الهادي أحمد أبو القاسم ",393,76,43,{"$f":"_xlfn.IFNA(LOOKUP(L44,[1]Rank!B$9:B$795,[1]Rank!E$9:E$795),\"\")","v":0},"نهير عمر عبد العزيز",4001,0,null,null,null,"نهير عمر عبد العزيز"]
[44,"جمال السيد توفيق محمد ",758,null,null,"أمير محمد خطاب  ",200,53,44,{"$f":"_xlfn.IFNA(LOOKUP(L45,[1]Rank!B$9:B$795,[1]Rank!E$9:E$795),\"\")","v":"*"},{"$f":"LOOKUP(L45,[2]الأسماء!A$3:A$962,[2]الأسماء!C$3:C$962)","v":"محمد ناجي زاهر بلبع "},324,0,null,null,null,"محمد ناجي زاهر بلبع "]
[45,"رضا هنري",null,12,null,"جمال السيد توفيق محمد ",758,63,45,{"$f":"_xlfn.IFNA(LOOKUP(L46,[1]Rank!B$9:B$795,[1]Rank!E$9:E$795),\"\")","v":"*"},{"$f":"LOOKUP(L46,[2]الأسماء!A$3:A$962,[2]الأسماء!C$3:C$962)","v":"احمد محمود عبد الرزاق محمد "},639,0,null,null,null,"احمد محمود عبد الرزاق محمد "]
[46,"علاء شوقي جبريل  ",361,null,null,"عبد العظيم منير",2012,71,46,{"$f":"_xlfn.IFNA(LOOKUP(L47,[1]Rank!B$9:B$795,[1]Rank!E$9:E$795),\"\")","v":0},"ناجي بلبع",2009,0,null,null,null,"ناجي بلبع"]
[47,"هاني فكري المراكبي",2011,null,null,"علاء شوقي جبريل  ",361,54,47,{"$f":"_xlfn.IFNA(LOOKUP(L48,[1]Rank!B$9:B$795,[1]Rank!E$9:E$795),\"\")","v":"*"},{"$f":"LOOKUP(L48,[2]الأسماء!A$3:A$962,[2]الأسماء!C$3:C$962)","v":"مينا ناجح صبحي  "},611,0,null,null,null,"مينا ناجح صبحي  "]
[48,"محمد ناجي زاهر بلبع ",324,null,null,"هاني فكري المراكبي",2011,66,48,{"$f":"_xlfn.IFNA(LOOKUP(L49,[1]Rank!B$9:B$795,[1]Rank!E$9:E$795),\"\")","v":"*"},{"$f":"LOOKUP(L49,[2]الأسماء!A$3:A$962,[2]الأسماء!C$3:C$962)","v":"محمد أحمد محمد عبد الله "},360,0,null,null,null,"محمد أحمد محمد عبد الله "]
[49,"هيثم العشماوي ",300,13,null,"محمد ناجي زاهر بلبع ",324,44,49,{"$f":"_xlfn.IFNA(LOOKUP(L50,[1]Rank!B$9:B$795,[1]Rank!E$9:E$795),\"\")","v":0},"فادي ناجح",2010,0,null,null,null,"فادي ناجح"]
[50,"فادي ناجح",2010,null,null,"هيثم عباس عبد الباري العشماوي ",300,60,50,{"$f":"_xlfn.IFNA(LOOKUP(L51,[1]Rank!B$9:B$795,[1]Rank!E$9:E$795),\"\")","v":"*"},{"$f":"LOOKUP(L51,[2]الأسماء!A$3:A$962,[2]الأسماء!C$3:C$962)","v":"أحمد علي السيد علي شرع"},536,0,null,null,null,"أحمد علي السيد علي شرع"]
[51,"أحمد أحمد مرسي عبد الله ",341,null,null,"فادي ناجح",2010,49,51,{"$f":"_xlfn.IFNA(LOOKUP(L52,[1]Rank!B$9:B$795,[1]Rank!E$9:E$795),\"\")","v":0},{"$f":"LOOKUP(L52,[2]الأسماء!A$3:A$962,[2]الأسماء!C$3:C$962)","v":"وليد شعبان إسماعيل علي "},450,0,null,null,null,"وليد شعبان إسماعيل علي "]
[52,"يامن محمد حسن  ",350,null,null,"أحمد أحمد مرسي عبد الله ",341,62,52,{"$f":"_xlfn.IFNA(LOOKUP(L53,[1]Rank!B$9:B$795,[1]Rank!E$9:E$795),\"\")","v":"*"},{"$f":"LOOKUP(L53,[2]الأسماء!A$3:A$962,[2]الأسماء!C$3:C$962)","v":"أحمد سمير خلف علي محمد"},706,0,null,null,null,"أحمد سمير خلف علي محمد"]
[53,"أحمد محمد شوقي هيبه",477,14,null,"يامن محمد حسن  ",350,55,53,{"$f":"_xlfn.IFNA(LOOKUP(L54,[1]Rank!B$9:B$795,[1]Rank!E$9:E$795),\"\")","v":"*"},{"$f":"LOOKUP(L54,[2]الأسماء!A$3:A$962,[2]الأسماء!C$3:C$962)","v":"أمير محمد خطاب  "},200,0,null,null,null,"أمير محمد خطاب  "]
[54,"تامر رشاد   ",297,null,null,"محمد عبد العظيم منير",2013,72,54,{"$f":"_xlfn.IFNA(LOOKUP(L55,[1]Rank!B$9:B$795,[1]Rank!E$9:E$795),\"\")","v":"*"},{"$f":"LOOKUP(L55,[2]الأسماء!A$3:A$962,[2]الأسماء!C$3:C$962)","v":"علاء شوقي جبريل  "},361,0,null,null,null,"علاء شوقي جبريل  "]
[55,"ناجي بلبع",2009,null,null,"تامر رشاد   ",297,65,55,{"$f":"_xlfn.IFNA(LOOKUP(L56,[1]Rank!B$9:B$795,[1]Rank!E$9:E$795),\"\")","v":"*"},{"$f":"LOOKUP(L56,[2]الأسماء!A$3:A$962,[2]الأسماء!C$3:C$962)","v":"يامن محمد حسن  "},350,0,null,null,null,"يامن محمد حسن  "]
[56,"جاسر محمد",299,null,null,"ناجي بلبع",2009,46,56,{"$f":"_xlfn.IFNA(LOOKUP(L57,[1]Rank!B$9:B$795,[1]Rank!E$9:E$795),\"\")","v":0},"عصام على",3002,0,null,null,null,"عصام على"]
[57,"مصطفى كامل الشحري",340,15,null,"محمد صلاح الدين محمد ذكرالله ",299,69,57,{"$f":"_xlfn.IFNA(LOOKUP(L58,[1]Rank!B$9:B$795,[1]Rank!E$9:E$795),\"\")","v":"*"},{"$f":"LOOKUP(L58,[2]الأسماء!A$3:A$962,[2]الأسماء!C$3:C$962)","v":"محمد محمود مسعود  "},234,0,null,null,null,"محمد محمود مسعود  "]
[58,"أحمد إبراهيم غانم ",366,null,null,"مصطفى كامل محمد فؤاد الشحري",340,41,58,{"$f":"_xlfn.IFNA(LOOKUP(L59,[1]Rank!B$9:B$795,[1]Rank!E$9:E$795),\"\")","v":"*"},{"$f":"LOOKUP(L59,[2]الأسماء!A$3:A$962,[2]الأسماء!C$3:C$962)","v":"أحمد صلاح الدين محمد دياب "},510,0,null,null,null,"أحمد صلاح الدين محمد دياب "]
[59,"هشام أبوغربية ",389,null,null,"أحمد إبراهيم أحمد غانم ",366,67,59,{"$f":"_xlfn.IFNA(LOOKUP(L60,[1]Rank!B$9:B$795,[1]Rank!E$9:E$795),\"\")","v":0},{"$f":"LOOKUP(L60,[2]الأسماء!A$3:A$962,[2]الأسماء!C$3:C$962)","v":"خالد مصطفى أحمد عزت عبد الخالق"},726,0,null,null,null,"خالد مصطفى أحمد عزت عبد الخالق"]
[60,"عصام الدين حامد منصور ",758,null,null,"عصام على",3002,56,60,{"$f":"_xlfn.IFNA(LOOKUP(L61,[1]Rank!B$9:B$795,[1]Rank!E$9:E$795),\"\")","v":"*"},{"$f":"LOOKUP(L61,[2]الأسماء!A$3:A$962,[2]الأسماء!C$3:C$962)","v":"هيثم عباس عبد الباري العشماوي "},300,0,null,null,null,"هيثم عباس عبد الباري العشماوي "]
[61,"كريم إيهاب عامر  ",606,16,null,"شريف طه بصري",2014,73,61,{"$f":"_xlfn.IFNA(LOOKUP(L62,[1]Rank!B$9:B$795,[1]Rank!E$9:E$795),\"\")","v":"*"},{"$f":"LOOKUP(L62,[2]الأسماء!A$3:A$962,[2]الأسماء!C$3:C$962)","v":"كريم إيهاب عامر  "},606,0,null,null,null,"كريم إيهاب عامر  "]
[62,"محمد محمود مسعود  ",234,null,null,"كريم إيهاب عامر  ",606,61,62,{"$f":"_xlfn.IFNA(LOOKUP(L63,[1]Rank!B$9:B$795,[1]Rank!E$9:E$795),\"\")","v":"*"},{"$f":"LOOKUP(L63,[2]الأسماء!A$3:A$962,[2]الأسماء!C$3:C$962)","v":"أحمد أحمد مرسي عبد الله "},341,0,null,null,null,"أحمد أحمد مرسي عبد الله "]
[63,"محمد أحمد محمد عبد الله ",360,null,null,"محمد محمود مسعود  ",234,57,63,{"$f":"_xlfn.IFNA(LOOKUP(L64,[1]Rank!B$9:B$795,[1]Rank!E$9:E$795),\"\")","v":"*"},{"$f":"LOOKUP(L64,[2]الأسماء!A$3:A$962,[2]الأسماء!C$3:C$962)","v":"جمال السيد توفيق محمد "},758,0,null,null,null,"جمال السيد توفيق محمد "]
[64,"وليد شعبان إسماعيل علي ",450,null,null,"محمد أحمد محمد عبد الله ",360,48,64,{"$f":"_xlfn.IFNA(LOOKUP(L65,[1]Rank!B$9:B$795,[1]Rank!E$9:E$795),\"\")","v":0},"فريدة شكري",3003,0,null,null,null,"فريدة شكري"]
[65,"أحمد طارق   ",346,17,null,{"$f":"LOOKUP(H66,$I$2:$I$161,$K$2:$K$161)","v":"وليد شعبان إسماعيل علي "},{"$f":"LOOKUP(H66,$I$2:$I$161,$L$2:$L$161)","v":450},51,65,{"$f":"_xlfn.IFNA(LOOKUP(L66,[1]Rank!B$9:B$795,[1]Rank!E$9:E$795),\"\")","v":"*"},{"$f":"LOOKUP(L66,[2]الأسماء!A$3:A$962,[2]الأسماء!C$3:C$962)","v":"تامر رشاد   "},297,0,null,null,null,"تامر رشاد   "]
[66,"أحمد فؤاد حسنين ",363,null,null,"أحمد طارق   ",346,42,66,{"$f":"_xlfn.IFNA(LOOKUP(L67,[1]Rank!B$9:B$795,[1]Rank!E$9:E$795),\"\")","v":0},"هاني فكري المراكبي",2011,{"$f":"SUM(N67:P67)","v":300},300,null,null,"هاني فكري المراكبي"]
[67,"محمد محمود فضل ",379,null,null,"أحمد فؤاد حسنين محمد عباس",363,70,67,{"$f":"_xlfn.IFNA(LOOKUP(L68,[1]Rank!B$9:B$795,[1]Rank!E$9:E$795),\"\")","v":"*"},{"$f":"LOOKUP(L68,[2]الأسماء!A$3:A$962,[2]الأسماء!C$3:C$962)","v":"أحمد إبراهيم أحمد غانم "},366,0,null,null,null,"أحمد إبراهيم أحمد غانم "]
[68,"مصطفى إسماعيل",2015,null,null,"محمد محمود محمد فضل ",379,68,68,{"$f":"_xlfn.IFNA(LOOKUP(L69,[1]Rank!B$9:B$795,[1]Rank!E$9:E$795),\"\")","v":0},{"$f":"LOOKUP(L69,[2]الأسماء!A$3:A$962,[2]الأسماء!C$3:C$962)","v":"محمد محمود محمد فضل "},379,0,null,null,null,"محمد محمود محمد فضل "]
[69,"أحمد علي السيد شرع",536,18,null,"مصطفى إسماعيل",2015,74,69,{"$f":"_xlfn.IFNA(LOOKUP(L70,[1]Rank!B$9:B$795,[1]Rank!E$9:E$795),\"\")","v":"*"},{"$f":"LOOKUP(L70,[2]الأسماء!A$3:A$962,[2]الأسماء!C$3:C$962)","v":"محمد صلاح الدين محمد ذكرالله "},299,0,null,null,null,"محمد صلاح الدين محمد ذكرالله "]
[70,"أحمد صلاح الدين دياب ",510,null,null,"أحمد علي السيد علي شرع",536,50,70,{"$f":"_xlfn.IFNA(LOOKUP(L71,[1]Rank!B$9:B$795,[1]Rank!E$9:E$795),\"\")","v":"*"},{"$f":"LOOKUP(L71,[2]الأسماء!A$3:A$962,[2]الأسماء!C$3:C$962)","v":"أحمد فؤاد حسنين محمد عباس"},363,0,null,null,null,"أحمد فؤاد حسنين محمد عباس"]
[71,"معتز محمد",null,null,null,"أحمد صلاح الدين محمد دياب ",510,58,71,{"$f":"_xlfn.IFNA(LOOKUP(L72,[1]Rank!B$9:B$795,[1]Rank!E$9:E$795),\"\")","v":0},"عبد العظيم منير",2012,0,null,null,null,"عبد العظيم منير"]
[72,"أحمد سمير خلف ",706,null,null,"نهير عمر عبد العزيز",4001,43,72,{"$f":"_xlfn.IFNA(LOOKUP(L73,[1]Rank!B$9:B$795,[1]Rank!E$9:E$795),\"\")","v":0},"محمد عبد العظيم منير",2013,0,null,null,null,"محمد عبد العظيم منير"]
[73,"مينا ناجح صبحي  ",611,19,null,"أحمد سمير خلف علي محمد",706,52,73,{"$f":"_xlfn.IFNA(LOOKUP(L74,[1]Rank!B$9:B$795,[1]Rank!E$9:E$795),\"\")","v":0},"شريف طه بصري",2014,0,null,null,null,"شريف طه بصري"]
[74,"فريدة شكري",3003,null,null,"مينا ناجح صبحي  ",611,47,74,{"$f":"_xlfn.IFNA(LOOKUP(L75,[1]Rank!B$9:B$795,[1]Rank!E$9:E$795),\"\")","v":0},"مصطفى إسماعيل",2015,300,300,null,null,"مصطفى إسماعيل"]
[75,"محمود سليمان",2016,null,null,"فريدة شكري",3003,64,75,{"$f":"_xlfn.IFNA(LOOKUP(L76,[1]Rank!B$9:B$795,[1]Rank!E$9:E$795),\"\")","v":0},"محمود سليمان",2016,300,300,null,null,"محمود سليمان"]
[76,"محمد إبراهيم قطب ",2017,null,null,"محمود سليمان",2016,75,76,{"$f":"_xlfn.IFNA(LOOKUP(L77,[1]Rank!B$9:B$795,[1]Rank!E$9:E$795),\"\")","v":"*"},{"$f":"LOOKUP(L77,[2]الأسماء!A$3:A$962,[2]الأسماء!C$3:C$962)","v":"محمد عبد الهادي أحمد أبو القاسم "},393,0,null,null,null,"محمد عبد الهادي أحمد أبو القاسم "]
[77,"محمد محمود شعبان ",486,20,null,"محمد إبراهيم قطب أحمد",2017,77,77,{"$f":"_xlfn.IFNA(LOOKUP(L78,[1]Rank!B$9:B$795,[1]Rank!E$9:E$795),\"\")","v":0},"محمد إبراهيم قطب أحمد",2017,300,300,null,null,"محمد إبراهيم قطب أحمد"]
[78,"حسام الخلفاوي",2019,null,null,"محمد محمود شعبان محمد رمضان",486,90,78,{"$f":"_xlfn.IFNA(LOOKUP(L79,[1]Rank!B$9:B$795,[1]Rank!E$9:E$795),\"\")","v":0},"عبد الرحمن سعد موسى",2018,0,null,null,null,"عبد الرحمن سعد موسى"]
[79,"محمد علي حسن طه الأمام",305,null,null,"حسام الخلفاوي",2019,86,79,{"$f":"_xlfn.IFNA(LOOKUP(L80,[1]Rank!B$9:B$795,[1]Rank!E$9:E$795),\"\")","v":"*"},{"$f":"LOOKUP(L80,[2]الأسماء!A$3:A$962,[2]الأسماء!C$3:C$962)","v":"أحمد علي خليل حسن "},664,0,null,null,null,"أحمد علي خليل حسن "]
[80,"أمن حسام",2020,null,null,"عصام الدين حامد أحمد منصور ",302,81,80,{"$f":"_xlfn.IFNA(LOOKUP(L81,[1]Rank!B$9:B$795,[1]Rank!E$9:E$795),\"\")","v":"*"},{"$f":"LOOKUP(L81,[2]الأسماء!A$3:A$962,[2]الأسماء!C$3:C$962)","v":"أحمد محمد شوقي عبد الحميد هيبه"},477,0,null,null,null,"أحمد محمد شوقي عبد الحميد هيبه"]
[81,null,null,21,null,{"$error":"#N/A"},0,96,81,{"$f":"_xlfn.IFNA(LOOKUP(L82,[3]Rank!$B$9:$B$782,[3]Rank!$E$9:$E$782),\"\")","v":0},{"$f":"LOOKUP(L82,[2]الأسماء!A$3:A$962,[2]الأسماء!C$3:C$962)","v":"عصام الدين حامد أحمد منصور "},302,0,null,null,null,"عصام الدين حامد أحمد منصور "]
[82,null,null,null,null,{"$error":"#N/A"},0,94,82,{"$f":"_xlfn.IFNA(LOOKUP(L83,[3]Rank!$B$9:$B$782,[3]Rank!$E$9:$E$782),\"\")","v":0},{"$f":"LOOKUP(L83,[2]الأسماء!A$3:A$962,[2]الأسماء!C$3:C$962)","v":"عمرو عماد الدين أبوالعلا  "},454,0,null,null,null,"عمرو عماد الدين أبوالعلا  "]
[83,null,null,null,null,"رضا هنري",3004,85,83,{"$f":"_xlfn.IFNA(LOOKUP(L84,[3]Rank!$B$9:$B$782,[3]Rank!$E$9:$E$782),\"\")","v":0},{"$f":"LOOKUP(L84,[2]الأسماء!A$3:A$962,[2]الأسماء!C$3:C$962)","v":"أحمد محمد هشام سردينة "},317,0,null,null,null,"أحمد محمد هشام سردينة "]
[84,null,null,null,null,{"$error":"#N/A"},0,99,84,{"$f":"_xlfn.IFNA(LOOKUP(L85,[3]Rank!$B$9:$B$782,[3]Rank!$E$9:$E$782),\"\")","v":0},{"$f":"LOOKUP(L85,[2]الأسماء!A$3:A$962,[2]الأسماء!C$3:C$962)","v":"هشام علي حسن أبو غربية "},389,0,null,null,null,"هشام علي حسن أبو غربية "]
[85,null,null,22,null,"إبراهيم أحمد أمام",2022,91,85,{"$f":"_xlfn.IFNA(LOOKUP(L86,[3]Rank!$B$9:$B$782,[3]Rank!$E$9:$E$782),\"\")","v":0},"رضا هنري",3004,0,null,null,null,"رضا هنري"]
[86,null,null,null,null,"أحمد علي خليل حسن ",664,79,86,{"$f":"_xlfn.IFNA(LOOKUP(L87,[3]Rank!$B$9:$B$782,[3]Rank!$E$9:$E$782),\"\")","v":0},"حسام الخلفاوي",2019,0,null,null,null,"حسام الخلفاوي"]
[87,null,null,null,null,"حمزة أحمد محمد",2021,88,87,{"$f":"_xlfn.IFNA(LOOKUP(L88,[3]Rank!$B$9:$B$782,[3]Rank!$E$9:$E$782),\"\")","v":0},"أمن حسام",2020,0,null,null,null,"أمن حسام"]
[88,null,null,null,null,{"$error":"#N/A"},0,97,88,{"$f":"_xlfn.IFNA(LOOKUP(L89,[3]Rank!$B$9:$B$782,[3]Rank!$E$9:$E$782),\"\")","v":0},"حمزة أحمد محمد",2021,0,null,null,null,"حمزة أحمد محمد"]
[89,null,null,23,null,"عمرو عماد الدين أبوالعلا  ",454,82,89,{"$f":"_xlfn.IFNA(LOOKUP(L90,[3]Rank!$B$9:$B$782,[3]Rank!$E$9:$E$782),\"\")","v":0},{"$f":"LOOKUP(L90,[2]الأسماء!A$3:A$962,[2]الأسماء!C$3:C$962)","v":"محمد عصام الدين محمد القاضي "},304,0,null,null,null,"محمد عصام الدين محمد القاضي "]
[90,null,null,null,null,{"$error":"#N/A"},0,93,90,{"$f":"_xlfn.IFNA(LOOKUP(L91,[3]Rank!$B$9:$B$782,[3]Rank!$E$9:$E$782),\"\")","v":0},{"$f":"LOOKUP(L91,[2]الأسماء!A$3:A$962,[2]الأسماء!C$3:C$962)","v":"محمد محمود شعبان محمد رمضان"},486,0,null,null,null,"محمد محمود شعبان محمد رمضان"]
[91,null,null,null,null,"أحمد محمد شوقي عبد الحميد هيبه",477,80,91,{"$f":"_xlfn.IFNA(LOOKUP(L92,[3]Rank!$B$9:$B$782,[3]Rank!$E$9:$E$782),\"\")","v":0},"إبراهيم أحمد أمام",2022,0,null,null,null,"إبراهيم أحمد أمام"]
[92,null,null,null,null,{"$error":"#N/A"},0,98,92,{"$f":"_xlfn.IFNA(LOOKUP(L93,[3]Rank!$B$9:$B$782,[3]Rank!$E$9:$E$782),\"\")","v":""},{"$f":"LOOKUP(L93,[2]الأسماء!A$3:A$962,[2]الأسماء!C$3:C$962)","v":{"$error":"#N/A"}},null,0,null,null,null,{"$error":"#N/A"}]
[93,null,null,24,null,"محمد عصام الدين محمد القاضي ",304,89,93,{"$f":"_xlfn.IFNA(LOOKUP(L94,[3]Rank!$B$9:$B$782,[3]Rank!$E$9:$E$782),\"\")","v":""},{"$f":"LOOKUP(L94,[2]الأسماء!A$3:A$962,[2]الأسماء!C$3:C$962)","v":{"$error":"#N/A"}},null,0,null,null,null,{"$error":"#N/A"}]
[94,null,null,null,null,{"$error":"#N/A"},0,100,94,{"$f":"_xlfn.IFNA(LOOKUP(L95,[3]Rank!$B$9:$B$782,[3]Rank!$E$9:$E$782),\"\")","v":""},{"$f":"LOOKUP(L95,[2]الأسماء!A$3:A$962,[2]الأسماء!C$3:C$962)","v":{"$error":"#N/A"}},null,0,null,null,null,{"$error":"#N/A"}]
[95,null,null,null,null,"أحمد محمد هشام سردينة ",317,83,95,{"$f":"_xlfn.IFNA(LOOKUP(L96,[3]Rank!$B$9:$B$782,[3]Rank!$E$9:$E$782),\"\")","v":""},{"$f":"LOOKUP(L96,[2]الأسماء!A$3:A$962,[2]الأسماء!C$3:C$962)","v":{"$error":"#N/A"}},null,0,null,null,null,{"$error":"#N/A"}]
[96,null,null,null,null,{"$error":"#N/A"},0,95,96,{"$f":"_xlfn.IFNA(LOOKUP(L97,[3]Rank!$B$9:$B$782,[3]Rank!$E$9:$E$782),\"\")","v":""},{"$f":"LOOKUP(L97,[2]الأسماء!A$3:A$962,[2]الأسماء!C$3:C$962)","v":{"$error":"#N/A"}},null,0,null,null,null,{"$error":"#N/A"}]
[97,null,null,"B1",null,{"$f":"LOOKUP(H98,$I$2:$I$161,$K$2:$K$161)","v":"أمن حسام"},{"$f":"LOOKUP(H98,$I$2:$I$161,$L$2:$L$161)","v":2020},87,97,{"$f":"_xlfn.IFNA(LOOKUP(L98,[3]Rank!$B$9:$B$782,[3]Rank!$E$9:$E$782),\"\")","v":""},{"$f":"LOOKUP(L98,[2]الأسماء!A$3:A$962,[2]الأسماء!C$3:C$962)","v":{"$error":"#N/A"}},null,0,null,null,null,{"$error":"#N/A"}]
[98,null,null,null,null,{"$error":"#N/A"},0,92,98,{"$f":"_xlfn.IFNA(LOOKUP(L99,[3]Rank!$B$9:$B$782,[3]Rank!$E$9:$E$782),\"\")","v":""},{"$f":"LOOKUP(L99,[2]الأسماء!A$3:A$962,[2]الأسماء!C$3:C$962)","v":{"$error":"#N/A"}},null,0,null,null,null,{"$error":"#N/A"}]
[99,null,null,null,null,"عبد الرحمن سعد موسى",2018,78,99,{"$f":"_xlfn.IFNA(LOOKUP(L100,[3]Rank!$B$9:$B$782,[3]Rank!$E$9:$E$782),\"\")","v":""},{"$f":"LOOKUP(L100,[2]الأسماء!A$3:A$962,[2]الأسماء!C$3:C$962)","v":{"$error":"#N/A"}},null,0,null,null,null,{"$error":"#N/A"}]
[100,null,null,null,null,"هشام علي حسن أبو غربية ",389,84,100,{"$f":"_xlfn.IFNA(LOOKUP(L101,[3]Rank!$B$9:$B$782,[3]Rank!$E$9:$E$782),\"\")","v":""},{"$f":"LOOKUP(L101,[2]الأسماء!A$3:A$962,[2]الأسماء!C$3:C$962)","v":{"$error":"#N/A"}},null,0,null,null,null,{"$error":"#N/A"}]
[101,null,null,"B2",null,{"$error":"#N/A"},0,101,101,{"$f":"_xlfn.IFNA(LOOKUP(L102,[3]Rank!$B$9:$B$782,[3]Rank!$E$9:$E$782),\"\")","v":""},{"$f":"LOOKUP(L102,[2]الأسماء!A$3:A$962,[2]الأسماء!C$3:C$962)","v":{"$error":"#N/A"}},null,0,null,null,null,{"$error":"#N/A"}]
[102,null,null,null,null,{"$error":"#N/A"},0,102,102,{"$f":"_xlfn.IFNA(LOOKUP(L103,[3]Rank!$B$9:$B$782,[3]Rank!$E$9:$E$782),\"\")","v":""},{"$f":"LOOKUP(L103,[2]الأسماء!A$3:A$962,[2]الأسماء!C$3:C$962)","v":{"$error":"#N/A"}},null,0,null,null,null,{"$error":"#N/A"}]
[103,null,null,null,null,{"$error":"#N/A"},0,103,103,{"$f":"_xlfn.IFNA(LOOKUP(L104,[3]Rank!$B$9:$B$782,[3]Rank!$E$9:$E$782),\"\")","v":""},{"$f":"LOOKUP(L104,[2]الأسماء!A$3:A$962,[2]الأسماء!C$3:C$962)","v":{"$error":"#N/A"}},null,0,null,null,null,{"$error":"#N/A"}]
[104,null,null,null,null,{"$error":"#N/A"},0,104,104,{"$f":"_xlfn.IFNA(LOOKUP(L105,[3]Rank!$B$9:$B$782,[3]Rank!$E$9:$E$782),\"\")","v":""},{"$f":"LOOKUP(L105,[2]الأسماء!A$3:A$962,[2]الأسماء!C$3:C$962)","v":{"$error":"#N/A"}},null,0,null,null,null,{"$error":"#N/A"}]
[105,null,null,"B3",null,{"$error":"#N/A"},0,105,105,{"$f":"_xlfn.IFNA(LOOKUP(L106,[3]Rank!$B$9:$B$782,[3]Rank!$E$9:$E$782),\"\")","v":""},{"$f":"LOOKUP(L106,[2]الأسماء!A$3:A$962,[2]الأسماء!C$3:C$962)","v":{"$error":"#N/A"}},null,0,null,null,null,{"$error":"#N/A"}]
[106,null,null,null,null,{"$error":"#N/A"},0,106,106,{"$f":"_xlfn.IFNA(LOOKUP(L107,[3]Rank!$B$9:$B$782,[3]Rank!$E$9:$E$782),\"\")","v":""},{"$f":"LOOKUP(L107,[2]الأسماء!A$3:A$962,[2]الأسماء!C$3:C$962)","v":{"$error":"#N/A"}},null,0,null,null,null,{"$error":"#N/A"}]
[107,null,null,null,null,{"$error":"#N/A"},0,107,107,{"$f":"_xlfn.IFNA(LOOKUP(L108,[3]Rank!$B$9:$B$782,[3]Rank!$E$9:$E$782),\"\")","v":""},{"$f":"LOOKUP(L108,[2]الأسماء!A$3:A$962,[2]الأسماء!C$3:C$962)","v":{"$error":"#N/A"}},null,0,null,null,null,{"$error":"#N/A"}]
[108,null,null,null,null,{"$error":"#N/A"},0,108,108,{"$f":"_xlfn.IFNA(LOOKUP(L109,[3]Rank!$B$9:$B$782,[3]Rank!$E$9:$E$782),\"\")","v":""},{"$f":"LOOKUP(L109,[2]الأسماء!A$3:A$962,[2]الأسماء!C$3:C$962)","v":{"$error":"#N/A"}},null,0,null,null,null,{"$error":"#N/A"}]
[109,null,null,"B4",null,{"$error":"#N/A"},0,109,109,{"$f":"_xlfn.IFNA(LOOKUP(L110,[3]Rank!$B$9:$B$782,[3]Rank!$E$9:$E$782),\"\")","v":""},{"$f":"LOOKUP(L110,[2]الأسماء!A$3:A$962,[2]الأسماء!C$3:C$962)","v":{"$error":"#N/A"}},null,0,null,null,null,{"$error":"#N/A"}]
[110,null,null,null,null,{"$error":"#N/A"},0,110,110,{"$f":"_xlfn.IFNA(LOOKUP(L111,[3]Rank!$B$9:$B$782,[3]Rank!$E$9:$E$782),\"\")","v":""},{"$f":"LOOKUP(L111,[2]الأسماء!A$3:A$962,[2]الأسماء!C$3:C$962)","v":{"$error":"#N/A"}},null,0,null,null,null,{"$error":"#N/A"}]
[111,null,null,null,null,{"$error":"#N/A"},0,111,111,{"$f":"_xlfn.IFNA(LOOKUP(L112,[3]Rank!$B$9:$B$782,[3]Rank!$E$9:$E$782),\"\")","v":""},{"$f":"LOOKUP(L112,[2]الأسماء!A$3:A$962,[2]الأسماء!C$3:C$962)","v":{"$error":"#N/A"}},null,0,null,null,null,{"$error":"#N/A"}]
[112,null,null,null,null,{"$error":"#N/A"},0,112,112,{"$f":"_xlfn.IFNA(LOOKUP(L113,[3]Rank!$B$9:$B$782,[3]Rank!$E$9:$E$782),\"\")","v":""},{"$f":"LOOKUP(L113,[2]الأسماء!A$3:A$962,[2]الأسماء!C$3:C$962)","v":{"$error":"#N/A"}},null,0,null,null,null,{"$error":"#N/A"}]
[113,null,null,"B5",null,{"$error":"#N/A"},0,113,113,{"$f":"_xlfn.IFNA(LOOKUP(L114,[3]Rank!$B$9:$B$782,[3]Rank!$E$9:$E$782),\"\")","v":""},{"$f":"LOOKUP(L114,[2]الأسماء!A$3:A$962,[2]الأسماء!C$3:C$962)","v":{"$error":"#N/A"}},null,0,null,null,null,{"$error":"#N/A"}]
[114,null,null,null,null,{"$error":"#N/A"},0,114,114,{"$f":"_xlfn.IFNA(LOOKUP(L115,[3]Rank!$B$9:$B$782,[3]Rank!$E$9:$E$782),\"\")","v":""},{"$f":"LOOKUP(L115,[2]الأسماء!A$3:A$962,[2]الأسماء!C$3:C$962)","v":{"$error":"#N/A"}},null,0,null,null,null,{"$error":"#N/A"}]
[115,null,null,null,null,{"$error":"#N/A"},0,115,115,{"$f":"_xlfn.IFNA(LOOKUP(L116,[3]Rank!$B$9:$B$782,[3]Rank!$E$9:$E$782),\"\")","v":""},{"$f":"LOOKUP(L116,[2]الأسماء!A$3:A$962,[2]الأسماء!C$3:C$962)","v":{"$error":"#N/A"}},null,0,null,null,null,{"$error":"#N/A"}]
[116,null,null,null,null,{"$error":"#N/A"},0,116,116,{"$f":"_xlfn.IFNA(LOOKUP(L117,[3]Rank!$B$9:$B$782,[3]Rank!$E$9:$E$782),\"\")","v":""},{"$f":"LOOKUP(L117,[2]الأسماء!A$3:A$962,[2]الأسماء!C$3:C$962)","v":{"$error":"#N/A"}},null,0]
[117,null,null,"B6",null,{"$error":"#N/A"},0,117,117,{"$f":"_xlfn.IFNA(LOOKUP(L118,[3]Rank!$B$9:$B$782,[3]Rank!$E$9:$E$782),\"\")","v":""},{"$f":"LOOKUP(L118,[2]الأسماء!A$3:A$962,[2]الأسماء!C$3:C$962)","v":{"$error":"#N/A"}},null,0]
[118,null,null,null,null,{"$error":"#N/A"},0,118,118,{"$f":"_xlfn.IFNA(LOOKUP(L119,[3]Rank!$B$9:$B$782,[3]Rank!$E$9:$E$782),\"\")","v":""},{"$f":"LOOKUP(L119,[2]الأسماء!A$3:A$962,[2]الأسماء!C$3:C$962)","v":{"$error":"#N/A"}},null,0]
[119,null,null,null,null,{"$error":"#N/A"},0,119,119,{"$f":"_xlfn.IFNA(LOOKUP(L120,[3]Rank!$B$9:$B$782,[3]Rank!$E$9:$E$782),\"\")","v":""},{"$f":"LOOKUP(L120,[2]الأسماء!A$3:A$962,[2]الأسماء!C$3:C$962)","v":{"$error":"#N/A"}},null,0]
[120,null,null,null,null,{"$error":"#N/A"},0,120,120,{"$f":"_xlfn.IFNA(LOOKUP(L121,[3]Rank!$B$9:$B$782,[3]Rank!$E$9:$E$782),\"\")","v":""},{"$f":"LOOKUP(L121,[2]الأسماء!A$3:A$962,[2]الأسماء!C$3:C$962)","v":{"$error":"#N/A"}},null,0]
[121,null,null,31,null,{"$error":"#N/A"},{"$error":"#N/A"},null,121,{"$f":"_xlfn.IFNA(LOOKUP(L122,[3]Rank!$B$9:$B$782,[3]Rank!$E$9:$E$782),\"\")","v":""},{"$f":"LOOKUP(L122,[4]الأسماء!A$3:A$962,[4]الأسماء!C$3:C$962)","v":{"$error":"#N/A"}}]
[122,null,null,null,null,{"$error":"#N/A"},{"$error":"#N/A"},null,122,{"$f":"_xlfn.IFNA(LOOKUP(L123,[3]Rank!$B$9:$B$782,[3]Rank!$E$9:$E$782),\"\")","v":""},{"$f":"LOOKUP(L123,[4]الأسماء!A$3:A$962,[4]الأسماء!C$3:C$962)","v":{"$error":"#N/A"}}]
[123,null,null,null,null,{"$error":"#N/A"},{"$error":"#N/A"},null,123,{"$f":"_xlfn.IFNA(LOOKUP(L124,[3]Rank!$B$9:$B$782,[3]Rank!$E$9:$E$782),\"\")","v":""},{"$f":"LOOKUP(L124,[4]الأسماء!A$3:A$962,[4]الأسماء!C$3:C$962)","v":{"$error":"#N/A"}}]
[124,null,null,null,null,{"$error":"#N/A"},{"$error":"#N/A"},null,124,{"$f":"_xlfn.IFNA(LOOKUP(L125,[3]Rank!$B$9:$B$782,[3]Rank!$E$9:$E$782),\"\")","v":""},{"$f":"LOOKUP(L125,[4]الأسماء!A$3:A$962,[4]الأسماء!C$3:C$962)","v":{"$error":"#N/A"}}]
[125,null,null,32,null,{"$error":"#N/A"},{"$error":"#N/A"},null,125,{"$f":"_xlfn.IFNA(LOOKUP(L126,[3]Rank!$B$9:$B$782,[3]Rank!$E$9:$E$782),\"\")","v":""},{"$f":"LOOKUP(L126,[4]الأسماء!A$3:A$962,[4]الأسماء!C$3:C$962)","v":{"$error":"#N/A"}}]
[126,null,null,null,null,{"$error":"#N/A"},{"$error":"#N/A"},null,126,{"$f":"_xlfn.IFNA(LOOKUP(L127,[3]Rank!$B$9:$B$782,[3]Rank!$E$9:$E$782),\"\")","v":""},{"$f":"LOOKUP(L127,[4]الأسماء!A$3:A$962,[4]الأسماء!C$3:C$962)","v":{"$error":"#N/A"}}]
[127,null,null,null,null,{"$error":"#N/A"},{"$error":"#N/A"},null,127,{"$f":"_xlfn.IFNA(LOOKUP(L128,[3]Rank!$B$9:$B$782,[3]Rank!$E$9:$E$782),\"\")","v":""},{"$f":"LOOKUP(L128,[4]الأسماء!A$3:A$962,[4]الأسماء!C$3:C$962)","v":{"$error":"#N/A"}}]
[128,null,null,null,null,{"$error":"#N/A"},{"$error":"#N/A"},null,128,{"$f":"_xlfn.IFNA(LOOKUP(L129,[3]Rank!$B$9:$B$782,[3]Rank!$E$9:$E$782),\"\")","v":""},{"$f":"LOOKUP(L129,[4]الأسماء!A$3:A$962,[4]الأسماء!C$3:C$962)","v":{"$error":"#N/A"}}]
[129,null,null,33,null,{"$f":"LOOKUP(H130,$I$2:$I$161,$K$2:$K$161)","v":{"$error":"#N/A"}},{"$f":"LOOKUP(H130,$I$2:$I$161,$L$2:$L$161)","v":{"$error":"#N/A"}},null,129,{"$f":"_xlfn.IFNA(LOOKUP(L130,[3]Rank!$B$9:$B$782,[3]Rank!$E$9:$E$782),\"\")","v":""},{"$f":"LOOKUP(L130,[4]الأسماء!A$3:A$962,[4]الأسماء!C$3:C$962)","v":{"$error":"#N/A"}}]
[130,null,null,null,null,{"$error":"#N/A"},{"$error":"#N/A"},null,130,{"$f":"_xlfn.IFNA(LOOKUP(L131,[3]Rank!$B$9:$B$782,[3]Rank!$E$9:$E$782),\"\")","v":""},{"$f":"LOOKUP(L131,[4]الأسماء!A$3:A$962,[4]الأسماء!C$3:C$962)","v":{"$error":"#N/A"}}]
[131,null,null,null,null,{"$error":"#N/A"},{"$error":"#N/A"},null,131,{"$f":"_xlfn.IFNA(LOOKUP(L132,[3]Rank!$B$9:$B$782,[3]Rank!$E$9:$E$782),\"\")","v":""},{"$f":"LOOKUP(L132,[4]الأسماء!A$3:A$962,[4]الأسماء!C$3:C$962)","v":{"$error":"#N/A"}}]
[132,null,null,null,null,{"$error":"#N/A"},{"$error":"#N/A"},null,132,{"$f":"_xlfn.IFNA(LOOKUP(L133,[3]Rank!$B$9:$B$782,[3]Rank!$E$9:$E$782),\"\")","v":""},{"$f":"LOOKUP(L133,[4]الأسماء!A$3:A$962,[4]الأسماء!C$3:C$962)","v":{"$error":"#N/A"}}]
[133,null,null,34,null,{"$error":"#N/A"},{"$error":"#N/A"},null,133,{"$f":"_xlfn.IFNA(LOOKUP(L134,[3]Rank!$B$9:$B$782,[3]Rank!$E$9:$E$782),\"\")","v":""},{"$f":"LOOKUP(L134,[4]الأسماء!A$3:A$962,[4]الأسماء!C$3:C$962)","v":{"$error":"#N/A"}}]
[134,null,null,null,null,{"$error":"#N/A"},{"$error":"#N/A"},null,134,{"$f":"_xlfn.IFNA(LOOKUP(L135,[3]Rank!$B$9:$B$782,[3]Rank!$E$9:$E$782),\"\")","v":""},{"$f":"LOOKUP(L135,[4]الأسماء!A$3:A$962,[4]الأسماء!C$3:C$962)","v":{"$error":"#N/A"}}]
[135,null,null,null,null,{"$error":"#N/A"},{"$error":"#N/A"},null,135,{"$f":"_xlfn.IFNA(LOOKUP(L136,[3]Rank!$B$9:$B$782,[3]Rank!$E$9:$E$782),\"\")","v":""},{"$f":"LOOKUP(L136,[4]الأسماء!A$3:A$962,[4]الأسماء!C$3:C$962)","v":{"$error":"#N/A"}}]
[136,null,null,null,null,{"$error":"#N/A"},{"$error":"#N/A"},null,136,{"$f":"_xlfn.IFNA(LOOKUP(L137,[3]Rank!$B$9:$B$782,[3]Rank!$E$9:$E$782),\"\")","v":""},{"$f":"LOOKUP(L137,[4]الأسماء!A$3:A$962,[4]الأسماء!C$3:C$962)","v":{"$error":"#N/A"}}]
[137,null,null,35,null,{"$error":"#N/A"},{"$error":"#N/A"},null,137,{"$f":"_xlfn.IFNA(LOOKUP(L138,[3]Rank!$B$9:$B$782,[3]Rank!$E$9:$E$782),\"\")","v":""},{"$f":"LOOKUP(L138,[4]الأسماء!A$3:A$962,[4]الأسماء!C$3:C$962)","v":{"$error":"#N/A"}}]
[138,null,null,null,null,{"$error":"#N/A"},{"$error":"#N/A"},null,138,{"$f":"_xlfn.IFNA(LOOKUP(L139,[3]Rank!$B$9:$B$782,[3]Rank!$E$9:$E$782),\"\")","v":""},{"$f":"LOOKUP(L139,[4]الأسماء!A$3:A$962,[4]الأسماء!C$3:C$962)","v":{"$error":"#N/A"}}]
[139,null,null,null,null,{"$error":"#N/A"},{"$error":"#N/A"},null,139,{"$f":"_xlfn.IFNA(LOOKUP(L140,[3]Rank!$B$9:$B$782,[3]Rank!$E$9:$E$782),\"\")","v":""},{"$f":"LOOKUP(L140,[4]الأسماء!A$3:A$962,[4]الأسماء!C$3:C$962)","v":{"$error":"#N/A"}}]
[140,null,null,null,null,{"$error":"#N/A"},{"$error":"#N/A"},null,140,{"$f":"_xlfn.IFNA(LOOKUP(L141,[3]Rank!$B$9:$B$782,[3]Rank!$E$9:$E$782),\"\")","v":""},{"$f":"LOOKUP(L141,[4]الأسماء!A$3:A$962,[4]الأسماء!C$3:C$962)","v":{"$error":"#N/A"}}]
[141,null,null,36,null,{"$error":"#N/A"},{"$error":"#N/A"},null,141,{"$f":"_xlfn.IFNA(LOOKUP(L142,[3]Rank!$B$9:$B$782,[3]Rank!$E$9:$E$782),\"\")","v":""},{"$f":"LOOKUP(L142,[4]الأسماء!A$3:A$962,[4]الأسماء!C$3:C$962)","v":{"$error":"#N/A"}}]
[142,null,null,null,null,{"$error":"#N/A"},{"$error":"#N/A"},null,142,{"$f":"_xlfn.IFNA(LOOKUP(L143,[3]Rank!$B$9:$B$782,[3]Rank!$E$9:$E$782),\"\")","v":""},{"$f":"LOOKUP(L143,[4]الأسماء!A$3:A$962,[4]الأسماء!C$3:C$962)","v":{"$error":"#N/A"}}]
[143,null,null,null,null,{"$error":"#N/A"},{"$error":"#N/A"},null,143,{"$f":"_xlfn.IFNA(LOOKUP(L144,[3]Rank!$B$9:$B$782,[3]Rank!$E$9:$E$782),\"\")","v":""},{"$f":"LOOKUP(L144,[4]الأسماء!A$3:A$962,[4]الأسماء!C$3:C$962)","v":{"$error":"#N/A"}}]
[144,null,null,null,null,{"$error":"#N/A"},{"$error":"#N/A"},null,144,{"$f":"_xlfn.IFNA(LOOKUP(L145,[3]Rank!$B$9:$B$782,[3]Rank!$E$9:$E$782),\"\")","v":""},{"$f":"LOOKUP(L145,[4]الأسماء!A$3:A$962,[4]الأسماء!C$3:C$962)","v":{"$error":"#N/A"}}]
[145,null,null,37,null,{"$error":"#N/A"},{"$error":"#N/A"},null,145,{"$f":"_xlfn.IFNA(LOOKUP(L146,[3]Rank!$B$9:$B$782,[3]Rank!$E$9:$E$782),\"\")","v":""},{"$f":"LOOKUP(L146,[4]الأسماء!A$3:A$962,[4]الأسماء!C$3:C$962)","v":{"$error":"#N/A"}}]
[146,null,null,null,null,{"$error":"#N/A"},{"$error":"#N/A"},null,146,{"$f":"_xlfn.IFNA(LOOKUP(L147,[3]Rank!$B$9:$B$782,[3]Rank!$E$9:$E$782),\"\")","v":""},{"$f":"LOOKUP(L147,[4]الأسماء!A$3:A$962,[4]الأسماء!C$3:C$962)","v":{"$error":"#N/A"}}]
[147,null,null,null,null,{"$error":"#N/A"},{"$error":"#N/A"},null,147,{"$f":"_xlfn.IFNA(LOOKUP(L148,[3]Rank!$B$9:$B$782,[3]Rank!$E$9:$E$782),\"\")","v":""},{"$f":"LOOKUP(L148,[4]الأسماء!A$3:A$962,[4]الأسماء!C$3:C$962)","v":{"$error":"#N/A"}}]
[148,null,null,null,null,{"$error":"#N/A"},{"$error":"#N/A"},null,148,{"$f":"_xlfn.IFNA(LOOKUP(L149,[3]Rank!$B$9:$B$782,[3]Rank!$E$9:$E$782),\"\")","v":""},{"$f":"LOOKUP(L149,[4]الأسماء!A$3:A$962,[4]الأسماء!C$3:C$962)","v":{"$error":"#N/A"}}]
[149,null,null,38,null,{"$error":"#N/A"},{"$error":"#N/A"},null,149,{"$f":"_xlfn.IFNA(LOOKUP(L150,[3]Rank!$B$9:$B$782,[3]Rank!$E$9:$E$782),\"\")","v":""},{"$f":"LOOKUP(L150,[4]الأسماء!A$3:A$962,[4]الأسماء!C$3:C$962)","v":{"$error":"#N/A"}}]
[150,null,null,null,null,{"$error":"#N/A"},{"$error":"#N/A"},null,150,{"$f":"_xlfn.IFNA(LOOKUP(L151,[3]Rank!$B$9:$B$782,[3]Rank!$E$9:$E$782),\"\")","v":""},{"$f":"LOOKUP(L151,[4]الأسماء!A$3:A$962,[4]الأسماء!C$3:C$962)","v":{"$error":"#N/A"}}]
[151,null,null,null,null,{"$error":"#N/A"},{"$error":"#N/A"},null,151,{"$f":"_xlfn.IFNA(LOOKUP(L152,[3]Rank!$B$9:$B$782,[3]Rank!$E$9:$E$782),\"\")","v":""},{"$f":"LOOKUP(L152,[4]الأسماء!A$3:A$962,[4]الأسماء!C$3:C$962)","v":{"$error":"#N/A"}}]
[152,null,null,null,null,{"$error":"#N/A"},{"$error":"#N/A"},null,152,{"$f":"_xlfn.IFNA(LOOKUP(L153,[3]Rank!$B$9:$B$782,[3]Rank!$E$9:$E$782),\"\")","v":""},{"$f":"LOOKUP(L153,[4]الأسماء!A$3:A$962,[4]الأسماء!C$3:C$962)","v":{"$error":"#N/A"}}]
[153,null,null,39,null,{"$error":"#N/A"},{"$error":"#N/A"},null,153,{"$f":"_xlfn.IFNA(LOOKUP(L154,[3]Rank!$B$9:$B$782,[3]Rank!$E$9:$E$782),\"\")","v":""},{"$f":"LOOKUP(L154,[4]الأسماء!A$3:A$962,[4]الأسماء!C$3:C$962)","v":{"$error":"#N/A"}}]
[154,null,null,null,null,{"$error":"#N/A"},{"$error":"#N/A"},null,154,{"$f":"_xlfn.IFNA(LOOKUP(L155,[3]Rank!$B$9:$B$782,[3]Rank!$E$9:$E$782),\"\")","v":""},{"$f":"LOOKUP(L155,[4]الأسماء!A$3:A$962,[4]الأسماء!C$3:C$962)","v":{"$error":"#N/A"}}]
[155,null,null,null,null,{"$error":"#N/A"},{"$error":"#N/A"},null,155,{"$f":"_xlfn.IFNA(LOOKUP(L156,[3]Rank!$B$9:$B$782,[3]Rank!$E$9:$E$782),\"\")","v":""},{"$f":"LOOKUP(L156,[4]الأسماء!A$3:A$962,[4]الأسماء!C$3:C$962)","v":{"$error":"#N/A"}}]
[156,null,null,null,null,{"$error":"#N/A"},{"$error":"#N/A"},null,156,{"$f":"_xlfn.IFNA(LOOKUP(L157,[3]Rank!$B$9:$B$782,[3]Rank!$E$9:$E$782),\"\")","v":""},{"$f":"LOOKUP(L157,[4]الأسماء!A$3:A$962,[4]الأسماء!C$3:C$962)","v":{"$error":"#N/A"}}]
[157,null,null,40,null,{"$error":"#N/A"},{"$error":"#N/A"},null,157,{"$f":"_xlfn.IFNA(LOOKUP(L158,[3]Rank!$B$9:$B$782,[3]Rank!$E$9:$E$782),\"\")","v":""},{"$f":"LOOKUP(L158,[4]الأسماء!A$3:A$962,[4]الأسماء!C$3:C$962)","v":{"$error":"#N/A"}}]
[158,null,null,null,null,{"$error":"#N/A"},{"$error":"#N/A"},null,158,{"$f":"_xlfn.IFNA(LOOKUP(L159,[3]Rank!$B$9:$B$782,[3]Rank!$E$9:$E$782),\"\")","v":""},{"$f":"LOOKUP(L159,[4]الأسماء!A$3:A$962,[4]الأسماء!C$3:C$962)","v":{"$error":"#N/A"}}]
[159,null,null,null,null,{"$error":"#N/A"},{"$error":"#N/A"},null,159,{"$f":"_xlfn.IFNA(LOOKUP(L160,[3]Rank!$B$9:$B$782,[3]Rank!$E$9:$E$782),\"\")","v":""},{"$f":"LOOKUP(L160,[4]الأسماء!A$3:A$962,[4]الأسماء!C$3:C$962)","v":{"$error":"#N/A"}}]
[160,null,null,null,null,{"$error":"#N/A"},{"$error":"#N/A"},null,160,{"$f":"_xlfn.IFNA(LOOKUP(L161,[3]Rank!$B$9:$B$782,[3]Rank!$E$9:$E$782),\"\")","v":""},{"$f":"LOOKUP(L161,[4]الأسماء!A$3:A$962,[4]الأسماء!C$3:C$962)","v":{"$error":"#N/A"}}]
[null,null,{"$f":"COUNTA(B2:B129)","v":80},null,null,null,null,null,null,null,null,{"$f":"COUNTA(L2:L161)","v":91},{"$f":"SUM(M2:M121)","v":3600},{"$f":"SUM(N2:N121)","v":3300},300,{"$f":"SUM(P2:P121)","v":0}]
[null,null,{"$f":"C162/4","v":20},null,null,null,null,null,null,null,null,{"$f":"L162/4","v":22.75},{"$f":"M162/300","v":12},{"$f":"N162/300","v":11},{"$f":"O162/300","v":1},{"$f":"P162/300","v":0}]
[]
[null,null,null,null,null,null,null,null,null,null,null,{"$f":"(L162-M163)*300","v":23700}]
[]
[]
[null,null,null,null,null,null,null,null,null,null,20400,null,600,1]
[null,null,null,null,null,null,null,null,null,null,null,null,900,2]
[null,null,null,null,null,null,null,null,null,null,null,null,1200,3]
[null,null,null,null,null,null,null,null,null,null,null,null,600,4]
[null,null,null,null,null,null,null,null,null,null,null,null,900,5]
[null,null,null,null,null,null,null,null,null,null,null,null,900,6]
[null,null,null,null,null,null,null,null,null,null,null,null,900,7]
[null,null,null,null,null,null,null,null,null,null,null,null,900,8]
[null,null,null,null,null,null,null,null,null,null,null,null,1200,9]
[null,null,null,null,null,null,null,null,null,null,null,null,1200,10]
[null,null,null,null,null,null,null,null,null,null,null,null,1200,11]
[null,null,null,null,null,null,null,null,null,null,null,null,600,12]
[null,null,null,null,null,null,null,null,null,null,null,null,1200,13]
[null,null,null,null,null,null,null,null,null,null,null,null,900,14]
[null,null,null,null,null,null,null,null,null,null,null,null,1200,15]
[null,null,null,null,null,null,null,null,null,null,null,null,1200,16]
[null,null,null,null,null,null,null,null,null,null,null,null,1200,17]
[null,null,null,null,null,null,null,null,null,null,null,null,1200,18]
[null,null,null,null,null,null,null,null,null,null,null,null,1200,19]
[null,null,null,null,null,null,null,null,null,null,null,null,900,20]
[null,null,null,null,null,null,null,null,null,null,null,null,{"$f":"SUM(M168:M187)","v":20100}]

{"sheet":"Score","index":1,"n_rows":164,"n_cols":49,"rows_kept":164,"cut":false,"hidden":false,"merged":[[160,0,163,0],[144,0,147,0],[148,0,151,0],[152,0,155,0],[156,0,159,0],[124,0,127,0],[128,0,131,0],[132,0,135,0],[136,0,139,0],[140,0,143,0],[104,0,107,0],[108,0,111,0],[112,0,115,0],[116,0,119,0],[120,0,123,0],[84,0,87,0],[88,0,91,0],[92,0,95,0],[96,0,99,0],[100,0,103,0],[0,33,0,45],[0,19,0,27],[0,6,0,18],[44,0,47,0],[2,27,3,27],[2,2,3,2],[2,8,3,8],[2,14,3,14],[12,0,15,0],[2,9,3,9],[16,0,19,0],[2,4,2,7],[20,0,23,0],[2,10,2,13],[2,16,2,19],[2,15,3,15],[2,28,3,28],[2,45,3,45],[4,0,7,0],[8,0,11,0],[2,20,3,20],[2,21,3,21],[2,22,2,25],[2,33,2,44],[2,3,3,3],[2,0,3,1],[72,0,75,0],[76,0,79,0],[80,0,83,0],[48,0,51,0],[52,0,55,0],[56,0,59,0],[60,0,63,0],[64,0,67,0],[68,0,71,0],[28,0,31,0],[32,0,35,0],[36,0,39,0],[40,0,43,0],[0,0,0,3],[24,0,27,0]]}
[null,null,null,null,null,null,"ESTIMATION",null,null,null,null,null,null,null,null,null,null,null,null,"بطولة الجمهورية الثانية\nللفردي المفتوح",null,null,null,null,null,null,null,null,"Date :",null,null,null,null,"2024-06-28"]
[]
["Tabel",null,"P.","Names","Round ( 1 )",null,null,null,"P.","Names","Round ( 2 )",null,null,null,"P.","Names","Round ( 3 )",null,null,null,"P.","Names","Round ( 4 )",null,null,null,null,"P. No.","Names",null,null,null,null,"FINAL",null,null,null,null,null,null,null,null,null,null,null,"R."]
[null,null,null,null,"Score","Tab","Axe","TOT",null,null,"Score","Tab","Axe","TOT",null,null,"Score","Tab","Axe","TOT",null,null,"Score","Tab","Axe","TOT",null,null,null,1,2,3,4,"Score",1,2,3,4,"Tab",1,2,3,4,"Axe","TOT"]
["Tabel ( 1 )","N",1,{"$f":"LOOKUP(C5,Names!$A$2:$A$161,Names!$B$2:$B$161)","v":"راجي صبحي  "},95,0,10,{"$f":"F5+G5","v":10},1,{"$f":"LOOKUP(I5,Names!$A$2:$A$161,Names!$B$2:$B$161)","v":"راجي صبحي  "},47,0,1,{"$f":"L5+M5","v":1},1,{"$f":"LOOKUP(O5,Names!$A$2:$A$161,Names!$B$2:$B$161)","v":"راجي صبحي  "},76,0,6,{"$f":"R5+S5","v":6},1,{"$f":"LOOKUP(U5,Names!$A$2:$A$161,Names!$B$2:$B$161)","v":"راجي صبحي  "},89,0,10,{"$f":"X5+Y5","v":10},null,30,{"$f":"LOOKUP(AB5,Names!$A$2:$A$161,Names!$B$2:$B$161)","v":"شريف جلال سماحة "},{"$f":"IF(ISNA(VLOOKUP(AB5,$C$5:$H$164,3,FALSE))=TRUE,\"\",VLOOKUP(AB5,$C$5:$H$164,3,FALSE))","v":180},{"$f":"IF(ISNA(VLOOKUP(AB5,$I$5:$N$164,3,FALSE))=TRUE,\"\",VLOOKUP(AB5,$I$5:$N$164,3,FALSE))","v":216},{"$f":"IF(ISNA(VLOOKUP(AB5,$O$5:$T$164,3,FALSE))=TRUE,\"\",VLOOKUP(AB5,$O$5:$T$164,3,FALSE))","v":137},{"$f":"IF(ISNA(VLOOKUP(AB5,$U$5:$Z$164,3,FALSE))=TRUE,\"\",VLOOKUP(AB5,$U$5:$Z$164,3,FALSE))","v":127},{"$f":"SUM(AD5:AG5)","v":660},{"$f":"IF(ISNA(VLOOKUP(AB5,$C$5:$H$164,4,FALSE))=TRUE,\"\",VLOOKUP(AB5,$C$5:$H$164,4,FALSE))","v":0},{"$f":"IF(ISNA(VLOOKUP(AB5,$I$5:$N$164,4,FALSE))=TRUE,\"\",VLOOKUP(AB5,$I$5:$N$164,4,FALSE))","v":0},{"$f":"IF(ISNA(VLOOKUP(AB5,$O$5:$T$164,4,FALSE))=TRUE,\"\",VLOOKUP(AB5,$O$5:$T$164,4,FALSE))","v":0},{"$f":"IF(ISNA(VLOOKUP(AB5,$U$5:$Z$164,4,FALSE))=TRUE,\"\",VLOOKUP(AB5,$U$5:$Z$164,4,FALSE))","v":0},{"$f":"SUM(AI5:AL5)","v":0},{"$f":"IF(ISNA(VLOOKUP(AB5,$C$5:$H$164,5,FALSE))=TRUE,\"\",VLOOKUP(AB5,$C$5:$H$164,5,FALSE))","v":19},{"$f":"IF(ISNA(VLOOKUP(AB5,$I$5:$N$164,5,FALSE))=TRUE,\"\",VLOOKUP(AB5,$I$5:$N$164,5,FALSE))","v":21},{"$f":"IF(ISNA(VLOOKUP(AB5,$O$5:$T$164,5,FALSE))=TRUE,\"\",VLOOKUP(AB5,$O$5:$T$164,5,FALSE))","v":17},{"$f":"IF(ISNA(VLOOKUP(AB5,$U$5:$Z$164,5,FALSE))=TRUE,\"\",VLOOKUP(AB5,$U$5:$Z$164,5,FALSE))","v":16},{"$f":"SUM(AN5:AQ5)","v":73},{"$f":"AM5+AR5","v":73},1,null,1,{"$f":"AV5","v":1}]
[null,"W",2,{"$f":"LOOKUP(C6,Names!$A$2:$A$161,Names!$B$2:$B$161)","v":"شريف أحمد محمد حمروش"},65,0,7,7,21,{"$f":"LOOKUP(I6,Names!$A$2:$A$161,Names!$B$2:$B$161)","v":"أحمد محمد حمدي صالح "},112,0,7,7,78,{"$f":"LOOKUP(O6,Names!$A$2:$A$161,Names!$B$2:$B$161)","v":"حسام الخلفاوي"},8,0,1,1,70,{"$f":"LOOKUP(U6,Names!$A$2:$A$161,Names!$B$2:$B$161)","v":"أحمد صلاح الدين دياب "},67,0,4,4,null,59,{"$f":"LOOKUP(AB6,Names!$A$2:$A$161,Names!$B$2:$B$161)","v":"هشام أبوغربية "},195,162,104,163,624,0,0,0,0,0,19,19,12.5,19,69.5,69.5,2,null,70,{"$f":"AV6","v":70}]
[null,"S",3,{"$f":"LOOKUP(C7,Names!$A$2:$A$161,Names!$B$2:$B$161)","v":"إيهاب يوسف عمارة "},133,0,12,12,41,{"$f":"LOOKUP(I7,Names!$A$2:$A$161,Names!$B$2:$B$161)","v":"خالد مصطفى عزت "},97,0,13,13,11,{"$f":"LOOKUP(O7,Names!$A$2:$A$161,Names!$B$2:$B$161)","v":"معتز محمد مدبولي "},147,0,17.5,17.5,59,{"$f":"LOOKUP(U7,Names!$A$2:$A$161,Names!$B$2:$B$161)","v":"هشام أبوغربية "},163,0,19,19,null,73,{"$f":"LOOKUP(AB7,Names!$A$2:$A$161,Names!$B$2:$B$161)","v":"مينا ناجح صبحي  "},180,98,125,107,510,0,0,0,0,0,19,13,21,16,69,69,3,null,59,{"$f":"AV7","v":59}]
[null,"E",4,{"$f":"LOOKUP(C8,Names!$A$2:$A$161,Names!$B$2:$B$161)","v":"محمد سعيد الفطاطري"},103,0,14,14,61,{"$f":"LOOKUP(I8,Names!$A$2:$A$161,Names!$B$2:$B$161)","v":"كريم إيهاب عامر  "},116,0,17,17,8,{"$f":"LOOKUP(O8,Names!$A$2:$A$161,Names!$B$2:$B$161)","v":"إيهاب  محمد الزهيري "},160,0,21,21,48,{"$f":"LOOKUP(U8,Names!$A$2:$A$161,Names!$B$2:$B$161)","v":"محمد ناجي زاهر بلبع "},81,0,13,13,null,48,{"$f":"LOOKUP(AB8,Names!$A$2:$A$161,Names!$B$2:$B$161)","v":"محمد ناجي زاهر بلبع "},182,119,146,81,528,0,0,0,0,0,21,15.5,16,13,65.5,65.5,4,null,48,{"$f":"AV8","v":48}]
["Tabel ( 2 )","N",5,{"$f":"LOOKUP(C9,Names!$A$2:$A$161,Names!$B$2:$B$161)","v":"محمد عصام الدين القاضي "},136,0,17,17,2,{"$f":"LOOKUP(I9,Names!$A$2:$A$161,Names!$B$2:$B$161)","v":"شريف أحمد محمد حمروش"},51,0,2,2,2,{"$f":"LOOKUP(O9,Names!$A$2:$A$161,Names!$B$2:$B$161)","v":"شريف أحمد محمد حمروش"},113,0,12,12,74,{"$f":"LOOKUP(U9,Names!$A$2:$A$161,Names!$B$2:$B$161)","v":"فريدة شكري"},85,0,9,9,null,58,{"$f":"LOOKUP(AB9,Names!$A$2:$A$161,Names!$B$2:$B$161)","v":"أحمد إبراهيم غانم "},165,94,106,135,500,0,0,0,0,0,16,12,17.5,19,64.5,64.5,5,null,5,{"$f":"AV10","v":74}]
[null,"W",6,{"$f":"LOOKUP(C10,Names!$A$2:$A$161,Names!$B$2:$B$161)","v":"إبراهيم عرفان السقا  "},126,0,14,14,22,{"$f":"LOOKUP(I10,Names!$A$2:$A$161,Names!$B$2:$B$161)","v":"طه إبراهيم طه  "},151,0,16.5,16.5,25,{"$f":"LOOKUP(O10,Names!$A$2:$A$161,Names!$B$2:$B$161)","v":"خالد شباره "},35,0,6,6,63,{"$f":"LOOKUP(U10,Names!$A$2:$A$161,Names!$B$2:$B$161)","v":"محمد أحمد محمد عبد الله "},149,0,17,17,null,15,{"$f":"LOOKUP(AB10,Names!$A$2:$A$161,Names!$B$2:$B$161)","v":"أحمد رمزي الديب "},190,172,90,178,630,0,0,0,0,0,17,19,8,19,63,63,6,null,74,{"$f":"AV11","v":63}]
[null,"S",7,{"$f":"LOOKUP(C11,Names!$A$2:$A$161,Names!$B$2:$B$161)","v":"باسم أسحق صموائيل"},87,0,6,6,42,{"$f":"LOOKUP(I11,Names!$A$2:$A$161,Names!$B$2:$B$161)","v":"محمد عبد الهادي أبو القاسم "},119,0,15.5,15.5,12,{"$f":"LOOKUP(O11,Names!$A$2:$A$161,Names!$B$2:$B$161)","v":"أمير كمال جميل"},147,0,17.5,17.5,52,{"$f":"LOOKUP(U11,Names!$A$2:$A$161,Names!$B$2:$B$161)","v":"يامن محمد حسن  "},17,0,4,4,null,69,{"$f":"LOOKUP(AB11,Names!$A$2:$A$161,Names!$B$2:$B$161)","v":"أحمد علي السيد شرع"},92,136,152,140,520,0,0,0,0,0,8.5,18,16,18,60.5,60.5,7,null,63,{"$f":"AV12","v":52}]
[null,"E",8,{"$f":"LOOKUP(C12,Names!$A$2:$A$161,Names!$B$2:$B$161)","v":"إيهاب  محمد الزهيري "},78,0,9,9,62,{"$f":"LOOKUP(I12,Names!$A$2:$A$161,Names!$B$2:$B$161)","v":"محمد محمود مسعود  "},78,0,10,10,15,{"$f":"LOOKUP(O12,Names!$A$2:$A$161,Names!$B$2:$B$161)","v":"أحمد رمزي الديب "},90,0,8,8,5,{"$f":"LOOKUP(U12,Names!$A$2:$A$161,Names!$B$2:$B$161)","v":"محمد عصام الدين القاضي "},53,0,9,9,null,14,{"$f":"LOOKUP(AB12,Names!$A$2:$A$161,Names!$B$2:$B$161)","v":"عماد محمد فؤاد"},56,119,201,172,548,0,0,0,0,0,5.5,14,19,21,59.5,59.5,8,null,52,{"$f":"AV9","v":5}]
["Tabel ( 3 )","N",9,{"$f":"LOOKUP(C13,Names!$A$2:$A$161,Names!$B$2:$B$161)","v":"رأفت الصياد"},36,0,2,2,3,{"$f":"LOOKUP(I13,Names!$A$2:$A$161,Names!$B$2:$B$161)","v":"إيهاب يوسف عمارة "},108,0,11,11,19,{"$f":"LOOKUP(O13,Names!$A$2:$A$161,Names!$B$2:$B$161)","v":"إبراهيم عنتر  "},94,0,9,9,67,{"$f":"LOOKUP(U13,Names!$A$2:$A$161,Names!$B$2:$B$161)","v":"محمد محمود فضل "},119,0,16,16,null,21,{"$f":"LOOKUP(AB13,Names!$A$2:$A$161,Names!$B$2:$B$161)","v":"أحمد محمد حمدي صالح "},196,112,77,160,545,0,0,0,0,0,21,7,12,19,59,59,9,null,9,{"$f":"AV15","v":67}]
[null,"W",10,{"$f":"LOOKUP(C14,Names!$A$2:$A$161,Names!$B$2:$B$161)","v":"نبيل خلف زكي حسنين "},165,0,16,16,23,{"$f":"LOOKUP(I14,Names!$A$2:$A$161,Names!$B$2:$B$161)","v":"مصطفى يوسف محمد"},69,0,4,4,16,{"$f":"LOOKUP(O14,Names!$A$2:$A$161,Names!$B$2:$B$161)","v":"عبد الرحمن سعد موسى"},90,0,13.5,13.5,56,{"$f":"LOOKUP(U14,Names!$A$2:$A$161,Names!$B$2:$B$161)","v":"جاسر محمد"},120,0,14.5,14.5,null,42,{"$f":"LOOKUP(AB14,Names!$A$2:$A$161,Names!$B$2:$B$161)","v":"محمد عبد الهادي أبو القاسم "},55,119,153,177,504,0,0,0,0,0,4,15.5,18,21,58.5,58.5,10,null,78,{"$f":"AV16","v":56}]
[null,"S",11,{"$f":"LOOKUP(C15,Names!$A$2:$A$161,Names!$B$2:$B$161)","v":"معتز محمد مدبولي "},17,0,3,3,43,{"$f":"LOOKUP(I15,Names!$A$2:$A$161,Names!$B$2:$B$161)","v":"أمير محمد خطاب  "},49,0,6,6,29,{"$f":"LOOKUP(O15,Names!$A$2:$A$161,Names!$B$2:$B$161)","v":"عبد الرحمن عثمان"},39,0,1,1,9,{"$f":"LOOKUP(U15,Names!$A$2:$A$161,Names!$B$2:$B$161)","v":"رأفت الصياد"},184,0,21,21,null,49,{"$f":"LOOKUP(AB15,Names!$A$2:$A$161,Names!$B$2:$B$161)","v":"هيثم العشماوي "},126,78,106,126,436,0,0,0,0,0,14,10,17.5,17,58.5,58.5,11,null,67,{"$f":"AV13","v":9}]
[null,"E",12,{"$f":"LOOKUP(C16,Names!$A$2:$A$161,Names!$B$2:$B$161)","v":"أمير كمال جميل"},98,0,12,12,63,{"$f":"LOOKUP(I16,Names!$A$2:$A$161,Names!$B$2:$B$161)","v":"محمد أحمد محمد عبد الله "},102,0,14,14,6,{"$f":"LOOKUP(O16,Names!$A$2:$A$161,Names!$B$2:$B$161)","v":"إبراهيم عرفان السقا  "},96,0,10,10,78,{"$f":"LOOKUP(U16,Names!$A$2:$A$161,Names!$B$2:$B$161)","v":"حسام الخلفاوي"},20,0,5,5,null,51,{"$f":"LOOKUP(AB16,Names!$A$2:$A$161,Names!$B$2:$B$161)","v":"أحمد أحمد مرسي عبد الله "},111,121,112,132,476,0,0,0,0,0,9,17,13,18,57,57,12,null,56,{"$f":"AV14","v":78}]
["Tabel ( 4 )","N",13,{"$f":"LOOKUP(C17,Names!$A$2:$A$161,Names!$B$2:$B$161)","v":"أحمد جميل السيد "},83,0,6,6,4,{"$f":"LOOKUP(I17,Names!$A$2:$A$161,Names!$B$2:$B$161)","v":"محمد سعيد الفطاطري"},190,0,21,21,33,{"$f":"LOOKUP(O17,Names!$A$2:$A$161,Names!$B$2:$B$161)","v":"أحمد بسيوني"},129,0,13,13,60,{"$f":"LOOKUP(U17,Names!$A$2:$A$161,Names!$B$2:$B$161)","v":"عصام الدين حامد منصور "},90,0,11,11,null,66,{"$f":"LOOKUP(AB17,Names!$A$2:$A$161,Names!$B$2:$B$161)","v":"أحمد فؤاد حسنين "},174,140,98,63,475,0,0,0,0,0,18,20,11,8,57,57,13,null,13,{"$f":"AV20","v":60}]
[null,"W",14,{"$f":"LOOKUP(C18,Names!$A$2:$A$161,Names!$B$2:$B$161)","v":"عماد محمد فؤاد"},56,0,5.5,5.5,24,{"$f":"LOOKUP(I18,Names!$A$2:$A$161,Names!$B$2:$B$161)","v":"هيثم محمد شبانة"},134,0,13,13,10,{"$f":"LOOKUP(O18,Names!$A$2:$A$161,Names!$B$2:$B$161)","v":"نبيل خلف زكي حسنين "},12,0,3,3,13,{"$f":"LOOKUP(U18,Names!$A$2:$A$161,Names!$B$2:$B$161)","v":"أحمد جميل السيد "},120,0,14.5,14.5,null,56,{"$f":"LOOKUP(AB18,Names!$A$2:$A$161,Names!$B$2:$B$161)","v":"جاسر محمد"},70,135,122,120,447,0,0,0,0,0,7,18,15,14.5,54.5,54.5,14,null,2,{"$f":"AV17","v":13}]
[null,"S",15,{"$f":"LOOKUP(C19,Names!$A$2:$A$161,Names!$B$2:$B$161)","v":"أحمد رمزي الديب "},190,0,17,17,44,{"$f":"LOOKUP(I19,Names!$A$2:$A$161,Names!$B$2:$B$161)","v":"جمال السيد توفيق محمد "},22,0,5,5,23,{"$f":"LOOKUP(O19,Names!$A$2:$A$161,Names!$B$2:$B$161)","v":"مصطفى يوسف محمد"},136,0,15,15,2,{"$f":"LOOKUP(U19,Names!$A$2:$A$161,Names!$B$2:$B$161)","v":"شريف أحمد محمد حمروش"},61,0,7,7,null,8,{"$f":"LOOKUP(AB19,Names!$A$2:$A$161,Names!$B$2:$B$161)","v":"إيهاب  محمد الزهيري "},78,93,160,141,472,0,0,0,0,0,9,8,21,16,54,54,15,null,71,{"$f":"AV18","v":2}]
[null,"E",16,{"$f":"LOOKUP(C20,Names!$A$2:$A$161,Names!$B$2:$B$161)","v":"عبد الرحمن سعد موسى"},46,0,5,5,64,{"$f":"LOOKUP(I20,Names!$A$2:$A$161,Names!$B$2:$B$161)","v":"وليد شعبان إسماعيل علي "},-8,0,-5,-5,20,{"$f":"LOOKUP(O20,Names!$A$2:$A$161,Names!$B$2:$B$161)","v":"إسلام قاسم"},64,0,4,4,71,{"$f":"LOOKUP(U20,Names!$A$2:$A$161,Names!$B$2:$B$161)","v":"معتز محمد"},98,0,14,14,null,41,{"$f":"LOOKUP(AB20,Names!$A$2:$A$161,Names!$B$2:$B$161)","v":"خالد مصطفى عزت "},133,97,93,149,472,0,0,0,0,0,16,13,7,18,54,54,16,null,60,{"$f":"AV19","v":71}]
["Tabel ( 5 )","N",17,{"$f":"LOOKUP(C21,Names!$A$2:$A$161,Names!$B$2:$B$161)","v":"أحمد علي خليل حسن "},38,0,3,3,5,{"$f":"LOOKUP(I21,Names!$A$2:$A$161,Names!$B$2:$B$161)","v":"محمد عصام الدين القاضي "},118,0,13,13,14,{"$f":"LOOKUP(O21,Names!$A$2:$A$161,Names!$B$2:$B$161)","v":"عماد محمد فؤاد"},201,0,19,19,17,{"$f":"LOOKUP(U21,Names!$A$2:$A$161,Names!$B$2:$B$161)","v":"أحمد علي خليل حسن "},114,0,15,15,null,20,{"$f":"LOOKUP(AB21,Names!$A$2:$A$161,Names!$B$2:$B$161)","v":"إسلام قاسم"},106,146,64,144,460,0,0,0,0,0,15,17,4,17,53,53,17,null,17,{"$f":"AV21","v":17}]
[null,"W",18,{"$f":"LOOKUP(C22,Names!$A$2:$A$161,Names!$B$2:$B$161)","v":"أحمد ممدوح عبد الدايم"},-19,0,-6,-6,25,{"$f":"LOOKUP(I22,Names!$A$2:$A$161,Names!$B$2:$B$161)","v":"خالد شباره "},160,0,18.5,18.5,37,{"$f":"LOOKUP(O22,Names!$A$2:$A$161,Names!$B$2:$B$161)","v":"حمدي محمود عبد العزيز"},68,0,11,11,6,{"$f":"LOOKUP(U22,Names!$A$2:$A$161,Names!$B$2:$B$161)","v":"إبراهيم عرفان السقا  "},62,0,3,3,null,68,{"$f":"LOOKUP(AB22,Names!$A$2:$A$161,Names!$B$2:$B$161)","v":"مصطفى إسماعيل"},84,113,159,67,423,0,0,0,0,0,10,15,19,9,53,53,18,null,6,{"$f":"AV22","v":6}]
[null,"S",19,{"$f":"LOOKUP(C23,Names!$A$2:$A$161,Names!$B$2:$B$161)","v":"إبراهيم عنتر  "},167,0,16,16,45,{"$f":"LOOKUP(I23,Names!$A$2:$A$161,Names!$B$2:$B$161)","v":"رضا هنري"},-12,0,-5,-5,24,{"$f":"LOOKUP(O23,Names!$A$2:$A$161,Names!$B$2:$B$161)","v":"هيثم محمد شبانة"},92,0,6,6,75,{"$f":"LOOKUP(U23,Names!$A$2:$A$161,Names!$B$2:$B$161)","v":"محمود سليمان"},76,0,11,11,null,67,{"$f":"LOOKUP(AB23,Names!$A$2:$A$161,Names!$B$2:$B$161)","v":"محمد محمود فضل "},118,73,148,119,458,0,0,0,0,0,11,9,15,16,51,51,19,null,75,{"$f":"AV23","v":75}]
[null,"E",20,{"$f":"LOOKUP(C24,Names!$A$2:$A$161,Names!$B$2:$B$161)","v":"إسلام قاسم"},106,0,15,15,65,{"$f":"LOOKUP(I24,Names!$A$2:$A$161,Names!$B$2:$B$161)","v":"أحمد طارق   "},83,0,11,11,27,{"$f":"LOOKUP(O24,Names!$A$2:$A$161,Names!$B$2:$B$161)","v":"سمير الحوفي"},92,0,9,9,64,{"$f":"LOOKUP(U24,Names!$A$2:$A$161,Names!$B$2:$B$161)","v":"وليد شعبان إسماعيل علي "},15,0,3,3,null,39,{"$f":"LOOKUP(AB24,Names!$A$2:$A$161,Names!$B$2:$B$161)","v":"إسلام أحمد السيد عمر"},115,136,124,60,435,0,0,0,0,0,10,15,16,10,51,51,20,null,64,{"$f":"AV24","v":64}]
["Tabel ( 6 )","N",21,{"$f":"LOOKUP(C25,Names!$A$2:$A$161,Names!$B$2:$B$161)","v":"أحمد محمد حمدي صالح "},196,0,21,21,6,{"$f":"LOOKUP(I25,Names!$A$2:$A$161,Names!$B$2:$B$161)","v":"إبراهيم عرفان السقا  "},142,0,15.5,15.5,31,{"$f":"LOOKUP(O25,Names!$A$2:$A$161,Names!$B$2:$B$161)","v":"ماجد  محمد  فكري "},57,0,3,3,10,{"$f":"LOOKUP(U25,Names!$A$2:$A$161,Names!$B$2:$B$161)","v":"نبيل خلف زكي حسنين "},99,0,12,12,null,72,{"$f":"LOOKUP(AB25,Names!$A$2:$A$161,Names!$B$2:$B$161)","v":"أحمد سمير خلف "},140,140,64,98,442,0,0,0,0,0,17,20,5,8,50,50,21,null,21,{"$f":"AV26","v":10}]
[null,"W",22,{"$f":"LOOKUP(C26,Names!$A$2:$A$161,Names!$B$2:$B$161)","v":"طه إبراهيم طه  "},56,0,5.5,5.5,26,{"$f":"LOOKUP(I26,Names!$A$2:$A$161,Names!$B$2:$B$161)","v":"أحمد الطنطاوي "},126,0,9,9,28,{"$f":"LOOKUP(O26,Names!$A$2:$A$161,Names!$B$2:$B$161)","v":"عمرو محسن فرج "},110,0,19,19,79,{"$f":"LOOKUP(U26,Names!$A$2:$A$161,Names!$B$2:$B$161)","v":"محمد علي حسن طه الأمام"},101,0,11,11,null,7,{"$f":"LOOKUP(AB26,Names!$A$2:$A$161,Names!$B$2:$B$161)","v":"باسم أسحق صموائيل"},87,112,121,129,449,0,0,0,0,0,6,12,14,17,49,49,22,null,10,{"$f":"AV27","v":79}]
[null,"S",23,{"$f":"LOOKUP(C27,Names!$A$2:$A$161,Names!$B$2:$B$161)","v":"مصطفى يوسف محمد"},107,0,8,8,46,{"$f":"LOOKUP(I27,Names!$A$2:$A$161,Names!$B$2:$B$161)","v":"علاء شوقي جبريل  "},-30,0,-6,-6,41,{"$f":"LOOKUP(O27,Names!$A$2:$A$161,Names!$B$2:$B$161)","v":"خالد مصطفى عزت "},93,0,7,7,68,{"$f":"LOOKUP(U27,Names!$A$2:$A$161,Names!$B$2:$B$161)","v":"مصطفى إسماعيل"},67,0,9,9,null,10,{"$f":"LOOKUP(AB27,Names!$A$2:$A$161,Names!$B$2:$B$161)","v":"نبيل خلف زكي حسنين "},165,164,12,99,440,0,0,0,0,0,16,18,3,12,49,49,23,null,79,{"$f":"AV28","v":68}]
[null,"E",24,{"$f":"LOOKUP(C28,Names!$A$2:$A$161,Names!$B$2:$B$161)","v":"هيثم محمد شبانة"},-37,0,-6,-6,66,{"$f":"LOOKUP(I28,Names!$A$2:$A$161,Names!$B$2:$B$161)","v":"أحمد فؤاد حسنين "},140,0,20,20,18,{"$f":"LOOKUP(O28,Names!$A$2:$A$161,Names!$B$2:$B$161)","v":"أحمد ممدوح عبد الدايم"},78,0,7,7,21,{"$f":"LOOKUP(U28,Names!$A$2:$A$161,Names!$B$2:$B$161)","v":"أحمد محمد حمدي صالح "},160,0,19,19,null,25,{"$f":"LOOKUP(AB28,Names!$A$2:$A$161,Names!$B$2:$B$161)","v":"خالد شباره "},149,160,35,59,403,0,0,0,0,0,18,18.5,6,6,48.5,48.5,24,null,68,{"$f":"AV25","v":21}]
["Tabel ( 7 )","N",25,{"$f":"LOOKUP(C29,Names!$A$2:$A$161,Names!$B$2:$B$161)","v":"خالد شباره "},149,0,18,18,7,{"$f":"LOOKUP(I29,Names!$A$2:$A$161,Names!$B$2:$B$161)","v":"باسم أسحق صموائيل"},112,0,12,12,45,{"$f":"LOOKUP(O29,Names!$A$2:$A$161,Names!$B$2:$B$161)","v":"رضا هنري"},168,0,18,18,3,{"$f":"LOOKUP(U29,Names!$A$2:$A$161,Names!$B$2:$B$161)","v":"إيهاب يوسف عمارة "},65,0,5,5,null,43,{"$f":"LOOKUP(AB29,Names!$A$2:$A$161,Names!$B$2:$B$161)","v":"أمير محمد خطاب  "},203,49,110,68,430,0,0,0,0,0,21,6,11,10,48,48,25,null,25,{"$f":"AV31","v":3}]
[null,"W",26,{"$f":"LOOKUP(C30,Names!$A$2:$A$161,Names!$B$2:$B$161)","v":"أحمد الطنطاوي "},85,0,9,9,27,{"$f":"LOOKUP(I30,Names!$A$2:$A$161,Names!$B$2:$B$161)","v":"سمير الحوفي"},70,0,5,5,22,{"$f":"LOOKUP(O30,Names!$A$2:$A$161,Names!$B$2:$B$161)","v":"طه إبراهيم طه  "},56,0,8,8,72,{"$f":"LOOKUP(U30,Names!$A$2:$A$161,Names!$B$2:$B$161)","v":"أحمد سمير خلف "},98,0,8,8,null,77,{"$f":"LOOKUP(AB30,Names!$A$2:$A$161,Names!$B$2:$B$161)","v":"محمد محمود شعبان "},92,96,119,119,426,0,0,0,0,0,8.5,12,14,13,47.5,47.5,26,null,14,{"$f":"AV32","v":72}]
[null,"S",27,{"$f":"LOOKUP(C31,Names!$A$2:$A$161,Names!$B$2:$B$161)","v":"سمير الحوفي"},-4,0,-5,-5,47,{"$f":"LOOKUP(I31,Names!$A$2:$A$161,Names!$B$2:$B$161)","v":"هاني فكري المراكبي"},177,0,21,21,35,{"$f":"LOOKUP(O31,Names!$A$2:$A$161,Names!$B$2:$B$161)","v":"عمرو عماد الدين أبوالعلا  "},98,0,10,10,25,{"$f":"LOOKUP(U31,Names!$A$2:$A$161,Names!$B$2:$B$161)","v":"خالد شباره "},59,0,6,6,null,12,{"$f":"LOOKUP(AB31,Names!$A$2:$A$161,Names!$B$2:$B$161)","v":"أمير كمال جميل"},98,67,147,106,418,0,0,0,0,0,12,5,17.5,13,47.5,47.5,27,null,3,{"$f":"AV29","v":25}]
[null,"E",28,{"$f":"LOOKUP(C32,Names!$A$2:$A$161,Names!$B$2:$B$161)","v":"عمرو محسن فرج "},121,0,16,16,67,{"$f":"LOOKUP(I32,Names!$A$2:$A$161,Names!$B$2:$B$161)","v":"محمد محمود فضل "},73,0,9,9,32,{"$f":"LOOKUP(O32,Names!$A$2:$A$161,Names!$B$2:$B$161)","v":"حمزة أحمد محمد"},40,0,3,3,14,{"$f":"LOOKUP(U32,Names!$A$2:$A$161,Names!$B$2:$B$161)","v":"عماد محمد فؤاد"},172,0,21,21,null,3,{"$f":"LOOKUP(AB32,Names!$A$2:$A$161,Names!$B$2:$B$161)","v":"إيهاب يوسف عمارة "},133,108,165,65,471,0,0,0,0,0,12,11,19,5,47,47,28,null,72,{"$f":"AV30","v":14}]
["Tabel ( 8 )","N",29,{"$f":"LOOKUP(C33,Names!$A$2:$A$161,Names!$B$2:$B$161)","v":"عبد الرحمن عثمان"},103,0,12,12,8,{"$f":"LOOKUP(I33,Names!$A$2:$A$161,Names!$B$2:$B$161)","v":"إيهاب  محمد الزهيري "},93,0,8,8,26,{"$f":"LOOKUP(O33,Names!$A$2:$A$161,Names!$B$2:$B$161)","v":"أحمد الطنطاوي "},98,0,10,10,76,{"$f":"LOOKUP(U33,Names!$A$2:$A$161,Names!$B$2:$B$161)","v":"محمد إبراهيم قطب "},55,0,4,4,null,31,{"$f":"LOOKUP(AB33,Names!$A$2:$A$161,Names!$B$2:$B$161)","v":"ماجد  محمد  فكري "},166,151,57,116,490,0,0,0,0,0,15,16.5,3,12,46.5,46.5,29,null,29,{"$f":"AV36","v":76}]
[null,"W",30,{"$f":"LOOKUP(C34,Names!$A$2:$A$161,Names!$B$2:$B$161)","v":"شريف جلال سماحة "},180,0,19,19,28,{"$f":"LOOKUP(I34,Names!$A$2:$A$161,Names!$B$2:$B$161)","v":"عمرو محسن فرج "},55,0,2,2,49,{"$f":"LOOKUP(O34,Names!$A$2:$A$161,Names!$B$2:$B$161)","v":"هيثم العشماوي "},106,0,17.5,17.5,29,{"$f":"LOOKUP(U34,Names!$A$2:$A$161,Names!$B$2:$B$161)","v":"عبد الرحمن عثمان"},73,0,5,5,null,52,{"$f":"LOOKUP(AB34,Names!$A$2:$A$161,Names!$B$2:$B$161)","v":"يامن محمد حسن  "},142,61,99,17,319,0,0,0,0,0,18,8,16,4,46,46,30,null,18,{"$f":"AV33","v":29}]
[null,"S",31,{"$f":"LOOKUP(C35,Names!$A$2:$A$161,Names!$B$2:$B$161)","v":"ماجد  محمد  فكري "},166,0,15,15,48,{"$f":"LOOKUP(I35,Names!$A$2:$A$161,Names!$B$2:$B$161)","v":"محمد ناجي زاهر بلبع "},119,0,15.5,15.5,36,{"$f":"LOOKUP(O35,Names!$A$2:$A$161,Names!$B$2:$B$161)","v":"أحمد عبد الفتاح عرفه "},42,0,2,2,18,{"$f":"LOOKUP(U35,Names!$A$2:$A$161,Names!$B$2:$B$161)","v":"أحمد ممدوح عبد الدايم"},-22,0,-6,-6,null,13,{"$f":"LOOKUP(AB35,Names!$A$2:$A$161,Names!$B$2:$B$161)","v":"أحمد جميل السيد "},83,142,96,120,441,0,0,0,0,0,6,15.5,9,14.5,45,45,31,null,7,{"$f":"AV34","v":18}]
[null,"E",32,{"$f":"LOOKUP(C36,Names!$A$2:$A$161,Names!$B$2:$B$161)","v":"حمزة أحمد محمد"},12,0,4,4,68,{"$f":"LOOKUP(I36,Names!$A$2:$A$161,Names!$B$2:$B$161)","v":"مصطفى إسماعيل"},113,0,15,15,39,{"$f":"LOOKUP(O36,Names!$A$2:$A$161,Names!$B$2:$B$161)","v":"إسلام أحمد السيد عمر"},124,0,16,16,7,{"$f":"LOOKUP(U36,Names!$A$2:$A$161,Names!$B$2:$B$161)","v":"باسم أسحق صموائيل"},129,0,17,17,null,33,{"$f":"LOOKUP(AB36,Names!$A$2:$A$161,Names!$B$2:$B$161)","v":"أحمد بسيوني"},131,63,129,112,435,0,0,0,0,0,15,3,13,14,45,45,32,null,76,{"$f":"AV35","v":7}]
["Tabel ( 9 )","N",33,{"$f":"LOOKUP(C37,Names!$A$2:$A$161,Names!$B$2:$B$161)","v":"أحمد بسيوني"},131,0,15,15,9,{"$f":"LOOKUP(I37,Names!$A$2:$A$161,Names!$B$2:$B$161)","v":"رأفت الصياد"},83,0,7,7,43,{"$f":"LOOKUP(O37,Names!$A$2:$A$161,Names!$B$2:$B$161)","v":"أمير محمد خطاب  "},110,0,11,11,33,{"$f":"LOOKUP(U37,Names!$A$2:$A$161,Names!$B$2:$B$161)","v":"أحمد بسيوني"},112,0,14,{"$f":"X37+Y37","v":14},null,63,{"$f":"LOOKUP(AB37,Names!$A$2:$A$161,Names!$B$2:$B$161)","v":"محمد أحمد محمد عبد الله "},{"$f":"IF(ISNA(VLOOKUP(AB37,$C$5:$H$164,3,FALSE))=TRUE,\"\",VLOOKUP(AB37,$C$5:$H$164,3,FALSE))","v":97},{"$f":"IF(ISNA(VLOOKUP(AB37,$I$5:$N$164,3,FALSE))=TRUE,\"\",VLOOKUP(AB37,$I$5:$N$164,3,FALSE))","v":102},{"$f":"IF(ISNA(VLOOKUP(AB37,$O$5:$T$164,3,FALSE))=TRUE,\"\",VLOOKUP(AB37,$O$5:$T$164,3,FALSE))","v":77},{"$f":"IF(ISNA(VLOOKUP(AB37,$U$5:$Z$164,3,FALSE))=TRUE,\"\",VLOOKUP(AB37,$U$5:$Z$164,3,FALSE))","v":149},{"$f":"SUM(AD37:AG37)","v":425},{"$f":"IF(ISNA(VLOOKUP(AB37,$C$5:$H$164,4,FALSE))=TRUE,\"\",VLOOKUP(AB37,$C$5:$H$164,4,FALSE))","v":0},{"$f":"IF(ISNA(VLOOKUP(AB37,$I$5:$N$164,4,FALSE))=TRUE,\"\",VLOOKUP(AB37,$I$5:$N$164,4,FALSE))","v":0},{"$f":"IF(ISNA(VLOOKUP(AB37,$O$5:$T$164,4,FALSE))=TRUE,\"\",VLOOKUP(AB37,$O$5:$T$164,4,FALSE))","v":0},{"$f":"IF(ISNA(VLOOKUP(AB37,$U$5:$Z$164,4,FALSE))=TRUE,\"\",VLOOKUP(AB37,$U$5:$Z$164,4,FALSE))","v":0},{"$f":"SUM(AI37:AL37)","v":0},{"$f":"IF(ISNA(VLOOKUP(AB37,$C$5:$H$164,5,FALSE))=TRUE,\"\",VLOOKUP(AB37,$C$5:$H$164,5,FALSE))","v":7},{"$f":"IF(ISNA(VLOOKUP(AB37,$I$5:$N$164,5,FALSE))=TRUE,\"\",VLOOKUP(AB37,$I$5:$N$164,5,FALSE))","v":14},{"$f":"IF(ISNA(VLOOKUP(AB37,$O$5:$T$164,5,FALSE))=TRUE,\"\",VLOOKUP(AB37,$O$5:$T$164,5,FALSE))","v":6},{"$f":"IF(ISNA(VLOOKUP(AB37,$U$5:$Z$164,5,FALSE))=TRUE,\"\",VLOOKUP(AB37,$U$5:$Z$164,5,FALSE))","v":17},{"$f":"SUM(AN37:AQ37)","v":44},{"$f":"AM37+AR37","v":44},33,null,33,{"$f":"AV37","v":33}]
[null,"W",34,{"$f":"LOOKUP(C38,Names!$A$2:$A$161,Names!$B$2:$B$161)","v":"عماد الدين جمعة هلال  "},-6,0,-5,-5,29,{"$f":"LOOKUP(I38,Names!$A$2:$A$161,Names!$B$2:$B$161)","v":"عبد الرحمن عثمان"},114,0,8,8,40,{"$f":"LOOKUP(O38,Names!$A$2:$A$161,Names!$B$2:$B$161)","v":"احمد محمود عبد الرزاق  "},28,0,5,5,22,{"$f":"LOOKUP(U38,Names!$A$2:$A$161,Names!$B$2:$B$161)","v":"طه إبراهيم طه  "},99,0,9,9,null,4,{"$f":"LOOKUP(AB38,Names!$A$2:$A$161,Names!$B$2:$B$161)","v":"محمد سعيد الفطاطري"},103,190,56,45,394,0,0,0,0,0,14,21,4,5,44,44,34,null,22,{"$f":"AV38","v":22}]
[null,"S",35,{"$f":"LOOKUP(C39,Names!$A$2:$A$161,Names!$B$2:$B$161)","v":"عمرو عماد الدين أبوالعلا  "},142,0,13,13,49,{"$f":"LOOKUP(I39,Names!$A$2:$A$161,Names!$B$2:$B$161)","v":"هيثم العشماوي "},78,0,10,10,53,{"$f":"LOOKUP(O39,Names!$A$2:$A$161,Names!$B$2:$B$161)","v":"أحمد محمد شوقي هيبه"},104,0,12.5,12.5,11,{"$f":"LOOKUP(U39,Names!$A$2:$A$161,Names!$B$2:$B$161)","v":"معتز محمد مدبولي "},77,0,12,12,null,5,{"$f":"LOOKUP(AB39,Names!$A$2:$A$161,Names!$B$2:$B$161)","v":"محمد عصام الدين القاضي "},136,118,70,53,377,0,0,0,0,0,17,13,5,9,44,44,35,null,11,{"$f":"AV39","v":11}]
[null,"E",36,{"$f":"LOOKUP(C40,Names!$A$2:$A$161,Names!$B$2:$B$161)","v":"أحمد عبد الفتاح عرفه "},100,0,13,13,69,{"$f":"LOOKUP(I40,Names!$A$2:$A$161,Names!$B$2:$B$161)","v":"أحمد علي السيد شرع"},136,0,18,18,30,{"$f":"LOOKUP(O40,Names!$A$2:$A$161,Names!$B$2:$B$161)","v":"شريف جلال سماحة "},137,0,17,17,80,{"$f":"LOOKUP(U40,Names!$A$2:$A$161,Names!$B$2:$B$161)","v":"أمن حسام"},44,0,8,8,null,35,{"$f":"LOOKUP(AB40,Names!$A$2:$A$161,Names!$B$2:$B$161)","v":"عمرو عماد الدين أبوالعلا  "},142,160,98,45,445,0,0,0,0,0,13,18.5,10,2,43.5,43.5,36,null,80,{"$f":"AV40","v":80}]
["Tabel ( 10 )","N",37,{"$f":"LOOKUP(C41,Names!$A$2:$A$161,Names!$B$2:$B$161)","v":"حمدي محمود عبد العزيز"},91,0,7,7,10,{"$f":"LOOKUP(I41,Names!$A$2:$A$161,Names!$B$2:$B$161)","v":"نبيل خلف زكي حسنين "},164,0,18,18,57,{"$f":"LOOKUP(O41,Names!$A$2:$A$161,Names!$B$2:$B$161)","v":"مصطفى كامل الشحري"},63,0,4,4,26,{"$f":"LOOKUP(U41,Names!$A$2:$A$161,Names!$B$2:$B$161)","v":"أحمد الطنطاوي "},74,0,6,6,null,74,{"$f":"LOOKUP(AB41,Names!$A$2:$A$161,Names!$B$2:$B$161)","v":"فريدة شكري"},187,43,82,85,397,0,0,0,0,0,21,6,7.5,9,43.5,43.5,37,null,37,{"$f":"AV42","v":26}]
[null,"W",38,{"$f":"LOOKUP(C42,Names!$A$2:$A$161,Names!$B$2:$B$161)","v":"أسامة لطفي نجيب  "},124,0,13,13,30,{"$f":"LOOKUP(I42,Names!$A$2:$A$161,Names!$B$2:$B$161)","v":"شريف جلال سماحة "},216,0,21,21,34,{"$f":"LOOKUP(O42,Names!$A$2:$A$161,Names!$B$2:$B$161)","v":"عماد الدين جمعة هلال  "},66,0,10,10,15,{"$f":"LOOKUP(U42,Names!$A$2:$A$161,Names!$B$2:$B$161)","v":"أحمد رمزي الديب "},178,0,19,19,null,6,{"$f":"LOOKUP(AB42,Names!$A$2:$A$161,Names!$B$2:$B$161)","v":"إبراهيم عرفان السقا  "},126,142,96,62,426,0,0,0,0,0,14,15.5,10,3,42.5,42.5,38,null,26,{"$f":"AV43","v":15}]
[null,"S",39,{"$f":"LOOKUP(C43,Names!$A$2:$A$161,Names!$B$2:$B$161)","v":"إسلام أحمد السيد عمر"},115,0,10,10,50,{"$f":"LOOKUP(I43,Names!$A$2:$A$161,Names!$B$2:$B$161)","v":"فادي ناجح"},-7,0,-4,-4,47,{"$f":"LOOKUP(O43,Names!$A$2:$A$161,Names!$B$2:$B$161)","v":"هاني فكري المراكبي"},173,0,21,21,4,{"$f":"LOOKUP(U43,Names!$A$2:$A$161,Names!$B$2:$B$161)","v":"محمد سعيد الفطاطري"},45,0,5,5,null,38,{"$f":"LOOKUP(AB43,Names!$A$2:$A$161,Names!$B$2:$B$161)","v":"أسامة لطفي نجيب  "},124,107,157,81,469,0,0,0,0,0,13,6,17,6,42,42,39,null,15,{"$f":"AV44","v":4}]
[null,"E",40,{"$f":"LOOKUP(C44,Names!$A$2:$A$161,Names!$B$2:$B$161)","v":"احمد محمود عبد الرزاق  "},150,0,19,19,70,{"$f":"LOOKUP(I44,Names!$A$2:$A$161,Names!$B$2:$B$161)","v":"أحمد صلاح الدين دياب "},36,0,4,4,44,{"$f":"LOOKUP(O44,Names!$A$2:$A$161,Names!$B$2:$B$161)","v":"جمال السيد توفيق محمد "},69,0,5,5,37,{"$f":"LOOKUP(U44,Names!$A$2:$A$161,Names!$B$2:$B$161)","v":"حمدي محمود عبد العزيز"},77,0,11.5,11.5,null,17,{"$f":"LOOKUP(AB44,Names!$A$2:$A$161,Names!$B$2:$B$161)","v":"أحمد علي خليل حسن "},38,57,202,114,411,0,0,0,0,0,3,3,21,15,42,42,40,null,4,{"$f":"AV41","v":37}]
["Tabel ( 11 )","N",41,{"$f":"LOOKUP(C45,Names!$A$2:$A$161,Names!$B$2:$B$161)","v":"خالد مصطفى عزت "},133,0,16,16,11,{"$f":"LOOKUP(I45,Names!$A$2:$A$161,Names!$B$2:$B$161)","v":"معتز محمد مدبولي "},103,0,9,9,38,{"$f":"LOOKUP(O45,Names!$A$2:$A$161,Names!$B$2:$B$161)","v":"أسامة لطفي نجيب  "},157,0,17,17,19,{"$f":"LOOKUP(U45,Names!$A$2:$A$161,Names!$B$2:$B$161)","v":"إبراهيم عنتر  "},13,0,1,1,null,11,{"$f":"LOOKUP(AB45,Names!$A$2:$A$161,Names!$B$2:$B$161)","v":"معتز محمد مدبولي "},17,103,147,77,344,0,0,0,0,0,3,9,17.5,12,41.5,41.5,41,null,41,{"$f":"AV47","v":19}]
[null,"W",42,{"$f":"LOOKUP(C46,Names!$A$2:$A$161,Names!$B$2:$B$161)","v":"محمد عبد الهادي أبو القاسم "},55,0,4,4,31,{"$f":"LOOKUP(I46,Names!$A$2:$A$161,Names!$B$2:$B$161)","v":"ماجد  محمد  فكري "},151,0,16.5,16.5,61,{"$f":"LOOKUP(O46,Names!$A$2:$A$161,Names!$B$2:$B$161)","v":"كريم إيهاب عامر  "},59,0,9,9,8,{"$f":"LOOKUP(U46,Names!$A$2:$A$161,Names!$B$2:$B$161)","v":"إيهاب  محمد الزهيري "},141,0,16,16,null,61,{"$f":"LOOKUP(AB46,Names!$A$2:$A$161,Names!$B$2:$B$161)","v":"كريم إيهاب عامر  "},75,116,59,100,350,0,0,0,0,0,5,17,9,10,41,41,42,null,30,{"$f":"AV48","v":8}]
[null,"S",43,{"$f":"LOOKUP(C47,Names!$A$2:$A$161,Names!$B$2:$B$161)","v":"أمير محمد خطاب  "},203,0,21,21,51,{"$f":"LOOKUP(I47,Names!$A$2:$A$161,Names!$B$2:$B$161)","v":"أحمد أحمد مرسي عبد الله "},121,0,17,17,48,{"$f":"LOOKUP(O47,Names!$A$2:$A$161,Names!$B$2:$B$161)","v":"محمد ناجي زاهر بلبع "},146,0,16,16,41,{"$f":"LOOKUP(U47,Names!$A$2:$A$161,Names!$B$2:$B$161)","v":"خالد مصطفى عزت "},149,0,18,18,null,54,{"$f":"LOOKUP(AB47,Names!$A$2:$A$161,Names!$B$2:$B$161)","v":"تامر رشاد   "},100,55,30,203,388,0,0,0,0,0,10,7,2,21,40,40,43,null,19,{"$f":"AV45","v":41}]
[null,"E",44,{"$f":"LOOKUP(C48,Names!$A$2:$A$161,Names!$B$2:$B$161)","v":"جمال السيد توفيق محمد "},87,0,11,11,71,{"$f":"LOOKUP(I48,Names!$A$2:$A$161,Names!$B$2:$B$161)","v":"معتز محمد"},30,0,3,3,51,{"$f":"LOOKUP(O48,Names!$A$2:$A$161,Names!$B$2:$B$161)","v":"أحمد أحمد مرسي عبد الله "},112,0,13,13,30,{"$f":"LOOKUP(U48,Names!$A$2:$A$161,Names!$B$2:$B$161)","v":"شريف جلال سماحة "},127,0,16,16,null,65,{"$f":"LOOKUP(AB48,Names!$A$2:$A$161,Names!$B$2:$B$161)","v":"أحمد طارق   "},98,83,101,77,359,0,0,0,0,0,11,11,11,7,40,40,44,null,8,{"$f":"AV46","v":30}]
["Tabel ( 12 )","N",45,{"$f":"LOOKUP(C49,Names!$A$2:$A$161,Names!$B$2:$B$161)","v":"رضا هنري"},25,0,1,1,12,{"$f":"LOOKUP(I49,Names!$A$2:$A$161,Names!$B$2:$B$161)","v":"أمير كمال جميل"},67,0,5,5,55,{"$f":"LOOKUP(O49,Names!$A$2:$A$161,Names!$B$2:$B$161)","v":"ناجي بلبع"},4,0,1,1,12,{"$f":"LOOKUP(U49,Names!$A$2:$A$161,Names!$B$2:$B$161)","v":"أمير كمال جميل"},106,0,13,13,null,40,{"$f":"LOOKUP(AB49,Names!$A$2:$A$161,Names!$B$2:$B$161)","v":"احمد محمود عبد الرزاق  "},150,135,28,36,349,0,0,0,0,0,19,14,5,2,40,40,45,null,45,{"$f":"AV52","v":12}]
[null,"W",46,{"$f":"LOOKUP(C50,Names!$A$2:$A$161,Names!$B$2:$B$161)","v":"علاء شوقي جبريل  "},165,0,16,16,32,{"$f":"LOOKUP(I50,Names!$A$2:$A$161,Names!$B$2:$B$161)","v":"حمزة أحمد محمد"},130,0,12,12,52,{"$f":"LOOKUP(O50,Names!$A$2:$A$161,Names!$B$2:$B$161)","v":"يامن محمد حسن  "},99,0,16,16,45,{"$f":"LOOKUP(U50,Names!$A$2:$A$161,Names!$B$2:$B$161)","v":"رضا هنري"},177,0,18,18,null,28,{"$f":"LOOKUP(AB50,Names!$A$2:$A$161,Names!$B$2:$B$161)","v":"عمرو محسن فرج "},121,55,110,49,335,0,0,0,0,0,16,2,19,3,40,40,46,null,34,{"$f":"AV49","v":45}]
[null,"S",47,{"$f":"LOOKUP(C51,Names!$A$2:$A$161,Names!$B$2:$B$161)","v":"هاني فكري المراكبي"},-11,0,-6,-6,52,{"$f":"LOOKUP(I51,Names!$A$2:$A$161,Names!$B$2:$B$161)","v":"يامن محمد حسن  "},61,0,8,8,65,{"$f":"LOOKUP(O51,Names!$A$2:$A$161,Names!$B$2:$B$161)","v":"أحمد طارق   "},101,0,11,11,34,{"$f":"LOOKUP(U51,Names!$A$2:$A$161,Names!$B$2:$B$161)","v":"عماد الدين جمعة هلال  "},8,0,3,3,null,79,{"$f":"LOOKUP(AB51,Names!$A$2:$A$161,Names!$B$2:$B$161)","v":"محمد علي حسن طه الأمام"},193,54,46,101,394,0,0,0,0,0,18,8,2,11,39,39,47,null,23,{"$f":"AV50","v":34}]
[null,"E",48,{"$f":"LOOKUP(C52,Names!$A$2:$A$161,Names!$B$2:$B$161)","v":"محمد ناجي زاهر بلبع "},182,0,21,21,72,{"$f":"LOOKUP(I52,Names!$A$2:$A$161,Names!$B$2:$B$161)","v":"أحمد سمير خلف "},140,0,20,20,42,{"$f":"LOOKUP(O52,Names!$A$2:$A$161,Names!$B$2:$B$161)","v":"محمد عبد الهادي أبو القاسم "},153,0,18,18,23,{"$f":"LOOKUP(U52,Names!$A$2:$A$161,Names!$B$2:$B$161)","v":"مصطفى يوسف محمد"},-40,0,-6,-6,null,22,{"$f":"LOOKUP(AB52,Names!$A$2:$A$161,Names!$B$2:$B$161)","v":"طه إبراهيم طه  "},56,151,56,99,362,0,0,0,0,0,5.5,16.5,8,9,39,39,48,null,12,{"$f":"AV51","v":23}]
["Tabel ( 13 )","N",49,{"$f":"LOOKUP(C53,Names!$A$2:$A$161,Names!$B$2:$B$161)","v":"هيثم العشماوي "},126,0,14,14,13,{"$f":"LOOKUP(I53,Names!$A$2:$A$161,Names!$B$2:$B$161)","v":"أحمد جميل السيد "},142,0,15.5,15.5,69,{"$f":"LOOKUP(O53,Names!$A$2:$A$161,Names!$B$2:$B$161)","v":"أحمد علي السيد شرع"},152,0,16,16,49,{"$f":"LOOKUP(U53,Names!$A$2:$A$161,Names!$B$2:$B$161)","v":"هيثم العشماوي "},126,0,17,17,null,36,{"$f":"LOOKUP(AB53,Names!$A$2:$A$161,Names!$B$2:$B$161)","v":"أحمد عبد الفتاح عرفه "},100,128,42,82,352,0,0,0,0,0,13,10.5,2,13,38.5,38.5,49,null,49,{"$f":"AV53","v":49}]
[null,"W",50,{"$f":"LOOKUP(C54,Names!$A$2:$A$161,Names!$B$2:$B$161)","v":"فادي ناجح"},101,0,11,11,33,{"$f":"LOOKUP(I54,Names!$A$2:$A$161,Names!$B$2:$B$161)","v":"أحمد بسيوني"},63,0,3,3,46,{"$f":"LOOKUP(O54,Names!$A$2:$A$161,Names!$B$2:$B$161)","v":"علاء شوقي جبريل  "},48,0,7,7,38,{"$f":"LOOKUP(U54,Names!$A$2:$A$161,Names!$B$2:$B$161)","v":"أسامة لطفي نجيب  "},81,0,6,6,null,53,{"$f":"LOOKUP(AB54,Names!$A$2:$A$161,Names!$B$2:$B$161)","v":"أحمد محمد شوقي هيبه"},104,72,104,16,296,0,0,0,0,0,13,9,12.5,4,38.5,38.5,50,null,38,{"$f":"AV54","v":38}]
[null,"S",51,{"$f":"LOOKUP(C55,Names!$A$2:$A$161,Names!$B$2:$B$161)","v":"أحمد أحمد مرسي عبد الله "},111,0,9,9,53,{"$f":"LOOKUP(I55,Names!$A$2:$A$161,Names!$B$2:$B$161)","v":"أحمد محمد شوقي هيبه"},72,0,9,9,59,{"$f":"LOOKUP(O55,Names!$A$2:$A$161,Names!$B$2:$B$161)","v":"هشام أبوغربية "},104,0,12.5,12.5,27,{"$f":"LOOKUP(U55,Names!$A$2:$A$161,Names!$B$2:$B$161)","v":"سمير الحوفي"},3,0,2,2,null,62,{"$f":"LOOKUP(AB55,Names!$A$2:$A$161,Names!$B$2:$B$161)","v":"محمد محمود مسعود  "},77,78,134,37,326,0,0,0,0,0,8,10,14,6,38,38,51,null,27,{"$f":"AV55","v":27}]
[null,"E",52,{"$f":"LOOKUP(C56,Names!$A$2:$A$161,Names!$B$2:$B$161)","v":"يامن محمد حسن  "},142,0,18,18,73,{"$f":"LOOKUP(I56,Names!$A$2:$A$161,Names!$B$2:$B$161)","v":"مينا ناجح صبحي  "},98,0,13,13,56,{"$f":"LOOKUP(O56,Names!$A$2:$A$161,Names!$B$2:$B$161)","v":"جاسر محمد"},122,0,15,15,16,{"$f":"LOOKUP(U56,Names!$A$2:$A$161,Names!$B$2:$B$161)","v":"عبد الرحمن سعد موسى"},77,0,11.5,11.5,null,47,{"$f":"LOOKUP(AB56,Names!$A$2:$A$161,Names!$B$2:$B$161)","v":"هاني فكري المراكبي"},-11,177,173,9,348,0,0,0,0,0,-6,21,21,1,37,37,52,null,16,{"$f":"AV56","v":16}]
["Tabel ( 14 )","N",53,{"$f":"LOOKUP(C57,Names!$A$2:$A$161,Names!$B$2:$B$161)","v":"أحمد محمد شوقي هيبه"},104,0,13,13,14,{"$f":"LOOKUP(I57,Names!$A$2:$A$161,Names!$B$2:$B$161)","v":"عماد محمد فؤاد"},119,0,14,14,50,{"$f":"LOOKUP(O57,Names!$A$2:$A$161,Names!$B$2:$B$161)","v":"فادي ناجح"},82,0,7.5,7.5,42,{"$f":"LOOKUP(U57,Names!$A$2:$A$161,Names!$B$2:$B$161)","v":"محمد عبد الهادي أبو القاسم "},177,0,21,21,null,19,{"$f":"LOOKUP(AB57,Names!$A$2:$A$161,Names!$B$2:$B$161)","v":"إبراهيم عنتر  "},167,106,94,13,380,0,0,0,0,0,16,10,9,1,36,36,53,null,53,{"$f":"AV58","v":42}]
[null,"W",54,{"$f":"LOOKUP(C58,Names!$A$2:$A$161,Names!$B$2:$B$161)","v":"تامر رشاد   "},100,0,10,10,34,{"$f":"LOOKUP(I58,Names!$A$2:$A$161,Names!$B$2:$B$161)","v":"عماد الدين جمعة هلال  "},128,0,10.5,10.5,73,{"$f":"LOOKUP(O58,Names!$A$2:$A$161,Names!$B$2:$B$161)","v":"مينا ناجح صبحي  "},125,0,21,21,31,{"$f":"LOOKUP(U58,Names!$A$2:$A$161,Names!$B$2:$B$161)","v":"ماجد  محمد  فكري "},116,0,12,12,null,70,{"$f":"LOOKUP(AB58,Names!$A$2:$A$161,Names!$B$2:$B$161)","v":"أحمد صلاح الدين دياب "},105,36,95,67,303,0,0,0,0,0,12,4,15,4,35,35,54,null,42,{"$f":"AV59","v":31}]
[null,"S",55,{"$f":"LOOKUP(C59,Names!$A$2:$A$161,Names!$B$2:$B$161)","v":"ناجي بلبع"},143,0,14,14,54,{"$f":"LOOKUP(I59,Names!$A$2:$A$161,Names!$B$2:$B$161)","v":"تامر رشاد   "},55,0,7,7,60,{"$f":"LOOKUP(O59,Names!$A$2:$A$161,Names!$B$2:$B$161)","v":"عصام الدين حامد منصور "},49,0,3,3,20,{"$f":"LOOKUP(U59,Names!$A$2:$A$161,Names!$B$2:$B$161)","v":"إسلام قاسم"},144,0,17,17,null,26,{"$f":"LOOKUP(AB59,Names!$A$2:$A$161,Names!$B$2:$B$161)","v":"أحمد الطنطاوي "},85,126,98,74,383,0,0,0,0,0,9,9,10,6,34,34,55,null,31,{"$f":"AV60","v":20}]
[null,"E",56,{"$f":"LOOKUP(C60,Names!$A$2:$A$161,Names!$B$2:$B$161)","v":"جاسر محمد"},70,0,7,7,74,{"$f":"LOOKUP(I60,Names!$A$2:$A$161,Names!$B$2:$B$161)","v":"فريدة شكري"},43,0,6,6,63,{"$f":"LOOKUP(O60,Names!$A$2:$A$161,Names!$B$2:$B$161)","v":"محمد أحمد محمد عبد الله "},77,0,6,6,53,{"$f":"LOOKUP(U60,Names!$A$2:$A$161,Names!$B$2:$B$161)","v":"أحمد محمد شوقي هيبه"},16,0,4,4,null,60,{"$f":"LOOKUP(AB60,Names!$A$2:$A$161,Names!$B$2:$B$161)","v":"عصام الدين حامد منصور "},69,109,49,90,317,0,0,0,0,0,6,14,3,11,34,34,56,null,20,{"$f":"AV57","v":53}]
["Tabel ( 15 )","N",57,{"$f":"LOOKUP(C61,Names!$A$2:$A$161,Names!$B$2:$B$161)","v":"مصطفى كامل الشحري"},50,0,4,4,15,{"$f":"LOOKUP(I61,Names!$A$2:$A$161,Names!$B$2:$B$161)","v":"أحمد رمزي الديب "},172,0,19,19,67,{"$f":"LOOKUP(O61,Names!$A$2:$A$161,Names!$B$2:$B$161)","v":"محمد محمود فضل "},148,0,15,15,35,{"$f":"LOOKUP(U61,Names!$A$2:$A$161,Names!$B$2:$B$161)","v":"عمرو عماد الدين أبوالعلا  "},45,0,2,2,null,57,{"$f":"LOOKUP(AB61,Names!$A$2:$A$161,Names!$B$2:$B$161)","v":"مصطفى كامل الشحري"},50,85,63,101,299,0,0,0,0,0,4,11,4,15,34,34,57,null,57,{"$f":"AV63","v":35}]
[null,"W",58,{"$f":"LOOKUP(C62,Names!$A$2:$A$161,Names!$B$2:$B$161)","v":"أحمد إبراهيم غانم "},165,0,16,16,35,{"$f":"LOOKUP(I62,Names!$A$2:$A$161,Names!$B$2:$B$161)","v":"عمرو عماد الدين أبوالعلا  "},160,0,18.5,18.5,64,{"$f":"LOOKUP(O62,Names!$A$2:$A$161,Names!$B$2:$B$161)","v":"وليد شعبان إسماعيل علي "},14,0,4,4,24,{"$f":"LOOKUP(U62,Names!$A$2:$A$161,Names!$B$2:$B$161)","v":"هيثم محمد شبانة"},89,0,7,7,null,16,{"$f":"LOOKUP(AB62,Names!$A$2:$A$161,Names!$B$2:$B$161)","v":"عبد الرحمن سعد موسى"},46,58,90,77,271,0,0,0,0,0,5,4,13.5,11.5,34,34,58,null,46,{"$f":"AV64","v":24}]
[null,"S",59,{"$f":"LOOKUP(C63,Names!$A$2:$A$161,Names!$B$2:$B$161)","v":"هشام أبوغربية "},195,0,19,19,55,{"$f":"LOOKUP(I63,Names!$A$2:$A$161,Names!$B$2:$B$161)","v":"ناجي بلبع"},18,0,4,4,77,{"$f":"LOOKUP(O63,Names!$A$2:$A$161,Names!$B$2:$B$161)","v":"محمد محمود شعبان "},119,0,14,14,57,{"$f":"LOOKUP(U63,Names!$A$2:$A$161,Names!$B$2:$B$161)","v":"مصطفى كامل الشحري"},101,0,15,15,null,45,{"$f":"LOOKUP(AB63,Names!$A$2:$A$161,Names!$B$2:$B$161)","v":"رضا هنري"},25,-12,168,177,358,0,0,0,0,0,1,-5,18,18,32,32,59,null,35,{"$f":"AV61","v":57}]
[null,"E",60,{"$f":"LOOKUP(C64,Names!$A$2:$A$161,Names!$B$2:$B$161)","v":"عصام الدين حامد منصور "},69,0,6,6,75,{"$f":"LOOKUP(I64,Names!$A$2:$A$161,Names!$B$2:$B$161)","v":"محمود سليمان"},37,0,5,5,54,{"$f":"LOOKUP(O64,Names!$A$2:$A$161,Names!$B$2:$B$161)","v":"تامر رشاد   "},30,0,2,2,46,{"$f":"LOOKUP(U64,Names!$A$2:$A$161,Names!$B$2:$B$161)","v":"علاء شوقي جبريل  "},110,0,15,15,null,9,{"$f":"LOOKUP(AB64,Names!$A$2:$A$161,Names!$B$2:$B$161)","v":"رأفت الصياد"},36,83,9,184,312,0,0,0,0,0,2,7,2,21,32,32,60,null,24,{"$f":"AV62","v":46}]
["Tabel ( 16 )","N",61,{"$f":"LOOKUP(C65,Names!$A$2:$A$161,Names!$B$2:$B$161)","v":"كريم إيهاب عامر  "},75,0,5,5,16,{"$f":"LOOKUP(I65,Names!$A$2:$A$161,Names!$B$2:$B$161)","v":"عبد الرحمن سعد موسى"},58,0,4,4,5,{"$f":"LOOKUP(O65,Names!$A$2:$A$161,Names!$B$2:$B$161)","v":"محمد عصام الدين القاضي "},70,0,5,5,28,{"$f":"LOOKUP(U65,Names!$A$2:$A$161,Names!$B$2:$B$161)","v":"عمرو محسن فرج "},49,0,3,3,null,46,{"$f":"LOOKUP(AB65,Names!$A$2:$A$161,Names!$B$2:$B$161)","v":"علاء شوقي جبريل  "},165,-30,48,110,293,0,0,0,0,0,16,-6,7,15,32,32,61,null,61,{"$f":"AV68","v":28}]
[null,"W",62,{"$f":"LOOKUP(C66,Names!$A$2:$A$161,Names!$B$2:$B$161)","v":"محمد محمود مسعود  "},77,0,8,8,36,{"$f":"LOOKUP(I66,Names!$A$2:$A$161,Names!$B$2:$B$161)","v":"أحمد عبد الفتاح عرفه "},128,0,10.5,10.5,58,{"$f":"LOOKUP(O66,Names!$A$2:$A$161,Names!$B$2:$B$161)","v":"أحمد إبراهيم غانم "},106,0,17.5,17.5,61,{"$f":"LOOKUP(U66,Names!$A$2:$A$161,Names!$B$2:$B$161)","v":"كريم إيهاب عامر  "},100,0,10,10,null,75,{"$f":"LOOKUP(AB66,Names!$A$2:$A$161,Names!$B$2:$B$161)","v":"محمود سليمان"},48,37,100,76,261,0,0,0,0,0,4,5,12,11,32,32,62,null,50,{"$f":"AV65","v":61}]
[null,"S",63,{"$f":"LOOKUP(C67,Names!$A$2:$A$161,Names!$B$2:$B$161)","v":"محمد أحمد محمد عبد الله "},97,0,7,7,56,{"$f":"LOOKUP(I67,Names!$A$2:$A$161,Names!$B$2:$B$161)","v":"جاسر محمد"},135,0,18,18,71,{"$f":"LOOKUP(O67,Names!$A$2:$A$161,Names!$B$2:$B$161)","v":"معتز محمد"},95,0,8,8,50,{"$f":"LOOKUP(U67,Names!$A$2:$A$161,Names!$B$2:$B$161)","v":"فادي ناجح"},83,0,14,14,null,37,{"$f":"LOOKUP(AB67,Names!$A$2:$A$161,Names!$B$2:$B$161)","v":"حمدي محمود عبد العزيز"},91,15,68,77,251,0,0,0,0,0,7,1,11,11.5,30.5,30.5,63,null,39,{"$f":"AV66","v":50}]
[null,"E",64,{"$f":"LOOKUP(C68,Names!$A$2:$A$161,Names!$B$2:$B$161)","v":"وليد شعبان إسماعيل علي "},71,0,8,8,76,{"$f":"LOOKUP(I68,Names!$A$2:$A$161,Names!$B$2:$B$161)","v":"محمد إبراهيم قطب "},52,0,7,7,68,{"$f":"LOOKUP(O68,Names!$A$2:$A$161,Names!$B$2:$B$161)","v":"مصطفى إسماعيل"},159,0,19,19,39,{"$f":"LOOKUP(U68,Names!$A$2:$A$161,Names!$B$2:$B$161)","v":"إسلام أحمد السيد عمر"},60,0,10,10,null,71,{"$f":"LOOKUP(AB68,Names!$A$2:$A$161,Names!$B$2:$B$161)","v":"معتز محمد"},82,30,95,98,305,0,0,0,0,0,5,3,8,14,30,30,64,null,28,{"$f":"AV67","v":39}]
["Tabel ( 17 )","N",65,{"$f":"LOOKUP(C69,Names!$A$2:$A$161,Names!$B$2:$B$161)","v":"أحمد طارق   "},98,0,11,{"$f":"F69+G69","v":11},17,{"$f":"LOOKUP(I69,Names!$A$2:$A$161,Names!$B$2:$B$161)","v":"أحمد علي خليل حسن "},57,0,3,{"$f":"L69+M69","v":3},62,{"$f":"LOOKUP(O69,Names!$A$2:$A$161,Names!$B$2:$B$161)","v":"محمد محمود مسعود  "},134,0,14,{"$f":"R69+S69","v":14},65,{"$f":"LOOKUP(U69,Names!$A$2:$A$161,Names!$B$2:$B$161)","v":"أحمد طارق   "},77,0,7,{"$f":"X69+Y69","v":7},null,44,{"$f":"LOOKUP(AB69,Names!$A$2:$A$161,Names!$B$2:$B$161)","v":"جمال السيد توفيق محمد "},{"$f":"IF(ISNA(VLOOKUP(AB69,$C$5:$H$164,3,FALSE))=TRUE,\"\",VLOOKUP(AB69,$C$5:$H$164,3,FALSE))","v":87},{"$f":"IF(ISNA(VLOOKUP(AB69,$I$5:$N$164,3,FALSE))=TRUE,\"\",VLOOKUP(AB69,$I$5:$N$164,3,FALSE))","v":22},{"$f":"IF(ISNA(VLOOKUP(AB69,$O$5:$T$164,3,FALSE))=TRUE,\"\",VLOOKUP(AB69,$O$5:$T$164,3,FALSE))","v":69},{"$f":"IF(ISNA(VLOOKUP(AB69,$U$5:$Z$164,3,FALSE))=TRUE,\"\",VLOOKUP(AB69,$U$5:$Z$164,3,FALSE))","v":84},{"$f":"SUM(AD69:AG69)","v":262},{"$f":"IF(ISNA(VLOOKUP(AB69,$C$5:$H$164,4,FALSE))=TRUE,\"\",VLOOKUP(AB69,$C$5:$H$164,4,FALSE))","v":0},{"$f":"IF(ISNA(VLOOKUP(AB69,$I$5:$N$164,4,FALSE))=TRUE,\"\",VLOOKUP(AB69,$I$5:$N$164,4,FALSE))","v":0},{"$f":"IF(ISNA(VLOOKUP(AB69,$O$5:$T$164,4,FALSE))=TRUE,\"\",VLOOKUP(AB69,$O$5:$T$164,4,FALSE))","v":0},{"$f":"IF(ISNA(VLOOKUP(AB69,$U$5:$Z$164,4,FALSE))=TRUE,\"\",VLOOKUP(AB69,$U$5:$Z$164,4,FALSE))","v":0},{"$f":"SUM(AI69:AL69)","v":0},{"$f":"IF(ISNA(VLOOKUP(AB69,$C$5:$H$164,5,FALSE))=TRUE,\"\",VLOOKUP(AB69,$C$5:$H$164,5,FALSE))","v":11},{"$f":"IF(ISNA(VLOOKUP(AB69,$I$5:$N$164,5,FALSE))=TRUE,\"\",VLOOKUP(AB69,$I$5:$N$164,5,FALSE))","v":5},{"$f":"IF(ISNA(VLOOKUP(AB69,$O$5:$T$164,5,FALSE))=TRUE,\"\",VLOOKUP(AB69,$O$5:$T$164,5,FALSE))","v":5},{"$f":"IF(ISNA(VLOOKUP(AB69,$U$5:$Z$164,5,FALSE))=TRUE,\"\",VLOOKUP(AB69,$U$5:$Z$164,5,FALSE))","v":8},{"$f":"SUM(AN69:AQ69)","v":29},{"$f":"AM69+AR69","v":29},65,null,65,{"$f":"AV69","v":65}]
[null,"W",66,{"$f":"LOOKUP(C70,Names!$A$2:$A$161,Names!$B$2:$B$161)","v":"أحمد فؤاد حسنين "},174,0,18,18,37,{"$f":"LOOKUP(I70,Names!$A$2:$A$161,Names!$B$2:$B$161)","v":"حمدي محمود عبد العزيز"},15,0,1,1,9,{"$f":"LOOKUP(O70,Names!$A$2:$A$161,Names!$B$2:$B$161)","v":"رأفت الصياد"},9,0,2,2,54,{"$f":"LOOKUP(U70,Names!$A$2:$A$161,Names!$B$2:$B$161)","v":"تامر رشاد   "},203,0,21,21,null,50,{"$f":"LOOKUP(AB70,Names!$A$2:$A$161,Names!$B$2:$B$161)","v":"فادي ناجح"},101,-7,82,83,259,0,0,0,0,0,11,-4,7.5,14,28.5,28.5,66,null,54,{"$f":"AV70","v":54}]
[null,"S",67,{"$f":"LOOKUP(C71,Names!$A$2:$A$161,Names!$B$2:$B$161)","v":"محمد محمود فضل "},118,0,11,11,57,{"$f":"LOOKUP(I71,Names!$A$2:$A$161,Names!$B$2:$B$161)","v":"مصطفى كامل الشحري"},85,0,11,11,72,{"$f":"LOOKUP(O71,Names!$A$2:$A$161,Names!$B$2:$B$161)","v":"أحمد سمير خلف "},64,0,5,5,43,{"$f":"LOOKUP(U71,Names!$A$2:$A$161,Names!$B$2:$B$161)","v":"أمير محمد خطاب  "},68,0,10,10,null,2,{"$f":"LOOKUP(AB71,Names!$A$2:$A$161,Names!$B$2:$B$161)","v":"شريف أحمد محمد حمروش"},65,51,113,61,290,0,0,0,0,0,7,2,12,7,28,28,67,null,43,{"$f":"AV71","v":43}]
[null,"E",68,{"$f":"LOOKUP(C72,Names!$A$2:$A$161,Names!$B$2:$B$161)","v":"مصطفى إسماعيل"},84,0,10,10,77,{"$f":"LOOKUP(I72,Names!$A$2:$A$161,Names!$B$2:$B$161)","v":"محمد محمود شعبان "},96,0,12,12,75,{"$f":"LOOKUP(O72,Names!$A$2:$A$161,Names!$B$2:$B$161)","v":"محمود سليمان"},100,0,12,12,32,{"$f":"LOOKUP(U72,Names!$A$2:$A$161,Names!$B$2:$B$161)","v":"حمزة أحمد محمد"},8,0,2,2,null,76,{"$f":"LOOKUP(AB72,Names!$A$2:$A$161,Names!$B$2:$B$161)","v":"محمد إبراهيم قطب "},8,52,90,55,205,0,0,0,0,0,3,7,13.5,4,27.5,27.5,68,null,32,{"$f":"AV72","v":32}]
["Tabel ( 18 )","N",69,{"$f":"LOOKUP(C73,Names!$A$2:$A$161,Names!$B$2:$B$161)","v":"أحمد علي السيد شرع"},92,0,8.5,8.5,18,{"$f":"LOOKUP(I73,Names!$A$2:$A$161,Names!$B$2:$B$161)","v":"أحمد ممدوح عبد الدايم"},73,0,6,6,79,{"$f":"LOOKUP(O73,Names!$A$2:$A$161,Names!$B$2:$B$161)","v":"محمد علي حسن طه الأمام"},46,0,2,2,58,{"$f":"LOOKUP(U73,Names!$A$2:$A$161,Names!$B$2:$B$161)","v":"أحمد إبراهيم غانم "},135,0,19,19,null,1,{"$f":"LOOKUP(AB73,Names!$A$2:$A$161,Names!$B$2:$B$161)","v":"راجي صبحي  "},95,47,76,89,307,0,0,0,0,0,10,1,6,10,27,27,69,null,69,{"$f":"AV74","v":58}]
[null,"W",70,{"$f":"LOOKUP(C74,Names!$A$2:$A$161,Names!$B$2:$B$161)","v":"أحمد صلاح الدين دياب "},105,0,12,12,38,{"$f":"LOOKUP(I74,Names!$A$2:$A$161,Names!$B$2:$B$161)","v":"أسامة لطفي نجيب  "},107,0,6,6,76,{"$f":"LOOKUP(O74,Names!$A$2:$A$161,Names!$B$2:$B$161)","v":"محمد إبراهيم قطب "},90,0,13.5,13.5,47,{"$f":"LOOKUP(U74,Names!$A$2:$A$161,Names!$B$2:$B$161)","v":"هاني فكري المراكبي"},9,0,1,1,null,29,{"$f":"LOOKUP(AB74,Names!$A$2:$A$161,Names!$B$2:$B$161)","v":"عبد الرحمن عثمان"},103,114,39,73,329,0,0,0,0,0,12,8,1,5,26,26,70,null,58,{"$f":"AV75","v":47}]
[null,"S",71,{"$f":"LOOKUP(C75,Names!$A$2:$A$161,Names!$B$2:$B$161)","v":"معتز محمد"},82,0,5,5,58,{"$f":"LOOKUP(I75,Names!$A$2:$A$161,Names!$B$2:$B$161)","v":"أحمد إبراهيم غانم "},94,0,12,12,13,{"$f":"LOOKUP(O75,Names!$A$2:$A$161,Names!$B$2:$B$161)","v":"أحمد جميل السيد "},96,0,9,9,36,{"$f":"LOOKUP(U75,Names!$A$2:$A$161,Names!$B$2:$B$161)","v":"أحمد عبد الفتاح عرفه "},82,0,13,13,null,55,{"$f":"LOOKUP(AB75,Names!$A$2:$A$161,Names!$B$2:$B$161)","v":"ناجي بلبع"},143,18,4,38,203,0,0,0,0,0,14,4,1,7,26,26,71,null,47,{"$f":"AV76","v":36}]
[null,"E",72,{"$f":"LOOKUP(C76,Names!$A$2:$A$161,Names!$B$2:$B$161)","v":"أحمد سمير خلف "},140,0,17,17,78,{"$f":"LOOKUP(I76,Names!$A$2:$A$161,Names!$B$2:$B$161)","v":"حسام الخلفاوي"},115,0,16,16,66,{"$f":"LOOKUP(O76,Names!$A$2:$A$161,Names!$B$2:$B$161)","v":"أحمد فؤاد حسنين "},98,0,11,11,69,{"$f":"LOOKUP(U76,Names!$A$2:$A$161,Names!$B$2:$B$161)","v":"أحمد علي السيد شرع"},140,0,18,18,null,78,{"$f":"LOOKUP(AB76,Names!$A$2:$A$161,Names!$B$2:$B$161)","v":"حسام الخلفاوي"},39,115,8,20,182,0,0,0,0,0,3,16,1,5,25,25,72,null,36,{"$f":"AV73","v":69}]
["Tabel ( 19 )","N",73,{"$f":"LOOKUP(C77,Names!$A$2:$A$161,Names!$B$2:$B$161)","v":"مينا ناجح صبحي  "},180,0,19,19,19,{"$f":"LOOKUP(I77,Names!$A$2:$A$161,Names!$B$2:$B$161)","v":"إبراهيم عنتر  "},106,0,10,10,17,{"$f":"LOOKUP(O77,Names!$A$2:$A$161,Names!$B$2:$B$161)","v":"أحمد علي خليل حسن "},202,0,21,21,51,{"$f":"LOOKUP(U77,Names!$A$2:$A$161,Names!$B$2:$B$161)","v":"أحمد أحمد مرسي عبد الله "},132,0,18,18,null,23,{"$f":"LOOKUP(AB77,Names!$A$2:$A$161,Names!$B$2:$B$161)","v":"مصطفى يوسف محمد"},107,69,136,-40,272,0,0,0,0,0,8,4,15,-6,21,21,73,null,73,{"$f":"AV79","v":51}]
[null,"W",74,{"$f":"LOOKUP(C78,Names!$A$2:$A$161,Names!$B$2:$B$161)","v":"فريدة شكري"},187,0,21,21,39,{"$f":"LOOKUP(I78,Names!$A$2:$A$161,Names!$B$2:$B$161)","v":"إسلام أحمد السيد عمر"},136,0,15,15,70,{"$f":"LOOKUP(O78,Names!$A$2:$A$161,Names!$B$2:$B$161)","v":"أحمد صلاح الدين دياب "},95,0,15,15,40,{"$f":"LOOKUP(U78,Names!$A$2:$A$161,Names!$B$2:$B$161)","v":"احمد محمود عبد الرزاق  "},36,0,2,2,null,32,{"$f":"LOOKUP(AB78,Names!$A$2:$A$161,Names!$B$2:$B$161)","v":"حمزة أحمد محمد"},12,130,40,8,190,0,0,0,0,0,4,12,3,2,21,21,74,null,62,{"$f":"AV80","v":40}]
[null,"S",75,{"$f":"LOOKUP(C79,Names!$A$2:$A$161,Names!$B$2:$B$161)","v":"محمود سليمان"},48,0,4,4,59,{"$f":"LOOKUP(I79,Names!$A$2:$A$161,Names!$B$2:$B$161)","v":"هشام أبوغربية "},162,0,19,19,3,{"$f":"LOOKUP(O79,Names!$A$2:$A$161,Names!$B$2:$B$161)","v":"إيهاب يوسف عمارة "},165,0,19,19,73,{"$f":"LOOKUP(U79,Names!$A$2:$A$161,Names!$B$2:$B$161)","v":"مينا ناجح صبحي  "},107,0,16,16,null,24,{"$f":"LOOKUP(AB79,Names!$A$2:$A$161,Names!$B$2:$B$161)","v":"هيثم محمد شبانة"},-37,134,92,89,278,0,0,0,0,0,-6,13,6,7,20,20,75,null,51,{"$f":"AV77","v":73}]
[null,"E",76,{"$f":"LOOKUP(C80,Names!$A$2:$A$161,Names!$B$2:$B$161)","v":"محمد إبراهيم قطب "},8,0,3,3,79,{"$f":"LOOKUP(I80,Names!$A$2:$A$161,Names!$B$2:$B$161)","v":"محمد علي حسن طه الأمام"},54,0,8,8,80,{"$f":"LOOKUP(O80,Names!$A$2:$A$161,Names!$B$2:$B$161)","v":"أمن حسام"},-83,0,-6,-6,62,{"$f":"LOOKUP(U80,Names!$A$2:$A$161,Names!$B$2:$B$161)","v":"محمد محمود مسعود  "},37,0,6,6,null,34,{"$f":"LOOKUP(AB80,Names!$A$2:$A$161,Names!$B$2:$B$161)","v":"عماد الدين جمعة هلال  "},-6,128,66,8,196,0,0,0,0,0,-5,10.5,10,3,18.5,18.5,76,null,40,{"$f":"AV78","v":62}]
["Tabel ( 20 )","N",77,{"$f":"LOOKUP(C81,Names!$A$2:$A$161,Names!$B$2:$B$161)","v":"محمد محمود شعبان "},92,0,8.5,8.5,20,{"$f":"LOOKUP(I81,Names!$A$2:$A$161,Names!$B$2:$B$161)","v":"إسلام قاسم"},146,0,17,17,74,{"$f":"LOOKUP(O81,Names!$A$2:$A$161,Names!$B$2:$B$161)","v":"فريدة شكري"},82,0,7.5,7.5,44,{"$f":"LOOKUP(U81,Names!$A$2:$A$161,Names!$B$2:$B$161)","v":"جمال السيد توفيق محمد "},84,0,8,8,null,27,{"$f":"LOOKUP(AB81,Names!$A$2:$A$161,Names!$B$2:$B$161)","v":"سمير الحوفي"},-4,70,92,3,161,0,0,0,0,0,-5,5,9,2,11,11,77,null,77,{"$f":"AV84","v":44}]
[null,"W",78,{"$f":"LOOKUP(C82,Names!$A$2:$A$161,Names!$B$2:$B$161)","v":"حسام الخلفاوي"},39,0,3,3,40,{"$f":"LOOKUP(I82,Names!$A$2:$A$161,Names!$B$2:$B$161)","v":"احمد محمود عبد الرزاق  "},135,0,14,14,21,{"$f":"LOOKUP(O82,Names!$A$2:$A$161,Names!$B$2:$B$161)","v":"أحمد محمد حمدي صالح "},77,0,12,12,77,{"$f":"LOOKUP(U82,Names!$A$2:$A$161,Names!$B$2:$B$161)","v":"محمد محمود شعبان "},119,0,13,13,null,64,{"$f":"LOOKUP(AB82,Names!$A$2:$A$161,Names!$B$2:$B$161)","v":"وليد شعبان إسماعيل علي "},71,-8,14,15,92,0,0,0,0,0,8,-5,4,3,10,10,78,null,66,{"$f":"AV81","v":77}]
[null,"S",79,{"$f":"LOOKUP(C83,Names!$A$2:$A$161,Names!$B$2:$B$161)","v":"محمد علي حسن طه الأمام"},193,0,18,18,60,{"$f":"LOOKUP(I83,Names!$A$2:$A$161,Names!$B$2:$B$161)","v":"عصام الدين حامد منصور "},109,0,14,14,4,{"$f":"LOOKUP(O83,Names!$A$2:$A$161,Names!$B$2:$B$161)","v":"محمد سعيد الفطاطري"},56,0,4,4,66,{"$f":"LOOKUP(U83,Names!$A$2:$A$161,Names!$B$2:$B$161)","v":"أحمد فؤاد حسنين "},63,0,8,8,null,18,{"$f":"LOOKUP(AB83,Names!$A$2:$A$161,Names!$B$2:$B$161)","v":"أحمد ممدوح عبد الدايم"},-19,73,78,-22,110,0,0,0,0,0,-6,6,7,-6,1,1,79,null,55,{"$f":"AV82","v":66}]
[null,"E",80,{"$f":"LOOKUP(C84,Names!$A$2:$A$161,Names!$B$2:$B$161)","v":"أمن حسام"},-28,0,-5,-5,80,{"$f":"LOOKUP(I84,Names!$A$2:$A$161,Names!$B$2:$B$161)","v":"أمن حسام"},-41,0,-6,-6,7,{"$f":"LOOKUP(O84,Names!$A$2:$A$161,Names!$B$2:$B$161)","v":"باسم أسحق صموائيل"},121,0,14,14,55,{"$f":"LOOKUP(U84,Names!$A$2:$A$161,Names!$B$2:$B$161)","v":"ناجي بلبع"},38,0,7,7,null,80,{"$f":"LOOKUP(AB84,Names!$A$2:$A$161,Names!$B$2:$B$161)","v":"أمن حسام"},-28,-41,-83,44,-108,0,0,0,0,0,-5,-6,-6,8,-9,-9,80,null,44,{"$f":"AV83","v":55}]
["Tabel ( 21 )","N",81,{"$f":"LOOKUP(C85,Names!$A$2:$A$161,Names!$B$2:$B$161)","v":0},null,0,0,0,null,{"$f":"LOOKUP(I85,Names!$A$2:$A$161,Names!$B$2:$B$161)","v":{"$error":"#N/A"}},null,0,0,0,null,{"$f":"LOOKUP(O85,Names!$A$2:$A$161,Names!$B$2:$B$161)","v":{"$error":"#N/A"}},null,0,0,0,null,{"$f":"LOOKUP(U85,Names!$A$2:$A$161,Names!$B$2:$B$161)","v":{"$error":"#N/A"}},null,0,0,0,null,81,{"$f":"LOOKUP(AB85,Names!$A$2:$A$161,Names!$B$2:$B$161)","v":0},{"$f":"IF(ISNA(VLOOKUP(AB85,$C$5:$H$164,3,FALSE))=TRUE,\"\",VLOOKUP(AB85,$C$5:$H$164,3,FALSE))","v":0},{"$f":"IF(ISNA(VLOOKUP(AB85,$I$5:$N$164,3,FALSE))=TRUE,\"\",VLOOKUP(AB85,$I$5:$N$164,3,FALSE))","v":""},{"$f":"IF(ISNA(VLOOKUP(AB85,$O$5:$T$164,3,FALSE))=TRUE,\"\",VLOOKUP(AB85,$O$5:$T$164,3,FALSE))","v":""},{"$f":"IF(ISNA(VLOOKUP(AB85,$U$5:$Z$164,3,FALSE))=TRUE,\"\",VLOOKUP(AB85,$U$5:$Z$164,3,FALSE))","v":""},{"$f":"SUM(AD85:AG85)","v":0},{"$f":"IF(ISNA(VLOOKUP(AB85,$C$5:$H$164,4,FALSE))=TRUE,\"\",VLOOKUP(AB85,$C$5:$H$164,4,FALSE))","v":0},{"$f":"IF(ISNA(VLOOKUP(AB85,$I$5:$N$164,4,FALSE))=TRUE,\"\",VLOOKUP(AB85,$I$5:$N$164,4,FALSE))","v":""},{"$f":"IF(ISNA(VLOOKUP(AB85,$O$5:$T$164,4,FALSE))=TRUE,\"\",VLOOKUP(AB85,$O$5:$T$164,4,FALSE))","v":""},{"$f":"IF(ISNA(VLOOKUP(AB85,$U$5:$Z$164,4,FALSE))=TRUE,\"\",VLOOKUP(AB85,$U$5:$Z$164,4,FALSE))","v":""},{"$f":"SUM(AI85:AL85)","v":0},{"$f":"IF(ISNA(VLOOKUP(AB85,$C$5:$H$164,5,FALSE))=TRUE,\"\",VLOOKUP(AB85,$C$5:$H$164,5,FALSE))","v":0},{"$f":"IF(ISNA(VLOOKUP(AB85,$I$5:$N$164,5,FALSE))=TRUE,\"\",VLOOKUP(AB85,$I$5:$N$164,5,FALSE))","v":""},{"$f":"IF(ISNA(VLOOKUP(AB85,$O$5:$T$164,5,FALSE))=TRUE,\"\",VLOOKUP(AB85,$O$5:$T$164,5,FALSE))","v":""},{"$f":"IF(ISNA(VLOOKUP(AB85,$U$5:$Z$164,5,FALSE))=TRUE,\"\",VLOOKUP(AB85,$U$5:$Z$164,5,FALSE))","v":""},{"$f":"SUM(AN85:AQ85)","v":0},{"$f":"AM85+AR85","v":0},81]
[null,"W",82,{"$f":"LOOKUP(C86,Names!$A$2:$A$161,Names!$B$2:$B$161)","v":0},null,0,2,2,null,{"$f":"LOOKUP(I86,Names!$A$2:$A$161,Names!$B$2:$B$161)","v":{"$error":"#N/A"}},null,0,0,0,null,{"$f":"LOOKUP(O86,Names!$A$2:$A$161,Names!$B$2:$B$161)","v":{"$error":"#N/A"}},null,0,0,0,null,{"$f":"LOOKUP(U86,Names!$A$2:$A$161,Names!$B$2:$B$161)","v":{"$error":"#N/A"}},null,0,0,0,null,82,{"$f":"LOOKUP(AB86,Names!$A$2:$A$161,Names!$B$2:$B$161)","v":0},0,"","","",0,0,"","","",0,2,"","","",2,2,82]
[null,"S",83,{"$f":"LOOKUP(C87,Names!$A$2:$A$161,Names!$B$2:$B$161)","v":0},null,0,2,2,null,{"$f":"LOOKUP(I87,Names!$A$2:$A$161,Names!$B$2:$B$161)","v":{"$error":"#N/A"}},null,0,3,3,null,{"$f":"LOOKUP(O87,Names!$A$2:$A$161,Names!$B$2:$B$161)","v":{"$error":"#N/A"}},null,0,0,0,null,{"$f":"LOOKUP(U87,Names!$A$2:$A$161,Names!$B$2:$B$161)","v":{"$error":"#N/A"}},null,0,1,1,null,83,{"$f":"LOOKUP(AB87,Names!$A$2:$A$161,Names!$B$2:$B$161)","v":0},0,"","","",0,0,"","","",0,2,"","","",2,2,83]
[null,"E",84,{"$f":"LOOKUP(C88,Names!$A$2:$A$161,Names!$B$2:$B$161)","v":0},null,0,2,2,null,{"$f":"LOOKUP(I88,Names!$A$2:$A$161,Names!$B$2:$B$161)","v":{"$error":"#N/A"}},null,0,2,2,null,{"$f":"LOOKUP(O88,Names!$A$2:$A$161,Names!$B$2:$B$161)","v":{"$error":"#N/A"}},null,0,1,1,null,{"$f":"LOOKUP(U88,Names!$A$2:$A$161,Names!$B$2:$B$161)","v":{"$error":"#N/A"}},null,0,1,1,null,84,{"$f":"LOOKUP(AB88,Names!$A$2:$A$161,Names!$B$2:$B$161)","v":0},0,"","","",0,0,"","","",0,2,"","","",2,2,84]
["Tabel ( 22 )","N",85,{"$f":"LOOKUP(C89,Names!$A$2:$A$161,Names!$B$2:$B$161)","v":0},null,0,-1,-1,null,{"$f":"LOOKUP(I89,Names!$A$2:$A$161,Names!$B$2:$B$161)","v":{"$error":"#N/A"}},null,0,-1,-1,null,{"$f":"LOOKUP(O89,Names!$A$2:$A$161,Names!$B$2:$B$161)","v":{"$error":"#N/A"}},null,0,-1,-1,null,{"$f":"LOOKUP(U89,Names!$A$2:$A$161,Names!$B$2:$B$161)","v":{"$error":"#N/A"}},null,0,-1,-1,null,85,{"$f":"LOOKUP(AB89,Names!$A$2:$A$161,Names!$B$2:$B$161)","v":0},0,"","","",0,0,"","","",0,-1,"","","",-1,-1,85]
[null,"W",86,{"$f":"LOOKUP(C90,Names!$A$2:$A$161,Names!$B$2:$B$161)","v":0},null,0,1,1,null,{"$f":"LOOKUP(I90,Names!$A$2:$A$161,Names!$B$2:$B$161)","v":{"$error":"#N/A"}},null,0,-1,-1,null,{"$f":"LOOKUP(O90,Names!$A$2:$A$161,Names!$B$2:$B$161)","v":{"$error":"#N/A"}},null,0,-1,-1,null,{"$f":"LOOKUP(U90,Names!$A$2:$A$161,Names!$B$2:$B$161)","v":{"$error":"#N/A"}},null,0,-1,-1,null,86,{"$f":"LOOKUP(AB90,Names!$A$2:$A$161,Names!$B$2:$B$161)","v":0},0,"","","",0,0,"","","",0,1,"","","",1,1,86]
[null,"S",87,{"$f":"LOOKUP(C91,Names!$A$2:$A$161,Names!$B$2:$B$161)","v":0},null,0,1,1,null,{"$f":"LOOKUP(I91,Names!$A$2:$A$161,Names!$B$2:$B$161)","v":{"$error":"#N/A"}},null,0,2,2,null,{"$f":"LOOKUP(O91,Names!$A$2:$A$161,Names!$B$2:$B$161)","v":{"$error":"#N/A"}},null,0,-1,-1,null,{"$f":"LOOKUP(U91,Names!$A$2:$A$161,Names!$B$2:$B$161)","v":{"$error":"#N/A"}},null,0,0,0,null,87,{"$f":"LOOKUP(AB91,Names!$A$2:$A$161,Names!$B$2:$B$161)","v":0},0,"","","",0,0,"","","",0,1,"","","",1,1,87]
[null,"E",88,{"$f":"LOOKUP(C92,Names!$A$2:$A$161,Names!$B$2:$B$161)","v":0},null,0,1,1,null,{"$f":"LOOKUP(I92,Names!$A$2:$A$161,Names!$B$2:$B$161)","v":{"$error":"#N/A"}},null,0,1,1,null,{"$f":"LOOKUP(O92,Names!$A$2:$A$161,Names!$B$2:$B$161)","v":{"$error":"#N/A"}},null,0,0,0,null,{"$f":"LOOKUP(U92,Names!$A$2:$A$161,Names!$B$2:$B$161)","v":{"$error":"#N/A"}},null,0,0,0,null,88,{"$f":"LOOKUP(AB92,Names!$A$2:$A$161,Names!$B$2:$B$161)","v":0},0,0,"","",0,0,0,"","",0,1,0,"","",1,1,88]
["Tabel ( 23 )","N",89,{"$f":"LOOKUP(C93,Names!$A$2:$A$161,Names!$B$2:$B$161)","v":0},null,0,-2,-2,null,{"$f":"LOOKUP(I93,Names!$A$2:$A$161,Names!$B$2:$B$161)","v":{"$error":"#N/A"}},null,0,-2,-2,null,{"$f":"LOOKUP(O93,Names!$A$2:$A$161,Names!$B$2:$B$161)","v":{"$error":"#N/A"}},null,0,-2,-2,null,{"$f":"LOOKUP(U93,Names!$A$2:$A$161,Names!$B$2:$B$161)","v":{"$error":"#N/A"}},null,0,-2,-2,null,89,{"$f":"LOOKUP(AB93,Names!$A$2:$A$161,Names!$B$2:$B$161)","v":0},0,0,"","",0,0,0,"","",0,-2,0,"","",-2,-2,89]
[null,"W",90,{"$f":"LOOKUP(C94,Names!$A$2:$A$161,Names!$B$2:$B$161)","v":0},null,0,0,0,null,{"$f":"LOOKUP(I94,Names!$A$2:$A$161,Names!$B$2:$B$161)","v":{"$error":"#N/A"}},null,0,-2,-2,null,{"$f":"LOOKUP(O94,Names!$A$2:$A$161,Names!$B$2:$B$161)","v":{"$error":"#N/A"}},null,0,-2,-2,null,{"$f":"LOOKUP(U94,Names!$A$2:$A$161,Names!$B$2:$B$161)","v":{"$error":"#N/A"}},null,0,-2,-2,null,90,{"$f":"LOOKUP(AB94,Names!$A$2:$A$161,Names!$B$2:$B$161)","v":0},0,0,"","",0,0,0,"","",0,0,0,"","",0,0,90]
[null,"S",91,{"$f":"LOOKUP(C95,Names!$A$2:$A$161,Names!$B$2:$B$161)","v":0},null,0,0,0,null,{"$f":"LOOKUP(I95,Names!$A$2:$A$161,Names!$B$2:$B$161)","v":{"$error":"#N/A"}},null,0,1,1,null,{"$f":"LOOKUP(O95,Names!$A$2:$A$161,Names!$B$2:$B$161)","v":{"$error":"#N/A"}},null,0,-2,-2,null,{"$f":"LOOKUP(U95,Names!$A$2:$A$161,Names!$B$2:$B$161)","v":{"$error":"#N/A"}},null,0,-1,-1,null,91,{"$f":"LOOKUP(AB95,Names!$A$2:$A$161,Names!$B$2:$B$161)","v":0},0,0,"","",0,0,0,"","",0,0,0,"","",0,0,91]
[null,"E",92,{"$f":"LOOKUP(C96,Names!$A$2:$A$161,Names!$B$2:$B$161)","v":0},null,0,0,0,null,{"$f":"LOOKUP(I96,Names!$A$2:$A$161,Names!$B$2:$B$161)","v":{"$error":"#N/A"}},null,0,0,0,null,{"$f":"LOOKUP(O96,Names!$A$2:$A$161,Names!$B$2:$B$161)","v":{"$error":"#N/A"}},null,0,-1,-1,null,{"$f":"LOOKUP(U96,Names!$A$2:$A$161,Names!$B$2:$B$161)","v":{"$error":"#N/A"}},null,0,-1,-1,null,92,{"$f":"LOOKUP(AB96,Names!$A$2:$A$161,Names!$B$2:$B$161)","v":0},0,0,"","",0,0,0,"","",0,0,0,"","",0,0,92]
["Tabel ( 24 )","N",93,{"$f":"LOOKUP(C97,Names!$A$2:$A$161,Names!$B$2:$B$161)","v":0},null,0,-3,-3,null,{"$f":"LOOKUP(I97,Names!$A$2:$A$161,Names!$B$2:$B$161)","v":{"$error":"#N/A"}},null,0,-3,-3,null,{"$f":"LOOKUP(O97,Names!$A$2:$A$161,Names!$B$2:$B$161)","v":{"$error":"#N/A"}},null,0,-3,-3,null,{"$f":"LOOKUP(U97,Names!$A$2:$A$161,Names!$B$2:$B$161)","v":{"$error":"#N/A"}},null,0,-3,-3,null,93,{"$f":"LOOKUP(AB97,Names!$A$2:$A$161,Names!$B$2:$B$161)","v":0},0,0,"","",0,0,0,"","",0,-3,0,"","",-3,-3,93]
[null,"W",94,{"$f":"LOOKUP(C98,Names!$A$2:$A$161,Names!$B$2:$B$161)","v":0},null,0,-1,-1,null,{"$f":"LOOKUP(I98,Names!$A$2:$A$161,Names!$B$2:$B$161)","v":{"$error":"#N/A"}},null,0,-3,-3,null,{"$f":"LOOKUP(O98,Names!$A$2:$A$161,Names!$B$2:$B$161)","v":{"$error":"#N/A"}},null,0,-3,-3,null,{"$f":"LOOKUP(U98,Names!$A$2:$A$161,Names!$B$2:$B$161)","v":{"$error":"#N/A"}},null,0,-3,-3,null,94,{"$f":"LOOKUP(AB98,Names!$A$2:$A$161,Names!$B$2:$B$161)","v":0},0,0,"","",0,0,0,"","",0,-1,0,"","",-1,-1,94]
[null,"S",95,{"$f":"LOOKUP(C99,Names!$A$2:$A$161,Names!$B$2:$B$161)","v":0},null,0,-1,-1,null,{"$f":"LOOKUP(I99,Names!$A$2:$A$161,Names!$B$2:$B$161)","v":{"$error":"#N/A"}},null,0,0,0,null,{"$f":"LOOKUP(O99,Names!$A$2:$A$161,Names!$B$2:$B$161)","v":{"$error":"#N/A"}},null,0,-3,-3,null,{"$f":"LOOKUP(U99,Names!$A$2:$A$161,Names!$B$2:$B$161)","v":{"$error":"#N/A"}},null,0,-2,-2,null,95,{"$f":"LOOKUP(AB99,Names!$A$2:$A$161,Names!$B$2:$B$161)","v":0},0,0,"","",0,0,0,"","",0,-1,0,"","",-1,-1,95]
[null,"E",96,{"$f":"LOOKUP(C100,Names!$A$2:$A$161,Names!$B$2:$B$161)","v":0},null,0,-1,-1,null,{"$f":"LOOKUP(I100,Names!$A$2:$A$161,Names!$B$2:$B$161)","v":{"$error":"#N/A"}},null,0,-1,-1,null,{"$f":"LOOKUP(O100,Names!$A$2:$A$161,Names!$B$2:$B$161)","v":{"$error":"#N/A"}},null,0,-2,-2,null,{"$f":"LOOKUP(U100,Names!$A$2:$A$161,Names!$B$2:$B$161)","v":{"$error":"#N/A"}},null,0,-2,-2,null,96,{"$f":"LOOKUP(AB100,Names!$A$2:$A$161,Names!$B$2:$B$161)","v":0},0,0,"","",0,0,0,"","",0,-1,0,"","",-1,-1,96]
["Tabel ( B1 )","N",97,{"$f":"LOOKUP(C101,Names!$A$2:$A$161,Names!$B$2:$B$161)","v":0},null,0,-4,-4,null,{"$f":"LOOKUP(I101,Names!$A$2:$A$161,Names!$B$2:$B$161)","v":{"$error":"#N/A"}},null,0,-4,-4,null,{"$f":"LOOKUP(O101,Names!$A$2:$A$161,Names!$B$2:$B$161)","v":{"$error":"#N/A"}},null,0,-4,-4,null,{"$f":"LOOKUP(U101,Names!$A$2:$A$161,Names!$B$2:$B$161)","v":{"$error":"#N/A"}},null,0,-4,{"$f":"X101+Y101","v":-4},null,97,{"$f":"LOOKUP(AB101,Names!$A$2:$A$161,Names!$B$2:$B$161)","v":0},{"$f":"IF(ISNA(VLOOKUP(AB101,$C$5:$H$164,3,FALSE))=TRUE,\"\",VLOOKUP(AB101,$C$5:$H$164,3,FALSE))","v":0},{"$f":"IF(ISNA(VLOOKUP(AB101,$I$5:$N$164,3,FALSE))=TRUE,\"\",VLOOKUP(AB101,$I$5:$N$164,3,FALSE))","v":0},{"$f":"IF(ISNA(VLOOKUP(AB101,$O$5:$T$164,3,FALSE))=TRUE,\"\",VLOOKUP(AB101,$O$5:$T$164,3,FALSE))","v":""},{"$f":"IF(ISNA(VLOOKUP(AB101,$U$5:$Z$164,3,FALSE))=TRUE,\"\",VLOOKUP(AB101,$U$5:$Z$164,3,FALSE))","v":""},{"$f":"SUM(AD101:AG101)","v":0},{"$f":"IF(ISNA(VLOOKUP(AB101,$C$5:$H$164,4,FALSE))=TRUE,\"\",VLOOKUP(AB101,$C$5:$H$164,4,FALSE))","v":0},{"$f":"IF(ISNA(VLOOKUP(AB101,$I$5:$N$164,4,FALSE))=TRUE,\"\",VLOOKUP(AB101,$I$5:$N$164,4,FALSE))","v":0},{"$f":"IF(ISNA(VLOOKUP(AB101,$O$5:$T$164,4,FALSE))=TRUE,\"\",VLOOKUP(AB101,$O$5:$T$164,4,FALSE))","v":""},{"$f":"IF(ISNA(VLOOKUP(AB101,$U$5:$Z$164,4,FALSE))=TRUE,\"\",VLOOKUP(AB101,$U$5:$Z$164,4,FALSE))","v":""},{"$f":"SUM(AI101:AL101)","v":0},{"$f":"IF(ISNA(VLOOKUP(AB101,$C$5:$H$164,5,FALSE))=TRUE,\"\",VLOOKUP(AB101,$C$5:$H$164,5,FALSE))","v":-4},{"$f":"IF(ISNA(VLOOKUP(AB101,$I$5:$N$164,5,FALSE))=TRUE,\"\",VLOOKUP(AB101,$I$5:$N$164,5,FALSE))","v":0},{"$f":"IF(ISNA(VLOOKUP(AB101,$O$5:$T$164,5,FALSE))=TRUE,\"\",VLOOKUP(AB101,$O$5:$T$164,5,FALSE))","v":""},{"$f":"IF(ISNA(VLOOKUP(AB101,$U$5:$Z$164,5,FALSE))=TRUE,\"\",VLOOKUP(AB101,$U$5:$Z$164,5,FALSE))","v":""},{"$f":"SUM(AN101:AQ101)","v":-4},{"$f":"AM101+AR101","v":-4},97]
[null,"W",98,{"$f":"LOOKUP(C102,Names!$A$2:$A$161,Names!$B$2:$B$161)","v":0},null,0,-2,-2,null,{"$f":"LOOKUP(I102,Names!$A$2:$A$161,Names!$B$2:$B$161)","v":{"$error":"#N/A"}},null,0,-4,-4,null,{"$f":"LOOKUP(O102,Names!$A$2:$A$161,Names!$B$2:$B$161)","v":{"$error":"#N/A"}},null,0,-4,-4,null,{"$f":"LOOKUP(U102,Names!$A$2:$A$161,Names!$B$2:$B$161)","v":{"$error":"#N/A"}},null,0,-4,-4,null,98,{"$f":"LOOKUP(AB102,Names!$A$2:$A$161,Names!$B$2:$B$161)","v":0},0,0,"","",0,0,0,"","",0,-2,0,"","",-2,-2,98]
[null,"S",99,{"$f":"LOOKUP(C103,Names!$A$2:$A$161,Names!$B$2:$B$161)","v":0},null,0,-2,-2,null,{"$f":"LOOKUP(I103,Names!$A$2:$A$161,Names!$B$2:$B$161)","v":{"$error":"#N/A"}},null,0,-1,-1,null,{"$f":"LOOKUP(O103,Names!$A$2:$A$161,Names!$B$2:$B$161)","v":{"$error":"#N/A"}},null,0,-4,-4,null,{"$f":"LOOKUP(U103,Names!$A$2:$A$161,Names!$B$2:$B$161)","v":{"$error":"#N/A"}},null,0,-3,-3,null,99,{"$f":"LOOKUP(AB103,Names!$A$2:$A$161,Names!$B$2:$B$161)","v":0},0,0,"","",0,0,0,"","",0,-2,0,"","",-2,-2,99]
[null,"E",100,{"$f":"LOOKUP(C104,Names!$A$2:$A$161,Names!$B$2:$B$161)","v":0},null,0,-2,-2,null,{"$f":"LOOKUP(I104,Names!$A$2:$A$161,Names!$B$2:$B$161)","v":{"$error":"#N/A"}},null,0,-2,-2,null,{"$f":"LOOKUP(O104,Names!$A$2:$A$161,Names!$B$2:$B$161)","v":{"$error":"#N/A"}},null,0,-3,-3,null,{"$f":"LOOKUP(U104,Names!$A$2:$A$161,Names!$B$2:$B$161)","v":{"$error":"#N/A"}},null,0,-3,-3,null,100,{"$f":"LOOKUP(AB104,Names!$A$2:$A$161,Names!$B$2:$B$161)","v":0},0,0,"","",0,0,0,"","",0,-2,0,"","",-2,-2,100]
["Tabel ( B2 )","N",101,{"$f":"LOOKUP(C105,Names!$A$2:$A$161,Names!$B$2:$B$161)","v":0},null,0,-5,-5,null,{"$f":"LOOKUP(I105,Names!$A$2:$A$161,Names!$B$2:$B$161)","v":{"$error":"#N/A"}},null,0,-5,-5,null,{"$f":"LOOKUP(O105,Names!$A$2:$A$161,Names!$B$2:$B$161)","v":{"$error":"#N/A"}},null,0,-5,-5,null,{"$f":"LOOKUP(U105,Names!$A$2:$A$161,Names!$B$2:$B$161)","v":{"$error":"#N/A"}},null,0,-5,-5,null,101,{"$f":"LOOKUP(AB105,Names!$A$2:$A$161,Names!$B$2:$B$161)","v":0},0,"","","",0,0,"","","",0,-5,"","","",-5,-5,101]
[null,"W",102,{"$f":"LOOKUP(C106,Names!$A$2:$A$161,Names!$B$2:$B$161)","v":0},null,0,-3,-3,null,{"$f":"LOOKUP(I106,Names!$A$2:$A$161,Names!$B$2:$B$161)","v":{"$error":"#N/A"}},null,0,-5,-5,null,{"$f":"LOOKUP(O106,Names!$A$2:$A$161,Names!$B$2:$B$161)","v":{"$error":"#N/A"}},null,0,-5,-5,null,{"$f":"LOOKUP(U106,Names!$A$2:$A$161,Names!$B$2:$B$161)","v":{"$error":"#N/A"}},null,0,-5,-5,null,102,{"$f":"LOOKUP(AB106,Names!$A$2:$A$161,Names!$B$2:$B$161)","v":0},0,"","","",0,0,"","","",0,-3,"","","",-3,-3,102]
[null,"S",103,{"$f":"LOOKUP(C107,Names!$A$2:$A$161,Names!$B$2:$B$161)","v":0},null,0,-3,-3,null,{"$f":"LOOKUP(I107,Names!$A$2:$A$161,Names!$B$2:$B$161)","v":{"$error":"#N/A"}},null,0,-2,-2,null,{"$f":"LOOKUP(O107,Names!$A$2:$A$161,Names!$B$2:$B$161)","v":{"$error":"#N/A"}},null,0,-5,-5,null,{"$f":"LOOKUP(U107,Names!$A$2:$A$161,Names!$B$2:$B$161)","v":{"$error":"#N/A"}},null,0,-4,-4,null,103,{"$f":"LOOKUP(AB107,Names!$A$2:$A$161,Names!$B$2:$B$161)","v":0},0,"","","",0,0,"","","",0,-3,"","","",-3,-3,103]
[null,"E",104,{"$f":"LOOKUP(C108,Names!$A$2:$A$161,Names!$B$2:$B$161)","v":0},null,0,-3,-3,null,{"$f":"LOOKUP(I108,Names!$A$2:$A$161,Names!$B$2:$B$161)","v":{"$error":"#N/A"}},null,0,-3,-3,null,{"$f":"LOOKUP(O108,Names!$A$2:$A$161,Names!$B$2:$B$161)","v":{"$error":"#N/A"}},null,0,-4,-4,null,{"$f":"LOOKUP(U108,Names!$A$2:$A$161,Names!$B$2:$B$161)","v":{"$error":"#N/A"}},null,0,-4,-4,null,104,{"$f":"LOOKUP(AB108,Names!$A$2:$A$161,Names!$B$2:$B$161)","v":0},0,"","","",0,0,"","","",0,-3,"","","",-3,-3,104]
["Tabel ( B3 )","N",105,{"$f":"LOOKUP(C109,Names!$A$2:$A$161,Names!$B$2:$B$161)","v":0},null,0,-6,-6,null,{"$f":"LOOKUP(I109,Names!$A$2:$A$161,Names!$B$2:$B$161)","v":{"$error":"#N/A"}},null,0,-6,-6,null,{"$f":"LOOKUP(O109,Names!$A$2:$A$161,Names!$B$2:$B$161)","v":{"$error":"#N/A"}},null,0,-6,-6,null,{"$f":"LOOKUP(U109,Names!$A$2:$A$161,Names!$B$2:$B$161)","v":{"$error":"#N/A"}},null,0,-6,-6,null,105,{"$f":"LOOKUP(AB109,Names!$A$2:$A$161,Names!$B$2:$B$161)","v":0},0,"","","",0,0,"","","",0,-6,"","","",-6,-6,105]
[null,"W",106,{"$f":"LOOKUP(C110,Names!$A$2:$A$161,Names!$B$2:$B$161)","v":0},null,0,-4,-4,null,{"$f":"LOOKUP(I110,Names!$A$2:$A$161,Names!$B$2:$B$161)","v":{"$error":"#N/A"}},null,0,-6,-6,null,{"$f":"LOOKUP(O110,Names!$A$2:$A$161,Names!$B$2:$B$161)","v":{"$error":"#N/A"}},null,0,-6,-6,null,{"$f":"LOOKUP(U110,Names!$A$2:$A$161,Names!$B$2:$B$161)","v":{"$error":"#N/A"}},null,0,-6,-6,null,106,{"$f":"LOOKUP(AB110,Names!$A$2:$A$161,Names!$B$2:$B$161)","v":0},0,"","","",0,0,"","","",0,-4,"","","",-4,-4,106]
[null,"S",107,{"$f":"LOOKUP(C111,Names!$A$2:$A$161,Names!$B$2:$B$161)","v":0},null,0,-4,-4,null,{"$f":"LOOKUP(I111,Names!$A$2:$A$161,Names!$B$2:$B$161)","v":{"$error":"#N/A"}},null,0,-3,-3,null,{"$f":"LOOKUP(O111,Names!$A$2:$A$161,Names!$B$2:$B$161)","v":{"$error":"#N/A"}},null,0,-6,-6,null,{"$f":"LOOKUP(U111,Names!$A$2:$A$161,Names!$B$2:$B$161)","v":{"$error":"#N/A"}},null,0,-5,-5,null,107,{"$f":"LOOKUP(AB111,Names!$A$2:$A$161,Names!$B$2:$B$161)","v":0},0,"","","",0,0,"","","",0,-4,"","","",-4,-4,107]
[null,"E",108,{"$f":"LOOKUP(C112,Names!$A$2:$A$161,Names!$B$2:$B$161)","v":0},null,0,-4,-4,null,{"$f":"LOOKUP(I112,Names!$A$2:$A$161,Names!$B$2:$B$161)","v":{"$error":"#N/A"}},null,0,-4,-4,null,{"$f":"LOOKUP(O112,Names!$A$2:$A$161,Names!$B$2:$B$161)","v":{"$error":"#N/A"}},null,0,-5,-5,null,{"$f":"LOOKUP(U112,Names!$A$2:$A$161,Names!$B$2:$B$161)","v":{"$error":"#N/A"}},null,0,-5,-5,null,108,{"$f":"LOOKUP(AB112,Names!$A$2:$A$161,Names!$B$2:$B$161)","v":0},0,0,"","",0,0,0,"","",0,-4,0,"","",-4,-4,108]
["Tabel ( B4 )","N",109,{"$f":"LOOKUP(C113,Names!$A$2:$A$161,Names!$B$2:$B$161)","v":0},null,0,0,0,88,{"$f":"LOOKUP(I113,Names!$A$2:$A$161,Names!$B$2:$B$161)","v":0},null,0,0,0,null,{"$f":"LOOKUP(O113,Names!$A$2:$A$161,Names!$B$2:$B$161)","v":{"$error":"#N/A"}},null,0,0,0,null,{"$f":"LOOKUP(U113,Names!$A$2:$A$161,Names!$B$2:$B$161)","v":{"$error":"#N/A"}},null,0,0,0,null,109,{"$f":"LOOKUP(AB113,Names!$A$2:$A$161,Names!$B$2:$B$161)","v":0},{"$f":"IF(ISNA(VLOOKUP(AB113,$C$5:$H$164,3,FALSE))=TRUE,\"\",VLOOKUP(AB113,$C$5:$H$164,3,FALSE))","v":0},{"$f":"IF(ISNA(VLOOKUP(AB113,$I$5:$N$164,3,FALSE))=TRUE,\"\",VLOOKUP(AB113,$I$5:$N$164,3,FALSE))","v":0},{"$f":"IF(ISNA(VLOOKUP(AB113,$O$5:$T$164,3,FALSE))=TRUE,\"\",VLOOKUP(AB113,$O$5:$T$164,3,FALSE))","v":""},{"$f":"IF(ISNA(VLOOKUP(AB113,$U$5:$Z$164,3,FALSE))=TRUE,\"\",VLOOKUP(AB113,$U$5:$Z$164,3,FALSE))","v":""},{"$f":"SUM(AD113:AG113)","v":0},{"$f":"IF(ISNA(VLOOKUP(AB113,$C$5:$H$164,4,FALSE))=TRUE,\"\",VLOOKUP(AB113,$C$5:$H$164,4,FALSE))","v":0},{"$f":"IF(ISNA(VLOOKUP(AB113,$I$5:$N$164,4,FALSE))=TRUE,\"\",VLOOKUP(AB113,$I$5:$N$164,4,FALSE))","v":0},{"$f":"IF(ISNA(VLOOKUP(AB113,$O$5:$T$164,4,FALSE))=TRUE,\"\",VLOOKUP(AB113,$O$5:$T$164,4,FALSE))","v":""},{"$f":"IF(ISNA(VLOOKUP(AB113,$U$5:$Z$164,4,FALSE))=TRUE,\"\",VLOOKUP(AB113,$U$5:$Z$164,4,FALSE))","v":""},{"$f":"SUM(AI113:AL113)","v":0},{"$f":"IF(ISNA(VLOOKUP(AB113,$C$5:$H$164,5,FALSE))=TRUE,\"\",VLOOKUP(AB113,$C$5:$H$164,5,FALSE))","v":0},{"$f":"IF(ISNA(VLOOKUP(AB113,$I$5:$N$164,5,FALSE))=TRUE,\"\",VLOOKUP(AB113,$I$5:$N$164,5,FALSE))","v":0},{"$f":"IF(ISNA(VLOOKUP(AB113,$O$5:$T$164,5,FALSE))=TRUE,\"\",VLOOKUP(AB113,$O$5:$T$164,5,FALSE))","v":""},{"$f":"IF(ISNA(VLOOKUP(AB113,$U$5:$Z$164,5,FALSE))=TRUE,\"\",VLOOKUP(AB113,$U$5:$Z$164,5,FALSE))","v":""},{"$f":"SUM(AN113:AQ113)","v":0},{"$f":"AM113+AR113","v":0},109]
[null,"W",110,{"$f":"LOOKUP(C114,Names!$A$2:$A$161,Names!$B$2:$B$161)","v":0},null,0,0,0,108,{"$f":"LOOKUP(I114,Names!$A$2:$A$161,Names!$B$2:$B$161)","v":0},null,0,0,0,null,{"$f":"LOOKUP(O114,Names!$A$2:$A$161,Names!$B$2:$B$161)","v":{"$error":"#N/A"}},null,0,0,0,null,{"$f":"LOOKUP(U114,Names!$A$2:$A$161,Names!$B$2:$B$161)","v":{"$error":"#N/A"}},null,0,0,0,null,110,{"$f":"LOOKUP(AB114,Names!$A$2:$A$161,Names!$B$2:$B$161)","v":0},0,0,"","",0,0,0,"","",0,0,0,"","",0,0,110]
[null,"S",111,{"$f":"LOOKUP(C115,Names!$A$2:$A$161,Names!$B$2:$B$161)","v":0},null,0,0,0,128,{"$f":"LOOKUP(I115,Names!$A$2:$A$161,Names!$B$2:$B$161)","v":0},null,0,0,0,null,{"$f":"LOOKUP(O115,Names!$A$2:$A$161,Names!$B$2:$B$161)","v":{"$error":"#N/A"}},null,0,0,0,null,{"$f":"LOOKUP(U115,Names!$A$2:$A$161,Names!$B$2:$B$161)","v":{"$error":"#N/A"}},null,0,0,0,null,111,{"$f":"LOOKUP(AB115,Names!$A$2:$A$161,Names!$B$2:$B$161)","v":0},0,0,"","",0,0,0,"","",0,0,0,"","",0,0,111]
[null,"E",112,{"$f":"LOOKUP(C116,Names!$A$2:$A$161,Names!$B$2:$B$161)","v":0},null,0,0,0,148,{"$f":"LOOKUP(I116,Names!$A$2:$A$161,Names!$B$2:$B$161)","v":0},null,0,0,0,null,{"$f":"LOOKUP(O116,Names!$A$2:$A$161,Names!$B$2:$B$161)","v":{"$error":"#N/A"}},null,0,0,0,null,{"$f":"LOOKUP(U116,Names!$A$2:$A$161,Names!$B$2:$B$161)","v":{"$error":"#N/A"}},null,0,0,0,null,112,{"$f":"LOOKUP(AB116,Names!$A$2:$A$161,Names!$B$2:$B$161)","v":0},0,0,"","",0,0,0,"","",0,0,0,"","",0,0,112]
["Tabel ( B5 )","N",113,{"$f":"LOOKUP(C117,Names!$A$2:$A$161,Names!$B$2:$B$161)","v":0},null,0,0,0,89,{"$f":"LOOKUP(I117,Names!$A$2:$A$161,Names!$B$2:$B$161)","v":0},null,0,0,0,null,{"$f":"LOOKUP(O117,Names!$A$2:$A$161,Names!$B$2:$B$161)","v":{"$error":"#N/A"}},null,0,0,0,null,{"$f":"LOOKUP(U117,Names!$A$2:$A$161,Names!$B$2:$B$161)","v":{"$error":"#N/A"}},null,0,0,0,null,113,{"$f":"LOOKUP(AB117,Names!$A$2:$A$161,Names!$B$2:$B$161)","v":0},0,0,"","",0,0,0,"","",0,0,0,"","",0,0,113]
[null,"W",114,{"$f":"LOOKUP(C118,Names!$A$2:$A$161,Names!$B$2:$B$161)","v":0},null,0,0,0,109,{"$f":"LOOKUP(I118,Names!$A$2:$A$161,Names!$B$2:$B$161)","v":0},null,0,0,0,null,{"$f":"LOOKUP(O118,Names!$A$2:$A$161,Names!$B$2:$B$161)","v":{"$error":"#N/A"}},null,0,0,0,null,{"$f":"LOOKUP(U118,Names!$A$2:$A$161,Names!$B$2:$B$161)","v":{"$error":"#N/A"}},null,0,0,0,null,114,{"$f":"LOOKUP(AB118,Names!$A$2:$A$161,Names!$B$2:$B$161)","v":0},0,0,"","",0,0,0,"","",0,0,0,"","",0,0,114]
[null,"S",115,{"$f":"LOOKUP(C119,Names!$A$2:$A$161,Names!$B$2:$B$161)","v":0},null,0,0,0,129,{"$f":"LOOKUP(I119,Names!$A$2:$A$161,Names!$B$2:$B$161)","v":0},null,0,0,0,null,{"$f":"LOOKUP(O119,Names!$A$2:$A$161,Names!$B$2:$B$161)","v":{"$error":"#N/A"}},null,0,0,0,null,{"$f":"LOOKUP(U119,Names!$A$2:$A$161,Names!$B$2:$B$161)","v":{"$error":"#N/A"}},null,0,0,0,null,115,{"$f":"LOOKUP(AB119,Names!$A$2:$A$161,Names!$B$2:$B$161)","v":0},0,0,"","",0,0,0,"","",0,0,0,"","",0,0,115]
[null,"E",116,{"$f":"LOOKUP(C120,Names!$A$2:$A$161,Names!$B$2:$B$161)","v":0},null,0,0,0,149,{"$f":"LOOKUP(I120,Names!$A$2:$A$161,Names!$B$2:$B$161)","v":0},null,0,0,0,null,{"$f":"LOOKUP(O120,Names!$A$2:$A$161,Names!$B$2:$B$161)","v":{"$error":"#N/A"}},null,0,0,0,null,{"$f":"LOOKUP(U120,Names!$A$2:$A$161,Names!$B$2:$B$161)","v":{"$error":"#N/A"}},null,0,0,0,null,116,{"$f":"LOOKUP(AB120,Names!$A$2:$A$161,Names!$B$2:$B$161)","v":0},0,0,"","",0,0,0,"","",0,0,0,"","",0,0,116]
["Tabel ( B6 )","N",117,{"$f":"LOOKUP(C121,Names!$A$2:$A$161,Names!$B$2:$B$161)","v":0},null,0,0,0,90,{"$f":"LOOKUP(I121,Names!$A$2:$A$161,Names!$B$2:$B$161)","v":0},null,0,0,0,null,{"$f":"LOOKUP(O121,Names!$A$2:$A$161,Names!$B$2:$B$161)","v":{"$error":"#N/A"}},null,0,0,0,null,{"$f":"LOOKUP(U121,Names!$A$2:$A$161,Names!$B$2:$B$161)","v":{"$error":"#N/A"}},null,0,0,0,null,117,{"$f":"LOOKUP(AB121,Names!$A$2:$A$161,Names!$B$2:$B$161)","v":0},0,0,"","",0,0,0,"","",0,0,0,"","",0,0,117]
[null,"W",118,{"$f":"LOOKUP(C122,Names!$A$2:$A$161,Names!$B$2:$B$161)","v":0},null,0,0,0,110,{"$f":"LOOKUP(I122,Names!$A$2:$A$161,Names!$B$2:$B$161)","v":0},null,0,0,0,null,{"$f":"LOOKUP(O122,Names!$A$2:$A$161,Names!$B$2:$B$161)","v":{"$error":"#N/A"}},null,0,0,0,null,{"$f":"LOOKUP(U122,Names!$A$2:$A$161,Names!$B$2:$B$161)","v":{"$error":"#N/A"}},null,0,0,0,null,118,{"$f":"LOOKUP(AB122,Names!$A$2:$A$161,Names!$B$2:$B$161)","v":0},0,0,"","",0,0,0,"","",0,0,0,"","",0,0,118]
[null,"S",119,{"$f":"LOOKUP(C123,Names!$A$2:$A$161,Names!$B$2:$B$161)","v":0},null,0,0,0,130,{"$f":"LOOKUP(I123,Names!$A$2:$A$161,Names!$B$2:$B$161)","v":0},null,0,0,0,null,{"$f":"LOOKUP(O123,Names!$A$2:$A$161,Names!$B$2:$B$161)","v":{"$error":"#N/A"}},null,0,0,0,null,{"$f":"LOOKUP(U123,Names!$A$2:$A$161,Names!$B$2:$B$161)","v":{"$error":"#N/A"}},null,0,0,0,null,119,{"$f":"LOOKUP(AB123,Names!$A$2:$A$161,Names!$B$2:$B$161)","v":0},0,0,"","",0,0,0,"","",0,0,0,"","",0,0,119]
[null,"E",120,{"$f":"LOOKUP(C124,Names!$A$2:$A$161,Names!$B$2:$B$161)","v":0},null,0,0,0,150,{"$f":"LOOKUP(I124,Names!$A$2:$A$161,Names!$B$2:$B$161)","v":0},null,0,0,0,null,{"$f":"LOOKUP(O124,Names!$A$2:$A$161,Names!$B$2:$B$161)","v":{"$error":"#N/A"}},null,0,0,0,null,{"$f":"LOOKUP(U124,Names!$A$2:$A$161,Names!$B$2:$B$161)","v":{"$error":"#N/A"}},null,0,0,0,null,120,{"$f":"LOOKUP(AB124,Names!$A$2:$A$161,Names!$B$2:$B$161)","v":0},0,0,"","",0,0,0,"","",0,0,0,"","",0,0,120]
["Tabel ( 31 )","N",121,{"$f":"LOOKUP(C125,Names!$A$2:$A$161,Names!$B$2:$B$161)","v":0},null,0,0,0,91,{"$f":"LOOKUP(I125,Names!$A$2:$A$161,Names!$B$2:$B$161)","v":0},null,0,0,0,null,{"$f":"LOOKUP(O125,Names!$A$2:$A$161,Names!$B$2:$B$161)","v":{"$error":"#N/A"}},null,0,0,0,null,{"$f":"LOOKUP(U125,Names!$A$2:$A$161,Names!$B$2:$B$161)","v":{"$error":"#N/A"}},null,0,0,0,null,121,{"$f":"LOOKUP(AB125,Names!$A$2:$A$161,Names!$B$2:$B$161)","v":0},0,"","","",0,0,"","","",0,0,"","","",0,0,121]
[null,"W",122,{"$f":"LOOKUP(C126,Names!$A$2:$A$161,Names!$B$2:$B$161)","v":0},null,0,0,0,111,{"$f":"LOOKUP(I126,Names!$A$2:$A$161,Names!$B$2:$B$161)","v":0},null,0,0,0,null,{"$f":"LOOKUP(O126,Names!$A$2:$A$161,Names!$B$2:$B$161)","v":{"$error":"#N/A"}},null,0,0,0,null,{"$f":"LOOKUP(U126,Names!$A$2:$A$161,Names!$B$2:$B$161)","v":{"$error":"#N/A"}},null,0,0,0,null,122,{"$f":"LOOKUP(AB126,Names!$A$2:$A$161,Names!$B$2:$B$161)","v":0},0,"","","",0,0,"","","",0,0,"","","",0,0,122]
[null,"S",123,{"$f":"LOOKUP(C127,Names!$A$2:$A$161,Names!$B$2:$B$161)","v":0},null,0,0,0,131,{"$f":"LOOKUP(I127,Names!$A$2:$A$161,Names!$B$2:$B$161)","v":0},null,0,0,0,null,{"$f":"LOOKUP(O127,Names!$A$2:$A$161,Names!$B$2:$B$161)","v":{"$error":"#N/A"}},null,0,0,0,null,{"$f":"LOOKUP(U127,Names!$A$2:$A$161,Names!$B$2:$B$161)","v":{"$error":"#N/A"}},null,0,0,0,null,123,{"$f":"LOOKUP(AB127,Names!$A$2:$A$161,Names!$B$2:$B$161)","v":0},0,"","","",0,0,"","","",0,0,"","","",0,0,123]
[null,"E",124,{"$f":"LOOKUP(C128,Names!$A$2:$A$161,Names!$B$2:$B$161)","v":0},null,0,0,0,151,{"$f":"LOOKUP(I128,Names!$A$2:$A$161,Names!$B$2:$B$161)","v":0},null,0,0,0,null,{"$f":"LOOKUP(O128,Names!$A$2:$A$161,Names!$B$2:$B$161)","v":{"$error":"#N/A"}},null,0,0,0,null,{"$f":"LOOKUP(U128,Names!$A$2:$A$161,Names!$B$2:$B$161)","v":{"$error":"#N/A"}},null,0,0,0,null,124,{"$f":"LOOKUP(AB128,Names!$A$2:$A$161,Names!$B$2:$B$161)","v":0},0,"","","",0,0,"","","",0,0,"","","",0,0,124]
["Tabel ( 32 )","N",125,{"$f":"LOOKUP(C129,Names!$A$2:$A$161,Names!$B$2:$B$161)","v":0},null,0,0,0,92,{"$f":"LOOKUP(I129,Names!$A$2:$A$161,Names!$B$2:$B$161)","v":0},null,0,0,0,null,{"$f":"LOOKUP(O129,Names!$A$2:$A$161,Names!$B$2:$B$161)","v":{"$error":"#N/A"}},null,0,0,0,null,{"$f":"LOOKUP(U129,Names!$A$2:$A$161,Names!$B$2:$B$161)","v":{"$error":"#N/A"}},null,0,0,0,null,125,{"$f":"LOOKUP(AB129,Names!$A$2:$A$161,Names!$B$2:$B$161)","v":0},0,"","","",0,0,"","","",0,0,"","","",0,0,125]
[null,"W",126,{"$f":"LOOKUP(C130,Names!$A$2:$A$161,Names!$B$2:$B$161)","v":0},null,0,0,0,112,{"$f":"LOOKUP(I130,Names!$A$2:$A$161,Names!$B$2:$B$161)","v":0},null,0,0,0,null,{"$f":"LOOKUP(O130,Names!$A$2:$A$161,Names!$B$2:$B$161)","v":{"$error":"#N/A"}},null,0,0,0,null,{"$f":"LOOKUP(U130,Names!$A$2:$A$161,Names!$B$2:$B$161)","v":{"$error":"#N/A"}},null,0,0,0,null,126,{"$f":"LOOKUP(AB130,Names!$A$2:$A$161,Names!$B$2:$B$161)","v":0},0,"","","",0,0,"","","",0,0,"","","",0,0,126]
[null,"S",127,{"$f":"LOOKUP(C131,Names!$A$2:$A$161,Names!$B$2:$B$161)","v":0},null,0,0,0,132,{"$f":"LOOKUP(I131,Names!$A$2:$A$161,Names!$B$2:$B$161)","v":0},null,0,0,0,null,{"$f":"LOOKUP(O131,Names!$A$2:$A$161,Names!$B$2:$B$161)","v":{"$error":"#N/A"}},null,0,0,0,null,{"$f":"LOOKUP(U131,Names!$A$2:$A$161,Names!$B$2:$B$161)","v":{"$error":"#N/A"}},null,0,0,0,null,127,{"$f":"LOOKUP(AB131,Names!$A$2:$A$161,Names!$B$2:$B$161)","v":0},0,"","","",0,0,"","","",0,0,"","","",0,0,127]
[null,"E",128,{"$f":"LOOKUP(C132,Names!$A$2:$A$161,Names!$B$2:$B$161)","v":0},null,0,0,0,152,{"$f":"LOOKUP(I132,Names!$A$2:$A$161,Names!$B$2:$B$161)","v":0},null,0,0,0,null,{"$f":"LOOKUP(O132,Names!$A$2:$A$161,Names!$B$2:$B$161)","v":{"$error":"#N/A"}},null,0,0,0,null,{"$f":"LOOKUP(U132,Names!$A$2:$A$161,Names!$B$2:$B$161)","v":{"$error":"#N/A"}},null,0,0,0,null,128,{"$f":"LOOKUP(AB132,Names!$A$2:$A$161,Names!$B$2:$B$161)","v":0},0,0,"","",0,0,0,"","",0,0,0,"","",0,0,128]
["Tabel ( 33 )","N",129,{"$f":"LOOKUP(C133,Names!$A$2:$A$161,Names!$B$2:$B$161)","v":0},null,0,0,{"$f":"F133+G133","v":0},93,{"$f":"LOOKUP(I133,Names!$A$2:$A$161,Names!$B$2:$B$161)","v":0},null,0,0,{"$f":"L133+M133","v":0},null,{"$f":"LOOKUP(O133,Names!$A$2:$A$161,Names!$B$2:$B$161)","v":{"$error":"#N/A"}},null,0,0,{"$f":"R133+S133","v":0},null,{"$f":"LOOKUP(U133,Names!$A$2:$A$161,Names!$B$2:$B$161)","v":{"$error":"#N/A"}},null,0,0,{"$f":"X133+Y133","v":0},null,129,{"$f":"LOOKUP(AB133,Names!$A$2:$A$161,Names!$B$2:$B$161)","v":0},{"$f":"IF(ISNA(VLOOKUP(AB133,$C$5:$H$164,3,FALSE))=TRUE,\"\",VLOOKUP(AB133,$C$5:$H$164,3,FALSE))","v":0},{"$f":"IF(ISNA(VLOOKUP(AB133,$I$5:$N$164,3,FALSE))=TRUE,\"\",VLOOKUP(AB133,$I$5:$N$164,3,FALSE))","v":0},{"$f":"IF(ISNA(VLOOKUP(AB133,$O$5:$T$164,3,FALSE))=TRUE,\"\",VLOOKUP(AB133,$O$5:$T$164,3,FALSE))","v":""},{"$f":"IF(ISNA(VLOOKUP(AB133,$U$5:$Z$164,3,FALSE))=TRUE,\"\",VLOOKUP(AB133,$U$5:$Z$164,3,FALSE))","v":""},{"$f":"SUM(AD133:AG133)","v":0},{"$f":"IF(ISNA(VLOOKUP(AB133,$C$5:$H$164,4,FALSE))=TRUE,\"\",VLOOKUP(AB133,$C$5:$H$164,4,FALSE))","v":0},{"$f":"IF(ISNA(VLOOKUP(AB133,$I$5:$N$164,4,FALSE))=TRUE,\"\",VLOOKUP(AB133,$I$5:$N$164,4,FALSE))","v":0},{"$f":"IF(ISNA(VLOOKUP(AB133,$O$5:$T$164,4,FALSE))=TRUE,\"\",VLOOKUP(AB133,$O$5:$T$164,4,FALSE))","v":""},{"$f":"IF(ISNA(VLOOKUP(AB133,$U$5:$Z$164,4,FALSE))=TRUE,\"\",VLOOKUP(AB133,$U$5:$Z$164,4,FALSE))","v":""},{"$f":"SUM(AI133:AL133)","v":0},{"$f":"IF(ISNA(VLOOKUP(AB133,$C$5:$H$164,5,FALSE))=TRUE,\"\",VLOOKUP(AB133,$C$5:$H$164,5,FALSE))","v":0},{"$f":"IF(ISNA(VLOOKUP(AB133,$I$5:$N$164,5,FALSE))=TRUE,\"\",VLOOKUP(AB133,$I$5:$N$164,5,FALSE))","v":0},{"$f":"IF(ISNA(VLOOKUP(AB133,$O$5:$T$164,5,FALSE))=TRUE,\"\",VLOOKUP(AB133,$O$5:$T$164,5,FALSE))","v":""},{"$f":"IF(ISNA(VLOOKUP(AB133,$U$5:$Z$164,5,FALSE))=TRUE,\"\",VLOOKUP(AB133,$U$5:$Z$164,5,FALSE))","v":""},{"$f":"SUM(AN133:AQ133)","v":0},{"$f":"AM133+AR133","v":0},129]
[null,"W",130,{"$f":"LOOKUP(C134,Names!$A$2:$A$161,Names!$B$2:$B$161)","v":0},null,0,0,0,113,{"$f":"LOOKUP(I134,Names!$A$2:$A$161,Names!$B$2:$B$161)","v":0},null,0,0,0,null,{"$f":"LOOKUP(O134,Names!$A$2:$A$161,Names!$B$2:$B$161)","v":{"$error":"#N/A"}},null,0,0,0,null,{"$f":"LOOKUP(U134,Names!$A$2:$A$161,Names!$B$2:$B$161)","v":{"$error":"#N/A"}},null,0,0,0,null,130,{"$f":"LOOKUP(AB134,Names!$A$2:$A$161,Names!$B$2:$B$161)","v":0},0,0,"","",0,0,0,"","",0,0,0,"","",0,0,130]
[null,"S",131,{"$f":"LOOKUP(C135,Names!$A$2:$A$161,Names!$B$2:$B$161)","v":0},null,0,0,0,133,{"$f":"LOOKUP(I135,Names!$A$2:$A$161,Names!$B$2:$B$161)","v":0},null,0,0,0,null,{"$f":"LOOKUP(O135,Names!$A$2:$A$161,Names!$B$2:$B$161)","v":{"$error":"#N/A"}},null,0,0,0,null,{"$f":"LOOKUP(U135,Names!$A$2:$A$161,Names!$B$2:$B$161)","v":{"$error":"#N/A"}},null,0,0,0,null,131,{"$f":"LOOKUP(AB135,Names!$A$2:$A$161,Names!$B$2:$B$161)","v":0},0,0,"","",0,0,0,"","",0,0,0,"","",0,0,131]
[null,"E",132,{"$f":"LOOKUP(C136,Names!$A$2:$A$161,Names!$B$2:$B$161)","v":0},null,0,0,0,153,{"$f":"LOOKUP(I136,Names!$A$2:$A$161,Names!$B$2:$B$161)","v":0},null,0,0,0,null,{"$f":"LOOKUP(O136,Names!$A$2:$A$161,Names!$B$2:$B$161)","v":{"$error":"#N/A"}},null,0,0,0,null,{"$f":"LOOKUP(U136,Names!$A$2:$A$161,Names!$B$2:$B$161)","v":{"$error":"#N/A"}},null,0,0,0,null,132,{"$f":"LOOKUP(AB136,Names!$A$2:$A$161,Names!$B$2:$B$161)","v":0},0,0,"","",0,0,0,"","",0,0,0,"","",0,0,132]
["Tabel ( 34 )","N",133,{"$f":"LOOKUP(C137,Names!$A$2:$A$161,Names!$B$2:$B$161)","v":0},null,0,0,0,94,{"$f":"LOOKUP(I137,Names!$A$2:$A$161,Names!$B$2:$B$161)","v":0},null,0,0,0,null,{"$f":"LOOKUP(O137,Names!$A$2:$A$161,Names!$B$2:$B$161)","v":{"$error":"#N/A"}},null,0,0,0,null,{"$f":"LOOKUP(U137,Names!$A$2:$A$161,Names!$B$2:$B$161)","v":{"$error":"#N/A"}},null,0,0,0,null,133,{"$f":"LOOKUP(AB137,Names!$A$2:$A$161,Names!$B$2:$B$161)","v":0},0,0,"","",0,0,0,"","",0,0,0,"","",0,0,133]
[null,"W",134,{"$f":"LOOKUP(C138,Names!$A$2:$A$161,Names!$B$2:$B$161)","v":0},null,0,0,0,114,{"$f":"LOOKUP(I138,Names!$A$2:$A$161,Names!$B$2:$B$161)","v":0},null,0,0,0,null,{"$f":"LOOKUP(O138,Names!$A$2:$A$161,Names!$B$2:$B$161)","v":{"$error":"#N/A"}},null,0,0,0,null,{"$f":"LOOKUP(U138,Names!$A$2:$A$161,Names!$B$2:$B$161)","v":{"$error":"#N/A"}},null,0,0,0,null,134,{"$f":"LOOKUP(AB138,Names!$A$2:$A$161,Names!$B$2:$B$161)","v":0},0,0,"","",0,0,0,"","",0,0,0,"","",0,0,134]
[null,"S",135,{"$f":"LOOKUP(C139,Names!$A$2:$A$161,Names!$B$2:$B$161)","v":0},null,0,0,0,134,{"$f":"LOOKUP(I139,Names!$A$2:$A$161,Names!$B$2:$B$161)","v":0},null,0,0,0,null,{"$f":"LOOKUP(O139,Names!$A$2:$A$161,Names!$B$2:$B$161)","v":{"$error":"#N/A"}},null,0,0,0,null,{"$f":"LOOKUP(U139,Names!$A$2:$A$161,Names!$B$2:$B$161)","v":{"$error":"#N/A"}},null,0,0,0,null,135,{"$f":"LOOKUP(AB139,Names!$A$2:$A$161,Names!$B$2:$B$161)","v":0},0,0,"","",0,0,0,"","",0,0,0,"","",0,0,135]
[null,"E",136,{"$f":"LOOKUP(C140,Names!$A$2:$A$161,Names!$B$2:$B$161)","v":0},null,0,0,0,154,{"$f":"LOOKUP(I140,Names!$A$2:$A$161,Names!$B$2:$B$161)","v":0},null,0,0,0,null,{"$f":"LOOKUP(O140,Names!$A$2:$A$161,Names!$B$2:$B$161)","v":{"$error":"#N/A"}},null,0,0,0,null,{"$f":"LOOKUP(U140,Names!$A$2:$A$161,Names!$B$2:$B$161)","v":{"$error":"#N/A"}},null,0,0,0,null,136,{"$f":"LOOKUP(AB140,Names!$A$2:$A$161,Names!$B$2:$B$161)","v":0},0,0,"","",0,0,0,"","",0,0,0,"","",0,0,136]
["Tabel ( 35 )","N",137,{"$f":"LOOKUP(C141,Names!$A$2:$A$161,Names!$B$2:$B$161)","v":0},null,0,0,0,95,{"$f":"LOOKUP(I141,Names!$A$2:$A$161,Names!$B$2:$B$161)","v":0},null,0,0,0,null,{"$f":"LOOKUP(O141,Names!$A$2:$A$161,Names!$B$2:$B$161)","v":{"$error":"#N/A"}},null,0,0,0,null,{"$f":"LOOKUP(U141,Names!$A$2:$A$161,Names!$B$2:$B$161)","v":{"$error":"#N/A"}},null,0,0,0,null,137,{"$f":"LOOKUP(AB141,Names!$A$2:$A$161,Names!$B$2:$B$161)","v":0},0,0,"","",0,0,0,"","",0,0,0,"","",0,0,137]
[null,"W",138,{"$f":"LOOKUP(C142,Names!$A$2:$A$161,Names!$B$2:$B$161)","v":0},null,0,0,0,115,{"$f":"LOOKUP(I142,Names!$A$2:$A$161,Names!$B$2:$B$161)","v":0},null,0,0,0,null,{"$f":"LOOKUP(O142,Names!$A$2:$A$161,Names!$B$2:$B$161)","v":{"$error":"#N/A"}},null,0,0,0,null,{"$f":"LOOKUP(U142,Names!$A$2:$A$161,Names!$B$2:$B$161)","v":{"$error":"#N/A"}},null,0,0,0,null,138,{"$f":"LOOKUP(AB142,Names!$A$2:$A$161,Names!$B$2:$B$161)","v":0},0,0,"","",0,0,0,"","",0,0,0,"","",0,0,138]
[null,"S",139,{"$f":"LOOKUP(C143,Names!$A$2:$A$161,Names!$B$2:$B$161)","v":0},null,0,0,0,135,{"$f":"LOOKUP(I143,Names!$A$2:$A$161,Names!$B$2:$B$161)","v":0},null,0,0,0,null,{"$f":"LOOKUP(O143,Names!$A$2:$A$161,Names!$B$2:$B$161)","v":{"$error":"#N/A"}},null,0,0,0,null,{"$f":"LOOKUP(U143,Names!$A$2:$A$161,Names!$B$2:$B$161)","v":{"$error":"#N/A"}},null,0,0,0,null,139,{"$f":"LOOKUP(AB143,Names!$A$2:$A$161,Names!$B$2:$B$161)","v":0},0,0,"","",0,0,0,"","",0,0,0,"","",0,0,139]
[null,"E",140,{"$f":"LOOKUP(C144,Names!$A$2:$A$161,Names!$B$2:$B$161)","v":0},null,0,0,0,155,{"$f":"LOOKUP(I144,Names!$A$2:$A$161,Names!$B$2:$B$161)","v":0},null,0,0,0,null,{"$f":"LOOKUP(O144,Names!$A$2:$A$161,Names!$B$2:$B$161)","v":{"$error":"#N/A"}},null,0,0,0,null,{"$f":"LOOKUP(U144,Names!$A$2:$A$161,Names!$B$2:$B$161)","v":{"$error":"#N/A"}},null,0,0,0,null,140,{"$f":"LOOKUP(AB144,Names!$A$2:$A$161,Names!$B$2:$B$161)","v":0},0,0,"","",0,0,0,"","",0,0,0,"","",0,0,140]
["Tabel ( 36 )","N",141,{"$f":"LOOKUP(C145,Names!$A$2:$A$161,Names!$B$2:$B$161)","v":0},null,0,0,0,96,{"$f":"LOOKUP(I145,Names!$A$2:$A$161,Names!$B$2:$B$161)","v":0},null,0,0,0,null,{"$f":"LOOKUP(O145,Names!$A$2:$A$161,Names!$B$2:$B$161)","v":{"$error":"#N/A"}},null,0,0,0,null,{"$f":"LOOKUP(U145,Names!$A$2:$A$161,Names!$B$2:$B$161)","v":{"$error":"#N/A"}},null,0,0,0,null,141,{"$f":"LOOKUP(AB145,Names!$A$2:$A$161,Names!$B$2:$B$161)","v":0},0,"","","",0,0,"","","",0,0,"","","",0,0,141]
[null,"W",142,{"$f":"LOOKUP(C146,Names!$A$2:$A$161,Names!$B$2:$B$161)","v":0},null,0,0,0,116,{"$f":"LOOKUP(I146,Names!$A$2:$A$161,Names!$B$2:$B$161)","v":0},null,0,0,0,null,{"$f":"LOOKUP(O146,Names!$A$2:$A$161,Names!$B$2:$B$161)","v":{"$error":"#N/A"}},null,0,0,0,null,{"$f":"LOOKUP(U146,Names!$A$2:$A$161,Names!$B$2:$B$161)","v":{"$error":"#N/A"}},null,0,0,0,null,142,{"$f":"LOOKUP(AB146,Names!$A$2:$A$161,Names!$B$2:$B$161)","v":0},0,"","","",0,0,"","","",0,0,"","","",0,0,142]
[null,"S",143,{"$f":"LOOKUP(C147,Names!$A$2:$A$161,Names!$B$2:$B$161)","v":0},null,0,0,0,136,{"$f":"LOOKUP(I147,Names!$A$2:$A$161,Names!$B$2:$B$161)","v":0},null,0,0,0,null,{"$f":"LOOKUP(O147,Names!$A$2:$A$161,Names!$B$2:$B$161)","v":{"$error":"#N/A"}},null,0,0,0,null,{"$f":"LOOKUP(U147,Names!$A$2:$A$161,Names!$B$2:$B$161)","v":{"$error":"#N/A"}},null,0,0,0,null,143,{"$f":"LOOKUP(AB147,Names!$A$2:$A$161,Names!$B$2:$B$161)","v":0},0,"","","",0,0,"","","",0,0,"","","",0,0,143]
[null,"E",144,{"$f":"LOOKUP(C148,Names!$A$2:$A$161,Names!$B$2:$B$161)","v":0},null,0,0,0,156,{"$f":"LOOKUP(I148,Names!$A$2:$A$161,Names!$B$2:$B$161)","v":0},null,0,0,0,null,{"$f":"LOOKUP(O148,Names!$A$2:$A$161,Names!$B$2:$B$161)","v":{"$error":"#N/A"}},null,0,0,0,null,{"$f":"LOOKUP(U148,Names!$A$2:$A$161,Names!$B$2:$B$161)","v":{"$error":"#N/A"}},null,0,0,0,null,144,{"$f":"LOOKUP(AB148,Names!$A$2:$A$161,Names!$B$2:$B$161)","v":0},0,"","","",0,0,"","","",0,0,"","","",0,0,144]
["Tabel ( 37 )","N",145,{"$f":"LOOKUP(C149,Names!$A$2:$A$161,Names!$B$2:$B$161)","v":0},null,0,0,0,97,{"$f":"LOOKUP(I149,Names!$A$2:$A$161,Names!$B$2:$B$161)","v":0},null,0,0,0,null,{"$f":"LOOKUP(O149,Names!$A$2:$A$161,Names!$B$2:$B$161)","v":{"$error":"#N/A"}},null,0,0,0,null,{"$f":"LOOKUP(U149,Names!$A$2:$A$161,Names!$B$2:$B$161)","v":{"$error":"#N/A"}},null,0,0,0,null,145,{"$f":"LOOKUP(AB149,Names!$A$2:$A$161,Names!$B$2:$B$161)","v":0},0,"","","",0,0,"","","",0,0,"","","",0,0,145]
[null,"W",146,{"$f":"LOOKUP(C150,Names!$A$2:$A$161,Names!$B$2:$B$161)","v":0},null,0,0,0,117,{"$f":"LOOKUP(I150,Names!$A$2:$A$161,Names!$B$2:$B$161)","v":0},null,0,0,0,null,{"$f":"LOOKUP(O150,Names!$A$2:$A$161,Names!$B$2:$B$161)","v":{"$error":"#N/A"}},null,0,0,0,null,{"$f":"LOOKUP(U150,Names!$A$2:$A$161,Names!$B$2:$B$161)","v":{"$error":"#N/A"}},null,0,0,0,null,146,{"$f":"LOOKUP(AB150,Names!$A$2:$A$161,Names!$B$2:$B$161)","v":0},0,"","","",0,0,"","","",0,0,"","","",0,0,146]
[null,"S",147,{"$f":"LOOKUP(C151,Names!$A$2:$A$161,Names!$B$2:$B$161)","v":0},null,0,0,0,137,{"$f":"LOOKUP(I151,Names!$A$2:$A$161,Names!$B$2:$B$161)","v":0},null,0,0,0,null,{"$f":"LOOKUP(O151,Names!$A$2:$A$161,Names!$B$2:$B$161)","v":{"$error":"#N/A"}},null,0,0,0,null,{"$f":"LOOKUP(U151,Names!$A$2:$A$161,Names!$B$2:$B$161)","v":{"$error":"#N/A"}},null,0,0,0,null,147,{"$f":"LOOKUP(AB151,Names!$A$2:$A$161,Names!$B$2:$B$161)","v":0},0,"","","",0,0,"","","",0,0,"","","",0,0,147]
[null,"E",148,{"$f":"LOOKUP(C152,Names!$A$2:$A$161,Names!$B$2:$B$161)","v":0},null,0,0,0,157,{"$f":"LOOKUP(I152,Names!$A$2:$A$161,Names!$B$2:$B$161)","v":0},null,0,0,0,null,{"$f":"LOOKUP(O152,Names!$A$2:$A$161,Names!$B$2:$B$161)","v":{"$error":"#N/A"}},null,0,0,0,null,{"$f":"LOOKUP(U152,Names!$A$2:$A$161,Names!$B$2:$B$161)","v":{"$error":"#N/A"}},null,0,0,0,null,148,{"$f":"LOOKUP(AB152,Names!$A$2:$A$161,Names!$B$2:$B$161)","v":0},0,0,"","",0,0,0,"","",0,0,0,"","",0,0,148]
["Tabel ( 38 )","N",149,{"$f":"LOOKUP(C153,Names!$A$2:$A$161,Names!$B$2:$B$161)","v":0},null,0,0,0,98,{"$f":"LOOKUP(I153,Names!$A$2:$A$161,Names!$B$2:$B$161)","v":0},null,0,0,0,null,{"$f":"LOOKUP(O153,Names!$A$2:$A$161,Names!$B$2:$B$161)","v":{"$error":"#N/A"}},null,0,0,0,null,{"$f":"LOOKUP(U153,Names!$A$2:$A$161,Names!$B$2:$B$161)","v":{"$error":"#N/A"}},null,0,0,0,null,149,{"$f":"LOOKUP(AB153,Names!$A$2:$A$161,Names!$B$2:$B$161)","v":0},0,0,"","",0,0,0,"","",0,0,0,"","",0,0,149]
[null,"W",150,{"$f":"LOOKUP(C154,Names!$A$2:$A$161,Names!$B$2:$B$161)","v":0},null,0,0,0,118,{"$f":"LOOKUP(I154,Names!$A$2:$A$161,Names!$B$2:$B$161)","v":0},null,0,0,0,null,{"$f":"LOOKUP(O154,Names!$A$2:$A$161,Names!$B$2:$B$161)","v":{"$error":"#N/A"}},null,0,0,0,null,{"$f":"LOOKUP(U154,Names!$A$2:$A$161,Names!$B$2:$B$161)","v":{"$error":"#N/A"}},null,0,0,0,null,150,{"$f":"LOOKUP(AB154,Names!$A$2:$A$161,Names!$B$2:$B$161)","v":0},0,0,"","",0,0,0,"","",0,0,0,"","",0,0,150]
[null,"S",151,{"$f":"LOOKUP(C155,Names!$A$2:$A$161,Names!$B$2:$B$161)","v":0},null,0,0,0,138,{"$f":"LOOKUP(I155,Names!$A$2:$A$161,Names!$B$2:$B$161)","v":0},null,0,0,0,null,{"$f":"LOOKUP(O155,Names!$A$2:$A$161,Names!$B$2:$B$161)","v":{"$error":"#N/A"}},null,0,0,0,null,{"$f":"LOOKUP(U155,Names!$A$2:$A$161,Names!$B$2:$B$161)","v":{"$error":"#N/A"}},null,0,0,0,null,151,{"$f":"LOOKUP(AB155,Names!$A$2:$A$161,Names!$B$2:$B$161)","v":0},0,0,"","",0,0,0,"","",0,0,0,"","",0,0,151]
[null,"E",152,{"$f":"LOOKUP(C156,Names!$A$2:$A$161,Names!$B$2:$B$161)","v":0},null,0,0,0,158,{"$f":"LOOKUP(I156,Names!$A$2:$A$161,Names!$B$2:$B$161)","v":0},null,0,0,0,null,{"$f":"LOOKUP(O156,Names!$A$2:$A$161,Names!$B$2:$B$161)","v":{"$error":"#N/A"}},null,0,0,0,null,{"$f":"LOOKUP(U156,Names!$A$2:$A$161,Names!$B$2:$B$161)","v":{"$error":"#N/A"}},null,0,0,0,null,152,{"$f":"LOOKUP(AB156,Names!$A$2:$A$161,Names!$B$2:$B$161)","v":0},0,0,"","",0,0,0,"","",0,0,0,"","",0,0,152]
["Tabel ( 39 )","N",153,{"$f":"LOOKUP(C157,Names!$A$2:$A$161,Names!$B$2:$B$161)","v":0},null,0,0,0,99,{"$f":"LOOKUP(I157,Names!$A$2:$A$161,Names!$B$2:$B$161)","v":0},null,0,0,0,null,{"$f":"LOOKUP(O157,Names!$A$2:$A$161,Names!$B$2:$B$161)","v":{"$error":"#N/A"}},null,0,0,0,null,{"$f":"LOOKUP(U157,Names!$A$2:$A$161,Names!$B$2:$B$161)","v":{"$error":"#N/A"}},null,0,0,0,null,153,{"$f":"LOOKUP(AB157,Names!$A$2:$A$161,Names!$B$2:$B$161)","v":0},0,0,"","",0,0,0,"","",0,0,0,"","",0,0,153]
[null,"W",154,{"$f":"LOOKUP(C158,Names!$A$2:$A$161,Names!$B$2:$B$161)","v":0},null,0,0,0,119,{"$f":"LOOKUP(I158,Names!$A$2:$A$161,Names!$B$2:$B$161)","v":0},null,0,0,0,null,{"$f":"LOOKUP(O158,Names!$A$2:$A$161,Names!$B$2:$B$161)","v":{"$error":"#N/A"}},null,0,0,0,null,{"$f":"LOOKUP(U158,Names!$A$2:$A$161,Names!$B$2:$B$161)","v":{"$error":"#N/A"}},null,0,0,0,null,154,{"$f":"LOOKUP(AB158,Names!$A$2:$A$161,Names!$B$2:$B$161)","v":0},0,0,"","",0,0,0,"","",0,0,0,"","",0,0,154]
[null,"S",155,{"$f":"LOOKUP(C159,Names!$A$2:$A$161,Names!$B$2:$B$161)","v":0},null,0,0,0,139,{"$f":"LOOKUP(I159,Names!$A$2:$A$161,Names!$B$2:$B$161)","v":0},null,0,0,0,null,{"$f":"LOOKUP(O159,Names!$A$2:$A$161,Names!$B$2:$B$161)","v":{"$error":"#N/A"}},null,0,0,0,null,{"$f":"LOOKUP(U159,Names!$A$2:$A$161,Names!$B$2:$B$161)","v":{"$error":"#N/A"}},null,0,0,0,null,155,{"$f":"LOOKUP(AB159,Names!$A$2:$A$161,Names!$B$2:$B$161)","v":0},0,0,"","",0,0,0,"","",0,0,0,"","",0,0,155]
[null,"E",156,{"$f":"LOOKUP(C160,Names!$A$2:$A$161,Names!$B$2:$B$161)","v":0},null,0,0,0,159,{"$f":"LOOKUP(I160,Names!$A$2:$A$161,Names!$B$2:$B$161)","v":0},null,0,0,0,null,{"$f":"LOOKUP(O160,Names!$A$2:$A$161,Names!$B$2:$B$161)","v":{"$error":"#N/A"}},null,0,0,0,null,{"$f":"LOOKUP(U160,Names!$A$2:$A$161,Names!$B$2:$B$161)","v":{"$error":"#N/A"}},null,0,0,0,null,156,{"$f":"LOOKUP(AB160,Names!$A$2:$A$161,Names!$B$2:$B$161)","v":0},0,0,"","",0,0,0,"","",0,0,0,"","",0,0,156]
["Tabel ( 40 )","N",157,{"$f":"LOOKUP(C161,Names!$A$2:$A$161,Names!$B$2:$B$161)","v":0},null,0,0,0,100,{"$f":"LOOKUP(I161,Names!$A$2:$A$161,Names!$B$2:$B$161)","v":0},null,0,0,0,null,{"$f":"LOOKUP(O161,Names!$A$2:$A$161,Names!$B$2:$B$161)","v":{"$error":"#N/A"}},null,0,0,0,null,{"$f":"LOOKUP(U161,Names!$A$2:$A$161,Names!$B$2:$B$161)","v":{"$error":"#N/A"}},null,0,0,0,null,157,{"$f":"LOOKUP(AB161,Names!$A$2:$A$161,Names!$B$2:$B$161)","v":0},0,0,"","",0,0,0,"","",0,0,0,"","",0,0,157]
[null,"W",158,{"$f":"LOOKUP(C162,Names!$A$2:$A$161,Names!$B$2:$B$161)","v":0},null,0,0,0,120,{"$f":"LOOKUP(I162,Names!$A$2:$A$161,Names!$B$2:$B$161)","v":0},null,0,0,0,null,{"$f":"LOOKUP(O162,Names!$A$2:$A$161,Names!$B$2:$B$161)","v":{"$error":"#N/A"}},null,0,0,0,null,{"$f":"LOOKUP(U162,Names!$A$2:$A$161,Names!$B$2:$B$161)","v":{"$error":"#N/A"}},null,0,0,0,null,158,{"$f":"LOOKUP(AB162,Names!$A$2:$A$161,Names!$B$2:$B$161)","v":0},0,0,"","",0,0,0,"","",0,0,0,"","",0,0,158]
[null,"S",159,{"$f":"LOOKUP(C163,Names!$A$2:$A$161,Names!$B$2:$B$161)","v":0},null,0,0,0,140,{"$f":"LOOKUP(I163,Names!$A$2:$A$161,Names!$B$2:$B$161)","v":0},null,0,0,0,null,{"$f":"LOOKUP(O163,Names!$A$2:$A$161,Names!$B$2:$B$161)","v":{"$error":"#N/A"}},null,0,0,0,null,{"$f":"LOOKUP(U163,Names!$A$2:$A$161,Names!$B$2:$B$161)","v":{"$error":"#N/A"}},null,0,0,0,null,159,{"$f":"LOOKUP(AB163,Names!$A$2:$A$161,Names!$B$2:$B$161)","v":0},0,0,"","",0,0,0,"","",0,0,0,"","",0,0,159]
[null,"E",160,{"$f":"LOOKUP(C164,Names!$A$2:$A$161,Names!$B$2:$B$161)","v":0},null,0,0,0,160,{"$f":"LOOKUP(I164,Names!$A$2:$A$161,Names!$B$2:$B$161)","v":0},null,0,0,0,null,{"$f":"LOOKUP(O164,Names!$A$2:$A$161,Names!$B$2:$B$161)","v":{"$error":"#N/A"}},null,0,0,0,null,{"$f":"LOOKUP(U164,Names!$A$2:$A$161,Names!$B$2:$B$161)","v":{"$error":"#N/A"}},null,0,0,0,null,160,{"$f":"LOOKUP(AB164,Names!$A$2:$A$161,Names!$B$2:$B$161)","v":0},0,0,"","",0,0,0,"","",0,0,0,"","",0,0,160]

{"sheet":"R1","index":2,"n_rows":108,"n_cols":28,"rows_kept":108,"cut":false,"hidden":false,"merged":[[52,10,52,12],[52,17,52,19],[15,3,15,5],[9,3,9,5],[0,24,2,26],[15,24,15,26],[9,24,9,26],[15,17,15,19],[9,17,9,19],[9,10,9,12],[15,10,15,12],[3,3,3,5],[3,10,3,12],[3,17,3,19],[3,24,3,26],[0,11,0,17],[21,24,21,26],[66,24,66,26],[66,3,66,5],[66,10,66,12],[66,17,66,19],[65,10,65,19],[58,24,58,26],[46,3,46,5],[46,10,46,12],[46,17,46,19],[46,24,46,26],[52,24,52,26],[58,3,58,5],[58,10,58,12],[58,17,58,19],[52,3,52,5],[2,11,2,17],[34,24,34,26],[40,3,40,5],[40,10,40,12],[40,17,40,19],[40,24,40,26],[34,3,34,5],[34,10,34,12],[34,17,34,19],[27,3,27,5],[27,10,27,12],[21,17,21,19],[27,17,27,19],[27,24,27,26],[21,10,21,12],[21,3,21,5]]}
[null,null,null,null,null,null,null,null,null,null,"التوقيت :","Round ( 1 )",null,null,null,null,null,null,null,null,null,null,null,null,{"$f":"Score!T1","v":"بطولة الجمهورية الثانية\nللفردي المفتوح"}]
[]
[null,null,null,null,null,null,null,null,null,null,"2.00 PM","Tab."]
[null,null,null,1,null,null,null,null,null,null,2,null,null,null,null,null,null,3,null,null,null,null,null,null,4]
[null,null,null,"Names","Sc.","Tab",null,null,null,null,"Names","Sc.","Tab",null,null,null,null,"Names","Sc.","Tab",null,null,null,null,"Names","Sc.","Tab"]
["N",1,{"$f":"Score!C5","v":1},{"$f":"LOOKUP(C6,Names!$A$2:$A$161,Names!$B$2:$B$161)","v":"راجي صبحي  "},95,{"$f":"Sheet1!$M$4","v":0},{"$f":"F69","v":21},"N",1,{"$f":"Score!C9","v":5},{"$f":"LOOKUP(J6,Names!$A$2:$A$161,Names!$B$2:$B$161)","v":"محمد عصام الدين القاضي "},136,{"$f":"Sheet1!$M$4","v":0},{"$f":"F70","v":19},"N",1,{"$f":"Score!C13","v":9},{"$f":"LOOKUP(Q6,Names!$A$2:$A$161,Names!$B$2:$B$161)","v":"رأفت الصياد"},36,{"$f":"Sheet1!$M$4","v":0},{"$f":"F71","v":18},"N",1,{"$f":"Score!C17","v":13},{"$f":"LOOKUP(X6,Names!$A$2:$A$161,Names!$B$2:$B$161)","v":"أحمد جميل السيد "},83,{"$f":"Sheet1!$M$4","v":0},{"$f":"F72","v":17}]
["W",2,{"$f":"Score!C6","v":2},{"$f":"LOOKUP(C7,Names!$A$2:$A$161,Names!$B$2:$B$161)","v":"شريف أحمد محمد حمروش"},65,{"$f":"Sheet1!$M$5","v":0},{"$f":"M69","v":21},"W",2,{"$f":"Score!C10","v":6},{"$f":"LOOKUP(J7,Names!$A$2:$A$161,Names!$B$2:$B$161)","v":"إبراهيم عرفان السقا  "},126,{"$f":"Sheet1!$M$5","v":0},{"$f":"M70","v":19},"W",2,{"$f":"Score!C14","v":10},{"$f":"LOOKUP(Q7,Names!$A$2:$A$161,Names!$B$2:$B$161)","v":"نبيل خلف زكي حسنين "},165,{"$f":"Sheet1!$M$5","v":0},{"$f":"M71","v":18},"W",2,{"$f":"Score!C18","v":14},{"$f":"LOOKUP(X7,Names!$A$2:$A$161,Names!$B$2:$B$161)","v":"عماد محمد فؤاد"},56,{"$f":"Sheet1!$M$5","v":0},{"$f":"M72","v":17}]
["S",3,{"$f":"Score!C7","v":3},{"$f":"LOOKUP(C8,Names!$A$2:$A$161,Names!$B$2:$B$161)","v":"إيهاب يوسف عمارة "},133,{"$f":"Sheet1!$M$6","v":0},{"$f":"T69","v":21},"S",3,{"$f":"Score!C11","v":7},{"$f":"LOOKUP(J8,Names!$A$2:$A$161,Names!$B$2:$B$161)","v":"باسم أسحق صموائيل"},87,{"$f":"Sheet1!$M$6","v":0},{"$f":"T70","v":19},"S",3,{"$f":"Score!C15","v":11},{"$f":"LOOKUP(Q8,Names!$A$2:$A$161,Names!$B$2:$B$161)","v":"معتز محمد مدبولي "},17,{"$f":"Sheet1!$M$6","v":0},{"$f":"T71","v":18},"S",3,{"$f":"Score!C19","v":15},{"$f":"LOOKUP(X8,Names!$A$2:$A$161,Names!$B$2:$B$161)","v":"أحمد رمزي الديب "},190,{"$f":"Sheet1!$M$6","v":0},{"$f":"T72","v":17}]
["E",4,{"$f":"Score!C8","v":4},{"$f":"LOOKUP(C9,Names!$A$2:$A$161,Names!$B$2:$B$161)","v":"محمد سعيد الفطاطري"},103,{"$f":"Sheet1!$M$7","v":0},{"$f":"AA69","v":21},"E",4,{"$f":"Score!C12","v":8},{"$f":"LOOKUP(J9,Names!$A$2:$A$161,Names!$B$2:$B$161)","v":"إيهاب  محمد الزهيري "},78,{"$f":"Sheet1!$M$7","v":0},{"$f":"AA70","v":19},"E",4,{"$f":"Score!C16","v":12},{"$f":"LOOKUP(Q9,Names!$A$2:$A$161,Names!$B$2:$B$161)","v":"أمير كمال جميل"},98,{"$f":"Sheet1!$M$7","v":0},{"$f":"AA71","v":18},"E",4,{"$f":"Score!C20","v":16},{"$f":"LOOKUP(X9,Names!$A$2:$A$161,Names!$B$2:$B$161)","v":"عبد الرحمن سعد موسى"},46,{"$f":"Sheet1!$M$7","v":0},{"$f":"AA72","v":17}]
[null,null,null,5,null,null,null,null,null,null,6,null,null,null,null,null,null,7,null,null,null,null,null,null,8]
[null,null,null,"Names","Sc.","Tab",null,null,null,null,"Names","Sc.","Tab",null,null,null,null,"Names","Sc.","Tab",null,null,null,null,"Names","Sc.","Tab"]
["N",1,{"$f":"Score!C21","v":17},{"$f":"LOOKUP(C12,Names!$A$2:$A$161,Names!$B$2:$B$161)","v":"أحمد علي خليل حسن "},38,{"$f":"Sheet1!$M$4","v":0},{"$f":"F73","v":16},"N",1,{"$f":"Score!C25","v":21},{"$f":"LOOKUP(J12,Names!$A$2:$A$161,Names!$B$2:$B$161)","v":"أحمد محمد حمدي صالح "},196,{"$f":"Sheet1!$M$4","v":0},{"$f":"F74","v":15},"N",1,{"$f":"Score!C29","v":25},{"$f":"LOOKUP(Q12,Names!$A$2:$A$161,Names!$B$2:$B$161)","v":"خالد شباره "},149,{"$f":"Sheet1!$M$4","v":0},{"$f":"F75","v":14},"N",1,{"$f":"Score!C33","v":29},{"$f":"LOOKUP(X12,Names!$A$2:$A$161,Names!$B$2:$B$161)","v":"عبد الرحمن عثمان"},103,{"$f":"Sheet1!$M$4","v":0},{"$f":"F76","v":13}]
["W",2,{"$f":"Score!C22","v":18},{"$f":"LOOKUP(C13,Names!$A$2:$A$161,Names!$B$2:$B$161)","v":"أحمد ممدوح عبد الدايم"},-19,{"$f":"Sheet1!$M$5","v":0},{"$f":"M73","v":16},"W",2,{"$f":"Score!C26","v":22},{"$f":"LOOKUP(J13,Names!$A$2:$A$161,Names!$B$2:$B$161)","v":"طه إبراهيم طه  "},56,{"$f":"Sheet1!$M$5","v":0},{"$f":"M74","v":15},"W",2,{"$f":"Score!C30","v":26},{"$f":"LOOKUP(Q13,Names!$A$2:$A$161,Names!$B$2:$B$161)","v":"أحمد الطنطاوي "},85,{"$f":"Sheet1!$M$5","v":0},{"$f":"M75","v":14},"W",2,{"$f":"Score!C34","v":30},{"$f":"LOOKUP(X13,Names!$A$2:$A$161,Names!$B$2:$B$161)","v":"شريف جلال سماحة "},180,{"$f":"Sheet1!$M$5","v":0},{"$f":"M76","v":13}]
["S",3,{"$f":"Score!C23","v":19},{"$f":"LOOKUP(C14,Names!$A$2:$A$161,Names!$B$2:$B$161)","v":"إبراهيم عنتر  "},167,{"$f":"Sheet1!$M$6","v":0},{"$f":"T73","v":16},"S",3,{"$f":"Score!C27","v":23},{"$f":"LOOKUP(J14,Names!$A$2:$A$161,Names!$B$2:$B$161)","v":"مصطفى يوسف محمد"},107,{"$f":"Sheet1!$M$6","v":0},{"$f":"T74","v":15},"S",3,{"$f":"Score!C31","v":27},{"$f":"LOOKUP(Q14,Names!$A$2:$A$161,Names!$B$2:$B$161)","v":"سمير الحوفي"},-4,{"$f":"Sheet1!$M$6","v":0},{"$f":"T75","v":14},"S",3,{"$f":"Score!C35","v":31},{"$f":"LOOKUP(X14,Names!$A$2:$A$161,Names!$B$2:$B$161)","v":"ماجد  محمد  فكري "},166,{"$f":"Sheet1!$M$6","v":0},{"$f":"T76","v":13}]
["E",4,{"$f":"Score!C24","v":20},{"$f":"LOOKUP(C15,Names!$A$2:$A$161,Names!$B$2:$B$161)","v":"إسلام قاسم"},106,{"$f":"Sheet1!$M$7","v":0},{"$f":"AA73","v":16},"E",4,{"$f":"Score!C28","v":24},{"$f":"LOOKUP(J15,Names!$A$2:$A$161,Names!$B$2:$B$161)","v":"هيثم محمد شبانة"},-37,{"$f":"Sheet1!$M$7","v":0},{"$f":"AA74","v":15},"E",4,{"$f":"Score!C32","v":28},{"$f":"LOOKUP(Q15,Names!$A$2:$A$161,Names!$B$2:$B$161)","v":"عمرو محسن فرج "},121,{"$f":"Sheet1!$M$7","v":0},{"$f":"AA75","v":14},"E",4,{"$f":"Score!C36","v":32},{"$f":"LOOKUP(X15,Names!$A$2:$A$161,Names!$B$2:$B$161)","v":"حمزة أحمد محمد"},12,{"$f":"Sheet1!$M$7","v":0},{"$f":"AA76","v":13}]
[null,null,null,9,null,null,null,null,null,null,10,null,null,null,null,null,null,11,null,null,null,null,null,null,12]
[null,null,null,"Names","Sc.","Tab",null,null,null,null,"Names","Sc.","Tab",null,null,null,null,"Names","Sc.","Tab",null,null,null,null,"Names","Sc.","Tab"]
["N",1,{"$f":"Score!C37","v":33},{"$f":"LOOKUP(C18,Names!$A$2:$A$161,Names!$B$2:$B$161)","v":"أحمد بسيوني"},131,{"$f":"Sheet1!$M$4","v":0},{"$f":"F77","v":12},"N",1,{"$f":"Score!C41","v":37},{"$f":"LOOKUP(J18,Names!$A$2:$A$161,Names!$B$2:$B$161)","v":"حمدي محمود عبد العزيز"},91,{"$f":"Sheet1!$M$4","v":0},{"$f":"F78","v":11},"N",1,{"$f":"Score!C45","v":41},{"$f":"LOOKUP(Q18,Names!$A$2:$A$161,Names!$B$2:$B$161)","v":"خالد مصطفى عزت "},133,{"$f":"Sheet1!$M$4","v":0},{"$f":"F79","v":10},"N",1,{"$f":"Score!C49","v":45},{"$f":"LOOKUP(X18,Names!$A$2:$A$161,Names!$B$2:$B$161)","v":"رضا هنري"},25,{"$f":"Sheet1!$M$4","v":0},{"$f":"F80","v":9}]
["W",2,{"$f":"Score!C38","v":34},{"$f":"LOOKUP(C19,Names!$A$2:$A$161,Names!$B$2:$B$161)","v":"عماد الدين جمعة هلال  "},-6,{"$f":"Sheet1!$M$5","v":0},{"$f":"M77","v":12},"W",2,{"$f":"Score!C42","v":38},{"$f":"LOOKUP(J19,Names!$A$2:$A$161,Names!$B$2:$B$161)","v":"أسامة لطفي نجيب  "},124,{"$f":"Sheet1!$M$5","v":0},{"$f":"M78","v":11},"W",2,{"$f":"Score!C46","v":42},{"$f":"LOOKUP(Q19,Names!$A$2:$A$161,Names!$B$2:$B$161)","v":"محمد عبد الهادي أبو القاسم "},55,{"$f":"Sheet1!$M$5","v":0},{"$f":"M79","v":10},"W",2,{"$f":"Score!C50","v":46},{"$f":"LOOKUP(X19,Names!$A$2:$A$161,Names!$B$2:$B$161)","v":"علاء شوقي جبريل  "},165,{"$f":"Sheet1!$M$5","v":0},{"$f":"M80","v":9}]
["S",3,{"$f":"Score!C39","v":35},{"$f":"LOOKUP(C20,Names!$A$2:$A$161,Names!$B$2:$B$161)","v":"عمرو عماد الدين أبوالعلا  "},142,{"$f":"Sheet1!$M$6","v":0},{"$f":"T77","v":12},"S",3,{"$f":"Score!C43","v":39},{"$f":"LOOKUP(J20,Names!$A$2:$A$161,Names!$B$2:$B$161)","v":"إسلام أحمد السيد عمر"},115,{"$f":"Sheet1!$M$6","v":0},{"$f":"T78","v":11},"S",3,{"$f":"Score!C47","v":43},{"$f":"LOOKUP(Q20,Names!$A$2:$A$161,Names!$B$2:$B$161)","v":"أمير محمد خطاب  "},203,{"$f":"Sheet1!$M$6","v":0},{"$f":"T79","v":10},"S",3,{"$f":"Score!C51","v":47},{"$f":"LOOKUP(X20,Names!$A$2:$A$161,Names!$B$2:$B$161)","v":"هاني فكري المراكبي"},-11,{"$f":"Sheet1!$M$6","v":0},{"$f":"T80","v":9}]
["E",4,{"$f":"Score!C40","v":36},{"$f":"LOOKUP(C21,Names!$A$2:$A$161,Names!$B$2:$B$161)","v":"أحمد عبد الفتاح عرفه "},100,{"$f":"Sheet1!$M$7","v":0},{"$f":"AA77","v":12},"E",4,{"$f":"Score!C44","v":40},{"$f":"LOOKUP(J21,Names!$A$2:$A$161,Names!$B$2:$B$161)","v":"احمد محمود عبد الرزاق  "},150,{"$f":"Sheet1!$M$7","v":0},{"$f":"AA78","v":11},"E",4,{"$f":"Score!C48","v":44},{"$f":"LOOKUP(Q21,Names!$A$2:$A$161,Names!$B$2:$B$161)","v":"جمال السيد توفيق محمد "},87,{"$f":"Sheet1!$M$7","v":0},{"$f":"AA79","v":10},"E",4,{"$f":"Score!C52","v":48},{"$f":"LOOKUP(X21,Names!$A$2:$A$161,Names!$B$2:$B$161)","v":"محمد ناجي زاهر بلبع "},182,{"$f":"Sheet1!$M$7","v":0},{"$f":"AA80","v":9}]
[null,null,null,13,null,null,null,null,null,null,14,null,null,null,null,null,null,15,null,null,null,null,null,null,16]
[null,null,null,"Names","Sc.","Tab",null,null,null,null,"Names","Sc.","Tab",null,null,null,null,"Names","Sc.","Tab",null,null,null,null,"Names","Sc.","Tab"]
["N",1,{"$f":"Score!C53","v":49},{"$f":"LOOKUP(C24,Names!$A$2:$A$161,Names!$B$2:$B$161)","v":"هيثم العشماوي "},126,{"$f":"Sheet1!$M$4","v":0},{"$f":"F81","v":8},"N",1,{"$f":"Score!C57","v":53},{"$f":"LOOKUP(J24,Names!$A$2:$A$161,Names!$B$2:$B$161)","v":"أحمد محمد شوقي هيبه"},104,{"$f":"Sheet1!$M$4","v":0},{"$f":"F82","v":7},"N",1,{"$f":"Score!C61","v":57},{"$f":"LOOKUP(Q24,Names!$A$2:$A$161,Names!$B$2:$B$161)","v":"مصطفى كامل الشحري"},50,{"$f":"Sheet1!$M$4","v":0},{"$f":"F83","v":6},"N",1,{"$f":"Score!C65","v":61},{"$f":"LOOKUP(X24,Names!$A$2:$A$161,Names!$B$2:$B$161)","v":"كريم إيهاب عامر  "},75,{"$f":"Sheet1!$M$4","v":0},{"$f":"F84","v":5}]
["W",2,{"$f":"Score!C54","v":50},{"$f":"LOOKUP(C25,Names!$A$2:$A$161,Names!$B$2:$B$161)","v":"فادي ناجح"},101,{"$f":"Sheet1!$M$5","v":0},{"$f":"M81","v":8},"W",2,{"$f":"Score!C58","v":54},{"$f":"LOOKUP(J25,Names!$A$2:$A$161,Names!$B$2:$B$161)","v":"تامر رشاد   "},100,{"$f":"Sheet1!$M$5","v":0},{"$f":"M82","v":7},"W",2,{"$f":"Score!C62","v":58},{"$f":"LOOKUP(Q25,Names!$A$2:$A$161,Names!$B$2:$B$161)","v":"أحمد إبراهيم غانم "},165,{"$f":"Sheet1!$M$5","v":0},{"$f":"M83","v":6},"W",2,{"$f":"Score!C66","v":62},{"$f":"LOOKUP(X25,Names!$A$2:$A$161,Names!$B$2:$B$161)","v":"محمد محمود مسعود  "},77,{"$f":"Sheet1!$M$5","v":0},{"$f":"M84","v":5}]
["S",3,{"$f":"Score!C55","v":51},{"$f":"LOOKUP(C26,Names!$A$2:$A$161,Names!$B$2:$B$161)","v":"أحمد أحمد مرسي عبد الله "},111,{"$f":"Sheet1!$M$6","v":0},{"$f":"T81","v":8},"S",3,{"$f":"Score!C59","v":55},{"$f":"LOOKUP(J26,Names!$A$2:$A$161,Names!$B$2:$B$161)","v":"ناجي بلبع"},143,{"$f":"Sheet1!$M$6","v":0},{"$f":"T82","v":7},"S",3,{"$f":"Score!C63","v":59},{"$f":"LOOKUP(Q26,Names!$A$2:$A$161,Names!$B$2:$B$161)","v":"هشام أبوغربية "},195,{"$f":"Sheet1!$M$6","v":0},{"$f":"T83","v":6},"S",3,{"$f":"Score!C67","v":63},{"$f":"LOOKUP(X26,Names!$A$2:$A$161,Names!$B$2:$B$161)","v":"محمد أحمد محمد عبد الله "},97,{"$f":"Sheet1!$M$6","v":0},{"$f":"T84","v":5}]
["E",4,{"$f":"Score!C56","v":52},{"$f":"LOOKUP(C27,Names!$A$2:$A$161,Names!$B$2:$B$161)","v":"يامن محمد حسن  "},142,{"$f":"Sheet1!$M$7","v":0},{"$f":"AA81","v":8},"E",4,{"$f":"Score!C60","v":56},{"$f":"LOOKUP(J27,Names!$A$2:$A$161,Names!$B$2:$B$161)","v":"جاسر محمد"},70,{"$f":"Sheet1!$M$7","v":0},{"$f":"AA82","v":7},"E",4,{"$f":"Score!C64","v":60},{"$f":"LOOKUP(Q27,Names!$A$2:$A$161,Names!$B$2:$B$161)","v":"عصام الدين حامد منصور "},69,{"$f":"Sheet1!$M$7","v":0},{"$f":"AA83","v":6},"E",4,{"$f":"Score!C68","v":64},{"$f":"LOOKUP(X27,Names!$A$2:$A$161,Names!$B$2:$B$161)","v":"وليد شعبان إسماعيل علي "},71,{"$f":"Sheet1!$M$7","v":0},{"$f":"AA84","v":5}]
[null,null,null,17,null,null,null,null,null,null,18,null,null,null,null,null,null,19,null,null,null,null,null,null,20]
[null,null,null,"Names","Sc.","Tab",null,null,null,null,"Names","Sc.","Tab",null,null,null,null,"Names","Sc.","Tab",null,null,null,null,"Names","Sc.","Tab"]
["N",1,{"$f":"Score!C69","v":65},{"$f":"LOOKUP(C30,Names!$A$2:$A$161,Names!$B$2:$B$161)","v":"أحمد طارق   "},98,{"$f":"Sheet1!$M$4","v":0},{"$f":"F85","v":4},"N",1,{"$f":"Score!C73","v":69},{"$f":"LOOKUP(J30,Names!$A$2:$A$161,Names!$B$2:$B$161)","v":"أحمد علي السيد شرع"},92,{"$f":"Sheet1!$M$4","v":0},{"$f":"F86","v":3},"N",1,{"$f":"Score!C77","v":73},{"$f":"LOOKUP(Q30,Names!$A$2:$A$161,Names!$B$2:$B$161)","v":"مينا ناجح صبحي  "},180,{"$f":"Sheet1!$M$4","v":0},{"$f":"F87","v":2},"N",1,{"$f":"Score!C81","v":77},{"$f":"LOOKUP(X30,Names!$A$2:$A$161,Names!$B$2:$B$161)","v":"محمد محمود شعبان "},92,{"$f":"Sheet1!$M$4","v":0},{"$f":"F88","v":1}]
["W",2,{"$f":"Score!C70","v":66},{"$f":"LOOKUP(C31,Names!$A$2:$A$161,Names!$B$2:$B$161)","v":"أحمد فؤاد حسنين "},174,{"$f":"Sheet1!$M$5","v":0},{"$f":"M85","v":4},"W",2,{"$f":"Score!C74","v":70},{"$f":"LOOKUP(J31,Names!$A$2:$A$161,Names!$B$2:$B$161)","v":"أحمد صلاح الدين دياب "},105,{"$f":"Sheet1!$M$5","v":0},{"$f":"M86","v":3},"W",2,{"$f":"Score!C78","v":74},{"$f":"LOOKUP(Q31,Names!$A$2:$A$161,Names!$B$2:$B$161)","v":"فريدة شكري"},187,{"$f":"Sheet1!$M$5","v":0},{"$f":"M87","v":2},"W",2,{"$f":"Score!C82","v":78},{"$f":"LOOKUP(X31,Names!$A$2:$A$161,Names!$B$2:$B$161)","v":"حسام الخلفاوي"},39,{"$f":"Sheet1!$M$5","v":0},{"$f":"M88","v":1}]
["S",3,{"$f":"Score!C71","v":67},{"$f":"LOOKUP(C32,Names!$A$2:$A$161,Names!$B$2:$B$161)","v":"محمد محمود فضل "},118,{"$f":"Sheet1!$M$6","v":0},{"$f":"T85","v":4},"S",3,{"$f":"Score!C75","v":71},{"$f":"LOOKUP(J32,Names!$A$2:$A$161,Names!$B$2:$B$161)","v":"معتز محمد"},82,{"$f":"Sheet1!$M$6","v":0},{"$f":"T86","v":3},"S",3,{"$f":"Score!C79","v":75},{"$f":"LOOKUP(Q32,Names!$A$2:$A$161,Names!$B$2:$B$161)","v":"محمود سليمان"},48,{"$f":"Sheet1!$M$6","v":0},{"$f":"T87","v":2},"S",3,{"$f":"Score!C83","v":79},{"$f":"LOOKUP(X32,Names!$A$2:$A$161,Names!$B$2:$B$161)","v":"محمد علي حسن طه الأمام"},193,{"$f":"Sheet1!$M$6","v":0},{"$f":"T88","v":1}]
["E",4,{"$f":"Score!C72","v":68},{"$f":"LOOKUP(C33,Names!$A$2:$A$161,Names!$B$2:$B$161)","v":"مصطفى إسماعيل"},84,{"$f":"Sheet1!$M$7","v":0},{"$f":"AA85","v":4},"E",4,{"$f":"Score!C76","v":72},{"$f":"LOOKUP(J33,Names!$A$2:$A$161,Names!$B$2:$B$161)","v":"أحمد سمير خلف "},140,{"$f":"Sheet1!$M$7","v":0},{"$f":"AA86","v":3},"E",4,{"$f":"Score!C80","v":76},{"$f":"LOOKUP(Q33,Names!$A$2:$A$161,Names!$B$2:$B$161)","v":"محمد إبراهيم قطب "},8,{"$f":"Sheet1!$M$7","v":0},{"$f":"AA87","v":2},"E",4,{"$f":"Score!C84","v":80},{"$f":"LOOKUP(X33,Names!$A$2:$A$161,Names!$B$2:$B$161)","v":"أمن حسام"},-28,{"$f":"Sheet1!$M$7","v":0},{"$f":"AA88","v":1}]
[]
[null,null,null,21,null,null,null,null,null,null,22,null,null,null,null,null,null,23,null,null,null,null,null,null,24]
[null,null,null,"Names","Sc.","Tab",null,null,null,null,"Names","Sc.","Tab",null,null,null,null,"Names","Sc.","Tab",null,null,null,null,"Names","Sc.","Tab"]
["N",1,{"$f":"Score!C85","v":81},{"$f":"LOOKUP(C37,Names!$A$2:$A$161,Names!$B$2:$B$161)","v":0},null,{"$f":"Sheet1!$M$4","v":0},{"$f":"F89","v":0},"N",1,{"$f":"Score!C89","v":85},{"$f":"LOOKUP(J37,Names!$A$2:$A$161,Names!$B$2:$B$161)","v":0},null,{"$f":"Sheet1!$M$4","v":0},{"$f":"F90","v":0},"N",1,{"$f":"Score!C93","v":89},{"$f":"LOOKUP(Q37,Names!$A$2:$A$161,Names!$B$2:$B$161)","v":0},null,{"$f":"Sheet1!$M$4","v":0},{"$f":"F91","v":0},"N",1,{"$f":"Score!C97","v":93},{"$f":"LOOKUP(X37,Names!$A$2:$A$161,Names!$B$2:$B$161)","v":0},null,{"$f":"Sheet1!$M$4","v":0},{"$f":"F92","v":0}]
["W",2,{"$f":"Score!C86","v":82},{"$f":"LOOKUP(C38,Names!$A$2:$A$161,Names!$B$2:$B$161)","v":0},null,{"$f":"Sheet1!$M$5","v":0},{"$f":"M89","v":0},"W",2,{"$f":"Score!C90","v":86},{"$f":"LOOKUP(J38,Names!$A$2:$A$161,Names!$B$2:$B$161)","v":0},null,{"$f":"Sheet1!$M$5","v":0},{"$f":"M90","v":0},"W",2,{"$f":"Score!C94","v":90},{"$f":"LOOKUP(Q38,Names!$A$2:$A$161,Names!$B$2:$B$161)","v":0},null,{"$f":"Sheet1!$M$5","v":0},{"$f":"M91","v":0},"W",2,{"$f":"Score!C98","v":94},{"$f":"LOOKUP(X38,Names!$A$2:$A$161,Names!$B$2:$B$161)","v":0},null,{"$f":"Sheet1!$M$5","v":0},{"$f":"M92","v":0}]
["S",3,{"$f":"Score!C87","v":83},{"$f":"LOOKUP(C39,Names!$A$2:$A$161,Names!$B$2:$B$161)","v":0},null,{"$f":"Sheet1!$M$6","v":0},{"$f":"T89","v":0},"S",3,{"$f":"Score!C91","v":87},{"$f":"LOOKUP(J39,Names!$A$2:$A$161,Names!$B$2:$B$161)","v":0},null,{"$f":"Sheet1!$M$6","v":0},{"$f":"T90","v":0},"S",3,{"$f":"Score!C95","v":91},{"$f":"LOOKUP(Q39,Names!$A$2:$A$161,Names!$B$2:$B$161)","v":0},null,{"$f":"Sheet1!$M$6","v":0},{"$f":"T91","v":0},"S",3,{"$f":"Score!C99","v":95},{"$f":"LOOKUP(X39,Names!$A$2:$A$161,Names!$B$2:$B$161)","v":0},null,{"$f":"Sheet1!$M$6","v":0},{"$f":"T92","v":0}]
["E",4,{"$f":"Score!C88","v":84},{"$f":"LOOKUP(C40,Names!$A$2:$A$161,Names!$B$2:$B$161)","v":0},null,{"$f":"Sheet1!$M$7","v":0},{"$f":"AA89","v":0},"E",4,{"$f":"Score!C92","v":88},{"$f":"LOOKUP(J40,Names!$A$2:$A$161,Names!$B$2:$B$161)","v":0},null,{"$f":"Sheet1!$M$7","v":0},{"$f":"AA90","v":0},"E",4,{"$f":"Score!C96","v":92},{"$f":"LOOKUP(Q40,Names!$A$2:$A$161,Names!$B$2:$B$161)","v":0},null,{"$f":"Sheet1!$M$7","v":0},{"$f":"AA91","v":0},"E",4,{"$f":"Score!C100","v":96},{"$f":"LOOKUP(X40,Names!$A$2:$A$161,Names!$B$2:$B$161)","v":0},null,{"$f":"Sheet1!$M$7","v":0},{"$f":"AA92","v":0}]
[null,null,null,"B1",null,null,null,null,null,null,"B2",null,null,null,null,null,null,"B3",null,null,null,null,null,null,"B4"]
[null,null,null,"Names","Sc.","Tab",null,null,null,null,"Names","Sc.","Tab",null,null,null,null,"Names","Sc.","Tab",null,null,null,null,"Names","Sc.","Tab"]
["N",1,{"$f":"Score!C101","v":97},{"$f":"LOOKUP(C43,Names!$A$2:$A$161,Names!$B$2:$B$161)","v":0},null,{"$f":"Sheet1!$M$4","v":0},{"$f":"F93","v":0},"N",1,{"$f":"Score!C105","v":101},{"$f":"LOOKUP(J43,Names!$A$2:$A$161,Names!$B$2:$B$161)","v":0},null,{"$f":"Sheet1!$M$4","v":0},{"$f":"F94","v":0},"N",1,{"$f":"Score!C109","v":105},{"$f":"LOOKUP(Q43,Names!$A$2:$A$161,Names!$B$2:$B$161)","v":0},null,{"$f":"Sheet1!$M$4","v":0},{"$f":"F95","v":0},"N",1,{"$f":"Score!C113","v":109},{"$f":"LOOKUP(X43,Names!$A$2:$A$161,Names!$B$2:$B$161)","v":0},null,{"$f":"Sheet1!$M$4","v":0},{"$f":"F96","v":0}]
["W",2,{"$f":"Score!C102","v":98},{"$f":"LOOKUP(C44,Names!$A$2:$A$161,Names!$B$2:$B$161)","v":0},null,{"$f":"Sheet1!$M$5","v":0},{"$f":"M93","v":0},"W",2,{"$f":"Score!C106","v":102},{"$f":"LOOKUP(J44,Names!$A$2:$A$161,Names!$B$2:$B$161)","v":0},null,{"$f":"Sheet1!$M$5","v":0},{"$f":"M94","v":0},"W",2,{"$f":"Score!C110","v":106},{"$f":"LOOKUP(Q44,Names!$A$2:$A$161,Names!$B$2:$B$161)","v":0},null,{"$f":"Sheet1!$M$5","v":0},{"$f":"M95","v":0},"W",2,{"$f":"Score!C114","v":110},{"$f":"LOOKUP(X44,Names!$A$2:$A$161,Names!$B$2:$B$161)","v":0},null,{"$f":"Sheet1!$M$5","v":0},{"$f":"M96","v":0}]
["S",3,{"$f":"Score!C103","v":99},{"$f":"LOOKUP(C45,Names!$A$2:$A$161,Names!$B$2:$B$161)","v":0},null,{"$f":"Sheet1!$M$6","v":0},{"$f":"T93","v":0},"S",3,{"$f":"Score!C107","v":103},{"$f":"LOOKUP(J45,Names!$A$2:$A$161,Names!$B$2:$B$161)","v":0},null,{"$f":"Sheet1!$M$6","v":0},{"$f":"T94","v":0},"S",3,{"$f":"Score!C111","v":107},{"$f":"LOOKUP(Q45,Names!$A$2:$A$161,Names!$B$2:$B$161)","v":0},null,{"$f":"Sheet1!$M$6","v":0},{"$f":"T95","v":0},"S",3,{"$f":"Score!C115","v":111},{"$f":"LOOKUP(X45,Names!$A$2:$A$161,Names!$B$2:$B$161)","v":0},null,{"$f":"Sheet1!$M$6","v":0},{"$f":"T96","v":0}]
["E",4,{"$f":"Score!C104","v":100},{"$f":"LOOKUP(C46,Names!$A$2:$A$161,Names!$B$2:$B$161)","v":0},null,{"$f":"Sheet1!$M$7","v":0},{"$f":"AA93","v":0},"E",4,{"$f":"Score!C108","v":104},{"$f":"LOOKUP(J46,Names!$A$2:$A$161,Names!$B$2:$B$161)","v":0},null,{"$f":"Sheet1!$M$7","v":0},{"$f":"AA94","v":0},"E",4,{"$f":"Score!C112","v":108},{"$f":"LOOKUP(Q46,Names!$A$2:$A$161,Names!$B$2:$B$161)","v":0},null,{"$f":"Sheet1!$M$7","v":0},{"$f":"AA95","v":0},"E",4,{"$f":"Score!C116","v":112},{"$f":"LOOKUP(X46,Names!$A$2:$A$161,Names!$B$2:$B$161)","v":0},null,{"$f":"Sheet1!$M$7","v":0},{"$f":"AA96","v":0}]
[null,null,null,"B5",null,null,null,null,null,null,"B6",null,null,null,null,null,null,"B7",null,null,null,null,null,null,"B8"]
[null,null,null,"Names","Sc.","Tab",null,null,null,null,"Names","Sc.","Tab",null,null,null,null,"Names","Sc.","Tab",null,null,null,null,"Names","Sc.","Tab"]
["N",1,{"$f":"Score!C117","v":113},{"$f":"LOOKUP(C49,Names!$A$2:$A$161,Names!$B$2:$B$161)","v":0},null,{"$f":"Sheet1!$M$4","v":0},{"$f":"F97","v":0},"N",1,{"$f":"Score!C121","v":117},{"$f":"LOOKUP(J49,Names!$A$2:$A$161,Names!$B$2:$B$161)","v":0},null,{"$f":"Sheet1!$M$4","v":0},{"$f":"F98","v":0},"N",1,{"$f":"Score!C125","v":121},{"$f":"LOOKUP(Q49,Names!$A$2:$A$161,Names!$B$2:$B$161)","v":0},null,{"$f":"Sheet1!$M$4","v":0},{"$f":"F99","v":0},"N",1,{"$f":"Score!C129","v":125},{"$f":"LOOKUP(X49,Names!$A$2:$A$161,Names!$B$2:$B$161)","v":0},null,{"$f":"Sheet1!$M$4","v":0},{"$f":"F100","v":0}]
["W",2,{"$f":"Score!C118","v":114},{"$f":"LOOKUP(C50,Names!$A$2:$A$161,Names!$B$2:$B$161)","v":0},null,{"$f":"Sheet1!$M$5","v":0},{"$f":"M97","v":0},"W",2,{"$f":"Score!C122","v":118},{"$f":"LOOKUP(J50,Names!$A$2:$A$161,Names!$B$2:$B$161)","v":0},null,{"$f":"Sheet1!$M$5","v":0},{"$f":"M98","v":0},"W",2,{"$f":"Score!C126","v":122},{"$f":"LOOKUP(Q50,Names!$A$2:$A$161,Names!$B$2:$B$161)","v":0},null,{"$f":"Sheet1!$M$5","v":0},{"$f":"M99","v":0},"W",2,{"$f":"Score!C130","v":126},{"$f":"LOOKUP(X50,Names!$A$2:$A$161,Names!$B$2:$B$161)","v":0},null,{"$f":"Sheet1!$M$5","v":0},{"$f":"M100","v":0}]
["S",3,{"$f":"Score!C119","v":115},{"$f":"LOOKUP(C51,Names!$A$2:$A$161,Names!$B$2:$B$161)","v":0},null,{"$f":"Sheet1!$M$6","v":0},{"$f":"T97","v":0},"S",3,{"$f":"Score!C123","v":119},{"$f":"LOOKUP(J51,Names!$A$2:$A$161,Names!$B$2:$B$161)","v":0},null,{"$f":"Sheet1!$M$6","v":0},{"$f":"T98","v":0},"S",3,{"$f":"Score!C127","v":123},{"$f":"LOOKUP(Q51,Names!$A$2:$A$161,Names!$B$2:$B$161)","v":0},null,{"$f":"Sheet1!$M$6","v":0},{"$f":"T99","v":0},"S",3,{"$f":"Score!C131","v":127},{"$f":"LOOKUP(X51,Names!$A$2:$A$161,Names!$B$2:$B$161)","v":0},null,{"$f":"Sheet1!$M$6","v":0},{"$f":"T100","v":0}]
["E",4,{"$f":"Score!C120","v":116},{"$f":"LOOKUP(C52,Names!$A$2:$A$161,Names!$B$2:$B$161)","v":0},null,{"$f":"Sheet1!$M$7","v":0},{"$f":"AA97","v":0},"E",4,{"$f":"Score!C124","v":120},{"$f":"LOOKUP(J52,Names!$A$2:$A$161,Names!$B$2:$B$161)","v":0},null,{"$f":"Sheet1!$M$7","v":0},{"$f":"AA98","v":0},"E",4,{"$f":"Score!C128","v":124},{"$f":"LOOKUP(Q52,Names!$A$2:$A$161,Names!$B$2:$B$161)","v":0},null,{"$f":"Sheet1!$M$7","v":0},{"$f":"AA99","v":0},"E",4,{"$f":"Score!C132","v":128},{"$f":"LOOKUP(X52,Names!$A$2:$A$161,Names!$B$2:$B$161)","v":0},null,{"$f":"Sheet1!$M$7","v":0},{"$f":"AA100","v":0}]
[null,null,null,33,null,null,null,null,null,null,34,null,null,null,null,null,null,35,null,null,null,null,null,null,36]
[null,null,null,"Names","Sc.","Tab",null,null,null,null,"Names","Sc.","Tab",null,null,null,null,"Names","Sc.","Tab",null,null,null,null,"Names","Sc.","Tab"]
["N",1,{"$f":"Score!C133","v":129},{"$f":"LOOKUP(C55,Names!$A$2:$A$161,Names!$B$2:$B$161)","v":0},null,{"$f":"Sheet1!$M$4","v":0},{"$f":"F101","v":0},"N",1,{"$f":"Score!C137","v":133},{"$f":"LOOKUP(J55,Names!$A$2:$A$161,Names!$B$2:$B$161)","v":0},null,{"$f":"Sheet1!$M$4","v":0},{"$f":"F102","v":0},"N",1,{"$f":"Score!C141","v":137},{"$f":"LOOKUP(Q55,Names!$A$2:$A$161,Names!$B$2:$B$161)","v":0},null,{"$f":"Sheet1!$M$4","v":0},{"$f":"F103","v":0},"N",1,{"$f":"Score!C145","v":141},{"$f":"LOOKUP(X55,Names!$A$2:$A$161,Names!$B$2:$B$161)","v":0},null,{"$f":"Sheet1!$M$4","v":0},{"$f":"F104","v":0}]
["W",2,{"$f":"Score!C134","v":130},{"$f":"LOOKUP(C56,Names!$A$2:$A$161,Names!$B$2:$B$161)","v":0},null,{"$f":"Sheet1!$M$5","v":0},{"$f":"M101","v":0},"W",2,{"$f":"Score!C138","v":134},{"$f":"LOOKUP(J56,Names!$A$2:$A$161,Names!$B$2:$B$161)","v":0},null,{"$f":"Sheet1!$M$5","v":0},{"$f":"M102","v":0},"W",2,{"$f":"Score!C142","v":138},{"$f":"LOOKUP(Q56,Names!$A$2:$A$161,Names!$B$2:$B$161)","v":0},null,{"$f":"Sheet1!$M$5","v":0},{"$f":"M103","v":0},"W",2,{"$f":"Score!C146","v":142},{"$f":"LOOKUP(X56,Names!$A$2:$A$161,Names!$B$2:$B$161)","v":0},null,{"$f":"Sheet1!$M$5","v":0},{"$f":"M104","v":0}]
["S",3,{"$f":"Score!C135","v":131},{"$f":"LOOKUP(C57,Names!$A$2:$A$161,Names!$B$2:$B$161)","v":0},null,{"$f":"Sheet1!$M$6","v":0},{"$f":"T101","v":0},"S",3,{"$f":"Score!C139","v":135},{"$f":"LOOKUP(J57,Names!$A$2:$A$161,Names!$B$2:$B$161)","v":0},null,{"$f":"Sheet1!$M$6","v":0},{"$f":"T102","v":0},"S",3,{"$f":"Score!C143","v":139},{"$f":"LOOKUP(Q57,Names!$A$2:$A$161,Names!$B$2:$B$161)","v":0},null,{"$f":"Sheet1!$M$6","v":0},{"$f":"T103","v":0},"S",3,{"$f":"Score!C147","v":143},{"$f":"LOOKUP(X57,Names!$A$2:$A$161,Names!$B$2:$B$161)","v":0},null,{"$f":"Sheet1!$M$6","v":0},{"$f":"T104","v":0}]
["E",4,{"$f":"Score!C136","v":132},{"$f":"LOOKUP(C58,Names!$A$2:$A$161,Names!$B$2:$B$161)","v":0},null,{"$f":"Sheet1!$M$7","v":0},{"$f":"AA101","v":0},"E",4,{"$f":"Score!C140","v":136},{"$f":"LOOKUP(J58,Names!$A$2:$A$161,Names!$B$2:$B$161)","v":0},null,{"$f":"Sheet1!$M$7","v":0},{"$f":"AA102","v":0},"E",4,{"$f":"Score!C144","v":140},{"$f":"LOOKUP(Q58,Names!$A$2:$A$161,Names!$B$2:$B$161)","v":0},null,{"$f":"Sheet1!$M$7","v":0},{"$f":"AA103","v":0},"E",4,{"$f":"Score!C148","v":144},{"$f":"LOOKUP(X58,Names!$A$2:$A$161,Names!$B$2:$B$161)","v":0},null,{"$f":"Sheet1!$M$7","v":0},{"$f":"AA104","v":0}]
[null,null,null,37,null,null,null,null,null,null,38,null,null,null,null,null,null,39,null,null,null,null,null,null,40]
[null,null,null,"Names","Sc.","Tab",null,null,null,null,"Names","Sc.","Tab",null,null,null,null,"Names","Sc.","Tab",null,null,null,null,"Names","Sc.","Tab"]
["N",1,{"$f":"Score!C149","v":145},{"$f":"LOOKUP(C61,Names!$A$2:$A$161,Names!$B$2:$B$161)","v":0},null,{"$f":"Sheet1!$M$4","v":0},{"$f":"F105","v":0},"N",1,{"$f":"Score!C153","v":149},{"$f":"LOOKUP(J61,Names!$A$2:$A$161,Names!$B$2:$B$161)","v":0},null,{"$f":"Sheet1!$M$4","v":0},{"$f":"F106","v":0},"N",1,{"$f":"Score!C157","v":153},{"$f":"LOOKUP(Q61,Names!$A$2:$A$161,Names!$B$2:$B$161)","v":0},null,{"$f":"Sheet1!$M$4","v":0},{"$f":"F107","v":0},"N",1,{"$f":"Score!C161","v":157},{"$f":"LOOKUP(X61,Names!$A$2:$A$161,Names!$B$2:$B$161)","v":0},null,{"$f":"Sheet1!$M$4","v":0},{"$f":"F108","v":0}]
["W",2,{"$f":"Score!C150","v":146},{"$f":"LOOKUP(C62,Names!$A$2:$A$161,Names!$B$2:$B$161)","v":0},null,{"$f":"Sheet1!$M$5","v":0},{"$f":"M105","v":0},"W",2,{"$f":"Score!C154","v":150},{"$f":"LOOKUP(J62,Names!$A$2:$A$161,Names!$B$2:$B$161)","v":0},null,{"$f":"Sheet1!$M$5","v":0},{"$f":"M106","v":0},"W",2,{"$f":"Score!C158","v":154},{"$f":"LOOKUP(Q62,Names!$A$2:$A$161,Names!$B$2:$B$161)","v":0},null,{"$f":"Sheet1!$M$5","v":0},{"$f":"M107","v":0},"W",2,{"$f":"Score!C162","v":158},{"$f":"LOOKUP(X62,Names!$A$2:$A$161,Names!$B$2:$B$161)","v":0},null,{"$f":"Sheet1!$M$5","v":0},{"$f":"M108","v":0}]
["S",3,{"$f":"Score!C151","v":147},{"$f":"LOOKUP(C63,Names!$A$2:$A$161,Names!$B$2:$B$161)","v":0},null,{"$f":"Sheet1!$M$6","v":0},{"$f":"T105","v":0},"S",3,{"$f":"Score!C155","v":151},{"$f":"LOOKUP(J63,Names!$A$2:$A$161,Names!$B$2:$B$161)","v":0},null,{"$f":"Sheet1!$M$6","v":0},{"$f":"T106","v":0},"S",3,{"$f":"Score!C159","v":155},{"$f":"LOOKUP(Q63,Names!$A$2:$A$161,Names!$B$2:$B$161)","v":0},null,{"$f":"Sheet1!$M$6","v":0},{"$f":"T107","v":0},"S",3,{"$f":"Score!C163","v":159},{"$f":"LOOKUP(X63,Names!$A$2:$A$161,Names!$B$2:$B$161)","v":0},null,{"$f":"Sheet1!$M$6","v":0},{"$f":"T108","v":0}]
["E",4,{"$f":"Score!C152","v":148},{"$f":"LOOKUP(C64,Names!$A$2:$A$161,Names!$B$2:$B$161)","v":0},null,{"$f":"Sheet1!$M$7","v":0},{"$f":"AA105","v":0},"E",4,{"$f":"Score!C156","v":152},{"$f":"LOOKUP(J64,Names!$A$2:$A$161,Names!$B$2:$B$161)","v":0},null,{"$f":"Sheet1!$M$7","v":0},{"$f":"AA106","v":0},"E",4,{"$f":"Score!C160","v":156},{"$f":"LOOKUP(Q64,Names!$A$2:$A$161,Names!$B$2:$B$161)","v":0},null,{"$f":"Sheet1!$M$7","v":0},{"$f":"AA107","v":0},"E",4,{"$f":"Score!C164","v":160},{"$f":"LOOKUP(X64,Names!$A$2:$A$161,Names!$B$2:$B$161)","v":0},null,{"$f":"Sheet1!$M$7","v":0},{"$f":"AA108","v":0}]
[]
[null,null,null,null,null,null,null,null,null,null,"Axe"]
[null,null,null,"North",null,null,null,null,null,null,"West",null,null,null,null,null,null,"South",null,null,null,null,null,null,"East"]
[null,null,null,"Names","Sc.","Axe",null,null,null,null,"Names","Sc.","Axe",null,null,null,null,"Names","Sc.","Axe",null,null,null,null,"Names","Sc.","Axe"]
[1,1,{"$f":"$C$6","v":1},{"$f":"LOOKUP(C69,Names!$A$2:$A$161,Names!$B$2:$B$161)","v":"راجي صبحي  "},{"$f":"$E$6","v":95},{"$f":"Sheet1!L3","v":21},null,null,1,{"$f":"$C$7","v":2},{"$f":"LOOKUP(J69,Names!$A$2:$A$161,Names!$B$2:$B$161)","v":"شريف أحمد محمد حمروش"},{"$f":"$E$7","v":65},{"$f":"Sheet1!L3","v":21},null,null,1,{"$f":"$C$8","v":3},{"$f":"LOOKUP(Q69,Names!$A$2:$A$161,Names!$B$2:$B$161)","v":"إيهاب يوسف عمارة "},{"$f":"$E$8","v":133},{"$f":"Sheet1!L3","v":21},null,null,1,{"$f":"$C$9","v":4},{"$f":"LOOKUP(X69,Names!$A$2:$A$161,Names!$B$2:$B$161)","v":"محمد سعيد الفطاطري"},{"$f":"$E$9","v":103},{"$f":"Sheet1!L3","v":21}]
[2,2,{"$f":"$J$6","v":5},{"$f":"LOOKUP(C70,Names!$A$2:$A$161,Names!$B$2:$B$161)","v":"محمد عصام الدين القاضي "},{"$f":"$L$6","v":136},{"$f":"Sheet1!L4","v":19},null,null,2,{"$f":"$J$7","v":6},{"$f":"LOOKUP(J70,Names!$A$2:$A$161,Names!$B$2:$B$161)","v":"إبراهيم عرفان السقا  "},{"$f":"$L$7","v":126},{"$f":"Sheet1!L4","v":19},null,null,2,{"$f":"$J$8","v":7},{"$f":"LOOKUP(Q70,Names!$A$2:$A$161,Names!$B$2:$B$161)","v":"باسم أسحق صموائيل"},{"$f":"$L$8","v":87},{"$f":"Sheet1!L4","v":19},null,null,2,{"$f":"$J$9","v":8},{"$f":"LOOKUP(X70,Names!$A$2:$A$161,Names!$B$2:$B$161)","v":"إيهاب  محمد الزهيري "},{"$f":"$L$9","v":78},{"$f":"Sheet1!L4","v":19}]
[3,3,{"$f":"$Q$6","v":9},{"$f":"LOOKUP(C71,Names!$A$2:$A$161,Names!$B$2:$B$161)","v":"رأفت الصياد"},{"$f":"$S$6","v":36},{"$f":"Sheet1!L5","v":18},null,null,3,{"$f":"$Q$7","v":10},{"$f":"LOOKUP(J71,Names!$A$2:$A$161,Names!$B$2:$B$161)","v":"نبيل خلف زكي حسنين "},{"$f":"$S$7","v":165},{"$f":"Sheet1!L5","v":18},null,null,3,{"$f":"$Q$8","v":11},{"$f":"LOOKUP(Q71,Names!$A$2:$A$161,Names!$B$2:$B$161)","v":"معتز محمد مدبولي "},{"$f":"$S$8","v":17},{"$f":"Sheet1!L5","v":18},null,null,3,{"$f":"$Q$9","v":12},{"$f":"LOOKUP(X71,Names!$A$2:$A$161,Names!$B$2:$B$161)","v":"أمير كمال جميل"},{"$f":"$S$9","v":98},{"$f":"Sheet1!L5","v":18}]
[4,4,{"$f":"$X$6","v":13},{"$f":"LOOKUP(C72,Names!$A$2:$A$161,Names!$B$2:$B$161)","v":"أحمد جميل السيد "},{"$f":"$Z$6","v":83},{"$f":"Sheet1!L6","v":17},null,null,4,{"$f":"$X$7","v":14},{"$f":"LOOKUP(J72,Names!$A$2:$A$161,Names!$B$2:$B$161)","v":"عماد محمد فؤاد"},{"$f":"$Z$7","v":56},{"$f":"Sheet1!L6","v":17},null,null,4,{"$f":"$X$8","v":15},{"$f":"LOOKUP(Q72,Names!$A$2:$A$161,Names!$B$2:$B$161)","v":"أحمد رمزي الديب "},{"$f":"$Z$8","v":190},{"$f":"Sheet1!L6","v":17},null,null,4,{"$f":"$X$9","v":16},{"$f":"LOOKUP(X72,Names!$A$2:$A$161,Names!$B$2:$B$161)","v":"عبد الرحمن سعد موسى"},{"$f":"$Z$9","v":46},{"$f":"Sheet1!L6","v":17}]
[5,5,{"$f":"$C$12","v":17},{"$f":"LOOKUP(C73,Names!$A$2:$A$161,Names!$B$2:$B$161)","v":"أحمد علي خليل حسن "},{"$f":"$E$12","v":38},{"$f":"Sheet1!L7","v":16},null,null,5,{"$f":"$C$13","v":18},{"$f":"LOOKUP(J73,Names!$A$2:$A$161,Names!$B$2:$B$161)","v":"أحمد ممدوح عبد الدايم"},{"$f":"$E$13","v":-19},{"$f":"Sheet1!L7","v":16},null,null,5,{"$f":"$C$14","v":19},{"$f":"LOOKUP(Q73,Names!$A$2:$A$161,Names!$B$2:$B$161)","v":"إبراهيم عنتر  "},{"$f":"$E$14","v":167},{"$f":"Sheet1!L7","v":16},null,null,5,{"$f":"$C$15","v":20},{"$f":"LOOKUP(X73,Names!$A$2:$A$161,Names!$B$2:$B$161)","v":"إسلام قاسم"},{"$f":"$E$15","v":106},{"$f":"Sheet1!L7","v":16}]
[6,6,{"$f":"$J$12","v":21},{"$f":"LOOKUP(C74,Names!$A$2:$A$161,Names!$B$2:$B$161)","v":"أحمد محمد حمدي صالح "},{"$f":"$L$12","v":196},{"$f":"Sheet1!L8","v":15},null,null,6,{"$f":"$J$13","v":22},{"$f":"LOOKUP(J74,Names!$A$2:$A$161,Names!$B$2:$B$161)","v":"طه إبراهيم طه  "},{"$f":"$L$13","v":56},{"$f":"Sheet1!L8","v":15},null,null,6,{"$f":"$J$14","v":23},{"$f":"LOOKUP(Q74,Names!$A$2:$A$161,Names!$B$2:$B$161)","v":"مصطفى يوسف محمد"},{"$f":"$L$14","v":107},{"$f":"Sheet1!L8","v":15},null,null,6,{"$f":"$J$15","v":24},{"$f":"LOOKUP(X74,Names!$A$2:$A$161,Names!$B$2:$B$161)","v":"هيثم محمد شبانة"},{"$f":"$L$15","v":-37},{"$f":"Sheet1!L8","v":15}]
[7,7,{"$f":"$Q$12","v":25},{"$f":"LOOKUP(C75,Names!$A$2:$A$161,Names!$B$2:$B$161)","v":"خالد شباره "},{"$f":"$S$12","v":149},{"$f":"Sheet1!L9","v":14},null,null,7,{"$f":"$Q$13","v":26},{"$f":"LOOKUP(J75,Names!$A$2:$A$161,Names!$B$2:$B$161)","v":"أحمد الطنطاوي "},{"$f":"$S$13","v":85},{"$f":"Sheet1!L9","v":14},null,null,7,{"$f":"$Q$14","v":27},{"$f":"LOOKUP(Q75,Names!$A$2:$A$161,Names!$B$2:$B$161)","v":"سمير الحوفي"},{"$f":"$S$14","v":-4},{"$f":"Sheet1!L9","v":14},null,null,7,{"$f":"$Q$15","v":28},{"$f":"LOOKUP(X75,Names!$A$2:$A$161,Names!$B$2:$B$161)","v":"عمرو محسن فرج "},{"$f":"$S$15","v":121},{"$f":"Sheet1!L9","v":14}]
[8,8,{"$f":"$X$12","v":29},{"$f":"LOOKUP(C76,Names!$A$2:$A$161,Names!$B$2:$B$161)","v":"عبد الرحمن عثمان"},{"$f":"$Z$12","v":103},{"$f":"Sheet1!L10","v":13},null,null,8,{"$f":"$X$13","v":30},{"$f":"LOOKUP(J76,Names!$A$2:$A$161,Names!$B$2:$B$161)","v":"شريف جلال سماحة "},{"$f":"$Z$13","v":180},{"$f":"Sheet1!L10","v":13},null,null,8,{"$f":"$X$14","v":31},{"$f":"LOOKUP(Q76,Names!$A$2:$A$161,Names!$B$2:$B$161)","v":"ماجد  محمد  فكري "},{"$f":"$Z$14","v":166},{"$f":"Sheet1!L10","v":13},null,null,8,{"$f":"$X$15","v":32},{"$f":"LOOKUP(X76,Names!$A$2:$A$161,Names!$B$2:$B$161)","v":"حمزة أحمد محمد"},{"$f":"$Z$15","v":12},{"$f":"Sheet1!L10","v":13}]
[9,9,{"$f":"$C$18","v":33},{"$f":"LOOKUP(C77,Names!$A$2:$A$161,Names!$B$2:$B$161)","v":"أحمد بسيوني"},{"$f":"$E$18","v":131},{"$f":"Sheet1!L11","v":12},null,null,9,{"$f":"$C$19","v":34},{"$f":"LOOKUP(J77,Names!$A$2:$A$161,Names!$B$2:$B$161)","v":"عماد الدين جمعة هلال  "},{"$f":"$E$19","v":-6},{"$f":"Sheet1!L11","v":12},null,null,9,{"$f":"$C$20","v":35},{"$f":"LOOKUP(Q77,Names!$A$2:$A$161,Names!$B$2:$B$161)","v":"عمرو عماد الدين أبوالعلا  "},{"$f":"$E$20","v":142},{"$f":"Sheet1!L11","v":12},null,null,9,{"$f":"$C$21","v":36},{"$f":"LOOKUP(X77,Names!$A$2:$A$161,Names!$B$2:$B$161)","v":"أحمد عبد الفتاح عرفه "},{"$f":"$E$21","v":100},{"$f":"Sheet1!L11","v":12}]
[10,10,{"$f":"$J$18","v":37},{"$f":"LOOKUP(C78,Names!$A$2:$A$161,Names!$B$2:$B$161)","v":"حمدي محمود عبد العزيز"},{"$f":"$L$18","v":91},{"$f":"Sheet1!L12","v":11},null,null,10,{"$f":"$J$19","v":38},{"$f":"LOOKUP(J78,Names!$A$2:$A$161,Names!$B$2:$B$161)","v":"أسامة لطفي نجيب  "},{"$f":"$L$19","v":124},{"$f":"Sheet1!L12","v":11},null,null,10,{"$f":"$J$20","v":39},{"$f":"LOOKUP(Q78,Names!$A$2:$A$161,Names!$B$2:$B$161)","v":"إسلام أحمد السيد عمر"},{"$f":"$L$20","v":115},{"$f":"Sheet1!L12","v":11},null,null,10,{"$f":"$J$21","v":40},{"$f":"LOOKUP(X78,Names!$A$2:$A$161,Names!$B$2:$B$161)","v":"احمد محمود عبد الرزاق  "},{"$f":"$L$21","v":150},{"$f":"Sheet1!L12","v":11}]
[11,11,{"$f":"$Q$18","v":41},{"$f":"LOOKUP(C79,Names!$A$2:$A$161,Names!$B$2:$B$161)","v":"خالد مصطفى عزت "},{"$f":"$S$18","v":133},{"$f":"Sheet1!L13","v":10},null,null,11,{"$f":"$Q$19","v":42},{"$f":"LOOKUP(J79,Names!$A$2:$A$161,Names!$B$2:$B$161)","v":"محمد عبد الهادي أبو القاسم "},{"$f":"$S$19","v":55},{"$f":"Sheet1!L13","v":10},null,null,11,{"$f":"$Q$20","v":43},{"$f":"LOOKUP(Q79,Names!$A$2:$A$161,Names!$B$2:$B$161)","v":"أمير محمد خطاب  "},{"$f":"$S$20","v":203},{"$f":"Sheet1!L13","v":10},null,null,11,{"$f":"$Q$21","v":44},{"$f":"LOOKUP(X79,Names!$A$2:$A$161,Names!$B$2:$B$161)","v":"جمال السيد توفيق محمد "},{"$f":"$S$21","v":87},{"$f":"Sheet1!L13","v":10}]
[12,12,{"$f":"$X$18","v":45},{"$f":"LOOKUP(C80,Names!$A$2:$A$161,Names!$B$2:$B$161)","v":"رضا هنري"},{"$f":"$Z$18","v":25},{"$f":"Sheet1!L14","v":9},null,null,12,{"$f":"$X$19","v":46},{"$f":"LOOKUP(J80,Names!$A$2:$A$161,Names!$B$2:$B$161)","v":"علاء شوقي جبريل  "},{"$f":"$Z$19","v":165},{"$f":"Sheet1!L14","v":9},null,null,12,{"$f":"$X$20","v":47},{"$f":"LOOKUP(Q80,Names!$A$2:$A$161,Names!$B$2:$B$161)","v":"هاني فكري المراكبي"},{"$f":"$Z$20","v":-11},{"$f":"Sheet1!L14","v":9},null,null,12,{"$f":"$X$21","v":48},{"$f":"LOOKUP(X80,Names!$A$2:$A$161,Names!$B$2:$B$161)","v":"محمد ناجي زاهر بلبع "},{"$f":"$Z$21","v":182},{"$f":"Sheet1!L14","v":9}]
[13,13,{"$f":"$C$24","v":49},{"$f":"LOOKUP(C81,Names!$A$2:$A$161,Names!$B$2:$B$161)","v":"هيثم العشماوي "},{"$f":"$E$24","v":126},{"$f":"Sheet1!L15","v":8},null,null,13,{"$f":"$C$25","v":50},{"$f":"LOOKUP(J81,Names!$A$2:$A$161,Names!$B$2:$B$161)","v":"فادي ناجح"},{"$f":"$E$25","v":101},{"$f":"Sheet1!L15","v":8},null,null,13,{"$f":"$C$26","v":51},{"$f":"LOOKUP(Q81,Names!$A$2:$A$161,Names!$B$2:$B$161)","v":"أحمد أحمد مرسي عبد الله "},{"$f":"$E$26","v":111},{"$f":"Sheet1!L15","v":8},null,null,13,{"$f":"$C$27","v":52},{"$f":"LOOKUP(X81,Names!$A$2:$A$161,Names!$B$2:$B$161)","v":"يامن محمد حسن  "},{"$f":"$E$27","v":142},{"$f":"Sheet1!L15","v":8}]
[14,14,{"$f":"$J$24","v":53},{"$f":"LOOKUP(C82,Names!$A$2:$A$161,Names!$B$2:$B$161)","v":"أحمد محمد شوقي هيبه"},{"$f":"$L$24","v":104},{"$f":"Sheet1!L16","v":7},null,null,14,{"$f":"$J$25","v":54},{"$f":"LOOKUP(J82,Names!$A$2:$A$161,Names!$B$2:$B$161)","v":"تامر رشاد   "},{"$f":"$L$25","v":100},{"$f":"Sheet1!L16","v":7},null,null,14,{"$f":"$J$26","v":55},{"$f":"LOOKUP(Q82,Names!$A$2:$A$161,Names!$B$2:$B$161)","v":"ناجي بلبع"},{"$f":"$L$26","v":143},{"$f":"Sheet1!L16","v":7},null,null,14,{"$f":"$J$27","v":56},{"$f":"LOOKUP(X82,Names!$A$2:$A$161,Names!$B$2:$B$161)","v":"جاسر محمد"},{"$f":"$L$27","v":70},{"$f":"Sheet1!L16","v":7}]
[15,15,{"$f":"$Q$24","v":57},{"$f":"LOOKUP(C83,Names!$A$2:$A$161,Names!$B$2:$B$161)","v":"مصطفى كامل الشحري"},{"$f":"$S$24","v":50},{"$f":"Sheet1!L17","v":6},null,null,15,{"$f":"$Q$25","v":58},{"$f":"LOOKUP(J83,Names!$A$2:$A$161,Names!$B$2:$B$161)","v":"أحمد إبراهيم غانم "},{"$f":"$S$25","v":165},{"$f":"Sheet1!L17","v":6},null,null,15,{"$f":"$Q$26","v":59},{"$f":"LOOKUP(Q83,Names!$A$2:$A$161,Names!$B$2:$B$161)","v":"هشام أبوغربية "},{"$f":"$S$26","v":195},{"$f":"Sheet1!L17","v":6},null,null,15,{"$f":"$Q$27","v":60},{"$f":"LOOKUP(X83,Names!$A$2:$A$161,Names!$B$2:$B$161)","v":"عصام الدين حامد منصور "},{"$f":"$S$27","v":69},{"$f":"Sheet1!L17","v":6}]
[16,16,{"$f":"$X$24","v":61},{"$f":"LOOKUP(C84,Names!$A$2:$A$161,Names!$B$2:$B$161)","v":"كريم إيهاب عامر  "},{"$f":"$Z$24","v":75},{"$f":"Sheet1!L18","v":5},null,null,16,{"$f":"$X$25","v":62},{"$f":"LOOKUP(J84,Names!$A$2:$A$161,Names!$B$2:$B$161)","v":"محمد محمود مسعود  "},{"$f":"$Z$25","v":77},{"$f":"Sheet1!L18","v":5},null,null,16,{"$f":"$X$26","v":63},{"$f":"LOOKUP(Q84,Names!$A$2:$A$161,Names!$B$2:$B$161)","v":"محمد أحمد محمد عبد الله "},{"$f":"$Z$26","v":97},{"$f":"Sheet1!L18","v":5},null,null,16,{"$f":"$X$27","v":64},{"$f":"LOOKUP(X84,Names!$A$2:$A$161,Names!$B$2:$B$161)","v":"وليد شعبان إسماعيل علي "},{"$f":"$Z$27","v":71},{"$f":"Sheet1!L18","v":5}]
[17,17,{"$f":"$C$30","v":65},{"$f":"LOOKUP(C85,Names!$A$2:$A$161,Names!$B$2:$B$161)","v":"أحمد طارق   "},{"$f":"$E$30","v":98},{"$f":"Sheet1!L19","v":4},null,null,17,{"$f":"$C$31","v":66},{"$f":"LOOKUP(J85,Names!$A$2:$A$161,Names!$B$2:$B$161)","v":"أحمد فؤاد حسنين "},{"$f":"$E$31","v":174},{"$f":"Sheet1!L19","v":4},null,null,17,{"$f":"$C$32","v":67},{"$f":"LOOKUP(Q85,Names!$A$2:$A$161,Names!$B$2:$B$161)","v":"محمد محمود فضل "},{"$f":"$E$32","v":118},{"$f":"Sheet1!L19","v":4},null,null,17,{"$f":"$C$33","v":68},{"$f":"LOOKUP(X85,Names!$A$2:$A$161,Names!$B$2:$B$161)","v":"مصطفى إسماعيل"},{"$f":"$E$33","v":84},{"$f":"Sheet1!L19","v":4}]
[18,18,{"$f":"$J$30","v":69},{"$f":"LOOKUP(C86,Names!$A$2:$A$161,Names!$B$2:$B$161)","v":"أحمد علي السيد شرع"},{"$f":"$L$30","v":92},{"$f":"Sheet1!L20","v":3},null,null,18,{"$f":"$J$31","v":70},{"$f":"LOOKUP(J86,Names!$A$2:$A$161,Names!$B$2:$B$161)","v":"أحمد صلاح الدين دياب "},{"$f":"$L$31","v":105},{"$f":"Sheet1!L20","v":3},null,null,18,{"$f":"$J$32","v":71},{"$f":"LOOKUP(Q86,Names!$A$2:$A$161,Names!$B$2:$B$161)","v":"معتز محمد"},{"$f":"$L$32","v":82},{"$f":"Sheet1!L20","v":3},null,null,18,{"$f":"$J$33","v":72},{"$f":"LOOKUP(X86,Names!$A$2:$A$161,Names!$B$2:$B$161)","v":"أحمد سمير خلف "},{"$f":"$L$33","v":140},{"$f":"Sheet1!L20","v":3}]
[19,19,{"$f":"$Q$30","v":73},{"$f":"LOOKUP(C87,Names!$A$2:$A$161,Names!$B$2:$B$161)","v":"مينا ناجح صبحي  "},{"$f":"$S$30","v":180},{"$f":"Sheet1!L21","v":2},null,null,19,{"$f":"$Q$31","v":74},{"$f":"LOOKUP(J87,Names!$A$2:$A$161,Names!$B$2:$B$161)","v":"فريدة شكري"},{"$f":"$S$31","v":187},{"$f":"Sheet1!L21","v":2},null,null,19,{"$f":"$Q$32","v":75},{"$f":"LOOKUP(Q87,Names!$A$2:$A$161,Names!$B$2:$B$161)","v":"محمود سليمان"},{"$f":"$S$32","v":48},{"$f":"Sheet1!L21","v":2},null,null,19,{"$f":"$Q$33","v":76},{"$f":"LOOKUP(X87,Names!$A$2:$A$161,Names!$B$2:$B$161)","v":"محمد إبراهيم قطب "},{"$f":"$S$33","v":8},{"$f":"Sheet1!L21","v":2}]
[20,20,{"$f":"$X$30","v":77},{"$f":"LOOKUP(C88,Names!$A$2:$A$161,Names!$B$2:$B$161)","v":"محمد محمود شعبان "},{"$f":"$Z$30","v":92},{"$f":"Sheet1!L22","v":1},null,null,20,{"$f":"$X$31","v":78},{"$f":"LOOKUP(J88,Names!$A$2:$A$161,Names!$B$2:$B$161)","v":"حسام الخلفاوي"},{"$f":"$Z$31","v":39},{"$f":"Sheet1!L22","v":1},null,null,20,{"$f":"$X$32","v":79},{"$f":"LOOKUP(Q88,Names!$A$2:$A$161,Names!$B$2:$B$161)","v":"محمد علي حسن طه الأمام"},{"$f":"$Z$32","v":193},{"$f":"Sheet1!L22","v":1},null,null,20,{"$f":"$X$33","v":80},{"$f":"LOOKUP(X88,Names!$A$2:$A$161,Names!$B$2:$B$161)","v":"أمن حسام"},{"$f":"$Z$33","v":-28},{"$f":"Sheet1!L22","v":1}]
[21,21,{"$f":"$C$37","v":81},{"$f":"LOOKUP(C89,Names!$A$2:$A$161,Names!$B$2:$B$161)","v":0},{"$f":"$E$37","v":0},null,null,null,21,{"$f":"$C$38","v":82},{"$f":"LOOKUP(J89,Names!$A$2:$A$161,Names!$B$2:$B$161)","v":0},{"$f":"$E$38","v":0},null,null,null,21,{"$f":"$C$39","v":83},{"$f":"LOOKUP(Q89,Names!$A$2:$A$161,Names!$B$2:$B$161)","v":0},{"$f":"$E$39","v":0},null,null,null,21,{"$f":"$C$40","v":84},{"$f":"LOOKUP(X89,Names!$A$2:$A$161,Names!$B$2:$B$161)","v":0},{"$f":"$E$40","v":0}]
[22,22,{"$f":"$J$37","v":85},{"$f":"LOOKUP(C90,Names!$A$2:$A$161,Names!$B$2:$B$161)","v":0},{"$f":"$L$37","v":0},null,null,null,22,{"$f":"$J$38","v":86},{"$f":"LOOKUP(J90,Names!$A$2:$A$161,Names!$B$2:$B$161)","v":0},{"$f":"$L$38","v":0},null,null,null,22,{"$f":"$J$39","v":87},{"$f":"LOOKUP(Q90,Names!$A$2:$A$161,Names!$B$2:$B$161)","v":0},{"$f":"$L$39","v":0},null,null,null,22,{"$f":"$J$40","v":88},{"$f":"LOOKUP(X90,Names!$A$2:$A$161,Names!$B$2:$B$161)","v":0},{"$f":"$L$40","v":0}]
[23,23,{"$f":"$Q$37","v":89},{"$f":"LOOKUP(C91,Names!$A$2:$A$161,Names!$B$2:$B$161)","v":0},{"$f":"$S$37","v":0},null,null,null,23,{"$f":"$Q$38","v":90},{"$f":"LOOKUP(J91,Names!$A$2:$A$161,Names!$B$2:$B$161)","v":0},{"$f":"$S$38","v":0},null,null,null,23,{"$f":"$Q$39","v":91},{"$f":"LOOKUP(Q91,Names!$A$2:$A$161,Names!$B$2:$B$161)","v":0},{"$f":"$S$39","v":0},null,null,null,23,{"$f":"$Q$40","v":92},{"$f":"LOOKUP(X91,Names!$A$2:$A$161,Names!$B$2:$B$161)","v":0},{"$f":"$S$40","v":0}]
[24,24,{"$f":"$X$37","v":93},{"$f":"LOOKUP(C92,Names!$A$2:$A$161,Names!$B$2:$B$161)","v":0},{"$f":"$Z$37","v":0},null,null,null,24,{"$f":"$X$38","v":94},{"$f":"LOOKUP(J92,Names!$A$2:$A$161,Names!$B$2:$B$161)","v":0},{"$f":"$Z$38","v":0},null,null,null,24,{"$f":"$X$39","v":95},{"$f":"LOOKUP(Q92,Names!$A$2:$A$161,Names!$B$2:$B$161)","v":0},{"$f":"$Z$39","v":0},null,null,null,24,{"$f":"$X$40","v":96},{"$f":"LOOKUP(X92,Names!$A$2:$A$161,Names!$B$2:$B$161)","v":0},{"$f":"$Z$40","v":0}]
[25,25,{"$f":"$C$43","v":97},{"$f":"LOOKUP(C93,Names!$A$2:$A$161,Names!$B$2:$B$161)","v":0},{"$f":"$E$43","v":0},null,null,null,25,{"$f":"$C$44","v":98},{"$f":"LOOKUP(J93,Names!$A$2:$A$161,Names!$B$2:$B$161)","v":0},{"$f":"$E$44","v":0},null,null,null,25,{"$f":"$C$45","v":99},{"$f":"LOOKUP(Q93,Names!$A$2:$A$161,Names!$B$2:$B$161)","v":0},{"$f":"$E$45","v":0},null,null,null,25,{"$f":"$C$46","v":100},{"$f":"LOOKUP(X93,Names!$A$2:$A$161,Names!$B$2:$B$161)","v":0},{"$f":"$E$46","v":0}]
[26,26,{"$f":"$J$43","v":101},{"$f":"LOOKUP(C94,Names!$A$2:$A$161,Names!$B$2:$B$161)","v":0},{"$f":"$L$43","v":0},null,null,null,26,{"$f":"$J$44","v":102},{"$f":"LOOKUP(J94,Names!$A$2:$A$161,Names!$B$2:$B$161)","v":0},{"$f":"$L$44","v":0},null,null,null,26,{"$f":"$J$45","v":103},{"$f":"LOOKUP(Q94,Names!$A$2:$A$161,Names!$B$2:$B$161)","v":0},{"$f":"$L$45","v":0},null,null,null,26,{"$f":"$J$46","v":104},{"$f":"LOOKUP(X94,Names!$A$2:$A$161,Names!$B$2:$B$161)","v":0},{"$f":"$L$46","v":0}]
[27,27,{"$f":"$Q$43","v":105},{"$f":"LOOKUP(C95,Names!$A$2:$A$161,Names!$B$2:$B$161)","v":0},{"$f":"$S$43","v":0},null,null,null,27,{"$f":"$Q$44","v":106},{"$f":"LOOKUP(J95,Names!$A$2:$A$161,Names!$B$2:$B$161)","v":0},{"$f":"$S$44","v":0},null,null,null,27,{"$f":"$Q$45","v":107},{"$f":"LOOKUP(Q95,Names!$A$2:$A$161,Names!$B$2:$B$161)","v":0},{"$f":"$S$45","v":0},null,null,null,27,{"$f":"$Q$46","v":108},{"$f":"LOOKUP(X95,Names!$A$2:$A$161,Names!$B$2:$B$161)","v":0},{"$f":"$S$46","v":0}]
[28,28,{"$f":"$X$43","v":109},{"$f":"LOOKUP(C96,Names!$A$2:$A$161,Names!$B$2:$B$161)","v":0},null,null,null,null,28,{"$f":"$X$44","v":110},{"$f":"LOOKUP(J96,Names!$A$2:$A$161,Names!$B$2:$B$161)","v":0},null,null,null,null,28,{"$f":"$X$45","v":111},{"$f":"LOOKUP(Q96,Names!$A$2:$A$161,Names!$B$2:$B$161)","v":0},null,null,null,null,28,{"$f":"$X$46","v":112},{"$f":"LOOKUP(X96,Names!$A$2:$A$161,Names!$B$2:$B$161)","v":0}]
[29,29,{"$f":"$C$49","v":113},{"$f":"LOOKUP(C97,Names!$A$2:$A$161,Names!$B$2:$B$161)","v":0},null,null,null,null,29,{"$f":"$C$50","v":114},{"$f":"LOOKUP(J97,Names!$A$2:$A$161,Names!$B$2:$B$161)","v":0},null,null,null,null,29,{"$f":"$C$51","v":115},{"$f":"LOOKUP(Q97,Names!$A$2:$A$161,Names!$B$2:$B$161)","v":0},null,null,null,null,29,{"$f":"$C$52","v":116},{"$f":"LOOKUP(X97,Names!$A$2:$A$161,Names!$B$2:$B$161)","v":0}]
[30,30,{"$f":"$J$49","v":117},{"$f":"LOOKUP(C98,Names!$A$2:$A$161,Names!$B$2:$B$161)","v":0},null,null,null,null,30,{"$f":"$J$50","v":118},{"$f":"LOOKUP(J98,Names!$A$2:$A$161,Names!$B$2:$B$161)","v":0},null,null,null,null,30,{"$f":"$J$51","v":119},{"$f":"LOOKUP(Q98,Names!$A$2:$A$161,Names!$B$2:$B$161)","v":0},null,null,null,null,30,{"$f":"$J$52","v":120},{"$f":"LOOKUP(X98,Names!$A$2:$A$161,Names!$B$2:$B$161)","v":0}]
[31,31,{"$f":"$Q$49","v":121},{"$f":"LOOKUP(C99,Names!$A$2:$A$161,Names!$B$2:$B$161)","v":0},null,null,null,null,31,{"$f":"$Q$50","v":122},{"$f":"LOOKUP(J99,Names!$A$2:$A$161,Names!$B$2:$B$161)","v":0},null,null,null,null,31,{"$f":"$Q$51","v":123},{"$f":"LOOKUP(Q99,Names!$A$2:$A$161,Names!$B$2:$B$161)","v":0},null,null,null,null,31,{"$f":"$Q$52","v":124},{"$f":"LOOKUP(X99,Names!$A$2:$A$161,Names!$B$2:$B$161)","v":0}]
[32,32,{"$f":"$X$49","v":125},{"$f":"LOOKUP(C100,Names!$A$2:$A$161,Names!$B$2:$B$161)","v":0},null,null,null,null,32,{"$f":"$X$50","v":126},{"$f":"LOOKUP(J100,Names!$A$2:$A$161,Names!$B$2:$B$161)","v":0},null,null,null,null,32,{"$f":"$X$51","v":127},{"$f":"LOOKUP(Q100,Names!$A$2:$A$161,Names!$B$2:$B$161)","v":0},null,null,null,null,32,{"$f":"$X$52","v":128},{"$f":"LOOKUP(X100,Names!$A$2:$A$161,Names!$B$2:$B$161)","v":0}]
[33,33,{"$f":"$C$55","v":129},{"$f":"LOOKUP(C101,Names!$A$2:$A$161,Names!$B$2:$B$161)","v":0},null,null,null,null,33,{"$f":"$C$56","v":130},{"$f":"LOOKUP(J101,Names!$A$2:$A$161,Names!$B$2:$B$161)","v":0},null,null,null,null,33,{"$f":"$C$57","v":131},{"$f":"LOOKUP(Q101,Names!$A$2:$A$161,Names!$B$2:$B$161)","v":0},null,null,null,null,33,{"$f":"$C$58","v":132},{"$f":"LOOKUP(X101,Names!$A$2:$A$161,Names!$B$2:$B$161)","v":0}]
[34,34,{"$f":"$J$55","v":133},{"$f":"LOOKUP(C102,Names!$A$2:$A$161,Names!$B$2:$B$161)","v":0},null,null,null,null,34,{"$f":"$J$56","v":134},{"$f":"LOOKUP(J102,Names!$A$2:$A$161,Names!$B$2:$B$161)","v":0},null,null,null,null,34,{"$f":"$J$57","v":135},{"$f":"LOOKUP(Q102,Names!$A$2:$A$161,Names!$B$2:$B$161)","v":0},null,null,null,null,34,{"$f":"$J$58","v":136},{"$f":"LOOKUP(X102,Names!$A$2:$A$161,Names!$B$2:$B$161)","v":0}]
[35,35,{"$f":"$Q$55","v":137},{"$f":"LOOKUP(C103,Names!$A$2:$A$161,Names!$B$2:$B$161)","v":0},null,null,null,null,35,{"$f":"$Q$56","v":138},{"$f":"LOOKUP(J103,Names!$A$2:$A$161,Names!$B$2:$B$161)","v":0},null,null,null,null,35,{"$f":"$Q$57","v":139},{"$f":"LOOKUP(Q103,Names!$A$2:$A$161,Names!$B$2:$B$161)","v":0},null,null,null,null,35,{"$f":"$Q$58","v":140},{"$f":"LOOKUP(X103,Names!$A$2:$A$161,Names!$B$2:$B$161)","v":0}]
[36,36,{"$f":"$X$55","v":141},{"$f":"LOOKUP(C104,Names!$A$2:$A$161,Names!$B$2:$B$161)","v":0},null,null,null,null,36,{"$f":"$X$56","v":142},{"$f":"LOOKUP(J104,Names!$A$2:$A$161,Names!$B$2:$B$161)","v":0},null,null,null,null,36,{"$f":"$X$57","v":143},{"$f":"LOOKUP(Q104,Names!$A$2:$A$161,Names!$B$2:$B$161)","v":0},null,null,null,null,36,{"$f":"$X$58","v":144},{"$f":"LOOKUP(X104,Names!$A$2:$A$161,Names!$B$2:$B$161)","v":0}]
[37,37,{"$f":"$C$61","v":145},{"$f":"LOOKUP(C105,Names!$A$2:$A$161,Names!$B$2:$B$161)","v":0},null,null,null,null,37,{"$f":"$C$62","v":146},{"$f":"LOOKUP(J105,Names!$A$2:$A$161,Names!$B$2:$B$161)","v":0},null,null,null,null,37,{"$f":"$C$63","v":147},{"$f":"LOOKUP(Q105,Names!$A$2:$A$161,Names!$B$2:$B$161)","v":0},null,null,null,null,37,{"$f":"$C$64","v":148},{"$f":"LOOKUP(X105,Names!$A$2:$A$161,Names!$B$2:$B$161)","v":0}]
[38,38,{"$f":"$J$61","v":149},{"$f":"LOOKUP(C106,Names!$A$2:$A$161,Names!$B$2:$B$161)","v":0},null,null,null,null,38,{"$f":"$J$62","v":150},{"$f":"LOOKUP(J106,Names!$A$2:$A$161,Names!$B$2:$B$161)","v":0},null,null,null,null,38,{"$f":"$J$63","v":151},{"$f":"LOOKUP(Q106,Names!$A$2:$A$161,Names!$B$2:$B$161)","v":0},null,null,null,null,38,{"$f":"$J$64","v":152},{"$f":"LOOKUP(X106,Names!$A$2:$A$161,Names!$B$2:$B$161)","v":0}]
[39,39,{"$f":"$Q$61","v":153},{"$f":"LOOKUP(C107,Names!$A$2:$A$161,Names!$B$2:$B$161)","v":0},null,null,null,null,39,{"$f":"$Q$62","v":154},{"$f":"LOOKUP(J107,Names!$A$2:$A$161,Names!$B$2:$B$161)","v":0},null,null,null,null,39,{"$f":"$Q$63","v":155},{"$f":"LOOKUP(Q107,Names!$A$2:$A$161,Names!$B$2:$B$161)","v":0},null,null,null,null,39,{"$f":"$Q$64","v":156},{"$f":"LOOKUP(X107,Names!$A$2:$A$161,Names!$B$2:$B$161)","v":0}]
[40,40,{"$f":"$X$61","v":157},{"$f":"LOOKUP(C108,Names!$A$2:$A$161,Names!$B$2:$B$161)","v":0},null,null,null,null,40,{"$f":"$X$62","v":158},{"$f":"LOOKUP(J108,Names!$A$2:$A$161,Names!$B$2:$B$161)","v":0},null,null,null,null,40,{"$f":"$X$63","v":159},{"$f":"LOOKUP(Q108,Names!$A$2:$A$161,Names!$B$2:$B$161)","v":0},null,null,null,null,40,{"$f":"$X$64","v":160},{"$f":"LOOKUP(X108,Names!$A$2:$A$161,Names!$B$2:$B$161)","v":0}]

{"sheet":"R2","index":3,"n_rows":108,"n_cols":28,"rows_kept":108,"cut":false,"hidden":false,"merged":[[0,24,2,26],[3,3,3,5],[3,10,3,12],[3,17,3,19],[3,24,3,26],[0,11,0,17],[2,11,2,17],[34,3,34,5],[34,10,34,12],[34,17,34,19],[34,24,34,26],[9,3,9,5],[9,10,9,12],[9,17,9,19],[9,24,9,26],[15,3,15,5],[15,10,15,12],[15,17,15,19],[15,24,15,26],[21,3,21,5],[21,10,21,12],[21,17,21,19],[21,24,21,26],[27,3,27,5],[27,10,27,12],[27,17,27,19],[27,24,27,26],[66,3,66,5],[66,10,66,12],[66,17,66,19],[66,24,66,26],[52,3,52,5],[52,10,52,12],[52,17,52,19],[52,24,52,26],[65,10,65,19],[58,3,58,5],[58,10,58,12],[58,17,58,19],[58,24,58,26],[40,3,40,5],[40,10,40,12],[40,17,40,19],[40,24,40,26],[46,3,46,5],[46,10,46,12],[46,17,46,19],[46,24,46,26]]}
[null,null,null,null,null,null,null,null,null,null,"التوقيت :","Round ( 2 )",null,null,null,null,null,null,null,null,null,null,null,null,{"$f":"Score!T1","v":"بطولة الجمهورية الثانية\nللفردي المفتوح"}]
[]
[null,null,null,null,null,null,null,null,null,null,"3.00 PM","Tab."]
[null,null,null,1,null,null,null,null,null,null,2,null,null,null,null,null,null,3,null,null,null,null,null,null,4]
[null,null,null,"Names","Sc.","Tab",null,null,null,null,"Names","Sc.","Tab",null,null,null,null,"Names","Sc.","Tab",null,null,null,null,"Names","Sc.","Tab"]
["N",1,{"$f":"Score!I5","v":1},{"$f":"LOOKUP(C6,Names!$A$2:$A$161,Names!$B$2:$B$161)","v":"راجي صبحي  "},47,{"$f":"Sheet1!$M$4","v":0},{"$f":"F69","v":21},"N",1,{"$f":"Score!I9","v":2},{"$f":"LOOKUP(J6,Names!$A$2:$A$161,Names!$B$2:$B$161)","v":"شريف أحمد محمد حمروش"},51,{"$f":"Sheet1!$M$4","v":0},{"$f":"F70","v":19},"N",1,{"$f":"Score!I13","v":3},{"$f":"LOOKUP(Q6,Names!$A$2:$A$161,Names!$B$2:$B$161)","v":"إيهاب يوسف عمارة "},108,{"$f":"Sheet1!$M$4","v":0},{"$f":"F71","v":18},"N",1,{"$f":"Score!I17","v":4},{"$f":"LOOKUP(X6,Names!$A$2:$A$161,Names!$B$2:$B$161)","v":"محمد سعيد الفطاطري"},190,{"$f":"Sheet1!$M$4","v":0},{"$f":"F72","v":17}]
["W",2,{"$f":"Score!I6","v":21},{"$f":"LOOKUP(C7,Names!$A$2:$A$161,Names!$B$2:$B$161)","v":"أحمد محمد حمدي صالح "},112,{"$f":"Sheet1!$M$5","v":0},{"$f":"M69","v":21},"W",2,{"$f":"Score!I10","v":22},{"$f":"LOOKUP(J7,Names!$A$2:$A$161,Names!$B$2:$B$161)","v":"طه إبراهيم طه  "},151,{"$f":"Sheet1!$M$5","v":0},{"$f":"M70","v":19},"W",2,{"$f":"Score!I14","v":23},{"$f":"LOOKUP(Q7,Names!$A$2:$A$161,Names!$B$2:$B$161)","v":"مصطفى يوسف محمد"},69,{"$f":"Sheet1!$M$5","v":0},{"$f":"M71","v":18},"W",2,{"$f":"Score!I18","v":24},{"$f":"LOOKUP(X7,Names!$A$2:$A$161,Names!$B$2:$B$161)","v":"هيثم محمد شبانة"},134,{"$f":"Sheet1!$M$5","v":0},{"$f":"M72","v":17}]
["S",3,{"$f":"Score!I7","v":41},{"$f":"LOOKUP(C8,Names!$A$2:$A$161,Names!$B$2:$B$161)","v":"خالد مصطفى عزت "},97,{"$f":"Sheet1!$M$6","v":0},{"$f":"T69","v":21},"S",3,{"$f":"Score!I11","v":42},{"$f":"LOOKUP(J8,Names!$A$2:$A$161,Names!$B$2:$B$161)","v":"محمد عبد الهادي أبو القاسم "},119,{"$f":"Sheet1!$M$6","v":0},{"$f":"T70","v":19},"S",3,{"$f":"Score!I15","v":43},{"$f":"LOOKUP(Q8,Names!$A$2:$A$161,Names!$B$2:$B$161)","v":"أمير محمد خطاب  "},49,{"$f":"Sheet1!$M$6","v":0},{"$f":"T71","v":18},"S",3,{"$f":"Score!I19","v":44},{"$f":"LOOKUP(X8,Names!$A$2:$A$161,Names!$B$2:$B$161)","v":"جمال السيد توفيق محمد "},22,{"$f":"Sheet1!$M$6","v":0},{"$f":"T72","v":17}]
["E",4,{"$f":"Score!I8","v":61},{"$f":"LOOKUP(C9,Names!$A$2:$A$161,Names!$B$2:$B$161)","v":"كريم إيهاب عامر  "},116,{"$f":"Sheet1!$M$7","v":0},{"$f":"AA69","v":21},"E",4,{"$f":"Score!I12","v":62},{"$f":"LOOKUP(J9,Names!$A$2:$A$161,Names!$B$2:$B$161)","v":"محمد محمود مسعود  "},78,{"$f":"Sheet1!$M$7","v":0},{"$f":"AA70","v":19},"E",4,{"$f":"Score!I16","v":63},{"$f":"LOOKUP(Q9,Names!$A$2:$A$161,Names!$B$2:$B$161)","v":"محمد أحمد محمد عبد الله "},102,{"$f":"Sheet1!$M$7","v":0},{"$f":"AA71","v":18},"E",4,{"$f":"Score!I20","v":64},{"$f":"LOOKUP(X9,Names!$A$2:$A$161,Names!$B$2:$B$161)","v":"وليد شعبان إسماعيل علي "},-8,{"$f":"Sheet1!$M$7","v":0},{"$f":"AA72","v":17}]
[null,null,null,5,null,null,null,null,null,null,6,null,null,null,null,null,null,7,null,null,null,null,null,null,8]
[null,null,null,"Names","Sc.","Tab",null,null,null,null,"Names","Sc.","Tab",null,null,null,null,"Names","Sc.","Tab",null,null,null,null,"Names","Sc.","Tab"]
["N",1,{"$f":"Score!I21","v":5},{"$f":"LOOKUP(C12,Names!$A$2:$A$161,Names!$B$2:$B$161)","v":"محمد عصام الدين القاضي "},118,{"$f":"Sheet1!$M$4","v":0},{"$f":"F73","v":16},"N",1,{"$f":"Score!I25","v":6},{"$f":"LOOKUP(J12,Names!$A$2:$A$161,Names!$B$2:$B$161)","v":"إبراهيم عرفان السقا  "},142,{"$f":"Sheet1!$M$4","v":0},{"$f":"F74","v":15},"N",1,{"$f":"Score!I29","v":7},{"$f":"LOOKUP(Q12,Names!$A$2:$A$161,Names!$B$2:$B$161)","v":"باسم أسحق صموائيل"},112,{"$f":"Sheet1!$M$4","v":0},{"$f":"F75","v":14},"N",1,{"$f":"Score!I33","v":8},{"$f":"LOOKUP(X12,Names!$A$2:$A$161,Names!$B$2:$B$161)","v":"إيهاب  محمد الزهيري "},93,{"$f":"Sheet1!$M$4","v":0},{"$f":"F76","v":13}]
["W",2,{"$f":"Score!I22","v":25},{"$f":"LOOKUP(C13,Names!$A$2:$A$161,Names!$B$2:$B$161)","v":"خالد شباره "},160,{"$f":"Sheet1!$M$5","v":0},{"$f":"M73","v":16},"W",2,{"$f":"Score!I26","v":26},{"$f":"LOOKUP(J13,Names!$A$2:$A$161,Names!$B$2:$B$161)","v":"أحمد الطنطاوي "},126,{"$f":"Sheet1!$M$5","v":0},{"$f":"M74","v":15},"W",2,{"$f":"Score!I30","v":27},{"$f":"LOOKUP(Q13,Names!$A$2:$A$161,Names!$B$2:$B$161)","v":"سمير الحوفي"},70,{"$f":"Sheet1!$M$5","v":0},{"$f":"M75","v":14},"W",2,{"$f":"Score!I34","v":28},{"$f":"LOOKUP(X13,Names!$A$2:$A$161,Names!$B$2:$B$161)","v":"عمرو محسن فرج "},55,{"$f":"Sheet1!$M$5","v":0},{"$f":"M76","v":13}]
["S",3,{"$f":"Score!I23","v":45},{"$f":"LOOKUP(C14,Names!$A$2:$A$161,Names!$B$2:$B$161)","v":"رضا هنري"},-12,{"$f":"Sheet1!$M$6","v":0},{"$f":"T73","v":16},"S",3,{"$f":"Score!I27","v":46},{"$f":"LOOKUP(J14,Names!$A$2:$A$161,Names!$B$2:$B$161)","v":"علاء شوقي جبريل  "},-30,{"$f":"Sheet1!$M$6","v":0},{"$f":"T74","v":15},"S",3,{"$f":"Score!I31","v":47},{"$f":"LOOKUP(Q14,Names!$A$2:$A$161,Names!$B$2:$B$161)","v":"هاني فكري المراكبي"},177,{"$f":"Sheet1!$M$6","v":0},{"$f":"T75","v":14},"S",3,{"$f":"Score!I35","v":48},{"$f":"LOOKUP(X14,Names!$A$2:$A$161,Names!$B$2:$B$161)","v":"محمد ناجي زاهر بلبع "},119,{"$f":"Sheet1!$M$6","v":0},{"$f":"T76","v":13}]
["E",4,{"$f":"Score!I24","v":65},{"$f":"LOOKUP(C15,Names!$A$2:$A$161,Names!$B$2:$B$161)","v":"أحمد طارق   "},83,{"$f":"Sheet1!$M$7","v":0},{"$f":"AA73","v":16},"E",4,{"$f":"Score!I28","v":66},{"$f":"LOOKUP(J15,Names!$A$2:$A$161,Names!$B$2:$B$161)","v":"أحمد فؤاد حسنين "},140,{"$f":"Sheet1!$M$7","v":0},{"$f":"AA74","v":15},"E",4,{"$f":"Score!I32","v":67},{"$f":"LOOKUP(Q15,Names!$A$2:$A$161,Names!$B$2:$B$161)","v":"محمد محمود فضل "},73,{"$f":"Sheet1!$M$7","v":0},{"$f":"AA75","v":14},"E",4,{"$f":"Score!I36","v":68},{"$f":"LOOKUP(X15,Names!$A$2:$A$161,Names!$B$2:$B$161)","v":"مصطفى إسماعيل"},113,{"$f":"Sheet1!$M$7","v":0},{"$f":"AA76","v":13}]
[null,null,null,9,null,null,null,null,null,null,10,null,null,null,null,null,null,{"$f":"'R1'!R16:T16","v":11},null,null,null,null,null,null,{"$f":"'R1'!Y16:AA16","v":12}]
[null,null,null,"Names","Sc.","Tab",null,null,null,null,"Names","Sc.","Tab",null,null,null,null,"Names","Sc.","Tab",null,null,null,null,"Names","Sc.","Tab"]
["N",1,{"$f":"Score!I37","v":9},{"$f":"LOOKUP(C18,Names!$A$2:$A$161,Names!$B$2:$B$161)","v":"رأفت الصياد"},83,{"$f":"Sheet1!$M$4","v":0},{"$f":"F77","v":12},"N",1,{"$f":"Score!I41","v":10},{"$f":"LOOKUP(J18,Names!$A$2:$A$161,Names!$B$2:$B$161)","v":"نبيل خلف زكي حسنين "},164,{"$f":"Sheet1!$M$4","v":0},{"$f":"F78","v":11},"N",1,{"$f":"Score!I45","v":11},{"$f":"LOOKUP(Q18,Names!$A$2:$A$161,Names!$B$2:$B$161)","v":"معتز محمد مدبولي "},103,{"$f":"Sheet1!$M$4","v":0},{"$f":"F79","v":10},"N",1,{"$f":"Score!I49","v":12},{"$f":"LOOKUP(X18,Names!$A$2:$A$161,Names!$B$2:$B$161)","v":"أمير كمال جميل"},67,{"$f":"Sheet1!$M$4","v":0},{"$f":"F80","v":9}]
["W",2,{"$f":"Score!I38","v":29},{"$f":"LOOKUP(C19,Names!$A$2:$A$161,Names!$B$2:$B$161)","v":"عبد الرحمن عثمان"},114,{"$f":"Sheet1!$M$5","v":0},{"$f":"M77","v":12},"W",2,{"$f":"Score!I42","v":30},{"$f":"LOOKUP(J19,Names!$A$2:$A$161,Names!$B$2:$B$161)","v":"شريف جلال سماحة "},216,{"$f":"Sheet1!$M$5","v":0},{"$f":"M78","v":11},"W",2,{"$f":"Score!I46","v":31},{"$f":"LOOKUP(Q19,Names!$A$2:$A$161,Names!$B$2:$B$161)","v":"ماجد  محمد  فكري "},151,{"$f":"Sheet1!$M$5","v":0},{"$f":"M79","v":10},"W",2,{"$f":"Score!I50","v":32},{"$f":"LOOKUP(X19,Names!$A$2:$A$161,Names!$B$2:$B$161)","v":"حمزة أحمد محمد"},130,{"$f":"Sheet1!$M$5","v":0},{"$f":"M80","v":9}]
["S",3,{"$f":"Score!I39","v":49},{"$f":"LOOKUP(C20,Names!$A$2:$A$161,Names!$B$2:$B$161)","v":"هيثم العشماوي "},78,{"$f":"Sheet1!$M$6","v":0},{"$f":"T77","v":12},"S",3,{"$f":"Score!I43","v":50},{"$f":"LOOKUP(J20,Names!$A$2:$A$161,Names!$B$2:$B$161)","v":"فادي ناجح"},-7,{"$f":"Sheet1!$M$6","v":0},{"$f":"T78","v":11},"S",3,{"$f":"Score!I47","v":51},{"$f":"LOOKUP(Q20,Names!$A$2:$A$161,Names!$B$2:$B$161)","v":"أحمد أحمد مرسي عبد الله "},121,{"$f":"Sheet1!$M$6","v":0},{"$f":"T79","v":10},"S",3,{"$f":"Score!I51","v":52},{"$f":"LOOKUP(X20,Names!$A$2:$A$161,Names!$B$2:$B$161)","v":"يامن محمد حسن  "},61,{"$f":"Sheet1!$M$6","v":0},{"$f":"T80","v":9}]
["E",4,{"$f":"Score!I40","v":69},{"$f":"LOOKUP(C21,Names!$A$2:$A$161,Names!$B$2:$B$161)","v":"أحمد علي السيد شرع"},136,{"$f":"Sheet1!$M$7","v":0},{"$f":"AA77","v":12},"E",4,{"$f":"Score!I44","v":70},{"$f":"LOOKUP(J21,Names!$A$2:$A$161,Names!$B$2:$B$161)","v":"أحمد صلاح الدين دياب "},36,{"$f":"Sheet1!$M$7","v":0},{"$f":"AA78","v":11},"E",4,{"$f":"Score!I48","v":71},{"$f":"LOOKUP(Q21,Names!$A$2:$A$161,Names!$B$2:$B$161)","v":"معتز محمد"},30,{"$f":"Sheet1!$M$7","v":0},{"$f":"AA79","v":10},"E",4,{"$f":"Score!I52","v":72},{"$f":"LOOKUP(X21,Names!$A$2:$A$161,Names!$B$2:$B$161)","v":"أحمد سمير خلف "},140,{"$f":"Sheet1!$M$7","v":0},{"$f":"AA80","v":9}]
[null,null,null,{"$f":"'R1'!D22:F22","v":13},null,null,null,null,null,null,{"$f":"'R1'!K22:M22","v":14},null,null,null,null,null,null,{"$f":"'R1'!R22:T22","v":15},null,null,null,null,null,null,{"$f":"'R1'!Y22:AA22","v":16}]
[null,null,null,"Names","Sc.","Tab",null,null,null,null,"Names","Sc.","Tab",null,null,null,null,"Names","Sc.","Tab",null,null,null,null,"Names","Sc.","Tab"]
["N",1,{"$f":"Score!I53","v":13},{"$f":"LOOKUP(C24,Names!$A$2:$A$161,Names!$B$2:$B$161)","v":"أحمد جميل السيد "},142,{"$f":"Sheet1!$M$4","v":0},{"$f":"F81","v":8},"N",1,{"$f":"Score!I57","v":14},{"$f":"LOOKUP(J24,Names!$A$2:$A$161,Names!$B$2:$B$161)","v":"عماد محمد فؤاد"},119,{"$f":"Sheet1!$M$4","v":0},{"$f":"F82","v":7},"N",1,{"$f":"Score!I61","v":15},{"$f":"LOOKUP(Q24,Names!$A$2:$A$161,Names!$B$2:$B$161)","v":"أحمد رمزي الديب "},172,{"$f":"Sheet1!$M$4","v":0},{"$f":"F83","v":6},"N",1,{"$f":"Score!I65","v":16},{"$f":"LOOKUP(X24,Names!$A$2:$A$161,Names!$B$2:$B$161)","v":"عبد الرحمن سعد موسى"},58,{"$f":"Sheet1!$M$4","v":0},{"$f":"F84","v":5}]
["W",2,{"$f":"Score!I54","v":33},{"$f":"LOOKUP(C25,Names!$A$2:$A$161,Names!$B$2:$B$161)","v":"أحمد بسيوني"},63,{"$f":"Sheet1!$M$5","v":0},{"$f":"M81","v":8},"W",2,{"$f":"Score!I58","v":34},{"$f":"LOOKUP(J25,Names!$A$2:$A$161,Names!$B$2:$B$161)","v":"عماد الدين جمعة هلال  "},128,{"$f":"Sheet1!$M$5","v":0},{"$f":"M82","v":7},"W",2,{"$f":"Score!I62","v":35},{"$f":"LOOKUP(Q25,Names!$A$2:$A$161,Names!$B$2:$B$161)","v":"عمرو عماد الدين أبوالعلا  "},160,{"$f":"Sheet1!$M$5","v":0},{"$f":"M83","v":6},"W",2,{"$f":"Score!I66","v":36},{"$f":"LOOKUP(X25,Names!$A$2:$A$161,Names!$B$2:$B$161)","v":"أحمد عبد الفتاح عرفه "},128,{"$f":"Sheet1!$M$5","v":0},{"$f":"M84","v":5}]
["S",3,{"$f":"Score!I55","v":53},{"$f":"LOOKUP(C26,Names!$A$2:$A$161,Names!$B$2:$B$161)","v":"أحمد محمد شوقي هيبه"},72,{"$f":"Sheet1!$M$6","v":0},{"$f":"T81","v":8},"S",3,{"$f":"Score!I59","v":54},{"$f":"LOOKUP(J26,Names!$A$2:$A$161,Names!$B$2:$B$161)","v":"تامر رشاد   "},55,{"$f":"Sheet1!$M$6","v":0},{"$f":"T82","v":7},"S",3,{"$f":"Score!I63","v":55},{"$f":"LOOKUP(Q26,Names!$A$2:$A$161,Names!$B$2:$B$161)","v":"ناجي بلبع"},18,{"$f":"Sheet1!$M$6","v":0},{"$f":"T83","v":6},"S",3,{"$f":"Score!I67","v":56},{"$f":"LOOKUP(X26,Names!$A$2:$A$161,Names!$B$2:$B$161)","v":"جاسر محمد"},135,{"$f":"Sheet1!$M$6","v":0},{"$f":"T84","v":5}]
["E",4,{"$f":"Score!I56","v":73},{"$f":"LOOKUP(C27,Names!$A$2:$A$161,Names!$B$2:$B$161)","v":"مينا ناجح صبحي  "},98,{"$f":"Sheet1!$M$7","v":0},{"$f":"AA81","v":8},"E",4,{"$f":"Score!I60","v":74},{"$f":"LOOKUP(J27,Names!$A$2:$A$161,Names!$B$2:$B$161)","v":"فريدة شكري"},43,{"$f":"Sheet1!$M$7","v":0},{"$f":"AA82","v":7},"E",4,{"$f":"Score!I64","v":75},{"$f":"LOOKUP(Q27,Names!$A$2:$A$161,Names!$B$2:$B$161)","v":"محمود سليمان"},37,{"$f":"Sheet1!$M$7","v":0},{"$f":"AA83","v":6},"E",4,{"$f":"Score!I68","v":76},{"$f":"LOOKUP(X27,Names!$A$2:$A$161,Names!$B$2:$B$161)","v":"محمد إبراهيم قطب "},52,{"$f":"Sheet1!$M$7","v":0},{"$f":"AA84","v":5}]
[null,null,null,{"$f":"'R1'!D28:F28","v":17},null,null,null,null,null,null,{"$f":"'R1'!K28:M28","v":18},null,null,null,null,null,null,{"$f":"'R1'!R28:T28","v":19},null,null,null,null,null,null,{"$f":"'R1'!Y28:AA28","v":20}]
[null,null,null,"Names","Sc.","Tab",null,null,null,null,"Names","Sc.","Tab",null,null,null,null,"Names","Sc.","Tab",null,null,null,null,"Names","Sc.","Tab"]
["N",1,{"$f":"Score!I69","v":17},{"$f":"LOOKUP(C30,Names!$A$2:$A$161,Names!$B$2:$B$161)","v":"أحمد علي خليل حسن "},57,{"$f":"Sheet1!$M$4","v":0},{"$f":"F85","v":4},"N",1,{"$f":"Score!I73","v":18},{"$f":"LOOKUP(J30,Names!$A$2:$A$161,Names!$B$2:$B$161)","v":"أحمد ممدوح عبد الدايم"},73,{"$f":"Sheet1!$M$4","v":0},{"$f":"F86","v":3},"N",1,{"$f":"Score!I77","v":19},{"$f":"LOOKUP(Q30,Names!$A$2:$A$161,Names!$B$2:$B$161)","v":"إبراهيم عنتر  "},106,{"$f":"Sheet1!$M$4","v":0},{"$f":"F87","v":2},"N",1,{"$f":"Score!I81","v":20},{"$f":"LOOKUP(X30,Names!$A$2:$A$161,Names!$B$2:$B$161)","v":"إسلام قاسم"},146,{"$f":"Sheet1!$M$4","v":0},{"$f":"F88","v":1}]
["W",2,{"$f":"Score!I70","v":37},{"$f":"LOOKUP(C31,Names!$A$2:$A$161,Names!$B$2:$B$161)","v":"حمدي محمود عبد العزيز"},15,{"$f":"Sheet1!$M$5","v":0},{"$f":"M85","v":4},"W",2,{"$f":"Score!I74","v":38},{"$f":"LOOKUP(J31,Names!$A$2:$A$161,Names!$B$2:$B$161)","v":"أسامة لطفي نجيب  "},107,{"$f":"Sheet1!$M$5","v":0},{"$f":"M86","v":3},"W",2,{"$f":"Score!I78","v":39},{"$f":"LOOKUP(Q31,Names!$A$2:$A$161,Names!$B$2:$B$161)","v":"إسلام أحمد السيد عمر"},136,{"$f":"Sheet1!$M$5","v":0},{"$f":"M87","v":2},"W",2,{"$f":"Score!I82","v":40},{"$f":"LOOKUP(X31,Names!$A$2:$A$161,Names!$B$2:$B$161)","v":"احمد محمود عبد الرزاق  "},135,{"$f":"Sheet1!$M$5","v":0},{"$f":"M88","v":1}]
["S",3,{"$f":"Score!I71","v":57},{"$f":"LOOKUP(C32,Names!$A$2:$A$161,Names!$B$2:$B$161)","v":"مصطفى كامل الشحري"},85,{"$f":"Sheet1!$M$6","v":0},{"$f":"T85","v":4},"S",3,{"$f":"Score!I75","v":58},{"$f":"LOOKUP(J32,Names!$A$2:$A$161,Names!$B$2:$B$161)","v":"أحمد إبراهيم غانم "},94,{"$f":"Sheet1!$M$6","v":0},{"$f":"T86","v":3},"S",3,{"$f":"Score!I79","v":59},{"$f":"LOOKUP(Q32,Names!$A$2:$A$161,Names!$B$2:$B$161)","v":"هشام أبوغربية "},162,{"$f":"Sheet1!$M$6","v":0},{"$f":"T87","v":2},"S",3,{"$f":"Score!I83","v":60},{"$f":"LOOKUP(X32,Names!$A$2:$A$161,Names!$B$2:$B$161)","v":"عصام الدين حامد منصور "},109,{"$f":"Sheet1!$M$6","v":0},{"$f":"T88","v":1}]
["E",4,{"$f":"Score!I72","v":77},{"$f":"LOOKUP(C33,Names!$A$2:$A$161,Names!$B$2:$B$161)","v":"محمد محمود شعبان "},96,{"$f":"Sheet1!$M$7","v":0},{"$f":"AA85","v":4},"E",4,{"$f":"Score!I76","v":78},{"$f":"LOOKUP(J33,Names!$A$2:$A$161,Names!$B$2:$B$161)","v":"حسام الخلفاوي"},115,{"$f":"Sheet1!$M$7","v":0},{"$f":"AA86","v":3},"E",4,{"$f":"Score!I80","v":79},{"$f":"LOOKUP(Q33,Names!$A$2:$A$161,Names!$B$2:$B$161)","v":"محمد علي حسن طه الأمام"},54,{"$f":"Sheet1!$M$7","v":0},{"$f":"AA87","v":2},"E",4,{"$f":"Score!I84","v":80},{"$f":"LOOKUP(X33,Names!$A$2:$A$161,Names!$B$2:$B$161)","v":"أمن حسام"},-41,{"$f":"Sheet1!$M$7","v":0},{"$f":"AA88","v":1}]
[]
[null,null,null,{"$f":"'R1'!D35:F35","v":21},null,null,null,null,null,null,{"$f":"'R1'!K35:M35","v":22},null,null,null,null,null,null,{"$f":"'R1'!R35:T35","v":23},null,null,null,null,null,null,{"$f":"'R1'!Y35:AA35","v":24}]
[null,null,null,"Names","Sc.","Tab",null,null,null,null,"Names","Sc.","Tab",null,null,null,null,"Names","Sc.","Tab",null,null,null,null,"Names","Sc.","Tab"]
["N",1,{"$f":"Score!I85","v":0},{"$f":"LOOKUP(C37,Names!$A$2:$A$161,Names!$B$2:$B$161)","v":{"$error":"#N/A"}},null,{"$f":"Sheet1!$M$4","v":0},{"$f":"F89","v":0},"N",1,{"$f":"Score!I89","v":0},{"$f":"LOOKUP(J37,Names!$A$2:$A$161,Names!$B$2:$B$161)","v":{"$error":"#N/A"}},null,{"$f":"Sheet1!$M$4","v":0},{"$f":"F90","v":-1},"N",1,{"$f":"Score!I93","v":0},{"$f":"LOOKUP(Q37,Names!$A$2:$A$161,Names!$B$2:$B$161)","v":{"$error":"#N/A"}},null,{"$f":"Sheet1!$M$4","v":0},{"$f":"F91","v":-2},"N",1,{"$f":"Score!I97","v":0},{"$f":"LOOKUP(X37,Names!$A$2:$A$161,Names!$B$2:$B$161)","v":{"$error":"#N/A"}},null,{"$f":"Sheet1!$M$4","v":0},{"$f":"F92","v":-3}]
["W",2,{"$f":"Score!I86","v":0},{"$f":"LOOKUP(C38,Names!$A$2:$A$161,Names!$B$2:$B$161)","v":{"$error":"#N/A"}},null,{"$f":"Sheet1!$M$5","v":0},{"$f":"M89","v":0},"W",2,{"$f":"Score!I90","v":0},{"$f":"LOOKUP(J38,Names!$A$2:$A$161,Names!$B$2:$B$161)","v":{"$error":"#N/A"}},null,{"$f":"Sheet1!$M$5","v":0},{"$f":"M90","v":-1},"W",2,{"$f":"Score!I94","v":0},{"$f":"LOOKUP(Q38,Names!$A$2:$A$161,Names!$B$2:$B$161)","v":{"$error":"#N/A"}},null,{"$f":"Sheet1!$M$5","v":0},{"$f":"M91","v":-2},"W",2,{"$f":"Score!I98","v":0},{"$f":"LOOKUP(X38,Names!$A$2:$A$161,Names!$B$2:$B$161)","v":{"$error":"#N/A"}},null,{"$f":"Sheet1!$M$5","v":0},{"$f":"M92","v":-3}]
["S",3,{"$f":"Score!I87","v":0},{"$f":"LOOKUP(C39,Names!$A$2:$A$161,Names!$B$2:$B$161)","v":{"$error":"#N/A"}},null,{"$f":"Sheet1!$M$6","v":0},{"$f":"T89","v":3},"S",3,{"$f":"Score!I91","v":0},{"$f":"LOOKUP(J39,Names!$A$2:$A$161,Names!$B$2:$B$161)","v":{"$error":"#N/A"}},null,{"$f":"Sheet1!$M$6","v":0},{"$f":"T90","v":2},"S",3,{"$f":"Score!I95","v":0},{"$f":"LOOKUP(Q39,Names!$A$2:$A$161,Names!$B$2:$B$161)","v":{"$error":"#N/A"}},null,{"$f":"Sheet1!$M$6","v":0},{"$f":"T91","v":1},"S",3,{"$f":"Score!I99","v":0},{"$f":"LOOKUP(X39,Names!$A$2:$A$161,Names!$B$2:$B$161)","v":{"$error":"#N/A"}},null,{"$f":"Sheet1!$M$6","v":0},{"$f":"T92","v":0}]
["E",4,{"$f":"Score!I88","v":0},{"$f":"LOOKUP(C40,Names!$A$2:$A$161,Names!$B$2:$B$161)","v":{"$error":"#N/A"}},null,{"$f":"Sheet1!$M$7","v":0},{"$f":"AA89","v":2},"E",4,{"$f":"Score!I92","v":0},{"$f":"LOOKUP(J40,Names!$A$2:$A$161,Names!$B$2:$B$161)","v":{"$error":"#N/A"}},null,{"$f":"Sheet1!$M$7","v":0},{"$f":"AA90","v":1},"E",4,{"$f":"Score!I96","v":0},{"$f":"LOOKUP(Q40,Names!$A$2:$A$161,Names!$B$2:$B$161)","v":{"$error":"#N/A"}},null,{"$f":"Sheet1!$M$7","v":0},{"$f":"AA91","v":0},"E",4,{"$f":"Score!I100","v":0},{"$f":"LOOKUP(X40,Names!$A$2:$A$161,Names!$B$2:$B$161)","v":{"$error":"#N/A"}},null,{"$f":"Sheet1!$M$7","v":0},{"$f":"AA92","v":-1}]
[null,null,null,{"$f":"'R1'!D41:F41","v":"B1"},null,null,null,null,null,null,{"$f":"'R1'!K41:M41","v":"B2"},null,null,null,null,null,null,{"$f":"'R1'!R41:T41","v":"B3"},null,null,null,null,null,null,{"$f":"'R1'!Y41:AA41","v":"B4"}]
[null,null,null,"Names","Sc.","Tab",null,null,null,null,"Names","Sc.","Tab",null,null,null,null,"Names","Sc.","Tab",null,null,null,null,"Names","Sc.","Tab"]
["N",1,{"$f":"Score!I101","v":0},{"$f":"LOOKUP(C43,Names!$A$2:$A$161,Names!$B$2:$B$161)","v":{"$error":"#N/A"}},null,{"$f":"Sheet1!$M$4","v":0},{"$f":"F93","v":-4},"N",1,{"$f":"Score!I105","v":0},{"$f":"LOOKUP(J43,Names!$A$2:$A$161,Names!$B$2:$B$161)","v":{"$error":"#N/A"}},null,{"$f":"Sheet1!$M$4","v":0},{"$f":"F94","v":-5},"N",1,{"$f":"Score!I109","v":0},{"$f":"LOOKUP(Q43,Names!$A$2:$A$161,Names!$B$2:$B$161)","v":{"$error":"#N/A"}},null,{"$f":"Sheet1!$M$4","v":0},{"$f":"F95","v":-6},"N",1,{"$f":"Score!I113","v":88},{"$f":"LOOKUP(X43,Names!$A$2:$A$161,Names!$B$2:$B$161)","v":0},null,{"$f":"Sheet1!$M$4","v":0},{"$f":"F96","v":0}]
["W",2,{"$f":"Score!I102","v":0},{"$f":"LOOKUP(C44,Names!$A$2:$A$161,Names!$B$2:$B$161)","v":{"$error":"#N/A"}},null,{"$f":"Sheet1!$M$5","v":0},{"$f":"M93","v":-4},"W",2,{"$f":"Score!I106","v":0},{"$f":"LOOKUP(J44,Names!$A$2:$A$161,Names!$B$2:$B$161)","v":{"$error":"#N/A"}},null,{"$f":"Sheet1!$M$5","v":0},{"$f":"M94","v":-5},"W",2,{"$f":"Score!I110","v":0},{"$f":"LOOKUP(Q44,Names!$A$2:$A$161,Names!$B$2:$B$161)","v":{"$error":"#N/A"}},null,{"$f":"Sheet1!$M$5","v":0},{"$f":"M95","v":-6},"W",2,{"$f":"Score!I114","v":108},{"$f":"LOOKUP(X44,Names!$A$2:$A$161,Names!$B$2:$B$161)","v":0},null,{"$f":"Sheet1!$M$5","v":0},{"$f":"M96","v":0}]
["S",3,{"$f":"Score!I103","v":0},{"$f":"LOOKUP(C45,Names!$A$2:$A$161,Names!$B$2:$B$161)","v":{"$error":"#N/A"}},null,{"$f":"Sheet1!$M$6","v":0},{"$f":"T93","v":-1},"S",3,{"$f":"Score!I107","v":0},{"$f":"LOOKUP(J45,Names!$A$2:$A$161,Names!$B$2:$B$161)","v":{"$error":"#N/A"}},null,{"$f":"Sheet1!$M$6","v":0},{"$f":"T94","v":-2},"S",3,{"$f":"Score!I111","v":0},{"$f":"LOOKUP(Q45,Names!$A$2:$A$161,Names!$B$2:$B$161)","v":{"$error":"#N/A"}},null,{"$f":"Sheet1!$M$6","v":0},{"$f":"T95","v":-3},"S",3,{"$f":"Score!I115","v":128},{"$f":"LOOKUP(X45,Names!$A$2:$A$161,Names!$B$2:$B$161)","v":0},null,{"$f":"Sheet1!$M$6","v":0},{"$f":"T96","v":0}]
["E",4,{"$f":"Score!I104","v":0},{"$f":"LOOKUP(C46,Names!$A$2:$A$161,Names!$B$2:$B$161)","v":{"$error":"#N/A"}},null,{"$f":"Sheet1!$M$7","v":0},{"$f":"AA93","v":-2},"E",4,{"$f":"Score!I108","v":0},{"$f":"LOOKUP(J46,Names!$A$2:$A$161,Names!$B$2:$B$161)","v":{"$error":"#N/A"}},null,{"$f":"Sheet1!$M$7","v":0},{"$f":"AA94","v":-3},"E",4,{"$f":"Score!I112","v":0},{"$f":"LOOKUP(Q46,Names!$A$2:$A$161,Names!$B$2:$B$161)","v":{"$error":"#N/A"}},null,{"$f":"Sheet1!$M$7","v":0},{"$f":"AA95","v":-4},"E",4,{"$f":"Score!I116","v":148},{"$f":"LOOKUP(X46,Names!$A$2:$A$161,Names!$B$2:$B$161)","v":0},null,{"$f":"Sheet1!$M$7","v":0},{"$f":"AA96","v":0}]
[null,null,null,"B5",null,null,null,null,null,null,"B6",null,null,null,null,null,null,"B7",null,null,null,null,null,null,"B8"]
[null,null,null,"Names","Sc.","Tab",null,null,null,null,"Names","Sc.","Tab",null,null,null,null,"Names","Sc.","Tab",null,null,null,null,"Names","Sc.","Tab"]
["N",1,{"$f":"Score!I117","v":89},{"$f":"LOOKUP(C49,Names!$A$2:$A$161,Names!$B$2:$B$161)","v":0},null,{"$f":"Sheet1!$M$4","v":0},{"$f":"F97","v":0},"N",1,{"$f":"Score!I121","v":90},{"$f":"LOOKUP(J49,Names!$A$2:$A$161,Names!$B$2:$B$161)","v":0},null,{"$f":"Sheet1!$M$4","v":0},{"$f":"F98","v":0},"N",1,{"$f":"Score!I125","v":91},{"$f":"LOOKUP(Q49,Names!$A$2:$A$161,Names!$B$2:$B$161)","v":0},null,{"$f":"Sheet1!$M$4","v":0},{"$f":"F99","v":0},"N",1,{"$f":"Score!I129","v":92},{"$f":"LOOKUP(X49,Names!$A$2:$A$161,Names!$B$2:$B$161)","v":0},null,{"$f":"Sheet1!$M$4","v":0},{"$f":"F100","v":0}]
["W",2,{"$f":"Score!I118","v":109},{"$f":"LOOKUP(C50,Names!$A$2:$A$161,Names!$B$2:$B$161)","v":0},null,{"$f":"Sheet1!$M$5","v":0},{"$f":"M97","v":0},"W",2,{"$f":"Score!I122","v":110},{"$f":"LOOKUP(J50,Names!$A$2:$A$161,Names!$B$2:$B$161)","v":0},null,{"$f":"Sheet1!$M$5","v":0},{"$f":"M98","v":0},"W",2,{"$f":"Score!I126","v":111},{"$f":"LOOKUP(Q50,Names!$A$2:$A$161,Names!$B$2:$B$161)","v":0},null,{"$f":"Sheet1!$M$5","v":0},{"$f":"M99","v":0},"W",2,{"$f":"Score!I130","v":112},{"$f":"LOOKUP(X50,Names!$A$2:$A$161,Names!$B$2:$B$161)","v":0},null,{"$f":"Sheet1!$M$5","v":0},{"$f":"M100","v":0}]
["S",3,{"$f":"Score!I119","v":129},{"$f":"LOOKUP(C51,Names!$A$2:$A$161,Names!$B$2:$B$161)","v":0},null,{"$f":"Sheet1!$M$6","v":0},{"$f":"T97","v":0},"S",3,{"$f":"Score!I123","v":130},{"$f":"LOOKUP(J51,Names!$A$2:$A$161,Names!$B$2:$B$161)","v":0},null,{"$f":"Sheet1!$M$6","v":0},{"$f":"T98","v":0},"S",3,{"$f":"Score!I127","v":131},{"$f":"LOOKUP(Q51,Names!$A$2:$A$161,Names!$B$2:$B$161)","v":0},null,{"$f":"Sheet1!$M$6","v":0},{"$f":"T99","v":0},"S",3,{"$f":"Score!I131","v":132},{"$f":"LOOKUP(X51,Names!$A$2:$A$161,Names!$B$2:$B$161)","v":0},null,{"$f":"Sheet1!$M$6","v":0},{"$f":"T100","v":0}]
["E",4,{"$f":"Score!I120","v":149},{"$f":"LOOKUP(C52,Names!$A$2:$A$161,Names!$B$2:$B$161)","v":0},null,{"$f":"Sheet1!$M$7","v":0},{"$f":"AA97","v":0},"E",4,{"$f":"Score!I124","v":150},{"$f":"LOOKUP(J52,Names!$A$2:$A$161,Names!$B$2:$B$161)","v":0},null,{"$f":"Sheet1!$M$7","v":0},{"$f":"AA98","v":0},"E",4,{"$f":"Score!I128","v":151},{"$f":"LOOKUP(Q52,Names!$A$2:$A$161,Names!$B$2:$B$161)","v":0},null,{"$f":"Sheet1!$M$7","v":0},{"$f":"AA99","v":0},"E",4,{"$f":"Score!I132","v":152},{"$f":"LOOKUP(X52,Names!$A$2:$A$161,Names!$B$2:$B$161)","v":0},null,{"$f":"Sheet1!$M$7","v":0},{"$f":"AA100","v":0}]
[null,null,null,33,null,null,null,null,null,null,34,null,null,null,null,null,null,35,null,null,null,null,null,null,36]
[null,null,null,"Names","Sc.","Tab",null,null,null,null,"Names","Sc.","Tab",null,null,null,null,"Names","Sc.","Tab",null,null,null,null,"Names","Sc.","Tab"]
["N",1,{"$f":"Score!I133","v":93},{"$f":"LOOKUP(C55,Names!$A$2:$A$161,Names!$B$2:$B$161)","v":0},null,{"$f":"Sheet1!$M$4","v":0},{"$f":"F101","v":0},"N",1,{"$f":"Score!I137","v":94},{"$f":"LOOKUP(J55,Names!$A$2:$A$161,Names!$B$2:$B$161)","v":0},null,{"$f":"Sheet1!$M$4","v":0},{"$f":"F102","v":0},"N",1,{"$f":"Score!I141","v":95},{"$f":"LOOKUP(Q55,Names!$A$2:$A$161,Names!$B$2:$B$161)","v":0},null,{"$f":"Sheet1!$M$4","v":0},{"$f":"F103","v":0},"N",1,{"$f":"Score!I145","v":96},{"$f":"LOOKUP(X55,Names!$A$2:$A$161,Names!$B$2:$B$161)","v":0},null,{"$f":"Sheet1!$M$4","v":0},{"$f":"F104","v":0}]
["W",2,{"$f":"Score!I134","v":113},{"$f":"LOOKUP(C56,Names!$A$2:$A$161,Names!$B$2:$B$161)","v":0},null,{"$f":"Sheet1!$M$5","v":0},{"$f":"M101","v":0},"W",2,{"$f":"Score!I138","v":114},{"$f":"LOOKUP(J56,Names!$A$2:$A$161,Names!$B$2:$B$161)","v":0},null,{"$f":"Sheet1!$M$5","v":0},{"$f":"M102","v":0},"W",2,{"$f":"Score!I142","v":115},{"$f":"LOOKUP(Q56,Names!$A$2:$A$161,Names!$B$2:$B$161)","v":0},null,{"$f":"Sheet1!$M$5","v":0},{"$f":"M103","v":0},"W",2,{"$f":"Score!I146","v":116},{"$f":"LOOKUP(X56,Names!$A$2:$A$161,Names!$B$2:$B$161)","v":0},null,{"$f":"Sheet1!$M$5","v":0},{"$f":"M104","v":0}]
["S",3,{"$f":"Score!I135","v":133},{"$f":"LOOKUP(C57,Names!$A$2:$A$161,Names!$B$2:$B$161)","v":0},null,{"$f":"Sheet1!$M$6","v":0},{"$f":"T101","v":0},"S",3,{"$f":"Score!I139","v":134},{"$f":"LOOKUP(J57,Names!$A$2:$A$161,Names!$B$2:$B$161)","v":0},null,{"$f":"Sheet1!$M$6","v":0},{"$f":"T102","v":0},"S",3,{"$f":"Score!I143","v":135},{"$f":"LOOKUP(Q57,Names!$A$2:$A$161,Names!$B$2:$B$161)","v":0},null,{"$f":"Sheet1!$M$6","v":0},{"$f":"T103","v":0},"S",3,{"$f":"Score!I147","v":136},{"$f":"LOOKUP(X57,Names!$A$2:$A$161,Names!$B$2:$B$161)","v":0},null,{"$f":"Sheet1!$M$6","v":0},{"$f":"T104","v":0}]
["E",4,{"$f":"Score!I136","v":153},{"$f":"LOOKUP(C58,Names!$A$2:$A$161,Names!$B$2:$B$161)","v":0},null,{"$f":"Sheet1!$M$7","v":0},{"$f":"AA101","v":0},"E",4,{"$f":"Score!I140","v":154},{"$f":"LOOKUP(J58,Names!$A$2:$A$161,Names!$B$2:$B$161)","v":0},null,{"$f":"Sheet1!$M$7","v":0},{"$f":"AA102","v":0},"E",4,{"$f":"Score!I144","v":155},{"$f":"LOOKUP(Q58,Names!$A$2:$A$161,Names!$B$2:$B$161)","v":0},null,{"$f":"Sheet1!$M$7","v":0},{"$f":"AA103","v":0},"E",4,{"$f":"Score!I148","v":156},{"$f":"LOOKUP(X58,Names!$A$2:$A$161,Names!$B$2:$B$161)","v":0},null,{"$f":"Sheet1!$M$7","v":0},{"$f":"AA104","v":0}]
[null,null,null,37,null,null,null,null,null,null,38,null,null,null,null,null,null,39,null,null,null,null,null,null,40]
[null,null,null,"Names","Sc.","Tab",null,null,null,null,"Names","Sc.","Tab",null,null,null,null,"Names","Sc.","Tab",null,null,null,null,"Names","Sc.","Tab"]
["N",1,{"$f":"Score!I149","v":97},{"$f":"LOOKUP(C61,Names!$A$2:$A$161,Names!$B$2:$B$161)","v":0},null,{"$f":"Sheet1!$M$4","v":0},{"$f":"F105","v":0},"N",1,{"$f":"Score!I153","v":98},{"$f":"LOOKUP(J61,Names!$A$2:$A$161,Names!$B$2:$B$161)","v":0},null,{"$f":"Sheet1!$M$4","v":0},{"$f":"F106","v":0},"N",1,{"$f":"Score!I157","v":99},{"$f":"LOOKUP(Q61,Names!$A$2:$A$161,Names!$B$2:$B$161)","v":0},null,{"$f":"Sheet1!$M$4","v":0},{"$f":"F107","v":0},"N",1,{"$f":"Score!I161","v":100},{"$f":"LOOKUP(X61,Names!$A$2:$A$161,Names!$B$2:$B$161)","v":0},null,{"$f":"Sheet1!$M$4","v":0},{"$f":"F108","v":0}]
["W",2,{"$f":"Score!I150","v":117},{"$f":"LOOKUP(C62,Names!$A$2:$A$161,Names!$B$2:$B$161)","v":0},null,{"$f":"Sheet1!$M$5","v":0},{"$f":"M105","v":0},"W",2,{"$f":"Score!I154","v":118},{"$f":"LOOKUP(J62,Names!$A$2:$A$161,Names!$B$2:$B$161)","v":0},null,{"$f":"Sheet1!$M$5","v":0},{"$f":"M106","v":0},"W",2,{"$f":"Score!I158","v":119},{"$f":"LOOKUP(Q62,Names!$A$2:$A$161,Names!$B$2:$B$161)","v":0},null,{"$f":"Sheet1!$M$5","v":0},{"$f":"M107","v":0},"W",2,{"$f":"Score!I162","v":120},{"$f":"LOOKUP(X62,Names!$A$2:$A$161,Names!$B$2:$B$161)","v":0},null,{"$f":"Sheet1!$M$5","v":0},{"$f":"M108","v":0}]
["S",3,{"$f":"Score!I151","v":137},{"$f":"LOOKUP(C63,Names!$A$2:$A$161,Names!$B$2:$B$161)","v":0},null,{"$f":"Sheet1!$M$6","v":0},{"$f":"T105","v":0},"S",3,{"$f":"Score!I155","v":138},{"$f":"LOOKUP(J63,Names!$A$2:$A$161,Names!$B$2:$B$161)","v":0},null,{"$f":"Sheet1!$M$6","v":0},{"$f":"T106","v":0},"S",3,{"$f":"Score!I159","v":139},{"$f":"LOOKUP(Q63,Names!$A$2:$A$161,Names!$B$2:$B$161)","v":0},null,{"$f":"Sheet1!$M$6","v":0},{"$f":"T107","v":0},"S",3,{"$f":"Score!I163","v":140},{"$f":"LOOKUP(X63,Names!$A$2:$A$161,Names!$B$2:$B$161)","v":0},null,{"$f":"Sheet1!$M$6","v":0},{"$f":"T108","v":0}]
["E",4,{"$f":"Score!I152","v":157},{"$f":"LOOKUP(C64,Names!$A$2:$A$161,Names!$B$2:$B$161)","v":0},null,{"$f":"Sheet1!$M$7","v":0},{"$f":"AA105","v":0},"E",4,{"$f":"Score!I156","v":158},{"$f":"LOOKUP(J64,Names!$A$2:$A$161,Names!$B$2:$B$161)","v":0},null,{"$f":"Sheet1!$M$7","v":0},{"$f":"AA106","v":0},"E",4,{"$f":"Score!I160","v":159},{"$f":"LOOKUP(Q64,Names!$A$2:$A$161,Names!$B$2:$B$161)","v":0},null,{"$f":"Sheet1!$M$7","v":0},{"$f":"AA107","v":0},"E",4,{"$f":"Score!I164","v":160},{"$f":"LOOKUP(X64,Names!$A$2:$A$161,Names!$B$2:$B$161)","v":0},null,{"$f":"Sheet1!$M$7","v":0},{"$f":"AA108","v":0}]
[]
[null,null,null,null,null,null,null,null,null,null,"Axe"]
[null,null,null,"North",null,null,null,null,null,null,"West",null,null,null,null,null,null,"South",null,null,null,null,null,null,"East"]
[null,null,null,"Names","Sc.","Axe",null,null,null,null,"Names","Sc.","Axe",null,null,null,null,"Names","Sc.","Axe",null,null,null,null,"Names","Sc.","Axe"]
[1,1,{"$f":"$C$6","v":1},{"$f":"LOOKUP(C69,Names!$A$2:$A$161,Names!$B$2:$B$161)","v":"راجي صبحي  "},{"$f":"$E$6","v":47},{"$f":"Sheet1!L3","v":21},null,null,1,{"$f":"$C$7","v":21},{"$f":"LOOKUP(J69,Names!$A$2:$A$161,Names!$B$2:$B$161)","v":"أحمد محمد حمدي صالح "},{"$f":"$E$7","v":112},{"$f":"Sheet1!L3","v":21},null,null,1,{"$f":"$C$8","v":41},{"$f":"LOOKUP(Q69,Names!$A$2:$A$161,Names!$B$2:$B$161)","v":"خالد مصطفى عزت "},{"$f":"$E$8","v":97},{"$f":"Sheet1!L3","v":21},null,null,1,{"$f":"$C$9","v":61},{"$f":"LOOKUP(X69,Names!$A$2:$A$161,Names!$B$2:$B$161)","v":"كريم إيهاب عامر  "},{"$f":"$E$9","v":116},{"$f":"Sheet1!L3","v":21}]
[2,2,{"$f":"$J$6","v":2},{"$f":"LOOKUP(C70,Names!$A$2:$A$161,Names!$B$2:$B$161)","v":"شريف أحمد محمد حمروش"},{"$f":"$L$6","v":51},{"$f":"Sheet1!L4","v":19},null,null,2,{"$f":"$J$7","v":22},{"$f":"LOOKUP(J70,Names!$A$2:$A$161,Names!$B$2:$B$161)","v":"طه إبراهيم طه  "},{"$f":"$L$7","v":151},{"$f":"Sheet1!L4","v":19},null,null,2,{"$f":"$J$8","v":42},{"$f":"LOOKUP(Q70,Names!$A$2:$A$161,Names!$B$2:$B$161)","v":"محمد عبد الهادي أبو القاسم "},{"$f":"$L$8","v":119},{"$f":"Sheet1!L4","v":19},null,null,2,{"$f":"$J$9","v":62},{"$f":"LOOKUP(X70,Names!$A$2:$A$161,Names!$B$2:$B$161)","v":"محمد محمود مسعود  "},{"$f":"$L$9","v":78},{"$f":"Sheet1!L4","v":19}]
[3,3,{"$f":"$Q$6","v":3},{"$f":"LOOKUP(C71,Names!$A$2:$A$161,Names!$B$2:$B$161)","v":"إيهاب يوسف عمارة "},{"$f":"$S$6","v":108},{"$f":"Sheet1!L5","v":18},null,null,3,{"$f":"$Q$7","v":23},{"$f":"LOOKUP(J71,Names!$A$2:$A$161,Names!$B$2:$B$161)","v":"مصطفى يوسف محمد"},{"$f":"$S$7","v":69},{"$f":"Sheet1!L5","v":18},null,null,3,{"$f":"$Q$8","v":43},{"$f":"LOOKUP(Q71,Names!$A$2:$A$161,Names!$B$2:$B$161)","v":"أمير محمد خطاب  "},{"$f":"$S$8","v":49},{"$f":"Sheet1!L5","v":18},null,null,3,{"$f":"$Q$9","v":63},{"$f":"LOOKUP(X71,Names!$A$2:$A$161,Names!$B$2:$B$161)","v":"محمد أحمد محمد عبد الله "},{"$f":"$S$9","v":102},{"$f":"Sheet1!L5","v":18}]
[4,4,{"$f":"$X$6","v":4},{"$f":"LOOKUP(C72,Names!$A$2:$A$161,Names!$B$2:$B$161)","v":"محمد سعيد الفطاطري"},{"$f":"$Z$6","v":190},{"$f":"Sheet1!L6","v":17},null,null,4,{"$f":"$X$7","v":24},{"$f":"LOOKUP(J72,Names!$A$2:$A$161,Names!$B$2:$B$161)","v":"هيثم محمد شبانة"},{"$f":"$Z$7","v":134},{"$f":"Sheet1!L6","v":17},null,null,4,{"$f":"$X$8","v":44},{"$f":"LOOKUP(Q72,Names!$A$2:$A$161,Names!$B$2:$B$161)","v":"جمال السيد توفيق محمد "},{"$f":"$Z$8","v":22},{"$f":"Sheet1!L6","v":17},null,null,4,{"$f":"$X$9","v":64},{"$f":"LOOKUP(X72,Names!$A$2:$A$161,Names!$B$2:$B$161)","v":"وليد شعبان إسماعيل علي "},{"$f":"$Z$9","v":-8},{"$f":"Sheet1!L6","v":17}]
[5,5,{"$f":"$C$12","v":5},{"$f":"LOOKUP(C73,Names!$A$2:$A$161,Names!$B$2:$B$161)","v":"محمد عصام الدين القاضي "},{"$f":"$E$12","v":118},{"$f":"Sheet1!L7","v":16},null,null,5,{"$f":"$C$13","v":25},{"$f":"LOOKUP(J73,Names!$A$2:$A$161,Names!$B$2:$B$161)","v":"خالد شباره "},{"$f":"$E$13","v":160},{"$f":"Sheet1!L7","v":16},null,null,5,{"$f":"$C$14","v":45},{"$f":"LOOKUP(Q73,Names!$A$2:$A$161,Names!$B$2:$B$161)","v":"رضا هنري"},{"$f":"$E$14","v":-12},{"$f":"Sheet1!L7","v":16},null,null,5,{"$f":"$C$15","v":65},{"$f":"LOOKUP(X73,Names!$A$2:$A$161,Names!$B$2:$B$161)","v":"أحمد طارق   "},{"$f":"$E$15","v":83},{"$f":"Sheet1!L7","v":16}]
[6,6,{"$f":"$J$12","v":6},{"$f":"LOOKUP(C74,Names!$A$2:$A$161,Names!$B$2:$B$161)","v":"إبراهيم عرفان السقا  "},{"$f":"$L$12","v":142},{"$f":"Sheet1!L8","v":15},null,null,6,{"$f":"$J$13","v":26},{"$f":"LOOKUP(J74,Names!$A$2:$A$161,Names!$B$2:$B$161)","v":"أحمد الطنطاوي "},{"$f":"$L$13","v":126},{"$f":"Sheet1!L8","v":15},null,null,6,{"$f":"$J$14","v":46},{"$f":"LOOKUP(Q74,Names!$A$2:$A$161,Names!$B$2:$B$161)","v":"علاء شوقي جبريل  "},{"$f":"$L$14","v":-30},{"$f":"Sheet1!L8","v":15},null,null,6,{"$f":"$J$15","v":66},{"$f":"LOOKUP(X74,Names!$A$2:$A$161,Names!$B$2:$B$161)","v":"أحمد فؤاد حسنين "},{"$f":"$L$15","v":140},{"$f":"Sheet1!L8","v":15}]
[7,7,{"$f":"$Q$12","v":7},{"$f":"LOOKUP(C75,Names!$A$2:$A$161,Names!$B$2:$B$161)","v":"باسم أسحق صموائيل"},{"$f":"$S$12","v":112},{"$f":"Sheet1!L9","v":14},null,null,7,{"$f":"$Q$13","v":27},{"$f":"LOOKUP(J75,Names!$A$2:$A$161,Names!$B$2:$B$161)","v":"سمير الحوفي"},{"$f":"$S$13","v":70},{"$f":"Sheet1!L9","v":14},null,null,7,{"$f":"$Q$14","v":47},{"$f":"LOOKUP(Q75,Names!$A$2:$A$161,Names!$B$2:$B$161)","v":"هاني فكري المراكبي"},{"$f":"$S$14","v":177},{"$f":"Sheet1!L9","v":14},null,null,7,{"$f":"$Q$15","v":67},{"$f":"LOOKUP(X75,Names!$A$2:$A$161,Names!$B$2:$B$161)","v":"محمد محمود فضل "},{"$f":"$S$15","v":73},{"$f":"Sheet1!L9","v":14}]
[8,8,{"$f":"$X$12","v":8},{"$f":"LOOKUP(C76,Names!$A$2:$A$161,Names!$B$2:$B$161)","v":"إيهاب  محمد الزهيري "},{"$f":"$Z$12","v":93},{"$f":"Sheet1!L10","v":13},null,null,8,{"$f":"$X$13","v":28},{"$f":"LOOKUP(J76,Names!$A$2:$A$161,Names!$B$2:$B$161)","v":"عمرو محسن فرج "},{"$f":"$Z$13","v":55},{"$f":"Sheet1!L10","v":13},null,null,8,{"$f":"$X$14","v":48},{"$f":"LOOKUP(Q76,Names!$A$2:$A$161,Names!$B$2:$B$161)","v":"محمد ناجي زاهر بلبع "},{"$f":"$Z$14","v":119},{"$f":"Sheet1!L10","v":13},null,null,8,{"$f":"$X$15","v":68},{"$f":"LOOKUP(X76,Names!$A$2:$A$161,Names!$B$2:$B$161)","v":"مصطفى إسماعيل"},{"$f":"$Z$15","v":113},{"$f":"Sheet1!L10","v":13}]
[9,9,{"$f":"$C$18","v":9},{"$f":"LOOKUP(C77,Names!$A$2:$A$161,Names!$B$2:$B$161)","v":"رأفت الصياد"},{"$f":"$E$18","v":83},{"$f":"Sheet1!L11","v":12},null,null,9,{"$f":"$C$19","v":29},{"$f":"LOOKUP(J77,Names!$A$2:$A$161,Names!$B$2:$B$161)","v":"عبد الرحمن عثمان"},{"$f":"$E$19","v":114},{"$f":"Sheet1!L11","v":12},null,null,9,{"$f":"$C$20","v":49},{"$f":"LOOKUP(Q77,Names!$A$2:$A$161,Names!$B$2:$B$161)","v":"هيثم العشماوي "},{"$f":"$E$20","v":78},{"$f":"Sheet1!L11","v":12},null,null,9,{"$f":"$C$21","v":69},{"$f":"LOOKUP(X77,Names!$A$2:$A$161,Names!$B$2:$B$161)","v":"أحمد علي السيد شرع"},{"$f":"$E$21","v":136},{"$f":"Sheet1!L11","v":12}]
[10,10,{"$f":"$J$18","v":10},{"$f":"LOOKUP(C78,Names!$A$2:$A$161,Names!$B$2:$B$161)","v":"نبيل خلف زكي حسنين "},{"$f":"$L$18","v":164},{"$f":"Sheet1!L12","v":11},null,null,10,{"$f":"$J$19","v":30},{"$f":"LOOKUP(J78,Names!$A$2:$A$161,Names!$B$2:$B$161)","v":"شريف جلال سماحة "},{"$f":"$L$19","v":216},{"$f":"Sheet1!L12","v":11},null,null,10,{"$f":"$J$20","v":50},{"$f":"LOOKUP(Q78,Names!$A$2:$A$161,Names!$B$2:$B$161)","v":"فادي ناجح"},{"$f":"$L$20","v":-7},{"$f":"Sheet1!L12","v":11},null,null,10,{"$f":"$J$21","v":70},{"$f":"LOOKUP(X78,Names!$A$2:$A$161,Names!$B$2:$B$161)","v":"أحمد صلاح الدين دياب "},{"$f":"$L$21","v":36},{"$f":"Sheet1!L12","v":11}]
[11,11,{"$f":"$Q$18","v":11},{"$f":"LOOKUP(C79,Names!$A$2:$A$161,Names!$B$2:$B$161)","v":"معتز محمد مدبولي "},{"$f":"$S$18","v":103},{"$f":"Sheet1!L13","v":10},null,null,11,{"$f":"$Q$19","v":31},{"$f":"LOOKUP(J79,Names!$A$2:$A$161,Names!$B$2:$B$161)","v":"ماجد  محمد  فكري "},{"$f":"$S$19","v":151},{"$f":"Sheet1!L13","v":10},null,null,11,{"$f":"$Q$20","v":51},{"$f":"LOOKUP(Q79,Names!$A$2:$A$161,Names!$B$2:$B$161)","v":"أحمد أحمد مرسي عبد الله "},{"$f":"$S$20","v":121},{"$f":"Sheet1!L13","v":10},null,null,11,{"$f":"$Q$21","v":71},{"$f":"LOOKUP(X79,Names!$A$2:$A$161,Names!$B$2:$B$161)","v":"معتز محمد"},{"$f":"$S$21","v":30},{"$f":"Sheet1!L13","v":10}]
[12,12,{"$f":"$X$18","v":12},{"$f":"LOOKUP(C80,Names!$A$2:$A$161,Names!$B$2:$B$161)","v":"أمير كمال جميل"},{"$f":"$Z$18","v":67},{"$f":"Sheet1!L14","v":9},null,null,12,{"$f":"$X$19","v":32},{"$f":"LOOKUP(J80,Names!$A$2:$A$161,Names!$B$2:$B$161)","v":"حمزة أحمد محمد"},{"$f":"$Z$19","v":130},{"$f":"Sheet1!L14","v":9},null,null,12,{"$f":"$X$20","v":52},{"$f":"LOOKUP(Q80,Names!$A$2:$A$161,Names!$B$2:$B$161)","v":"يامن محمد حسن  "},{"$f":"$Z$20","v":61},{"$f":"Sheet1!L14","v":9},null,null,12,{"$f":"$X$21","v":72},{"$f":"LOOKUP(X80,Names!$A$2:$A$161,Names!$B$2:$B$161)","v":"أحمد سمير خلف "},{"$f":"$Z$21","v":140},{"$f":"Sheet1!L14","v":9}]
[13,13,{"$f":"$C$24","v":13},{"$f":"LOOKUP(C81,Names!$A$2:$A$161,Names!$B$2:$B$161)","v":"أحمد جميل السيد "},{"$f":"$E$24","v":142},{"$f":"Sheet1!L15","v":8},null,null,13,{"$f":"$C$25","v":33},{"$f":"LOOKUP(J81,Names!$A$2:$A$161,Names!$B$2:$B$161)","v":"أحمد بسيوني"},{"$f":"$E$25","v":63},{"$f":"Sheet1!L15","v":8},null,null,13,{"$f":"$C$26","v":53},{"$f":"LOOKUP(Q81,Names!$A$2:$A$161,Names!$B$2:$B$161)","v":"أحمد محمد شوقي هيبه"},{"$f":"$E$26","v":72},{"$f":"Sheet1!L15","v":8},null,null,13,{"$f":"$C$27","v":73},{"$f":"LOOKUP(X81,Names!$A$2:$A$161,Names!$B$2:$B$161)","v":"مينا ناجح صبحي  "},{"$f":"$E$27","v":98},{"$f":"Sheet1!L15","v":8}]
[14,14,{"$f":"$J$24","v":14},{"$f":"LOOKUP(C82,Names!$A$2:$A$161,Names!$B$2:$B$161)","v":"عماد محمد فؤاد"},{"$f":"$L$24","v":119},{"$f":"Sheet1!L16","v":7},null,null,14,{"$f":"$J$25","v":34},{"$f":"LOOKUP(J82,Names!$A$2:$A$161,Names!$B$2:$B$161)","v":"عماد الدين جمعة هلال  "},{"$f":"$L$25","v":128},{"$f":"Sheet1!L16","v":7},null,null,14,{"$f":"$J$26","v":54},{"$f":"LOOKUP(Q82,Names!$A$2:$A$161,Names!$B$2:$B$161)","v":"تامر رشاد   "},{"$f":"$L$26","v":55},{"$f":"Sheet1!L16","v":7},null,null,14,{"$f":"$J$27","v":74},{"$f":"LOOKUP(X82,Names!$A$2:$A$161,Names!$B$2:$B$161)","v":"فريدة شكري"},{"$f":"$L$27","v":43},{"$f":"Sheet1!L16","v":7}]
[15,15,{"$f":"$Q$24","v":15},{"$f":"LOOKUP(C83,Names!$A$2:$A$161,Names!$B$2:$B$161)","v":"أحمد رمزي الديب "},{"$f":"$S$24","v":172},{"$f":"Sheet1!L17","v":6},null,null,15,{"$f":"$Q$25","v":35},{"$f":"LOOKUP(J83,Names!$A$2:$A$161,Names!$B$2:$B$161)","v":"عمرو عماد الدين أبوالعلا  "},{"$f":"$S$25","v":160},{"$f":"Sheet1!L17","v":6},null,null,15,{"$f":"$Q$26","v":55},{"$f":"LOOKUP(Q83,Names!$A$2:$A$161,Names!$B$2:$B$161)","v":"ناجي بلبع"},{"$f":"$S$26","v":18},{"$f":"Sheet1!L17","v":6},null,null,15,{"$f":"$Q$27","v":75},{"$f":"LOOKUP(X83,Names!$A$2:$A$161,Names!$B$2:$B$161)","v":"محمود سليمان"},{"$f":"$S$27","v":37},{"$f":"Sheet1!L17","v":6}]
[16,16,{"$f":"$X$24","v":16},{"$f":"LOOKUP(C84,Names!$A$2:$A$161,Names!$B$2:$B$161)","v":"عبد الرحمن سعد موسى"},{"$f":"$Z$24","v":58},{"$f":"Sheet1!L18","v":5},null,null,16,{"$f":"$X$25","v":36},{"$f":"LOOKUP(J84,Names!$A$2:$A$161,Names!$B$2:$B$161)","v":"أحمد عبد الفتاح عرفه "},{"$f":"$Z$25","v":128},{"$f":"Sheet1!L18","v":5},null,null,16,{"$f":"$X$26","v":56},{"$f":"LOOKUP(Q84,Names!$A$2:$A$161,Names!$B$2:$B$161)","v":"جاسر محمد"},{"$f":"$Z$26","v":135},{"$f":"Sheet1!L18","v":5},null,null,16,{"$f":"$X$27","v":76},{"$f":"LOOKUP(X84,Names!$A$2:$A$161,Names!$B$2:$B$161)","v":"محمد إبراهيم قطب "},{"$f":"$Z$27","v":52},{"$f":"Sheet1!L18","v":5}]
[17,17,{"$f":"$C$30","v":17},{"$f":"LOOKUP(C85,Names!$A$2:$A$161,Names!$B$2:$B$161)","v":"أحمد علي خليل حسن "},{"$f":"$E$30","v":57},{"$f":"Sheet1!L19","v":4},null,null,17,{"$f":"$C$31","v":37},{"$f":"LOOKUP(J85,Names!$A$2:$A$161,Names!$B$2:$B$161)","v":"حمدي محمود عبد العزيز"},{"$f":"$E$31","v":15},{"$f":"Sheet1!L19","v":4},null,null,17,{"$f":"$C$32","v":57},{"$f":"LOOKUP(Q85,Names!$A$2:$A$161,Names!$B$2:$B$161)","v":"مصطفى كامل الشحري"},{"$f":"$E$32","v":85},{"$f":"Sheet1!L19","v":4},null,null,17,{"$f":"$C$33","v":77},{"$f":"LOOKUP(X85,Names!$A$2:$A$161,Names!$B$2:$B$161)","v":"محمد محمود شعبان "},{"$f":"$E$33","v":96},{"$f":"Sheet1!L19","v":4}]
[18,18,{"$f":"$J$30","v":18},{"$f":"LOOKUP(C86,Names!$A$2:$A$161,Names!$B$2:$B$161)","v":"أحمد ممدوح عبد الدايم"},{"$f":"$L$30","v":73},{"$f":"Sheet1!L20","v":3},null,null,18,{"$f":"$J$31","v":38},{"$f":"LOOKUP(J86,Names!$A$2:$A$161,Names!$B$2:$B$161)","v":"أسامة لطفي نجيب  "},{"$f":"$L$31","v":107},{"$f":"Sheet1!L20","v":3},null,null,18,{"$f":"$J$32","v":58},{"$f":"LOOKUP(Q86,Names!$A$2:$A$161,Names!$B$2:$B$161)","v":"أحمد إبراهيم غانم "},{"$f":"$L$32","v":94},{"$f":"Sheet1!L20","v":3},null,null,18,{"$f":"$J$33","v":78},{"$f":"LOOKUP(X86,Names!$A$2:$A$161,Names!$B$2:$B$161)","v":"حسام الخلفاوي"},{"$f":"$L$33","v":115},{"$f":"Sheet1!L20","v":3}]
[19,19,{"$f":"$Q$30","v":19},{"$f":"LOOKUP(C87,Names!$A$2:$A$161,Names!$B$2:$B$161)","v":"إبراهيم عنتر  "},{"$f":"$S$30","v":106},{"$f":"Sheet1!L21","v":2},null,null,19,{"$f":"$Q$31","v":39},{"$f":"LOOKUP(J87,Names!$A$2:$A$161,Names!$B$2:$B$161)","v":"إسلام أحمد السيد عمر"},{"$f":"$S$31","v":136},{"$f":"Sheet1!L21","v":2},null,null,19,{"$f":"$Q$32","v":59},{"$f":"LOOKUP(Q87,Names!$A$2:$A$161,Names!$B$2:$B$161)","v":"هشام أبوغربية "},{"$f":"$S$32","v":162},{"$f":"Sheet1!L21","v":2},null,null,19,{"$f":"$Q$33","v":79},{"$f":"LOOKUP(X87,Names!$A$2:$A$161,Names!$B$2:$B$161)","v":"محمد علي حسن طه الأمام"},{"$f":"$S$33","v":54},{"$f":"Sheet1!L21","v":2}]
[20,20,{"$f":"$X$30","v":20},{"$f":"LOOKUP(C88,Names!$A$2:$A$161,Names!$B$2:$B$161)","v":"إسلام قاسم"},{"$f":"$Z$30","v":146},{"$f":"Sheet1!L22","v":1},null,null,20,{"$f":"$X$31","v":40},{"$f":"LOOKUP(J88,Names!$A$2:$A$161,Names!$B$2:$B$161)","v":"احمد محمود عبد الرزاق  "},{"$f":"$Z$31","v":135},{"$f":"Sheet1!L22","v":1},null,null,20,{"$f":"$X$32","v":60},{"$f":"LOOKUP(Q88,Names!$A$2:$A$161,Names!$B$2:$B$161)","v":"عصام الدين حامد منصور "},{"$f":"$Z$32","v":109},{"$f":"Sheet1!L22","v":1},null,null,20,{"$f":"$X$33","v":80},{"$f":"LOOKUP(X88,Names!$A$2:$A$161,Names!$B$2:$B$161)","v":"أمن حسام"},{"$f":"$Z$33","v":-41},{"$f":"Sheet1!L22","v":1}]
[21,21,{"$f":"$C$37","v":0},{"$f":"LOOKUP(C89,Names!$A$2:$A$161,Names!$B$2:$B$161)","v":{"$error":"#N/A"}},{"$f":"$E$37","v":0},{"$f":"Sheet1!L23","v":0},null,null,21,{"$f":"$C$38","v":0},{"$f":"LOOKUP(J89,Names!$A$2:$A$161,Names!$B$2:$B$161)","v":{"$error":"#N/A"}},{"$f":"$E$38","v":0},{"$f":"Sheet1!L23","v":0},null,null,21,{"$f":"$C$39","v":0},{"$f":"LOOKUP(Q89,Names!$A$2:$A$161,Names!$B$2:$B$161)","v":{"$error":"#N/A"}},{"$f":"$E$39","v":0},{"$f":"Sheet1!L20","v":3},null,null,21,{"$f":"$C$40","v":0},{"$f":"LOOKUP(X89,Names!$A$2:$A$161,Names!$B$2:$B$161)","v":{"$error":"#N/A"}},{"$f":"$E$40","v":0},{"$f":"Sheet1!L21","v":2}]
[22,22,{"$f":"$J$37","v":0},{"$f":"LOOKUP(C90,Names!$A$2:$A$161,Names!$B$2:$B$161)","v":{"$error":"#N/A"}},{"$f":"$L$37","v":0},{"$f":"Sheet1!L24","v":-1},null,null,22,{"$f":"$J$38","v":0},{"$f":"LOOKUP(J90,Names!$A$2:$A$161,Names!$B$2:$B$161)","v":{"$error":"#N/A"}},{"$f":"$L$38","v":0},{"$f":"Sheet1!L24","v":-1},null,null,22,{"$f":"$J$39","v":0},{"$f":"LOOKUP(Q90,Names!$A$2:$A$161,Names!$B$2:$B$161)","v":{"$error":"#N/A"}},{"$f":"$L$39","v":0},{"$f":"Sheet1!L21","v":2},null,null,22,{"$f":"$J$40","v":0},{"$f":"LOOKUP(X90,Names!$A$2:$A$161,Names!$B$2:$B$161)","v":{"$error":"#N/A"}},{"$f":"$L$40","v":0},{"$f":"Sheet1!L22","v":1}]
[23,23,{"$f":"$Q$37","v":0},{"$f":"LOOKUP(C91,Names!$A$2:$A$161,Names!$B$2:$B$161)","v":{"$error":"#N/A"}},{"$f":"$S$37","v":0},{"$f":"Sheet1!L25","v":-2},null,null,23,{"$f":"$Q$38","v":0},{"$f":"LOOKUP(J91,Names!$A$2:$A$161,Names!$B$2:$B$161)","v":{"$error":"#N/A"}},{"$f":"$S$38","v":0},{"$f":"Sheet1!L25","v":-2},null,null,23,{"$f":"$Q$39","v":0},{"$f":"LOOKUP(Q91,Names!$A$2:$A$161,Names!$B$2:$B$161)","v":{"$error":"#N/A"}},{"$f":"$S$39","v":0},{"$f":"Sheet1!L22","v":1},null,null,23,{"$f":"$Q$40","v":0},{"$f":"LOOKUP(X91,Names!$A$2:$A$161,Names!$B$2:$B$161)","v":{"$error":"#N/A"}},{"$f":"$S$40","v":0},{"$f":"Sheet1!L23","v":0}]
[24,24,{"$f":"$X$37","v":0},{"$f":"LOOKUP(C92,Names!$A$2:$A$161,Names!$B$2:$B$161)","v":{"$error":"#N/A"}},{"$f":"$Z$37","v":0},{"$f":"Sheet1!L26","v":-3},null,null,24,{"$f":"$X$38","v":0},{"$f":"LOOKUP(J92,Names!$A$2:$A$161,Names!$B$2:$B$161)","v":{"$error":"#N/A"}},{"$f":"$Z$38","v":0},{"$f":"Sheet1!L26","v":-3},null,null,24,{"$f":"$X$39","v":0},{"$f":"LOOKUP(Q92,Names!$A$2:$A$161,Names!$B$2:$B$161)","v":{"$error":"#N/A"}},{"$f":"$Z$39","v":0},{"$f":"Sheet1!L23","v":0},null,null,24,{"$f":"$X$40","v":0},{"$f":"LOOKUP(X92,Names!$A$2:$A$161,Names!$B$2:$B$161)","v":{"$error":"#N/A"}},{"$f":"$Z$40","v":0},{"$f":"Sheet1!L24","v":-1}]
[25,25,{"$f":"$C$43","v":0},{"$f":"LOOKUP(C93,Names!$A$2:$A$161,Names!$B$2:$B$161)","v":{"$error":"#N/A"}},{"$f":"$E$43","v":0},{"$f":"Sheet1!L27","v":-4},null,null,25,{"$f":"$C$44","v":0},{"$f":"LOOKUP(J93,Names!$A$2:$A$161,Names!$B$2:$B$161)","v":{"$error":"#N/A"}},{"$f":"$E$44","v":0},{"$f":"Sheet1!L27","v":-4},null,null,25,{"$f":"$C$45","v":0},{"$f":"LOOKUP(Q93,Names!$A$2:$A$161,Names!$B$2:$B$161)","v":{"$error":"#N/A"}},{"$f":"$E$45","v":0},{"$f":"Sheet1!L24","v":-1},null,null,25,{"$f":"$C$46","v":0},{"$f":"LOOKUP(X93,Names!$A$2:$A$161,Names!$B$2:$B$161)","v":{"$error":"#N/A"}},{"$f":"$E$46","v":0},{"$f":"Sheet1!L25","v":-2}]
[26,26,{"$f":"$J$43","v":0},{"$f":"LOOKUP(C94,Names!$A$2:$A$161,Names!$B$2:$B$161)","v":{"$error":"#N/A"}},{"$f":"$L$43","v":0},{"$f":"Sheet1!L28","v":-5},null,null,26,{"$f":"$J$44","v":0},{"$f":"LOOKUP(J94,Names!$A$2:$A$161,Names!$B$2:$B$161)","v":{"$error":"#N/A"}},{"$f":"$L$44","v":0},{"$f":"Sheet1!L28","v":-5},null,null,26,{"$f":"$J$45","v":0},{"$f":"LOOKUP(Q94,Names!$A$2:$A$161,Names!$B$2:$B$161)","v":{"$error":"#N/A"}},{"$f":"$L$45","v":0},{"$f":"Sheet1!L25","v":-2},null,null,26,{"$f":"$J$46","v":0},{"$f":"LOOKUP(X94,Names!$A$2:$A$161,Names!$B$2:$B$161)","v":{"$error":"#N/A"}},{"$f":"$L$46","v":0},{"$f":"Sheet1!L26","v":-3}]
[27,27,{"$f":"$Q$43","v":0},{"$f":"LOOKUP(C95,Names!$A$2:$A$161,Names!$B$2:$B$161)","v":{"$error":"#N/A"}},{"$f":"$S$43","v":0},{"$f":"Sheet1!L29","v":-6},null,null,27,{"$f":"$Q$44","v":0},{"$f":"LOOKUP(J95,Names!$A$2:$A$161,Names!$B$2:$B$161)","v":{"$error":"#N/A"}},{"$f":"$S$44","v":0},{"$f":"Sheet1!L29","v":-6},null,null,27,{"$f":"$Q$45","v":0},{"$f":"LOOKUP(Q95,Names!$A$2:$A$161,Names!$B$2:$B$161)","v":{"$error":"#N/A"}},{"$f":"$S$45","v":0},{"$f":"Sheet1!L26","v":-3},null,null,27,{"$f":"$Q$46","v":0},{"$f":"LOOKUP(X95,Names!$A$2:$A$161,Names!$B$2:$B$161)","v":{"$error":"#N/A"}},{"$f":"$S$46","v":0},{"$f":"Sheet1!L27","v":-4}]
[28,28,{"$f":"$X$43","v":88},{"$f":"LOOKUP(C96,Names!$A$2:$A$161,Names!$B$2:$B$161)","v":0},null,null,null,null,28,{"$f":"$X$44","v":108},{"$f":"LOOKUP(J96,Names!$A$2:$A$161,Names!$B$2:$B$161)","v":0},null,null,null,null,28,{"$f":"$X$45","v":128},{"$f":"LOOKUP(Q96,Names!$A$2:$A$161,Names!$B$2:$B$161)","v":0},null,null,null,null,28,{"$f":"$X$46","v":148},{"$f":"LOOKUP(X96,Names!$A$2:$A$161,Names!$B$2:$B$161)","v":0}]
[29,29,{"$f":"$C$49","v":89},{"$f":"LOOKUP(C97,Names!$A$2:$A$161,Names!$B$2:$B$161)","v":0},null,null,null,null,29,{"$f":"$C$50","v":109},{"$f":"LOOKUP(J97,Names!$A$2:$A$161,Names!$B$2:$B$161)","v":0},null,null,null,null,29,{"$f":"$C$51","v":129},{"$f":"LOOKUP(Q97,Names!$A$2:$A$161,Names!$B$2:$B$161)","v":0},null,null,null,null,29,{"$f":"$C$52","v":149},{"$f":"LOOKUP(X97,Names!$A$2:$A$161,Names!$B$2:$B$161)","v":0}]
[30,30,{"$f":"$J$49","v":90},{"$f":"LOOKUP(C98,Names!$A$2:$A$161,Names!$B$2:$B$161)","v":0},null,null,null,null,30,{"$f":"$J$50","v":110},{"$f":"LOOKUP(J98,Names!$A$2:$A$161,Names!$B$2:$B$161)","v":0},null,null,null,null,30,{"$f":"$J$51","v":130},{"$f":"LOOKUP(Q98,Names!$A$2:$A$161,Names!$B$2:$B$161)","v":0},null,null,null,null,30,{"$f":"$J$52","v":150},{"$f":"LOOKUP(X98,Names!$A$2:$A$161,Names!$B$2:$B$161)","v":0}]
[31,31,{"$f":"$Q$49","v":91},{"$f":"LOOKUP(C99,Names!$A$2:$A$161,Names!$B$2:$B$161)","v":0},null,null,null,null,31,{"$f":"$Q$50","v":111},{"$f":"LOOKUP(J99,Names!$A$2:$A$161,Names!$B$2:$B$161)","v":0},null,null,null,null,31,{"$f":"$Q$51","v":131},{"$f":"LOOKUP(Q99,Names!$A$2:$A$161,Names!$B$2:$B$161)","v":0},null,null,null,null,31,{"$f":"$Q$52","v":151},{"$f":"LOOKUP(X99,Names!$A$2:$A$161,Names!$B$2:$B$161)","v":0}]
[32,32,{"$f":"$X$49","v":92},{"$f":"LOOKUP(C100,Names!$A$2:$A$161,Names!$B$2:$B$161)","v":0},null,null,null,null,32,{"$f":"$X$50","v":112},{"$f":"LOOKUP(J100,Names!$A$2:$A$161,Names!$B$2:$B$161)","v":0},null,null,null,null,32,{"$f":"$X$51","v":132},{"$f":"LOOKUP(Q100,Names!$A$2:$A$161,Names!$B$2:$B$161)","v":0},null,null,null,null,32,{"$f":"$X$52","v":152},{"$f":"LOOKUP(X100,Names!$A$2:$A$161,Names!$B$2:$B$161)","v":0}]
[33,33,{"$f":"$C$55","v":93},{"$f":"LOOKUP(C101,Names!$A$2:$A$161,Names!$B$2:$B$161)","v":0},null,null,null,null,33,{"$f":"$C$56","v":113},{"$f":"LOOKUP(J101,Names!$A$2:$A$161,Names!$B$2:$B$161)","v":0},null,null,null,null,33,{"$f":"$C$57","v":133},{"$f":"LOOKUP(Q101,Names!$A$2:$A$161,Names!$B$2:$B$161)","v":0},null,null,null,null,33,{"$f":"$C$58","v":153},{"$f":"LOOKUP(X101,Names!$A$2:$A$161,Names!$B$2:$B$161)","v":0}]
[34,34,{"$f":"$J$55","v":94},{"$f":"LOOKUP(C102,Names!$A$2:$A$161,Names!$B$2:$B$161)","v":0},null,null,null,null,34,{"$f":"$J$56","v":114},{"$f":"LOOKUP(J102,Names!$A$2:$A$161,Names!$B$2:$B$161)","v":0},null,null,null,null,34,{"$f":"$J$57","v":134},{"$f":"LOOKUP(Q102,Names!$A$2:$A$161,Names!$B$2:$B$161)","v":0},null,null,null,null,34,{"$f":"$J$58","v":154},{"$f":"LOOKUP(X102,Names!$A$2:$A$161,Names!$B$2:$B$161)","v":0}]
[35,35,{"$f":"$Q$55","v":95},{"$f":"LOOKUP(C103,Names!$A$2:$A$161,Names!$B$2:$B$161)","v":0},null,null,null,null,35,{"$f":"$Q$56","v":115},{"$f":"LOOKUP(J103,Names!$A$2:$A$161,Names!$B$2:$B$161)","v":0},null,null,null,null,35,{"$f":"$Q$57","v":135},{"$f":"LOOKUP(Q103,Names!$A$2:$A$161,Names!$B$2:$B$161)","v":0},null,null,null,null,35,{"$f":"$Q$58","v":155},{"$f":"LOOKUP(X103,Names!$A$2:$A$161,Names!$B$2:$B$161)","v":0}]
[36,36,{"$f":"$X$55","v":96},{"$f":"LOOKUP(C104,Names!$A$2:$A$161,Names!$B$2:$B$161)","v":0},null,null,null,null,36,{"$f":"$X$56","v":116},{"$f":"LOOKUP(J104,Names!$A$2:$A$161,Names!$B$2:$B$161)","v":0},null,null,null,null,36,{"$f":"$X$57","v":136},{"$f":"LOOKUP(Q104,Names!$A$2:$A$161,Names!$B$2:$B$161)","v":0},null,null,null,null,36,{"$f":"$X$58","v":156},{"$f":"LOOKUP(X104,Names!$A$2:$A$161,Names!$B$2:$B$161)","v":0}]
[37,37,{"$f":"$C$61","v":97},{"$f":"LOOKUP(C105,Names!$A$2:$A$161,Names!$B$2:$B$161)","v":0},null,null,null,null,37,{"$f":"$C$62","v":117},{"$f":"LOOKUP(J105,Names!$A$2:$A$161,Names!$B$2:$B$161)","v":0},null,null,null,null,37,{"$f":"$C$63","v":137},{"$f":"LOOKUP(Q105,Names!$A$2:$A$161,Names!$B$2:$B$161)","v":0},null,null,null,null,37,{"$f":"$C$64","v":157},{"$f":"LOOKUP(X105,Names!$A$2:$A$161,Names!$B$2:$B$161)","v":0}]
[38,38,{"$f":"$J$61","v":98},{"$f":"LOOKUP(C106,Names!$A$2:$A$161,Names!$B$2:$B$161)","v":0},null,null,null,null,38,{"$f":"$J$62","v":118},{"$f":"LOOKUP(J106,Names!$A$2:$A$161,Names!$B$2:$B$161)","v":0},null,null,null,null,38,{"$f":"$J$63","v":138},{"$f":"LOOKUP(Q106,Names!$A$2:$A$161,Names!$B$2:$B$161)","v":0},null,null,null,null,38,{"$f":"$J$64","v":158},{"$f":"LOOKUP(X106,Names!$A$2:$A$161,Names!$B$2:$B$161)","v":0}]
[39,39,{"$f":"$Q$61","v":99},{"$f":"LOOKUP(C107,Names!$A$2:$A$161,Names!$B$2:$B$161)","v":0},null,null,null,null,39,{"$f":"$Q$62","v":119},{"$f":"LOOKUP(J107,Names!$A$2:$A$161,Names!$B$2:$B$161)","v":0},null,null,null,null,39,{"$f":"$Q$63","v":139},{"$f":"LOOKUP(Q107,Names!$A$2:$A$161,Names!$B$2:$B$161)","v":0},null,null,null,null,39,{"$f":"$Q$64","v":159},{"$f":"LOOKUP(X107,Names!$A$2:$A$161,Names!$B$2:$B$161)","v":0}]
[40,40,{"$f":"$X$61","v":100},{"$f":"LOOKUP(C108,Names!$A$2:$A$161,Names!$B$2:$B$161)","v":0},null,null,null,null,40,{"$f":"$X$62","v":120},{"$f":"LOOKUP(J108,Names!$A$2:$A$161,Names!$B$2:$B$161)","v":0},null,null,null,null,40,{"$f":"$X$63","v":140},{"$f":"LOOKUP(Q108,Names!$A$2:$A$161,Names!$B$2:$B$161)","v":0},null,null,null,null,40,{"$f":"$X$64","v":160},{"$f":"LOOKUP(X108,Names!$A$2:$A$161,Names!$B$2:$B$161)","v":0}]

{"sheet":"R3","index":4,"n_rows":108,"n_cols":28,"rows_kept":108,"cut":false,"hidden":false,"merged":[[0,24,2,26],[3,3,3,5],[3,10,3,12],[3,17,3,19],[3,24,3,26],[0,11,0,17],[2,11,2,17],[34,3,34,5],[34,10,34,12],[34,17,34,19],[34,24,34,26],[9,3,9,5],[9,10,9,12],[9,17,9,19],[9,24,9,26],[15,3,15,5],[15,10,15,12],[15,17,15,19],[15,24,15,26],[21,3,21,5],[21,10,21,12],[21,17,21,19],[21,24,21,26],[27,3,27,5],[27,10,27,12],[27,17,27,19],[27,24,27,26],[66,3,66,5],[66,10,66,12],[66,17,66,19],[66,24,66,26],[52,3,52,5],[52,10,52,12],[52,17,52,19],[52,24,52,26],[65,10,65,19],[58,3,58,5],[58,10,58,12],[58,17,58,19],[58,24,58,26],[40,3,40,5],[40,10,40,12],[40,17,40,19],[40,24,40,26],[46,3,46,5],[46,10,46,12],[46,17,46,19],[46,24,46,26]]}
[null,null,null,null,null,null,null,null,null,null,"التوقيت :","Round ( 3 )",null,null,null,null,null,null,null,null,null,null,null,null,{"$f":"Score!T1","v":"بطولة الجمهورية الثانية\nللفردي المفتوح"}]
[]
[null,null,null,null,null,null,null,null,null,null,"4.00 PM","Tab."]
[null,null,null,1,null,null,null,null,null,null,2,null,null,null,null,null,null,3,null,null,null,null,null,null,4]
[null,null,null,"Names","Sc.","Tab",null,null,null,null,"Names","Sc.","Tab",null,null,null,null,"Names","Sc.","Tab",null,null,null,null,"Names","Sc.","Tab"]
["N",1,{"$f":"Score!O5","v":1},{"$f":"LOOKUP(C6,Names!$A$2:$A$161,Names!$B$2:$B$161)","v":"راجي صبحي  "},76,{"$f":"Sheet1!$M$4","v":0},{"$f":"F69","v":21},"N",1,{"$f":"Score!O9","v":2},{"$f":"LOOKUP(J6,Names!$A$2:$A$161,Names!$B$2:$B$161)","v":"شريف أحمد محمد حمروش"},113,{"$f":"Sheet1!$M$4","v":0},{"$f":"F70","v":19},"N",1,{"$f":"Score!O13","v":19},{"$f":"LOOKUP(Q6,Names!$A$2:$A$161,Names!$B$2:$B$161)","v":"إبراهيم عنتر  "},94,{"$f":"Sheet1!$M$4","v":0},{"$f":"F71","v":18},"N",1,{"$f":"Score!O17","v":33},{"$f":"LOOKUP(X6,Names!$A$2:$A$161,Names!$B$2:$B$161)","v":"أحمد بسيوني"},129,{"$f":"Sheet1!$M$4","v":0},{"$f":"F72","v":17}]
["W",2,{"$f":"Score!O6","v":78},{"$f":"LOOKUP(C7,Names!$A$2:$A$161,Names!$B$2:$B$161)","v":"حسام الخلفاوي"},8,{"$f":"Sheet1!$M$5","v":0},{"$f":"M69","v":21},"W",2,{"$f":"Score!O10","v":25},{"$f":"LOOKUP(J7,Names!$A$2:$A$161,Names!$B$2:$B$161)","v":"خالد شباره "},35,{"$f":"Sheet1!$M$5","v":0},{"$f":"M70","v":19},"W",2,{"$f":"Score!O14","v":16},{"$f":"LOOKUP(Q7,Names!$A$2:$A$161,Names!$B$2:$B$161)","v":"عبد الرحمن سعد موسى"},90,{"$f":"Sheet1!$M$5","v":0},{"$f":"M71","v":18},"W",2,{"$f":"Score!O18","v":10},{"$f":"LOOKUP(X7,Names!$A$2:$A$161,Names!$B$2:$B$161)","v":"نبيل خلف زكي حسنين "},12,{"$f":"Sheet1!$M$5","v":0},{"$f":"M72","v":17}]
["S",3,{"$f":"Score!O7","v":11},{"$f":"LOOKUP(C8,Names!$A$2:$A$161,Names!$B$2:$B$161)","v":"معتز محمد مدبولي "},147,{"$f":"Sheet1!$M$6","v":0},{"$f":"T69","v":21},"S",3,{"$f":"Score!O11","v":12},{"$f":"LOOKUP(J8,Names!$A$2:$A$161,Names!$B$2:$B$161)","v":"أمير كمال جميل"},147,{"$f":"Sheet1!$M$6","v":0},{"$f":"T70","v":19},"S",3,{"$f":"Score!O15","v":29},{"$f":"LOOKUP(Q8,Names!$A$2:$A$161,Names!$B$2:$B$161)","v":"عبد الرحمن عثمان"},39,{"$f":"Sheet1!$M$6","v":0},{"$f":"T71","v":18},"S",3,{"$f":"Score!O19","v":23},{"$f":"LOOKUP(X8,Names!$A$2:$A$161,Names!$B$2:$B$161)","v":"مصطفى يوسف محمد"},136,{"$f":"Sheet1!$M$6","v":0},{"$f":"T72","v":17}]
["E",4,{"$f":"Score!O8","v":8},{"$f":"LOOKUP(C9,Names!$A$2:$A$161,Names!$B$2:$B$161)","v":"إيهاب  محمد الزهيري "},160,{"$f":"Sheet1!$M$7","v":0},{"$f":"AA69","v":21},"E",4,{"$f":"Score!O12","v":15},{"$f":"LOOKUP(J9,Names!$A$2:$A$161,Names!$B$2:$B$161)","v":"أحمد رمزي الديب "},90,{"$f":"Sheet1!$M$7","v":0},{"$f":"AA70","v":19},"E",4,{"$f":"Score!O16","v":6},{"$f":"LOOKUP(Q9,Names!$A$2:$A$161,Names!$B$2:$B$161)","v":"إبراهيم عرفان السقا  "},96,{"$f":"Sheet1!$M$7","v":0},{"$f":"AA71","v":18},"E",4,{"$f":"Score!O20","v":20},{"$f":"LOOKUP(X9,Names!$A$2:$A$161,Names!$B$2:$B$161)","v":"إسلام قاسم"},64,{"$f":"Sheet1!$M$7","v":0},{"$f":"AA72","v":17}]
[null,null,null,5,null,null,null,null,null,null,6,null,null,null,null,null,null,7,null,null,null,null,null,null,8]
[null,null,null,"Names","Sc.","Tab",null,null,null,null,"Names","Sc.","Tab",null,null,null,null,"Names","Sc.","Tab",null,null,null,null,"Names","Sc.","Tab"]
["N",1,{"$f":"Score!O21","v":14},{"$f":"LOOKUP(C12,Names!$A$2:$A$161,Names!$B$2:$B$161)","v":"عماد محمد فؤاد"},201,{"$f":"Sheet1!$M$4","v":0},{"$f":"F73","v":16},"N",1,{"$f":"Score!O25","v":31},{"$f":"LOOKUP(J12,Names!$A$2:$A$161,Names!$B$2:$B$161)","v":"ماجد  محمد  فكري "},57,{"$f":"Sheet1!$M$4","v":0},{"$f":"F74","v":15},"N",1,{"$f":"Score!O29","v":45},{"$f":"LOOKUP(Q12,Names!$A$2:$A$161,Names!$B$2:$B$161)","v":"رضا هنري"},168,{"$f":"Sheet1!$M$4","v":0},{"$f":"F75","v":14},"N",1,{"$f":"Score!O33","v":26},{"$f":"LOOKUP(X12,Names!$A$2:$A$161,Names!$B$2:$B$161)","v":"أحمد الطنطاوي "},98,{"$f":"Sheet1!$M$4","v":0},{"$f":"F76","v":13}]
["W",2,{"$f":"Score!O22","v":37},{"$f":"LOOKUP(C13,Names!$A$2:$A$161,Names!$B$2:$B$161)","v":"حمدي محمود عبد العزيز"},68,{"$f":"Sheet1!$M$5","v":0},{"$f":"M73","v":16},"W",2,{"$f":"Score!O26","v":28},{"$f":"LOOKUP(J13,Names!$A$2:$A$161,Names!$B$2:$B$161)","v":"عمرو محسن فرج "},110,{"$f":"Sheet1!$M$5","v":0},{"$f":"M74","v":15},"W",2,{"$f":"Score!O30","v":22},{"$f":"LOOKUP(Q13,Names!$A$2:$A$161,Names!$B$2:$B$161)","v":"طه إبراهيم طه  "},56,{"$f":"Sheet1!$M$5","v":0},{"$f":"M75","v":14},"W",2,{"$f":"Score!O34","v":49},{"$f":"LOOKUP(X13,Names!$A$2:$A$161,Names!$B$2:$B$161)","v":"هيثم العشماوي "},106,{"$f":"Sheet1!$M$5","v":0},{"$f":"M76","v":13}]
["S",3,{"$f":"Score!O23","v":24},{"$f":"LOOKUP(C14,Names!$A$2:$A$161,Names!$B$2:$B$161)","v":"هيثم محمد شبانة"},92,{"$f":"Sheet1!$M$6","v":0},{"$f":"T73","v":16},"S",3,{"$f":"Score!O27","v":41},{"$f":"LOOKUP(J14,Names!$A$2:$A$161,Names!$B$2:$B$161)","v":"خالد مصطفى عزت "},93,{"$f":"Sheet1!$M$6","v":0},{"$f":"T74","v":15},"S",3,{"$f":"Score!O31","v":35},{"$f":"LOOKUP(Q14,Names!$A$2:$A$161,Names!$B$2:$B$161)","v":"عمرو عماد الدين أبوالعلا  "},98,{"$f":"Sheet1!$M$6","v":0},{"$f":"T75","v":14},"S",3,{"$f":"Score!O35","v":36},{"$f":"LOOKUP(X14,Names!$A$2:$A$161,Names!$B$2:$B$161)","v":"أحمد عبد الفتاح عرفه "},42,{"$f":"Sheet1!$M$6","v":0},{"$f":"T76","v":13}]
["E",4,{"$f":"Score!O24","v":27},{"$f":"LOOKUP(C15,Names!$A$2:$A$161,Names!$B$2:$B$161)","v":"سمير الحوفي"},92,{"$f":"Sheet1!$M$7","v":0},{"$f":"AA73","v":16},"E",4,{"$f":"Score!O28","v":18},{"$f":"LOOKUP(J15,Names!$A$2:$A$161,Names!$B$2:$B$161)","v":"أحمد ممدوح عبد الدايم"},78,{"$f":"Sheet1!$M$7","v":0},{"$f":"AA74","v":15},"E",4,{"$f":"Score!O32","v":32},{"$f":"LOOKUP(Q15,Names!$A$2:$A$161,Names!$B$2:$B$161)","v":"حمزة أحمد محمد"},40,{"$f":"Sheet1!$M$7","v":0},{"$f":"AA75","v":14},"E",4,{"$f":"Score!O36","v":39},{"$f":"LOOKUP(X15,Names!$A$2:$A$161,Names!$B$2:$B$161)","v":"إسلام أحمد السيد عمر"},124,{"$f":"Sheet1!$M$7","v":0},{"$f":"AA76","v":13}]
[null,null,null,9,null,null,null,null,null,null,10,null,null,null,null,null,null,{"$f":"'R1'!R16:T16","v":11},null,null,null,null,null,null,{"$f":"'R1'!Y16:AA16","v":12}]
[null,null,null,"Names","Sc.","Tab",null,null,null,null,"Names","Sc.","Tab",null,null,null,null,"Names","Sc.","Tab",null,null,null,null,"Names","Sc.","Tab"]
["N",1,{"$f":"Score!O37","v":43},{"$f":"LOOKUP(C18,Names!$A$2:$A$161,Names!$B$2:$B$161)","v":"أمير محمد خطاب  "},110,{"$f":"Sheet1!$M$4","v":0},{"$f":"F77","v":12},"N",1,{"$f":"Score!O41","v":57},{"$f":"LOOKUP(J18,Names!$A$2:$A$161,Names!$B$2:$B$161)","v":"مصطفى كامل الشحري"},63,{"$f":"Sheet1!$M$4","v":0},{"$f":"F78","v":11},"N",1,{"$f":"Score!O45","v":38},{"$f":"LOOKUP(Q18,Names!$A$2:$A$161,Names!$B$2:$B$161)","v":"أسامة لطفي نجيب  "},157,{"$f":"Sheet1!$M$4","v":0},{"$f":"F79","v":10},"N",1,{"$f":"Score!O49","v":55},{"$f":"LOOKUP(X18,Names!$A$2:$A$161,Names!$B$2:$B$161)","v":"ناجي بلبع"},4,{"$f":"Sheet1!$M$4","v":0},{"$f":"F80","v":9}]
["W",2,{"$f":"Score!O38","v":40},{"$f":"LOOKUP(C19,Names!$A$2:$A$161,Names!$B$2:$B$161)","v":"احمد محمود عبد الرزاق  "},28,{"$f":"Sheet1!$M$5","v":0},{"$f":"M77","v":12},"W",2,{"$f":"Score!O42","v":34},{"$f":"LOOKUP(J19,Names!$A$2:$A$161,Names!$B$2:$B$161)","v":"عماد الدين جمعة هلال  "},66,{"$f":"Sheet1!$M$5","v":0},{"$f":"M78","v":11},"W",2,{"$f":"Score!O46","v":61},{"$f":"LOOKUP(Q19,Names!$A$2:$A$161,Names!$B$2:$B$161)","v":"كريم إيهاب عامر  "},59,{"$f":"Sheet1!$M$5","v":0},{"$f":"M79","v":10},"W",2,{"$f":"Score!O50","v":52},{"$f":"LOOKUP(X19,Names!$A$2:$A$161,Names!$B$2:$B$161)","v":"يامن محمد حسن  "},99,{"$f":"Sheet1!$M$5","v":0},{"$f":"M80","v":9}]
["S",3,{"$f":"Score!O39","v":53},{"$f":"LOOKUP(C20,Names!$A$2:$A$161,Names!$B$2:$B$161)","v":"أحمد محمد شوقي هيبه"},104,{"$f":"Sheet1!$M$6","v":0},{"$f":"T77","v":12},"S",3,{"$f":"Score!O43","v":47},{"$f":"LOOKUP(J20,Names!$A$2:$A$161,Names!$B$2:$B$161)","v":"هاني فكري المراكبي"},173,{"$f":"Sheet1!$M$6","v":0},{"$f":"T78","v":11},"S",3,{"$f":"Score!O47","v":48},{"$f":"LOOKUP(Q20,Names!$A$2:$A$161,Names!$B$2:$B$161)","v":"محمد ناجي زاهر بلبع "},146,{"$f":"Sheet1!$M$6","v":0},{"$f":"T79","v":10},"S",3,{"$f":"Score!O51","v":65},{"$f":"LOOKUP(X20,Names!$A$2:$A$161,Names!$B$2:$B$161)","v":"أحمد طارق   "},101,{"$f":"Sheet1!$M$6","v":0},{"$f":"T80","v":9}]
["E",4,{"$f":"Score!O40","v":30},{"$f":"LOOKUP(C21,Names!$A$2:$A$161,Names!$B$2:$B$161)","v":"شريف جلال سماحة "},137,{"$f":"Sheet1!$M$7","v":0},{"$f":"AA77","v":12},"E",4,{"$f":"Score!O44","v":44},{"$f":"LOOKUP(J21,Names!$A$2:$A$161,Names!$B$2:$B$161)","v":"جمال السيد توفيق محمد "},69,{"$f":"Sheet1!$M$7","v":0},{"$f":"AA78","v":11},"E",4,{"$f":"Score!O48","v":51},{"$f":"LOOKUP(Q21,Names!$A$2:$A$161,Names!$B$2:$B$161)","v":"أحمد أحمد مرسي عبد الله "},112,{"$f":"Sheet1!$M$7","v":0},{"$f":"AA79","v":10},"E",4,{"$f":"Score!O52","v":42},{"$f":"LOOKUP(X21,Names!$A$2:$A$161,Names!$B$2:$B$161)","v":"محمد عبد الهادي أبو القاسم "},153,{"$f":"Sheet1!$M$7","v":0},{"$f":"AA80","v":9}]
[null,null,null,{"$f":"'R1'!D22:F22","v":13},null,null,null,null,null,null,{"$f":"'R1'!K22:M22","v":14},null,null,null,null,null,null,{"$f":"'R1'!R22:T22","v":15},null,null,null,null,null,null,{"$f":"'R1'!Y22:AA22","v":16}]
[null,null,null,"Names","Sc.","Tab",null,null,null,null,"Names","Sc.","Tab",null,null,null,null,"Names","Sc.","Tab",null,null,null,null,"Names","Sc.","Tab"]
["N",1,{"$f":"Score!O53","v":69},{"$f":"LOOKUP(C24,Names!$A$2:$A$161,Names!$B$2:$B$161)","v":"أحمد علي السيد شرع"},152,{"$f":"Sheet1!$M$4","v":0},{"$f":"F81","v":8},"N",1,{"$f":"Score!O57","v":50},{"$f":"LOOKUP(J24,Names!$A$2:$A$161,Names!$B$2:$B$161)","v":"فادي ناجح"},82,{"$f":"Sheet1!$M$4","v":0},{"$f":"F82","v":7},"N",1,{"$f":"Score!O61","v":67},{"$f":"LOOKUP(Q24,Names!$A$2:$A$161,Names!$B$2:$B$161)","v":"محمد محمود فضل "},148,{"$f":"Sheet1!$M$4","v":0},{"$f":"F83","v":6},"N",1,{"$f":"Score!O65","v":5},{"$f":"LOOKUP(X24,Names!$A$2:$A$161,Names!$B$2:$B$161)","v":"محمد عصام الدين القاضي "},70,{"$f":"Sheet1!$M$4","v":0},{"$f":"F84","v":5}]
["W",2,{"$f":"Score!O54","v":46},{"$f":"LOOKUP(C25,Names!$A$2:$A$161,Names!$B$2:$B$161)","v":"علاء شوقي جبريل  "},48,{"$f":"Sheet1!$M$5","v":0},{"$f":"M81","v":8},"W",2,{"$f":"Score!O58","v":73},{"$f":"LOOKUP(J25,Names!$A$2:$A$161,Names!$B$2:$B$161)","v":"مينا ناجح صبحي  "},125,{"$f":"Sheet1!$M$5","v":0},{"$f":"M82","v":7},"W",2,{"$f":"Score!O62","v":64},{"$f":"LOOKUP(Q25,Names!$A$2:$A$161,Names!$B$2:$B$161)","v":"وليد شعبان إسماعيل علي "},14,{"$f":"Sheet1!$M$5","v":0},{"$f":"M83","v":6},"W",2,{"$f":"Score!O66","v":58},{"$f":"LOOKUP(X25,Names!$A$2:$A$161,Names!$B$2:$B$161)","v":"أحمد إبراهيم غانم "},106,{"$f":"Sheet1!$M$5","v":0},{"$f":"M84","v":5}]
["S",3,{"$f":"Score!O55","v":59},{"$f":"LOOKUP(C26,Names!$A$2:$A$161,Names!$B$2:$B$161)","v":"هشام أبوغربية "},104,{"$f":"Sheet1!$M$6","v":0},{"$f":"T81","v":8},"S",3,{"$f":"Score!O59","v":60},{"$f":"LOOKUP(J26,Names!$A$2:$A$161,Names!$B$2:$B$161)","v":"عصام الدين حامد منصور "},49,{"$f":"Sheet1!$M$6","v":0},{"$f":"T82","v":7},"S",3,{"$f":"Score!O63","v":77},{"$f":"LOOKUP(Q26,Names!$A$2:$A$161,Names!$B$2:$B$161)","v":"محمد محمود شعبان "},119,{"$f":"Sheet1!$M$6","v":0},{"$f":"T83","v":6},"S",3,{"$f":"Score!O67","v":71},{"$f":"LOOKUP(X26,Names!$A$2:$A$161,Names!$B$2:$B$161)","v":"معتز محمد"},95,{"$f":"Sheet1!$M$6","v":0},{"$f":"T84","v":5}]
["E",4,{"$f":"Score!O56","v":56},{"$f":"LOOKUP(C27,Names!$A$2:$A$161,Names!$B$2:$B$161)","v":"جاسر محمد"},122,{"$f":"Sheet1!$M$7","v":0},{"$f":"AA81","v":8},"E",4,{"$f":"Score!O60","v":63},{"$f":"LOOKUP(J27,Names!$A$2:$A$161,Names!$B$2:$B$161)","v":"محمد أحمد محمد عبد الله "},77,{"$f":"Sheet1!$M$7","v":0},{"$f":"AA82","v":7},"E",4,{"$f":"Score!O64","v":54},{"$f":"LOOKUP(Q27,Names!$A$2:$A$161,Names!$B$2:$B$161)","v":"تامر رشاد   "},30,{"$f":"Sheet1!$M$7","v":0},{"$f":"AA83","v":6},"E",4,{"$f":"Score!O68","v":68},{"$f":"LOOKUP(X27,Names!$A$2:$A$161,Names!$B$2:$B$161)","v":"مصطفى إسماعيل"},159,{"$f":"Sheet1!$M$7","v":0},{"$f":"AA84","v":5}]
[null,null,null,{"$f":"'R1'!D28:F28","v":17},null,null,null,null,null,null,{"$f":"'R1'!K28:M28","v":18},null,null,null,null,null,null,{"$f":"'R1'!R28:T28","v":19},null,null,null,null,null,null,{"$f":"'R1'!Y28:AA28","v":20}]
[null,null,null,"Names","Sc.","Tab",null,null,null,null,"Names","Sc.","Tab",null,null,null,null,"Names","Sc.","Tab",null,null,null,null,"Names","Sc.","Tab"]
["N",1,{"$f":"Score!O69","v":62},{"$f":"LOOKUP(C30,Names!$A$2:$A$161,Names!$B$2:$B$161)","v":"محمد محمود مسعود  "},134,{"$f":"Sheet1!$M$4","v":0},{"$f":"F85","v":4},"N",1,{"$f":"Score!O73","v":79},{"$f":"LOOKUP(J30,Names!$A$2:$A$161,Names!$B$2:$B$161)","v":"محمد علي حسن طه الأمام"},46,{"$f":"Sheet1!$M$4","v":0},{"$f":"F86","v":3},"N",1,{"$f":"Score!O77","v":17},{"$f":"LOOKUP(Q30,Names!$A$2:$A$161,Names!$B$2:$B$161)","v":"أحمد علي خليل حسن "},202,{"$f":"Sheet1!$M$4","v":0},{"$f":"F87","v":2},"N",1,{"$f":"Score!O81","v":74},{"$f":"LOOKUP(X30,Names!$A$2:$A$161,Names!$B$2:$B$161)","v":"فريدة شكري"},82,{"$f":"Sheet1!$M$4","v":0},{"$f":"F88","v":1}]
["W",2,{"$f":"Score!O70","v":9},{"$f":"LOOKUP(C31,Names!$A$2:$A$161,Names!$B$2:$B$161)","v":"رأفت الصياد"},9,{"$f":"Sheet1!$M$5","v":0},{"$f":"M85","v":4},"W",2,{"$f":"Score!O74","v":76},{"$f":"LOOKUP(J31,Names!$A$2:$A$161,Names!$B$2:$B$161)","v":"محمد إبراهيم قطب "},90,{"$f":"Sheet1!$M$5","v":0},{"$f":"M86","v":3},"W",2,{"$f":"Score!O78","v":70},{"$f":"LOOKUP(Q31,Names!$A$2:$A$161,Names!$B$2:$B$161)","v":"أحمد صلاح الدين دياب "},95,{"$f":"Sheet1!$M$5","v":0},{"$f":"M87","v":2},"W",2,{"$f":"Score!O82","v":21},{"$f":"LOOKUP(X31,Names!$A$2:$A$161,Names!$B$2:$B$161)","v":"أحمد محمد حمدي صالح "},77,{"$f":"Sheet1!$M$5","v":0},{"$f":"M88","v":1}]
["S",3,{"$f":"Score!O71","v":72},{"$f":"LOOKUP(C32,Names!$A$2:$A$161,Names!$B$2:$B$161)","v":"أحمد سمير خلف "},64,{"$f":"Sheet1!$M$6","v":0},{"$f":"T85","v":4},"S",3,{"$f":"Score!O75","v":13},{"$f":"LOOKUP(J32,Names!$A$2:$A$161,Names!$B$2:$B$161)","v":"أحمد جميل السيد "},96,{"$f":"Sheet1!$M$6","v":0},{"$f":"T86","v":3},"S",3,{"$f":"Score!O79","v":3},{"$f":"LOOKUP(Q32,Names!$A$2:$A$161,Names!$B$2:$B$161)","v":"إيهاب يوسف عمارة "},165,{"$f":"Sheet1!$M$6","v":0},{"$f":"T87","v":2},"S",3,{"$f":"Score!O83","v":4},{"$f":"LOOKUP(X32,Names!$A$2:$A$161,Names!$B$2:$B$161)","v":"محمد سعيد الفطاطري"},56,{"$f":"Sheet1!$M$6","v":0},{"$f":"T88","v":1}]
["E",4,{"$f":"Score!O72","v":75},{"$f":"LOOKUP(C33,Names!$A$2:$A$161,Names!$B$2:$B$161)","v":"محمود سليمان"},100,{"$f":"Sheet1!$M$7","v":0},{"$f":"AA85","v":4},"E",4,{"$f":"Score!O76","v":66},{"$f":"LOOKUP(J33,Names!$A$2:$A$161,Names!$B$2:$B$161)","v":"أحمد فؤاد حسنين "},98,{"$f":"Sheet1!$M$7","v":0},{"$f":"AA86","v":3},"E",4,{"$f":"Score!O80","v":80},{"$f":"LOOKUP(Q33,Names!$A$2:$A$161,Names!$B$2:$B$161)","v":"أمن حسام"},-83,{"$f":"Sheet1!$M$7","v":0},{"$f":"AA87","v":2},"E",4,{"$f":"Score!O84","v":7},{"$f":"LOOKUP(X33,Names!$A$2:$A$161,Names!$B$2:$B$161)","v":"باسم أسحق صموائيل"},121,{"$f":"Sheet1!$M$7","v":0},{"$f":"AA88","v":1}]
[]
[null,null,null,{"$f":"'R1'!D35:F35","v":21},null,null,null,null,null,null,{"$f":"'R1'!K35:M35","v":22},null,null,null,null,null,null,{"$f":"'R1'!R35:T35","v":23},null,null,null,null,null,null,{"$f":"'R1'!Y35:AA35","v":24}]
[null,null,null,"Names","Sc.","Tab",null,null,null,null,"Names","Sc.","Tab",null,null,null,null,"Names","Sc.","Tab",null,null,null,null,"Names","Sc.","Tab"]
["N",1,{"$f":"Score!O85","v":0},{"$f":"LOOKUP(C37,Names!$A$2:$A$161,Names!$B$2:$B$161)","v":{"$error":"#N/A"}},null,{"$f":"Sheet1!$M$4","v":0},{"$f":"F89","v":0},"N",1,{"$f":"Score!O89","v":0},{"$f":"LOOKUP(J37,Names!$A$2:$A$161,Names!$B$2:$B$161)","v":{"$error":"#N/A"}},null,{"$f":"Sheet1!$M$4","v":0},{"$f":"F90","v":-1},"N",1,{"$f":"Score!O93","v":0},{"$f":"LOOKUP(Q37,Names!$A$2:$A$161,Names!$B$2:$B$161)","v":{"$error":"#N/A"}},null,{"$f":"Sheet1!$M$4","v":0},{"$f":"F91","v":-2},"N",1,{"$f":"Score!O97","v":0},{"$f":"LOOKUP(X37,Names!$A$2:$A$161,Names!$B$2:$B$161)","v":{"$error":"#N/A"}},null,{"$f":"Sheet1!$M$4","v":0},{"$f":"F92","v":-3}]
["W",2,{"$f":"Score!O86","v":0},{"$f":"LOOKUP(C38,Names!$A$2:$A$161,Names!$B$2:$B$161)","v":{"$error":"#N/A"}},null,{"$f":"Sheet1!$M$5","v":0},{"$f":"M89","v":0},"W",2,{"$f":"Score!O90","v":0},{"$f":"LOOKUP(J38,Names!$A$2:$A$161,Names!$B$2:$B$161)","v":{"$error":"#N/A"}},null,{"$f":"Sheet1!$M$5","v":0},{"$f":"M90","v":-1},"W",2,{"$f":"Score!O94","v":0},{"$f":"LOOKUP(Q38,Names!$A$2:$A$161,Names!$B$2:$B$161)","v":{"$error":"#N/A"}},null,{"$f":"Sheet1!$M$5","v":0},{"$f":"M91","v":-2},"W",2,{"$f":"Score!O98","v":0},{"$f":"LOOKUP(X38,Names!$A$2:$A$161,Names!$B$2:$B$161)","v":{"$error":"#N/A"}},null,{"$f":"Sheet1!$M$5","v":0},{"$f":"M92","v":-3}]
["S",3,{"$f":"Score!O87","v":0},{"$f":"LOOKUP(C39,Names!$A$2:$A$161,Names!$B$2:$B$161)","v":{"$error":"#N/A"}},null,{"$f":"Sheet1!$M$6","v":0},{"$f":"T89","v":0},"S",3,{"$f":"Score!O91","v":0},{"$f":"LOOKUP(J39,Names!$A$2:$A$161,Names!$B$2:$B$161)","v":{"$error":"#N/A"}},null,{"$f":"Sheet1!$M$6","v":0},{"$f":"T90","v":-1},"S",3,{"$f":"Score!O95","v":0},{"$f":"LOOKUP(Q39,Names!$A$2:$A$161,Names!$B$2:$B$161)","v":{"$error":"#N/A"}},null,{"$f":"Sheet1!$M$6","v":0},{"$f":"T91","v":-2},"S",3,{"$f":"Score!O99","v":0},{"$f":"LOOKUP(X39,Names!$A$2:$A$161,Names!$B$2:$B$161)","v":{"$error":"#N/A"}},null,{"$f":"Sheet1!$M$6","v":0},{"$f":"T92","v":-3}]
["E",4,{"$f":"Score!O88","v":0},{"$f":"LOOKUP(C40,Names!$A$2:$A$161,Names!$B$2:$B$161)","v":{"$error":"#N/A"}},null,{"$f":"Sheet1!$M$7","v":0},{"$f":"AA89","v":1},"E",4,{"$f":"Score!O92","v":0},{"$f":"LOOKUP(J40,Names!$A$2:$A$161,Names!$B$2:$B$161)","v":{"$error":"#N/A"}},null,{"$f":"Sheet1!$M$7","v":0},{"$f":"AA90","v":0},"E",4,{"$f":"Score!O96","v":0},{"$f":"LOOKUP(Q40,Names!$A$2:$A$161,Names!$B$2:$B$161)","v":{"$error":"#N/A"}},null,{"$f":"Sheet1!$M$7","v":0},{"$f":"AA91","v":-1},"E",4,{"$f":"Score!O100","v":0},{"$f":"LOOKUP(X40,Names!$A$2:$A$161,Names!$B$2:$B$161)","v":{"$error":"#N/A"}},null,{"$f":"Sheet1!$M$7","v":0},{"$f":"AA92","v":-2}]
[null,null,null,{"$f":"'R1'!D41:F41","v":"B1"},null,null,null,null,null,null,{"$f":"'R1'!K41:M41","v":"B2"},null,null,null,null,null,null,{"$f":"'R1'!R41:T41","v":"B3"},null,null,null,null,null,null,{"$f":"'R1'!Y41:AA41","v":"B4"}]
[null,null,null,"Names","Sc.","Tab",null,null,null,null,"Names","Sc.","Tab",null,null,null,null,"Names","Sc.","Tab",null,null,null,null,"Names","Sc.","Tab"]
["N",1,{"$f":"Score!O101","v":0},{"$f":"LOOKUP(C43,Names!$A$2:$A$161,Names!$B$2:$B$161)","v":{"$error":"#N/A"}},null,{"$f":"Sheet1!$M$4","v":0},{"$f":"F93","v":-4},"N",1,{"$f":"Score!O105","v":0},{"$f":"LOOKUP(J43,Names!$A$2:$A$161,Names!$B$2:$B$161)","v":{"$error":"#N/A"}},null,{"$f":"Sheet1!$M$4","v":0},{"$f":"F94","v":-5},"N",1,{"$f":"Score!O109","v":0},{"$f":"LOOKUP(Q43,Names!$A$2:$A$161,Names!$B$2:$B$161)","v":{"$error":"#N/A"}},null,{"$f":"Sheet1!$M$4","v":0},{"$f":"F95","v":-6},"N",1,{"$f":"Score!O113","v":0},{"$f":"LOOKUP(X43,Names!$A$2:$A$161,Names!$B$2:$B$161)","v":{"$error":"#N/A"}},null,{"$f":"Sheet1!$M$4","v":0},{"$f":"F96","v":0}]
["W",2,{"$f":"Score!O102","v":0},{"$f":"LOOKUP(C44,Names!$A$2:$A$161,Names!$B$2:$B$161)","v":{"$error":"#N/A"}},null,{"$f":"Sheet1!$M$5","v":0},{"$f":"M93","v":-4},"W",2,{"$f":"Score!O106","v":0},{"$f":"LOOKUP(J44,Names!$A$2:$A$161,Names!$B$2:$B$161)","v":{"$error":"#N/A"}},null,{"$f":"Sheet1!$M$5","v":0},{"$f":"M94","v":-5},"W",2,{"$f":"Score!O110","v":0},{"$f":"LOOKUP(Q44,Names!$A$2:$A$161,Names!$B$2:$B$161)","v":{"$error":"#N/A"}},null,{"$f":"Sheet1!$M$5","v":0},{"$f":"M95","v":-6},"W",2,{"$f":"Score!O114","v":0},{"$f":"LOOKUP(X44,Names!$A$2:$A$161,Names!$B$2:$B$161)","v":{"$error":"#N/A"}},null,{"$f":"Sheet1!$M$5","v":0},{"$f":"M96","v":0}]
["S",3,{"$f":"Score!O103","v":0},{"$f":"LOOKUP(C45,Names!$A$2:$A$161,Names!$B$2:$B$161)","v":{"$error":"#N/A"}},null,{"$f":"Sheet1!$M$6","v":0},{"$f":"T93","v":-4},"S",3,{"$f":"Score!O107","v":0},{"$f":"LOOKUP(J45,Names!$A$2:$A$161,Names!$B$2:$B$161)","v":{"$error":"#N/A"}},null,{"$f":"Sheet1!$M$6","v":0},{"$f":"T94","v":-5},"S",3,{"$f":"Score!O111","v":0},{"$f":"LOOKUP(Q45,Names!$A$2:$A$161,Names!$B$2:$B$161)","v":{"$error":"#N/A"}},null,{"$f":"Sheet1!$M$6","v":0},{"$f":"T95","v":-6},"S",3,{"$f":"Score!O115","v":0},{"$f":"LOOKUP(X45,Names!$A$2:$A$161,Names!$B$2:$B$161)","v":{"$error":"#N/A"}},null,{"$f":"Sheet1!$M$6","v":0},{"$f":"T96","v":0}]
["E",4,{"$f":"Score!O104","v":0},{"$f":"LOOKUP(C46,Names!$A$2:$A$161,Names!$B$2:$B$161)","v":{"$error":"#N/A"}},null,{"$f":"Sheet1!$M$7","v":0},{"$f":"AA93","v":-3},"E",4,{"$f":"Score!O108","v":0},{"$f":"LOOKUP(J46,Names!$A$2:$A$161,Names!$B$2:$B$161)","v":{"$error":"#N/A"}},null,{"$f":"Sheet1!$M$7","v":0},{"$f":"AA94","v":-4},"E",4,{"$f":"Score!O112","v":0},{"$f":"LOOKUP(Q46,Names!$A$2:$A$161,Names!$B$2:$B$161)","v":{"$error":"#N/A"}},null,{"$f":"Sheet1!$M$7","v":0},{"$f":"AA95","v":-5},"E",4,{"$f":"Score!O116","v":0},{"$f":"LOOKUP(X46,Names!$A$2:$A$161,Names!$B$2:$B$161)","v":{"$error":"#N/A"}},null,{"$f":"Sheet1!$M$7","v":0},{"$f":"AA96","v":0}]
[null,null,null,"B5",null,null,null,null,null,null,"B6",null,null,null,null,null,null,"B7",null,null,null,null,null,null,"B8"]
[null,null,null,"Names","Sc.","Tab",null,null,null,null,"Names","Sc.","Tab",null,null,null,null,"Names","Sc.","Tab",null,null,null,null,"Names","Sc.","Tab"]
["N",1,{"$f":"Score!O117","v":0},{"$f":"LOOKUP(C49,Names!$A$2:$A$161,Names!$B$2:$B$161)","v":{"$error":"#N/A"}},null,{"$f":"Sheet1!$M$4","v":0},{"$f":"F97","v":0},"N",1,{"$f":"Score!O121","v":0},{"$f":"LOOKUP(J49,Names!$A$2:$A$161,Names!$B$2:$B$161)","v":{"$error":"#N/A"}},null,{"$f":"Sheet1!$M$4","v":0},{"$f":"F98","v":0},"N",1,{"$f":"Score!O125","v":0},{"$f":"LOOKUP(Q49,Names!$A$2:$A$161,Names!$B$2:$B$161)","v":{"$error":"#N/A"}},null,{"$f":"Sheet1!$M$4","v":0},{"$f":"F99","v":0},"N",1,{"$f":"Score!O129","v":0},{"$f":"LOOKUP(X49,Names!$A$2:$A$161,Names!$B$2:$B$161)","v":{"$error":"#N/A"}},null,{"$f":"Sheet1!$M$4","v":0},{"$f":"F100","v":0}]
["W",2,{"$f":"Score!O118","v":0},{"$f":"LOOKUP(C50,Names!$A$2:$A$161,Names!$B$2:$B$161)","v":{"$error":"#N/A"}},null,{"$f":"Sheet1!$M$5","v":0},{"$f":"M97","v":0},"W",2,{"$f":"Score!O122","v":0},{"$f":"LOOKUP(J50,Names!$A$2:$A$161,Names!$B$2:$B$161)","v":{"$error":"#N/A"}},null,{"$f":"Sheet1!$M$5","v":0},{"$f":"M98","v":0},"W",2,{"$f":"Score!O126","v":0},{"$f":"LOOKUP(Q50,Names!$A$2:$A$161,Names!$B$2:$B$161)","v":{"$error":"#N/A"}},null,{"$f":"Sheet1!$M$5","v":0},{"$f":"M99","v":0},"W",2,{"$f":"Score!O130","v":0},{"$f":"LOOKUP(X50,Names!$A$2:$A$161,Names!$B$2:$B$161)","v":{"$error":"#N/A"}},null,{"$f":"Sheet1!$M$5","v":0},{"$f":"M100","v":0}]
["S",3,{"$f":"Score!O119","v":0},{"$f":"LOOKUP(C51,Names!$A$2:$A$161,Names!$B$2:$B$161)","v":{"$error":"#N/A"}},null,{"$f":"Sheet1!$M$6","v":0},{"$f":"T97","v":0},"S",3,{"$f":"Score!O123","v":0},{"$f":"LOOKUP(J51,Names!$A$2:$A$161,Names!$B$2:$B$161)","v":{"$error":"#N/A"}},null,{"$f":"Sheet1!$M$6","v":0},{"$f":"T98","v":0},"S",3,{"$f":"Score!O127","v":0},{"$f":"LOOKUP(Q51,Names!$A$2:$A$161,Names!$B$2:$B$161)","v":{"$error":"#N/A"}},null,{"$f":"Sheet1!$M$6","v":0},{"$f":"T99","v":0},"S",3,{"$f":"Score!O131","v":0},{"$f":"LOOKUP(X51,Names!$A$2:$A$161,Names!$B$2:$B$161)","v":{"$error":"#N/A"}},null,{"$f":"Sheet1!$M$6","v":0},{"$f":"T100","v":0}]
["E",4,{"$f":"Score!O120","v":0},{"$f":"LOOKUP(C52,Names!$A$2:$A$161,Names!$B$2:$B$161)","v":{"$error":"#N/A"}},null,{"$f":"Sheet1!$M$7","v":0},{"$f":"AA97","v":0},"E",4,{"$f":"Score!O124","v":0},{"$f":"LOOKUP(J52,Names!$A$2:$A$161,Names!$B$2:$B$161)","v":{"$error":"#N/A"}},null,{"$f":"Sheet1!$M$7","v":0},{"$f":"AA98","v":0},"E",4,{"$f":"Score!O128","v":0},{"$f":"LOOKUP(Q52,Names!$A$2:$A$161,Names!$B$2:$B$161)","v":{"$error":"#N/A"}},null,{"$f":"Sheet1!$M$7","v":0},{"$f":"AA99","v":0},"E",4,{"$f":"Score!O132","v":0},{"$f":"LOOKUP(X52,Names!$A$2:$A$161,Names!$B$2:$B$161)","v":{"$error":"#N/A"}},null,{"$f":"Sheet1!$M$7","v":0},{"$f":"AA100","v":0}]
[null,null,null,33,null,null,null,null,null,null,34,null,null,null,null,null,null,35,null,null,null,null,null,null,36]
[null,null,null,"Names","Sc.","Tab",null,null,null,null,"Names","Sc.","Tab",null,null,null,null,"Names","Sc.","Tab",null,null,null,null,"Names","Sc.","Tab"]
["N",1,{"$f":"Score!O133","v":0},{"$f":"LOOKUP(C55,Names!$A$2:$A$161,Names!$B$2:$B$161)","v":{"$error":"#N/A"}},null,{"$f":"Sheet1!$M$4","v":0},{"$f":"F101","v":0},"N",1,{"$f":"Score!O137","v":0},{"$f":"LOOKUP(J55,Names!$A$2:$A$161,Names!$B$2:$B$161)","v":{"$error":"#N/A"}},null,{"$f":"Sheet1!$M$4","v":0},{"$f":"F102","v":0},"N",1,{"$f":"Score!O141","v":0},{"$f":"LOOKUP(Q55,Names!$A$2:$A$161,Names!$B$2:$B$161)","v":{"$error":"#N/A"}},null,{"$f":"Sheet1!$M$4","v":0},{"$f":"F103","v":0},"N",1,{"$f":"Score!O145","v":0},{"$f":"LOOKUP(X55,Names!$A$2:$A$161,Names!$B$2:$B$161)","v":{"$error":"#N/A"}},null,{"$f":"Sheet1!$M$4","v":0},{"$f":"F104","v":0}]
["W",2,{"$f":"Score!O134","v":0},{"$f":"LOOKUP(C56,Names!$A$2:$A$161,Names!$B$2:$B$161)","v":{"$error":"#N/A"}},null,{"$f":"Sheet1!$M$5","v":0},{"$f":"M101","v":0},"W",2,{"$f":"Score!O138","v":0},{"$f":"LOOKUP(J56,Names!$A$2:$A$161,Names!$B$2:$B$161)","v":{"$error":"#N/A"}},null,{"$f":"Sheet1!$M$5","v":0},{"$f":"M102","v":0},"W",2,{"$f":"Score!O142","v":0},{"$f":"LOOKUP(Q56,Names!$A$2:$A$161,Names!$B$2:$B$161)","v":{"$error":"#N/A"}},null,{"$f":"Sheet1!$M$5","v":0},{"$f":"M103","v":0},"W",2,{"$f":"Score!O146","v":0},{"$f":"LOOKUP(X56,Names!$A$2:$A$161,Names!$B$2:$B$161)","v":{"$error":"#N/A"}},null,{"$f":"Sheet1!$M$5","v":0},{"$f":"M104","v":0}]
["S",3,{"$f":"Score!O135","v":0},{"$f":"LOOKUP(C57,Names!$A$2:$A$161,Names!$B$2:$B$161)","v":{"$error":"#N/A"}},null,{"$f":"Sheet1!$M$6","v":0},{"$f":"T101","v":0},"S",3,{"$f":"Score!O139","v":0},{"$f":"LOOKUP(J57,Names!$A$2:$A$161,Names!$B$2:$B$161)","v":{"$error":"#N/A"}},null,{"$f":"Sheet1!$M$6","v":0},{"$f":"T102","v":0},"S",3,{"$f":"Score!O143","v":0},{"$f":"LOOKUP(Q57,Names!$A$2:$A$161,Names!$B$2:$B$161)","v":{"$error":"#N/A"}},null,{"$f":"Sheet1!$M$6","v":0},{"$f":"T103","v":0},"S",3,{"$f":"Score!O147","v":0},{"$f":"LOOKUP(X57,Names!$A$2:$A$161,Names!$B$2:$B$161)","v":{"$error":"#N/A"}},null,{"$f":"Sheet1!$M$6","v":0},{"$f":"T104","v":0}]
["E",4,{"$f":"Score!O136","v":0},{"$f":"LOOKUP(C58,Names!$A$2:$A$161,Names!$B$2:$B$161)","v":{"$error":"#N/A"}},null,{"$f":"Sheet1!$M$7","v":0},{"$f":"AA101","v":0},"E",4,{"$f":"Score!O140","v":0},{"$f":"LOOKUP(J58,Names!$A$2:$A$161,Names!$B$2:$B$161)","v":{"$error":"#N/A"}},null,{"$f":"Sheet1!$M$7","v":0},{"$f":"AA102","v":0},"E",4,{"$f":"Score!O144","v":0},{"$f":"LOOKUP(Q58,Names!$A$2:$A$161,Names!$B$2:$B$161)","v":{"$error":"#N/A"}},null,{"$f":"Sheet1!$M$7","v":0},{"$f":"AA103","v":0},"E",4,{"$f":"Score!O148","v":0},{"$f":"LOOKUP(X58,Names!$A$2:$A$161,Names!$B$2:$B$161)","v":{"$error":"#N/A"}},null,{"$f":"Sheet1!$M$7","v":0},{"$f":"AA104","v":0}]
[null,null,null,37,null,null,null,null,null,null,38,null,null,null,null,null,null,39,null,null,null,null,null,null,40]
[null,null,null,"Names","Sc.","Tab",null,null,null,null,"Names","Sc.","Tab",null,null,null,null,"Names","Sc.","Tab",null,null,null,null,"Names","Sc.","Tab"]
["N",1,{"$f":"Score!O149","v":0},{"$f":"LOOKUP(C61,Names!$A$2:$A$161,Names!$B$2:$B$161)","v":{"$error":"#N/A"}},null,{"$f":"Sheet1!$M$4","v":0},{"$f":"F105","v":0},"N",1,{"$f":"Score!O153","v":0},{"$f":"LOOKUP(J61,Names!$A$2:$A$161,Names!$B$2:$B$161)","v":{"$error":"#N/A"}},null,{"$f":"Sheet1!$M$4","v":0},{"$f":"F106","v":0},"N",1,{"$f":"Score!O157","v":0},{"$f":"LOOKUP(Q61,Names!$A$2:$A$161,Names!$B$2:$B$161)","v":{"$error":"#N/A"}},null,{"$f":"Sheet1!$M$4","v":0},{"$f":"F107","v":0},"N",1,{"$f":"Score!O161","v":0},{"$f":"LOOKUP(X61,Names!$A$2:$A$161,Names!$B$2:$B$161)","v":{"$error":"#N/A"}},null,{"$f":"Sheet1!$M$4","v":0},{"$f":"F108","v":0}]
["W",2,{"$f":"Score!O150","v":0},{"$f":"LOOKUP(C62,Names!$A$2:$A$161,Names!$B$2:$B$161)","v":{"$error":"#N/A"}},null,{"$f":"Sheet1!$M$5","v":0},{"$f":"M105","v":0},"W",2,{"$f":"Score!O154","v":0},{"$f":"LOOKUP(J62,Names!$A$2:$A$161,Names!$B$2:$B$161)","v":{"$error":"#N/A"}},null,{"$f":"Sheet1!$M$5","v":0},{"$f":"M106","v":0},"W",2,{"$f":"Score!O158","v":0},{"$f":"LOOKUP(Q62,Names!$A$2:$A$161,Names!$B$2:$B$161)","v":{"$error":"#N/A"}},null,{"$f":"Sheet1!$M$5","v":0},{"$f":"M107","v":0},"W",2,{"$f":"Score!O162","v":0},{"$f":"LOOKUP(X62,Names!$A$2:$A$161,Names!$B$2:$B$161)","v":{"$error":"#N/A"}},null,{"$f":"Sheet1!$M$5","v":0},{"$f":"M108","v":0}]
["S",3,{"$f":"Score!O151","v":0},{"$f":"LOOKUP(C63,Names!$A$2:$A$161,Names!$B$2:$B$161)","v":{"$error":"#N/A"}},null,{"$f":"Sheet1!$M$6","v":0},{"$f":"T105","v":0},"S",3,{"$f":"Score!O155","v":0},{"$f":"LOOKUP(J63,Names!$A$2:$A$161,Names!$B$2:$B$161)","v":{"$error":"#N/A"}},null,{"$f":"Sheet1!$M$6","v":0},{"$f":"T106","v":0},"S",3,{"$f":"Score!O159","v":0},{"$f":"LOOKUP(Q63,Names!$A$2:$A$161,Names!$B$2:$B$161)","v":{"$error":"#N/A"}},null,{"$f":"Sheet1!$M$6","v":0},{"$f":"T107","v":0},"S",3,{"$f":"Score!O163","v":0},{"$f":"LOOKUP(X63,Names!$A$2:$A$161,Names!$B$2:$B$161)","v":{"$error":"#N/A"}},null,{"$f":"Sheet1!$M$6","v":0},{"$f":"T108","v":0}]
["E",4,{"$f":"Score!O152","v":0},{"$f":"LOOKUP(C64,Names!$A$2:$A$161,Names!$B$2:$B$161)","v":{"$error":"#N/A"}},null,{"$f":"Sheet1!$M$7","v":0},{"$f":"AA105","v":0},"E",4,{"$f":"Score!O156","v":0},{"$f":"LOOKUP(J64,Names!$A$2:$A$161,Names!$B$2:$B$161)","v":{"$error":"#N/A"}},null,{"$f":"Sheet1!$M$7","v":0},{"$f":"AA106","v":0},"E",4,{"$f":"Score!O160","v":0},{"$f":"LOOKUP(Q64,Names!$A$2:$A$161,Names!$B$2:$B$161)","v":{"$error":"#N/A"}},null,{"$f":"Sheet1!$M$7","v":0},{"$f":"AA107","v":0},"E",4,{"$f":"Score!O164","v":0},{"$f":"LOOKUP(X64,Names!$A$2:$A$161,Names!$B$2:$B$161)","v":{"$error":"#N/A"}},null,{"$f":"Sheet1!$M$7","v":0},{"$f":"AA108","v":0}]
[]
[null,null,null,null,null,null,null,null,null,null,"Axe"]
[null,null,null,"North",null,null,null,null,null,null,"West",null,null,null,null,null,null,"South",null,null,null,null,null,null,"East"]
[null,null,null,"Names","Sc.","Axe",null,null,null,null,"Names","Sc.","Axe",null,null,null,null,"Names","Sc.","Axe",null,null,null,null,"Names","Sc.","Axe"]
[1,1,{"$f":"$C$6","v":1},{"$f":"LOOKUP(C69,Names!$A$2:$A$161,Names!$B$2:$B$161)","v":"راجي صبحي  "},{"$f":"$E$6","v":76},{"$f":"Sheet1!L3","v":21},null,null,1,{"$f":"$C$7","v":78},{"$f":"LOOKUP(J69,Names!$A$2:$A$161,Names!$B$2:$B$161)","v":"حسام الخلفاوي"},{"$f":"$E$7","v":8},{"$f":"Sheet1!L3","v":21},null,null,1,{"$f":"$C$8","v":11},{"$f":"LOOKUP(Q69,Names!$A$2:$A$161,Names!$B$2:$B$161)","v":"معتز محمد مدبولي "},{"$f":"$E$8","v":147},{"$f":"Sheet1!L3","v":21},null,null,1,{"$f":"$C$9","v":8},{"$f":"LOOKUP(X69,Names!$A$2:$A$161,Names!$B$2:$B$161)","v":"إيهاب  محمد الزهيري "},{"$f":"$E$9","v":160},{"$f":"Sheet1!L3","v":21}]
[2,2,{"$f":"$J$6","v":2},{"$f":"LOOKUP(C70,Names!$A$2:$A$161,Names!$B$2:$B$161)","v":"شريف أحمد محمد حمروش"},{"$f":"$L$6","v":113},{"$f":"Sheet1!L4","v":19},null,null,2,{"$f":"$J$7","v":25},{"$f":"LOOKUP(J70,Names!$A$2:$A$161,Names!$B$2:$B$161)","v":"خالد شباره "},{"$f":"$L$7","v":35},{"$f":"Sheet1!L4","v":19},null,null,2,{"$f":"$J$8","v":12},{"$f":"LOOKUP(Q70,Names!$A$2:$A$161,Names!$B$2:$B$161)","v":"أمير كمال جميل"},{"$f":"$L$8","v":147},{"$f":"Sheet1!L4","v":19},null,null,2,{"$f":"$J$9","v":15},{"$f":"LOOKUP(X70,Names!$A$2:$A$161,Names!$B$2:$B$161)","v":"أحمد رمزي الديب "},{"$f":"$L$9","v":90},{"$f":"Sheet1!L4","v":19}]
[3,3,{"$f":"$Q$6","v":19},{"$f":"LOOKUP(C71,Names!$A$2:$A$161,Names!$B$2:$B$161)","v":"إبراهيم عنتر  "},{"$f":"$S$6","v":94},{"$f":"Sheet1!L5","v":18},null,null,3,{"$f":"$Q$7","v":16},{"$f":"LOOKUP(J71,Names!$A$2:$A$161,Names!$B$2:$B$161)","v":"عبد الرحمن سعد موسى"},{"$f":"$S$7","v":90},{"$f":"Sheet1!L5","v":18},null,null,3,{"$f":"$Q$8","v":29},{"$f":"LOOKUP(Q71,Names!$A$2:$A$161,Names!$B$2:$B$161)","v":"عبد الرحمن عثمان"},{"$f":"$S$8","v":39},{"$f":"Sheet1!L5","v":18},null,null,3,{"$f":"$Q$9","v":6},{"$f":"LOOKUP(X71,Names!$A$2:$A$161,Names!$B$2:$B$161)","v":"إبراهيم عرفان السقا  "},{"$f":"$S$9","v":96},{"$f":"Sheet1!L5","v":18}]
[4,4,{"$f":"$X$6","v":33},{"$f":"LOOKUP(C72,Names!$A$2:$A$161,Names!$B$2:$B$161)","v":"أحمد بسيوني"},{"$f":"$Z$6","v":129},{"$f":"Sheet1!L6","v":17},null,null,4,{"$f":"$X$7","v":10},{"$f":"LOOKUP(J72,Names!$A$2:$A$161,Names!$B$2:$B$161)","v":"نبيل خلف زكي حسنين "},{"$f":"$Z$7","v":12},{"$f":"Sheet1!L6","v":17},null,null,4,{"$f":"$X$8","v":23},{"$f":"LOOKUP(Q72,Names!$A$2:$A$161,Names!$B$2:$B$161)","v":"مصطفى يوسف محمد"},{"$f":"$Z$8","v":136},{"$f":"Sheet1!L6","v":17},null,null,4,{"$f":"$X$9","v":20},{"$f":"LOOKUP(X72,Names!$A$2:$A$161,Names!$B$2:$B$161)","v":"إسلام قاسم"},{"$f":"$Z$9","v":64},{"$f":"Sheet1!L6","v":17}]
[5,5,{"$f":"$C$12","v":14},{"$f":"LOOKUP(C73,Names!$A$2:$A$161,Names!$B$2:$B$161)","v":"عماد محمد فؤاد"},{"$f":"$E$12","v":201},{"$f":"Sheet1!L7","v":16},null,null,5,{"$f":"$C$13","v":37},{"$f":"LOOKUP(J73,Names!$A$2:$A$161,Names!$B$2:$B$161)","v":"حمدي محمود عبد العزيز"},{"$f":"$E$13","v":68},{"$f":"Sheet1!L7","v":16},null,null,5,{"$f":"$C$14","v":24},{"$f":"LOOKUP(Q73,Names!$A$2:$A$161,Names!$B$2:$B$161)","v":"هيثم محمد شبانة"},{"$f":"$E$14","v":92},{"$f":"Sheet1!L7","v":16},null,null,5,{"$f":"$C$15","v":27},{"$f":"LOOKUP(X73,Names!$A$2:$A$161,Names!$B$2:$B$161)","v":"سمير الحوفي"},{"$f":"$E$15","v":92},{"$f":"Sheet1!L7","v":16}]
[6,6,{"$f":"$J$12","v":31},{"$f":"LOOKUP(C74,Names!$A$2:$A$161,Names!$B$2:$B$161)","v":"ماجد  محمد  فكري "},{"$f":"$L$12","v":57},{"$f":"Sheet1!L8","v":15},null,null,6,{"$f":"$J$13","v":28},{"$f":"LOOKUP(J74,Names!$A$2:$A$161,Names!$B$2:$B$161)","v":"عمرو محسن فرج "},{"$f":"$L$13","v":110},{"$f":"Sheet1!L8","v":15},null,null,6,{"$f":"$J$14","v":41},{"$f":"LOOKUP(Q74,Names!$A$2:$A$161,Names!$B$2:$B$161)","v":"خالد مصطفى عزت "},{"$f":"$L$14","v":93},{"$f":"Sheet1!L8","v":15},null,null,6,{"$f":"$J$15","v":18},{"$f":"LOOKUP(X74,Names!$A$2:$A$161,Names!$B$2:$B$161)","v":"أحمد ممدوح عبد الدايم"},{"$f":"$L$15","v":78},{"$f":"Sheet1!L8","v":15}]
[7,7,{"$f":"$Q$12","v":45},{"$f":"LOOKUP(C75,Names!$A$2:$A$161,Names!$B$2:$B$161)","v":"رضا هنري"},{"$f":"$S$12","v":168},{"$f":"Sheet1!L9","v":14},null,null,7,{"$f":"$Q$13","v":22},{"$f":"LOOKUP(J75,Names!$A$2:$A$161,Names!$B$2:$B$161)","v":"طه إبراهيم طه  "},{"$f":"$S$13","v":56},{"$f":"Sheet1!L9","v":14},null,null,7,{"$f":"$Q$14","v":35},{"$f":"LOOKUP(Q75,Names!$A$2:$A$161,Names!$B$2:$B$161)","v":"عمرو عماد الدين أبوالعلا  "},{"$f":"$S$14","v":98},{"$f":"Sheet1!L9","v":14},null,null,7,{"$f":"$Q$15","v":32},{"$f":"LOOKUP(X75,Names!$A$2:$A$161,Names!$B$2:$B$161)","v":"حمزة أحمد محمد"},{"$f":"$S$15","v":40},{"$f":"Sheet1!L9","v":14}]
[8,8,{"$f":"$X$12","v":26},{"$f":"LOOKUP(C76,Names!$A$2:$A$161,Names!$B$2:$B$161)","v":"أحمد الطنطاوي "},{"$f":"$Z$12","v":98},{"$f":"Sheet1!L10","v":13},null,null,8,{"$f":"$X$13","v":49},{"$f":"LOOKUP(J76,Names!$A$2:$A$161,Names!$B$2:$B$161)","v":"هيثم العشماوي "},{"$f":"$Z$13","v":106},{"$f":"Sheet1!L10","v":13},null,null,8,{"$f":"$X$14","v":36},{"$f":"LOOKUP(Q76,Names!$A$2:$A$161,Names!$B$2:$B$161)","v":"أحمد عبد الفتاح عرفه "},{"$f":"$Z$14","v":42},{"$f":"Sheet1!L10","v":13},null,null,8,{"$f":"$X$15","v":39},{"$f":"LOOKUP(X76,Names!$A$2:$A$161,Names!$B$2:$B$161)","v":"إسلام أحمد السيد عمر"},{"$f":"$Z$15","v":124},{"$f":"Sheet1!L10","v":13}]
[9,9,{"$f":"$C$18","v":43},{"$f":"LOOKUP(C77,Names!$A$2:$A$161,Names!$B$2:$B$161)","v":"أمير محمد خطاب  "},{"$f":"$E$18","v":110},{"$f":"Sheet1!L11","v":12},null,null,9,{"$f":"$C$19","v":40},{"$f":"LOOKUP(J77,Names!$A$2:$A$161,Names!$B$2:$B$161)","v":"احمد محمود عبد الرزاق  "},{"$f":"$E$19","v":28},{"$f":"Sheet1!L11","v":12},null,null,9,{"$f":"$C$20","v":53},{"$f":"LOOKUP(Q77,Names!$A$2:$A$161,Names!$B$2:$B$161)","v":"أحمد محمد شوقي هيبه"},{"$f":"$E$20","v":104},{"$f":"Sheet1!L11","v":12},null,null,9,{"$f":"$C$21","v":30},{"$f":"LOOKUP(X77,Names!$A$2:$A$161,Names!$B$2:$B$161)","v":"شريف جلال سماحة "},{"$f":"$E$21","v":137},{"$f":"Sheet1!L11","v":12}]
[10,10,{"$f":"$J$18","v":57},{"$f":"LOOKUP(C78,Names!$A$2:$A$161,Names!$B$2:$B$161)","v":"مصطفى كامل الشحري"},{"$f":"$L$18","v":63},{"$f":"Sheet1!L12","v":11},null,null,10,{"$f":"$J$19","v":34},{"$f":"LOOKUP(J78,Names!$A$2:$A$161,Names!$B$2:$B$161)","v":"عماد الدين جمعة هلال  "},{"$f":"$L$19","v":66},{"$f":"Sheet1!L12","v":11},null,null,10,{"$f":"$J$20","v":47},{"$f":"LOOKUP(Q78,Names!$A$2:$A$161,Names!$B$2:$B$161)","v":"هاني فكري المراكبي"},{"$f":"$L$20","v":173},{"$f":"Sheet1!L12","v":11},null,null,10,{"$f":"$J$21","v":44},{"$f":"LOOKUP(X78,Names!$A$2:$A$161,Names!$B$2:$B$161)","v":"جمال السيد توفيق محمد "},{"$f":"$L$21","v":69},{"$f":"Sheet1!L12","v":11}]
[11,11,{"$f":"$Q$18","v":38},{"$f":"LOOKUP(C79,Names!$A$2:$A$161,Names!$B$2:$B$161)","v":"أسامة لطفي نجيب  "},{"$f":"$S$18","v":157},{"$f":"Sheet1!L13","v":10},null,null,11,{"$f":"$Q$19","v":61},{"$f":"LOOKUP(J79,Names!$A$2:$A$161,Names!$B$2:$B$161)","v":"كريم إيهاب عامر  "},{"$f":"$S$19","v":59},{"$f":"Sheet1!L13","v":10},null,null,11,{"$f":"$Q$20","v":48},{"$f":"LOOKUP(Q79,Names!$A$2:$A$161,Names!$B$2:$B$161)","v":"محمد ناجي زاهر بلبع "},{"$f":"$S$20","v":146},{"$f":"Sheet1!L13","v":10},null,null,11,{"$f":"$Q$21","v":51},{"$f":"LOOKUP(X79,Names!$A$2:$A$161,Names!$B$2:$B$161)","v":"أحمد أحمد مرسي عبد الله "},{"$f":"$S$21","v":112},{"$f":"Sheet1!L13","v":10}]
[12,12,{"$f":"$X$18","v":55},{"$f":"LOOKUP(C80,Names!$A$2:$A$161,Names!$B$2:$B$161)","v":"ناجي بلبع"},{"$f":"$Z$18","v":4},{"$f":"Sheet1!L14","v":9},null,null,12,{"$f":"$X$19","v":52},{"$f":"LOOKUP(J80,Names!$A$2:$A$161,Names!$B$2:$B$161)","v":"يامن محمد حسن  "},{"$f":"$Z$19","v":99},{"$f":"Sheet1!L14","v":9},null,null,12,{"$f":"$X$20","v":65},{"$f":"LOOKUP(Q80,Names!$A$2:$A$161,Names!$B$2:$B$161)","v":"أحمد طارق   "},{"$f":"$Z$20","v":101},{"$f":"Sheet1!L14","v":9},null,null,12,{"$f":"$X$21","v":42},{"$f":"LOOKUP(X80,Names!$A$2:$A$161,Names!$B$2:$B$161)","v":"محمد عبد الهادي أبو القاسم "},{"$f":"$Z$21","v":153},{"$f":"Sheet1!L14","v":9}]
[13,13,{"$f":"$C$24","v":69},{"$f":"LOOKUP(C81,Names!$A$2:$A$161,Names!$B$2:$B$161)","v":"أحمد علي السيد شرع"},{"$f":"$E$24","v":152},{"$f":"Sheet1!L15","v":8},null,null,13,{"$f":"$C$25","v":46},{"$f":"LOOKUP(J81,Names!$A$2:$A$161,Names!$B$2:$B$161)","v":"علاء شوقي جبريل  "},{"$f":"$E$25","v":48},{"$f":"Sheet1!L15","v":8},null,null,13,{"$f":"$C$26","v":59},{"$f":"LOOKUP(Q81,Names!$A$2:$A$161,Names!$B$2:$B$161)","v":"هشام أبوغربية "},{"$f":"$E$26","v":104},{"$f":"Sheet1!L15","v":8},null,null,13,{"$f":"$C$27","v":56},{"$f":"LOOKUP(X81,Names!$A$2:$A$161,Names!$B$2:$B$161)","v":"جاسر محمد"},{"$f":"$E$27","v":122},{"$f":"Sheet1!L15","v":8}]
[14,14,{"$f":"$J$24","v":50},{"$f":"LOOKUP(C82,Names!$A$2:$A$161,Names!$B$2:$B$161)","v":"فادي ناجح"},{"$f":"$L$24","v":82},{"$f":"Sheet1!L16","v":7},null,null,14,{"$f":"$J$25","v":73},{"$f":"LOOKUP(J82,Names!$A$2:$A$161,Names!$B$2:$B$161)","v":"مينا ناجح صبحي  "},{"$f":"$L$25","v":125},{"$f":"Sheet1!L16","v":7},null,null,14,{"$f":"$J$26","v":60},{"$f":"LOOKUP(Q82,Names!$A$2:$A$161,Names!$B$2:$B$161)","v":"عصام الدين حامد منصور "},{"$f":"$L$26","v":49},{"$f":"Sheet1!L16","v":7},null,null,14,{"$f":"$J$27","v":63},{"$f":"LOOKUP(X82,Names!$A$2:$A$161,Names!$B$2:$B$161)","v":"محمد أحمد محمد عبد الله "},{"$f":"$L$27","v":77},{"$f":"Sheet1!L16","v":7}]
[15,15,{"$f":"$Q$24","v":67},{"$f":"LOOKUP(C83,Names!$A$2:$A$161,Names!$B$2:$B$161)","v":"محمد محمود فضل "},{"$f":"$S$24","v":148},{"$f":"Sheet1!L17","v":6},null,null,15,{"$f":"$Q$25","v":64},{"$f":"LOOKUP(J83,Names!$A$2:$A$161,Names!$B$2:$B$161)","v":"وليد شعبان إسماعيل علي "},{"$f":"$S$25","v":14},{"$f":"Sheet1!L17","v":6},null,null,15,{"$f":"$Q$26","v":77},{"$f":"LOOKUP(Q83,Names!$A$2:$A$161,Names!$B$2:$B$161)","v":"محمد محمود شعبان "},{"$f":"$S$26","v":119},{"$f":"Sheet1!L17","v":6},null,null,15,{"$f":"$Q$27","v":54},{"$f":"LOOKUP(X83,Names!$A$2:$A$161,Names!$B$2:$B$161)","v":"تامر رشاد   "},{"$f":"$S$27","v":30},{"$f":"Sheet1!L17","v":6}]
[16,16,{"$f":"$X$24","v":5},{"$f":"LOOKUP(C84,Names!$A$2:$A$161,Names!$B$2:$B$161)","v":"محمد عصام الدين القاضي "},{"$f":"$Z$24","v":70},{"$f":"Sheet1!L18","v":5},null,null,16,{"$f":"$X$25","v":58},{"$f":"LOOKUP(J84,Names!$A$2:$A$161,Names!$B$2:$B$161)","v":"أحمد إبراهيم غانم "},{"$f":"$Z$25","v":106},{"$f":"Sheet1!L18","v":5},null,null,16,{"$f":"$X$26","v":71},{"$f":"LOOKUP(Q84,Names!$A$2:$A$161,Names!$B$2:$B$161)","v":"معتز محمد"},{"$f":"$Z$26","v":95},{"$f":"Sheet1!L18","v":5},null,null,16,{"$f":"$X$27","v":68},{"$f":"LOOKUP(X84,Names!$A$2:$A$161,Names!$B$2:$B$161)","v":"مصطفى إسماعيل"},{"$f":"$Z$27","v":159},{"$f":"Sheet1!L18","v":5}]
[17,17,{"$f":"$C$30","v":62},{"$f":"LOOKUP(C85,Names!$A$2:$A$161,Names!$B$2:$B$161)","v":"محمد محمود مسعود  "},{"$f":"$E$30","v":134},{"$f":"Sheet1!L19","v":4},null,null,17,{"$f":"$C$31","v":9},{"$f":"LOOKUP(J85,Names!$A$2:$A$161,Names!$B$2:$B$161)","v":"رأفت الصياد"},{"$f":"$E$31","v":9},{"$f":"Sheet1!L19","v":4},null,null,17,{"$f":"$C$32","v":72},{"$f":"LOOKUP(Q85,Names!$A$2:$A$161,Names!$B$2:$B$161)","v":"أحمد سمير خلف "},{"$f":"$E$32","v":64},{"$f":"Sheet1!L19","v":4},null,null,17,{"$f":"$C$33","v":75},{"$f":"LOOKUP(X85,Names!$A$2:$A$161,Names!$B$2:$B$161)","v":"محمود سليمان"},{"$f":"$E$33","v":100},{"$f":"Sheet1!L19","v":4}]
[18,18,{"$f":"$J$30","v":79},{"$f":"LOOKUP(C86,Names!$A$2:$A$161,Names!$B$2:$B$161)","v":"محمد علي حسن طه الأمام"},{"$f":"$L$30","v":46},{"$f":"Sheet1!L20","v":3},null,null,18,{"$f":"$J$31","v":76},{"$f":"LOOKUP(J86,Names!$A$2:$A$161,Names!$B$2:$B$161)","v":"محمد إبراهيم قطب "},{"$f":"$L$31","v":90},{"$f":"Sheet1!L20","v":3},null,null,18,{"$f":"$J$32","v":13},{"$f":"LOOKUP(Q86,Names!$A$2:$A$161,Names!$B$2:$B$161)","v":"أحمد جميل السيد "},{"$f":"$L$32","v":96},{"$f":"Sheet1!L20","v":3},null,null,18,{"$f":"$J$33","v":66},{"$f":"LOOKUP(X86,Names!$A$2:$A$161,Names!$B$2:$B$161)","v":"أحمد فؤاد حسنين "},{"$f":"$L$33","v":98},{"$f":"Sheet1!L20","v":3}]
[19,19,{"$f":"$Q$30","v":17},{"$f":"LOOKUP(C87,Names!$A$2:$A$161,Names!$B$2:$B$161)","v":"أحمد علي خليل حسن "},{"$f":"$S$30","v":202},{"$f":"Sheet1!L21","v":2},null,null,19,{"$f":"$Q$31","v":70},{"$f":"LOOKUP(J87,Names!$A$2:$A$161,Names!$B$2:$B$161)","v":"أحمد صلاح الدين دياب "},{"$f":"$S$31","v":95},{"$f":"Sheet1!L21","v":2},null,null,19,{"$f":"$Q$32","v":3},{"$f":"LOOKUP(Q87,Names!$A$2:$A$161,Names!$B$2:$B$161)","v":"إيهاب يوسف عمارة "},{"$f":"$S$32","v":165},{"$f":"Sheet1!L21","v":2},null,null,19,{"$f":"$Q$33","v":80},{"$f":"LOOKUP(X87,Names!$A$2:$A$161,Names!$B$2:$B$161)","v":"أمن حسام"},{"$f":"$S$33","v":-83},{"$f":"Sheet1!L21","v":2}]
[20,20,{"$f":"$X$30","v":74},{"$f":"LOOKUP(C88,Names!$A$2:$A$161,Names!$B$2:$B$161)","v":"فريدة شكري"},{"$f":"$Z$30","v":82},{"$f":"Sheet1!L22","v":1},null,null,20,{"$f":"$X$31","v":21},{"$f":"LOOKUP(J88,Names!$A$2:$A$161,Names!$B$2:$B$161)","v":"أحمد محمد حمدي صالح "},{"$f":"$Z$31","v":77},{"$f":"Sheet1!L22","v":1},null,null,20,{"$f":"$X$32","v":4},{"$f":"LOOKUP(Q88,Names!$A$2:$A$161,Names!$B$2:$B$161)","v":"محمد سعيد الفطاطري"},{"$f":"$Z$32","v":56},{"$f":"Sheet1!L22","v":1},null,null,20,{"$f":"$X$33","v":7},{"$f":"LOOKUP(X88,Names!$A$2:$A$161,Names!$B$2:$B$161)","v":"باسم أسحق صموائيل"},{"$f":"$Z$33","v":121},{"$f":"Sheet1!L22","v":1}]
[21,21,{"$f":"$C$37","v":0},{"$f":"LOOKUP(C89,Names!$A$2:$A$161,Names!$B$2:$B$161)","v":{"$error":"#N/A"}},{"$f":"$E$37","v":0},{"$f":"Sheet1!L23","v":0},null,null,21,{"$f":"$C$38","v":0},{"$f":"LOOKUP(J89,Names!$A$2:$A$161,Names!$B$2:$B$161)","v":{"$error":"#N/A"}},{"$f":"$E$38","v":0},{"$f":"Sheet1!L23","v":0},null,null,21,{"$f":"$C$39","v":0},{"$f":"LOOKUP(Q89,Names!$A$2:$A$161,Names!$B$2:$B$161)","v":{"$error":"#N/A"}},{"$f":"$E$39","v":0},{"$f":"Sheet1!L23","v":0},null,null,21,{"$f":"$C$40","v":0},{"$f":"LOOKUP(X89,Names!$A$2:$A$161,Names!$B$2:$B$161)","v":{"$error":"#N/A"}},{"$f":"$E$40","v":0},{"$f":"Sheet1!L22","v":1}]
[22,22,{"$f":"$J$37","v":0},{"$f":"LOOKUP(C90,Names!$A$2:$A$161,Names!$B$2:$B$161)","v":{"$error":"#N/A"}},{"$f":"$L$37","v":0},{"$f":"Sheet1!L24","v":-1},null,null,22,{"$f":"$J$38","v":0},{"$f":"LOOKUP(J90,Names!$A$2:$A$161,Names!$B$2:$B$161)","v":{"$error":"#N/A"}},{"$f":"$L$38","v":0},{"$f":"Sheet1!L24","v":-1},null,null,22,{"$f":"$J$39","v":0},{"$f":"LOOKUP(Q90,Names!$A$2:$A$161,Names!$B$2:$B$161)","v":{"$error":"#N/A"}},{"$f":"$L$39","v":0},{"$f":"Sheet1!L24","v":-1},null,null,22,{"$f":"$J$40","v":0},{"$f":"LOOKUP(X90,Names!$A$2:$A$161,Names!$B$2:$B$161)","v":{"$error":"#N/A"}},{"$f":"$L$40","v":0},{"$f":"Sheet1!L23","v":0}]
[23,23,{"$f":"$Q$37","v":0},{"$f":"LOOKUP(C91,Names!$A$2:$A$161,Names!$B$2:$B$161)","v":{"$error":"#N/A"}},{"$f":"$S$37","v":0},{"$f":"Sheet1!L25","v":-2},null,null,23,{"$f":"$Q$38","v":0},{"$f":"LOOKUP(J91,Names!$A$2:$A$161,Names!$B$2:$B$161)","v":{"$error":"#N/A"}},{"$f":"$S$38","v":0},{"$f":"Sheet1!L25","v":-2},null,null,23,{"$f":"$Q$39","v":0},{"$f":"LOOKUP(Q91,Names!$A$2:$A$161,Names!$B$2:$B$161)","v":{"$error":"#N/A"}},{"$f":"$S$39","v":0},{"$f":"Sheet1!L25","v":-2},null,null,23,{"$f":"$Q$40","v":0},{"$f":"LOOKUP(X91,Names!$A$2:$A$161,Names!$B$2:$B$161)","v":{"$error":"#N/A"}},{"$f":"$S$40","v":0},{"$f":"Sheet1!L24","v":-1}]
[24,24,{"$f":"$X$37","v":0},{"$f":"LOOKUP(C92,Names!$A$2:$A$161,Names!$B$2:$B$161)","v":{"$error":"#N/A"}},{"$f":"$Z$37","v":0},{"$f":"Sheet1!L26","v":-3},null,null,24,{"$f":"$X$38","v":0},{"$f":"LOOKUP(J92,Names!$A$2:$A$161,Names!$B$2:$B$161)","v":{"$error":"#N/A"}},{"$f":"$Z$38","v":0},{"$f":"Sheet1!L26","v":-3},null,null,24,{"$f":"$X$39","v":0},{"$f":"LOOKUP(Q92,Names!$A$2:$A$161,Names!$B$2:$B$161)","v":{"$error":"#N/A"}},{"$f":"$Z$39","v":0},{"$f":"Sheet1!L26","v":-3},null,null,24,{"$f":"$X$40","v":0},{"$f":"LOOKUP(X92,Names!$A$2:$A$161,Names!$B$2:$B$161)","v":{"$error":"#N/A"}},{"$f":"$Z$40","v":0},{"$f":"Sheet1!L25","v":-2}]
[25,25,{"$f":"$C$43","v":0},{"$f":"LOOKUP(C93,Names!$A$2:$A$161,Names!$B$2:$B$161)","v":{"$error":"#N/A"}},{"$f":"$E$43","v":0},{"$f":"Sheet1!L27","v":-4},null,null,25,{"$f":"$C$44","v":0},{"$f":"LOOKUP(J93,Names!$A$2:$A$161,Names!$B$2:$B$161)","v":{"$error":"#N/A"}},{"$f":"$E$44","v":0},{"$f":"Sheet1!L27","v":-4},null,null,25,{"$f":"$C$45","v":0},{"$f":"LOOKUP(Q93,Names!$A$2:$A$161,Names!$B$2:$B$161)","v":{"$error":"#N/A"}},{"$f":"$E$45","v":0},{"$f":"Sheet1!L27","v":-4},null,null,25,{"$f":"$C$46","v":0},{"$f":"LOOKUP(X93,Names!$A$2:$A$161,Names!$B$2:$B$161)","v":{"$error":"#N/A"}},{"$f":"$E$46","v":0},{"$f":"Sheet1!L26","v":-3}]
[26,26,{"$f":"$J$43","v":0},{"$f":"LOOKUP(C94,Names!$A$2:$A$161,Names!$B$2:$B$161)","v":{"$error":"#N/A"}},{"$f":"$L$43","v":0},{"$f":"Sheet1!L28","v":-5},null,null,26,{"$f":"$J$44","v":0},{"$f":"LOOKUP(J94,Names!$A$2:$A$161,Names!$B$2:$B$161)","v":{"$error":"#N/A"}},{"$f":"$L$44","v":0},{"$f":"Sheet1!L28","v":-5},null,null,26,{"$f":"$J$45","v":0},{"$f":"LOOKUP(Q94,Names!$A$2:$A$161,Names!$B$2:$B$161)","v":{"$error":"#N/A"}},{"$f":"$L$45","v":0},{"$f":"Sheet1!L28","v":-5},null,null,26,{"$f":"$J$46","v":0},{"$f":"LOOKUP(X94,Names!$A$2:$A$161,Names!$B$2:$B$161)","v":{"$error":"#N/A"}},{"$f":"$L$46","v":0},{"$f":"Sheet1!L27","v":-4}]
[27,27,{"$f":"$Q$43","v":0},{"$f":"LOOKUP(C95,Names!$A$2:$A$161,Names!$B$2:$B$161)","v":{"$error":"#N/A"}},{"$f":"$S$43","v":0},{"$f":"Sheet1!L29","v":-6},null,null,27,{"$f":"$Q$44","v":0},{"$f":"LOOKUP(J95,Names!$A$2:$A$161,Names!$B$2:$B$161)","v":{"$error":"#N/A"}},{"$f":"$S$44","v":0},{"$f":"Sheet1!L29","v":-6},null,null,27,{"$f":"$Q$45","v":0},{"$f":"LOOKUP(Q95,Names!$A$2:$A$161,Names!$B$2:$B$161)","v":{"$error":"#N/A"}},{"$f":"$S$45","v":0},{"$f":"Sheet1!L29","v":-6},null,null,27,{"$f":"$Q$46","v":0},{"$f":"LOOKUP(X95,Names!$A$2:$A$161,Names!$B$2:$B$161)","v":{"$error":"#N/A"}},{"$f":"$S$46","v":0},{"$f":"Sheet1!L28","v":-5}]
[28,28,{"$f":"$X$43","v":0},{"$f":"LOOKUP(C96,Names!$A$2:$A$161,Names!$B$2:$B$161)","v":{"$error":"#N/A"}},null,null,null,null,28,{"$f":"$X$44","v":0},{"$f":"LOOKUP(J96,Names!$A$2:$A$161,Names!$B$2:$B$161)","v":{"$error":"#N/A"}},null,null,null,null,28,{"$f":"$X$45","v":0},{"$f":"LOOKUP(Q96,Names!$A$2:$A$161,Names!$B$2:$B$161)","v":{"$error":"#N/A"}},null,null,null,null,28,{"$f":"$X$46","v":0},{"$f":"LOOKUP(X96,Names!$A$2:$A$161,Names!$B$2:$B$161)","v":{"$error":"#N/A"}}]
[29,29,{"$f":"$C$49","v":0},{"$f":"LOOKUP(C97,Names!$A$2:$A$161,Names!$B$2:$B$161)","v":{"$error":"#N/A"}},null,null,null,null,29,{"$f":"$C$50","v":0},{"$f":"LOOKUP(J97,Names!$A$2:$A$161,Names!$B$2:$B$161)","v":{"$error":"#N/A"}},null,null,null,null,29,{"$f":"$C$51","v":0},{"$f":"LOOKUP(Q97,Names!$A$2:$A$161,Names!$B$2:$B$161)","v":{"$error":"#N/A"}},null,null,null,null,29,{"$f":"$C$52","v":0},{"$f":"LOOKUP(X97,Names!$A$2:$A$161,Names!$B$2:$B$161)","v":{"$error":"#N/A"}}]
[30,30,{"$f":"$J$49","v":0},{"$f":"LOOKUP(C98,Names!$A$2:$A$161,Names!$B$2:$B$161)","v":{"$error":"#N/A"}},null,null,null,null,30,{"$f":"$J$50","v":0},{"$f":"LOOKUP(J98,Names!$A$2:$A$161,Names!$B$2:$B$161)","v":{"$error":"#N/A"}},null,null,null,null,30,{"$f":"$J$51","v":0},{"$f":"LOOKUP(Q98,Names!$A$2:$A$161,Names!$B$2:$B$161)","v":{"$error":"#N/A"}},null,null,null,null,30,{"$f":"$J$52","v":0},{"$f":"LOOKUP(X98,Names!$A$2:$A$161,Names!$B$2:$B$161)","v":{"$error":"#N/A"}}]
[31,31,{"$f":"$Q$49","v":0},{"$f":"LOOKUP(C99,Names!$A$2:$A$161,Names!$B$2:$B$161)","v":{"$error":"#N/A"}},null,null,null,null,31,{"$f":"$Q$50","v":0},{"$f":"LOOKUP(J99,Names!$A$2:$A$161,Names!$B$2:$B$161)","v":{"$error":"#N/A"}},null,null,null,null,31,{"$f":"$Q$51","v":0},{"$f":"LOOKUP(Q99,Names!$A$2:$A$161,Names!$B$2:$B$161)","v":{"$error":"#N/A"}},null,null,null,null,31,{"$f":"$Q$52","v":0},{"$f":"LOOKUP(X99,Names!$A$2:$A$161,Names!$B$2:$B$161)","v":{"$error":"#N/A"}}]
[32,32,{"$f":"$X$49","v":0},{"$f":"LOOKUP(C100,Names!$A$2:$A$161,Names!$B$2:$B$161)","v":{"$error":"#N/A"}},null,null,null,null,32,{"$f":"$X$50","v":0},{"$f":"LOOKUP(J100,Names!$A$2:$A$161,Names!$B$2:$B$161)","v":{"$error":"#N/A"}},null,null,null,null,32,{"$f":"$X$51","v":0},{"$f":"LOOKUP(Q100,Names!$A$2:$A$161,Names!$B$2:$B$161)","v":{"$error":"#N/A"}},null,null,null,null,32,{"$f":"$X$52","v":0},{"$f":"LOOKUP(X100,Names!$A$2:$A$161,Names!$B$2:$B$161)","v":{"$error":"#N/A"}}]
[33,33,{"$f":"$C$55","v":0},{"$f":"LOOKUP(C101,Names!$A$2:$A$161,Names!$B$2:$B$161)","v":{"$error":"#N/A"}},null,null,null,null,33,{"$f":"$C$56","v":0},{"$f":"LOOKUP(J101,Names!$A$2:$A$161,Names!$B$2:$B$161)","v":{"$error":"#N/A"}},null,null,null,null,33,{"$f":"$C$57","v":0},{"$f":"LOOKUP(Q101,Names!$A$2:$A$161,Names!$B$2:$B$161)","v":{"$error":"#N/A"}},null,null,null,null,33,{"$f":"$C$58","v":0},{"$f":"LOOKUP(X101,Names!$A$2:$A$161,Names!$B$2:$B$161)","v":{"$error":"#N/A"}}]
[34,34,{"$f":"$J$55","v":0},{"$f":"LOOKUP(C102,Names!$A$2:$A$161,Names!$B$2:$B$161)","v":{"$error":"#N/A"}},null,null,null,null,34,{"$f":"$J$56","v":0},{"$f":"LOOKUP(J102,Names!$A$2:$A$161,Names!$B$2:$B$161)","v":{"$error":"#N/A"}},null,null,null,null,34,{"$f":"$J$57","v":0},{"$f":"LOOKUP(Q102,Names!$A$2:$A$161,Names!$B$2:$B$161)","v":{"$error":"#N/A"}},null,null,null,null,34,{"$f":"$J$58","v":0},{"$f":"LOOKUP(X102,Names!$A$2:$A$161,Names!$B$2:$B$161)","v":{"$error":"#N/A"}}]
[35,35,{"$f":"$Q$55","v":0},{"$f":"LOOKUP(C103,Names!$A$2:$A$161,Names!$B$2:$B$161)","v":{"$error":"#N/A"}},null,null,null,null,35,{"$f":"$Q$56","v":0},{"$f":"LOOKUP(J103,Names!$A$2:$A$161,Names!$B$2:$B$161)","v":{"$error":"#N/A"}},null,null,null,null,35,{"$f":"$Q$57","v":0},{"$f":"LOOKUP(Q103,Names!$A$2:$A$161,Names!$B$2:$B$161)","v":{"$error":"#N/A"}},null,null,null,null,35,{"$f":"$Q$58","v":0},{"$f":"LOOKUP(X103,Names!$A$2:$A$161,Names!$B$2:$B$161)","v":{"$error":"#N/A"}}]
[36,36,{"$f":"$X$55","v":0},{"$f":"LOOKUP(C104,Names!$A$2:$A$161,Names!$B$2:$B$161)","v":{"$error":"#N/A"}},null,null,null,null,36,{"$f":"$X$56","v":0},{"$f":"LOOKUP(J104,Names!$A$2:$A$161,Names!$B$2:$B$161)","v":{"$error":"#N/A"}},null,null,null,null,36,{"$f":"$X$57","v":0},{"$f":"LOOKUP(Q104,Names!$A$2:$A$161,Names!$B$2:$B$161)","v":{"$error":"#N/A"}},null,null,null,null,36,{"$f":"$X$58","v":0},{"$f":"LOOKUP(X104,Names!$A$2:$A$161,Names!$B$2:$B$161)","v":{"$error":"#N/A"}}]
[37,37,{"$f":"$C$61","v":0},{"$f":"LOOKUP(C105,Names!$A$2:$A$161,Names!$B$2:$B$161)","v":{"$error":"#N/A"}},null,null,null,null,37,{"$f":"$C$62","v":0},{"$f":"LOOKUP(J105,Names!$A$2:$A$161,Names!$B$2:$B$161)","v":{"$error":"#N/A"}},null,null,null,null,37,{"$f":"$C$63","v":0},{"$f":"LOOKUP(Q105,Names!$A$2:$A$161,Names!$B$2:$B$161)","v":{"$error":"#N/A"}},null,null,null,null,37,{"$f":"$C$64","v":0},{"$f":"LOOKUP(X105,Names!$A$2:$A$161,Names!$B$2:$B$161)","v":{"$error":"#N/A"}}]
[38,38,{"$f":"$J$61","v":0},{"$f":"LOOKUP(C106,Names!$A$2:$A$161,Names!$B$2:$B$161)","v":{"$error":"#N/A"}},null,null,null,null,38,{"$f":"$J$62","v":0},{"$f":"LOOKUP(J106,Names!$A$2:$A$161,Names!$B$2:$B$161)","v":{"$error":"#N/A"}},null,null,null,null,38,{"$f":"$J$63","v":0},{"$f":"LOOKUP(Q106,Names!$A$2:$A$161,Names!$B$2:$B$161)","v":{"$error":"#N/A"}},null,null,null,null,38,{"$f":"$J$64","v":0},{"$f":"LOOKUP(X106,Names!$A$2:$A$161,Names!$B$2:$B$161)","v":{"$error":"#N/A"}}]
[39,39,{"$f":"$Q$61","v":0},{"$f":"LOOKUP(C107,Names!$A$2:$A$161,Names!$B$2:$B$161)","v":{"$error":"#N/A"}},null,null,null,null,39,{"$f":"$Q$62","v":0},{"$f":"LOOKUP(J107,Names!$A$2:$A$161,Names!$B$2:$B$161)","v":{"$error":"#N/A"}},null,null,null,null,39,{"$f":"$Q$63","v":0},{"$f":"LOOKUP(Q107,Names!$A$2:$A$161,Names!$B$2:$B$161)","v":{"$error":"#N/A"}},null,null,null,null,39,{"$f":"$Q$64","v":0},{"$f":"LOOKUP(X107,Names!$A$2:$A$161,Names!$B$2:$B$161)","v":{"$error":"#N/A"}}]
[40,40,{"$f":"$X$61","v":0},{"$f":"LOOKUP(C108,Names!$A$2:$A$161,Names!$B$2:$B$161)","v":{"$error":"#N/A"}},null,null,null,null,40,{"$f":"$X$62","v":0},{"$f":"LOOKUP(J108,Names!$A$2:$A$161,Names!$B$2:$B$161)","v":{"$error":"#N/A"}},null,null,null,null,40,{"$f":"$X$63","v":0},{"$f":"LOOKUP(Q108,Names!$A$2:$A$161,Names!$B$2:$B$161)","v":{"$error":"#N/A"}},null,null,null,null,40,{"$f":"$X$64","v":0},{"$f":"LOOKUP(X108,Names!$A$2:$A$161,Names!$B$2:$B$161)","v":{"$error":"#N/A"}}]

{"sheet":"R4","index":5,"n_rows":108,"n_cols":28,"rows_kept":108,"cut":false,"hidden":false,"merged":[[0,11,0,17],[0,24,2,26],[2,11,2,17],[3,3,3,5],[3,10,3,12],[3,17,3,19],[3,24,3,26],[34,3,34,5],[34,10,34,12],[34,17,34,19],[34,24,34,26],[9,3,9,5],[9,10,9,12],[9,17,9,19],[9,24,9,26],[15,3,15,5],[15,10,15,12],[15,17,15,19],[15,24,15,26],[21,3,21,5],[21,10,21,12],[21,17,21,19],[21,24,21,26],[27,3,27,5],[27,10,27,12],[27,17,27,19],[27,24,27,26],[66,3,66,5],[66,10,66,12],[66,17,66,19],[66,24,66,26],[52,3,52,5],[52,10,52,12],[52,17,52,19],[52,24,52,26],[65,10,65,19],[58,3,58,5],[58,10,58,12],[58,17,58,19],[58,24,58,26],[40,3,40,5],[40,10,40,12],[40,17,40,19],[40,24,40,26],[46,3,46,5],[46,10,46,12],[46,17,46,19],[46,24,46,26]]}
[null,null,null,null,null,null,null,null,null,null,"التوقيت :","Round ( 4 )",null,null,null,null,null,null,null,null,null,null,null,null,{"$f":"Score!T1","v":"بطولة الجمهورية الثانية\nللفردي المفتوح"}]
[]
[null,null,null,null,null,null,null,null,null,null,"5.00 PM","Tab."]
[null,null,null,1,null,null,null,null,null,null,2,null,null,null,null,null,null,3,null,null,null,null,null,null,4]
[null,null,null,"Names","Sc.","Tab",null,null,null,null,"Names","Sc.","Tab",null,null,null,null,"Names","Sc.","Tab",null,null,null,null,"Names","Sc.","Tab"]
["N",1,{"$f":"Score!O5","v":1},{"$f":"LOOKUP(C6,Names!$A$2:$A$161,Names!$B$2:$B$161)","v":"راجي صبحي  "},89,{"$f":"Sheet1!$M$4","v":0},{"$f":"F69","v":21},"N",1,{"$f":"Score!U9","v":74},{"$f":"LOOKUP(J6,Names!$A$2:$A$161,Names!$B$2:$B$161)","v":"فريدة شكري"},85,{"$f":"Sheet1!$M$4","v":0},{"$f":"F70","v":19},"N",1,{"$f":"Score!U13","v":67},{"$f":"LOOKUP(Q6,Names!$A$2:$A$161,Names!$B$2:$B$161)","v":"محمد محمود فضل "},119,{"$f":"Sheet1!$M$4","v":0},{"$f":"F71","v":18},"N",1,{"$f":"Score!U17","v":60},{"$f":"LOOKUP(X6,Names!$A$2:$A$161,Names!$B$2:$B$161)","v":"عصام الدين حامد منصور "},90,{"$f":"Sheet1!$M$4","v":0},{"$f":"F72","v":17}]
["W",2,{"$f":"Score!U6","v":70},{"$f":"LOOKUP(C7,Names!$A$2:$A$161,Names!$B$2:$B$161)","v":"أحمد صلاح الدين دياب "},67,{"$f":"Sheet1!$M$5","v":0},{"$f":"M69","v":21},"W",2,{"$f":"Score!U10","v":63},{"$f":"LOOKUP(J7,Names!$A$2:$A$161,Names!$B$2:$B$161)","v":"محمد أحمد محمد عبد الله "},149,{"$f":"Sheet1!$M$5","v":0},{"$f":"M70","v":19},"W",2,{"$f":"Score!U14","v":56},{"$f":"LOOKUP(Q7,Names!$A$2:$A$161,Names!$B$2:$B$161)","v":"جاسر محمد"},120,{"$f":"Sheet1!$M$5","v":0},{"$f":"M71","v":18},"W",2,{"$f":"Score!U18","v":13},{"$f":"LOOKUP(X7,Names!$A$2:$A$161,Names!$B$2:$B$161)","v":"أحمد جميل السيد "},120,{"$f":"Sheet1!$M$5","v":0},{"$f":"M72","v":17}]
["S",3,{"$f":"Score!U7","v":59},{"$f":"LOOKUP(C8,Names!$A$2:$A$161,Names!$B$2:$B$161)","v":"هشام أبوغربية "},163,{"$f":"Sheet1!$M$6","v":0},{"$f":"T69","v":21},"S",3,{"$f":"Score!U11","v":52},{"$f":"LOOKUP(J8,Names!$A$2:$A$161,Names!$B$2:$B$161)","v":"يامن محمد حسن  "},17,{"$f":"Sheet1!$M$6","v":0},{"$f":"T70","v":19},"S",3,{"$f":"Score!U15","v":9},{"$f":"LOOKUP(Q8,Names!$A$2:$A$161,Names!$B$2:$B$161)","v":"رأفت الصياد"},184,{"$f":"Sheet1!$M$6","v":0},{"$f":"T71","v":18},"S",3,{"$f":"Score!U19","v":2},{"$f":"LOOKUP(X8,Names!$A$2:$A$161,Names!$B$2:$B$161)","v":"شريف أحمد محمد حمروش"},61,{"$f":"Sheet1!$M$6","v":0},{"$f":"T72","v":17}]
["E",4,{"$f":"Score!U8","v":48},{"$f":"LOOKUP(C9,Names!$A$2:$A$161,Names!$B$2:$B$161)","v":"محمد ناجي زاهر بلبع "},81,{"$f":"Sheet1!$M$7","v":0},{"$f":"AA69","v":21},"E",4,{"$f":"Score!U12","v":5},{"$f":"LOOKUP(J9,Names!$A$2:$A$161,Names!$B$2:$B$161)","v":"محمد عصام الدين القاضي "},53,{"$f":"Sheet1!$M$7","v":0},{"$f":"AA70","v":19},"E",4,{"$f":"Score!U16","v":78},{"$f":"LOOKUP(Q9,Names!$A$2:$A$161,Names!$B$2:$B$161)","v":"حسام الخلفاوي"},20,{"$f":"Sheet1!$M$7","v":0},{"$f":"AA71","v":18},"E",4,{"$f":"Score!U20","v":71},{"$f":"LOOKUP(X9,Names!$A$2:$A$161,Names!$B$2:$B$161)","v":"معتز محمد"},98,{"$f":"Sheet1!$M$7","v":0},{"$f":"AA72","v":17}]
[null,null,null,5,null,null,null,null,null,null,6,null,null,null,null,null,null,7,null,null,null,null,null,null,8]
[null,null,null,"Names","Sc.","Tab",null,null,null,null,"Names","Sc.","Tab",null,null,null,null,"Names","Sc.","Tab",null,null,null,null,"Names","Sc.","Tab"]
["N",1,{"$f":"Score!U21","v":17},{"$f":"LOOKUP(C12,Names!$A$2:$A$161,Names!$B$2:$B$161)","v":"أحمد علي خليل حسن "},114,{"$f":"Sheet1!$M$4","v":0},{"$f":"F73","v":16},"N",1,{"$f":"Score!U25","v":10},{"$f":"LOOKUP(J12,Names!$A$2:$A$161,Names!$B$2:$B$161)","v":"نبيل خلف زكي حسنين "},99,{"$f":"Sheet1!$M$4","v":0},{"$f":"F74","v":15},"N",1,{"$f":"Score!U29","v":3},{"$f":"LOOKUP(Q12,Names!$A$2:$A$161,Names!$B$2:$B$161)","v":"إيهاب يوسف عمارة "},65,{"$f":"Sheet1!$M$4","v":0},{"$f":"F75","v":14},"N",1,{"$f":"Score!U33","v":76},{"$f":"LOOKUP(X12,Names!$A$2:$A$161,Names!$B$2:$B$161)","v":"محمد إبراهيم قطب "},55,{"$f":"Sheet1!$M$4","v":0},{"$f":"F76","v":13}]
["W",2,{"$f":"Score!U22","v":6},{"$f":"LOOKUP(C13,Names!$A$2:$A$161,Names!$B$2:$B$161)","v":"إبراهيم عرفان السقا  "},62,{"$f":"Sheet1!$M$5","v":0},{"$f":"M73","v":16},"W",2,{"$f":"Score!U26","v":79},{"$f":"LOOKUP(J13,Names!$A$2:$A$161,Names!$B$2:$B$161)","v":"محمد علي حسن طه الأمام"},101,{"$f":"Sheet1!$M$5","v":0},{"$f":"M74","v":15},"W",2,{"$f":"Score!U30","v":72},{"$f":"LOOKUP(Q13,Names!$A$2:$A$161,Names!$B$2:$B$161)","v":"أحمد سمير خلف "},98,{"$f":"Sheet1!$M$5","v":0},{"$f":"M75","v":14},"W",2,{"$f":"Score!U34","v":29},{"$f":"LOOKUP(X13,Names!$A$2:$A$161,Names!$B$2:$B$161)","v":"عبد الرحمن عثمان"},73,{"$f":"Sheet1!$M$5","v":0},{"$f":"M76","v":13}]
["S",3,{"$f":"Score!U23","v":75},{"$f":"LOOKUP(C14,Names!$A$2:$A$161,Names!$B$2:$B$161)","v":"محمود سليمان"},76,{"$f":"Sheet1!$M$6","v":0},{"$f":"T73","v":16},"S",3,{"$f":"Score!U27","v":68},{"$f":"LOOKUP(J14,Names!$A$2:$A$161,Names!$B$2:$B$161)","v":"مصطفى إسماعيل"},67,{"$f":"Sheet1!$M$6","v":0},{"$f":"T74","v":15},"S",3,{"$f":"Score!U31","v":25},{"$f":"LOOKUP(Q14,Names!$A$2:$A$161,Names!$B$2:$B$161)","v":"خالد شباره "},59,{"$f":"Sheet1!$M$6","v":0},{"$f":"T75","v":14},"S",3,{"$f":"Score!U35","v":18},{"$f":"LOOKUP(X14,Names!$A$2:$A$161,Names!$B$2:$B$161)","v":"أحمد ممدوح عبد الدايم"},-22,{"$f":"Sheet1!$M$6","v":0},{"$f":"T76","v":13}]
["E",4,{"$f":"Score!U24","v":64},{"$f":"LOOKUP(C15,Names!$A$2:$A$161,Names!$B$2:$B$161)","v":"وليد شعبان إسماعيل علي "},15,{"$f":"Sheet1!$M$7","v":0},{"$f":"AA73","v":16},"E",4,{"$f":"Score!U28","v":21},{"$f":"LOOKUP(J15,Names!$A$2:$A$161,Names!$B$2:$B$161)","v":"أحمد محمد حمدي صالح "},160,{"$f":"Sheet1!$M$7","v":0},{"$f":"AA74","v":15},"E",4,{"$f":"Score!U32","v":14},{"$f":"LOOKUP(Q15,Names!$A$2:$A$161,Names!$B$2:$B$161)","v":"عماد محمد فؤاد"},172,{"$f":"Sheet1!$M$7","v":0},{"$f":"AA75","v":14},"E",4,{"$f":"Score!U36","v":7},{"$f":"LOOKUP(X15,Names!$A$2:$A$161,Names!$B$2:$B$161)","v":"باسم أسحق صموائيل"},129,{"$f":"Sheet1!$M$7","v":0},{"$f":"AA76","v":13}]
[null,null,null,9,null,null,null,null,null,null,10,null,null,null,null,null,null,{"$f":"'R1'!R16:T16","v":11},null,null,null,null,null,null,{"$f":"'R1'!Y16:AA16","v":12}]
[null,null,null,"Names","Sc.","Tab",null,null,null,null,"Names","Sc.","Tab",null,null,null,null,"Names","Sc.","Tab",null,null,null,null,"Names","Sc.","Tab"]
["N",1,{"$f":"Score!U37","v":33},{"$f":"LOOKUP(C18,Names!$A$2:$A$161,Names!$B$2:$B$161)","v":"أحمد بسيوني"},112,{"$f":"Sheet1!$M$4","v":0},{"$f":"F77","v":12},"N",1,{"$f":"Score!U41","v":26},{"$f":"LOOKUP(J18,Names!$A$2:$A$161,Names!$B$2:$B$161)","v":"أحمد الطنطاوي "},74,{"$f":"Sheet1!$M$4","v":0},{"$f":"F78","v":11},"N",1,{"$f":"Score!U45","v":19},{"$f":"LOOKUP(Q18,Names!$A$2:$A$161,Names!$B$2:$B$161)","v":"إبراهيم عنتر  "},13,{"$f":"Sheet1!$M$4","v":0},{"$f":"F79","v":10},"N",1,{"$f":"Score!U49","v":12},{"$f":"LOOKUP(X18,Names!$A$2:$A$161,Names!$B$2:$B$161)","v":"أمير كمال جميل"},106,{"$f":"Sheet1!$M$4","v":0},{"$f":"F80","v":9}]
["W",2,{"$f":"Score!U38","v":22},{"$f":"LOOKUP(C19,Names!$A$2:$A$161,Names!$B$2:$B$161)","v":"طه إبراهيم طه  "},99,{"$f":"Sheet1!$M$5","v":0},{"$f":"M77","v":12},"W",2,{"$f":"Score!U42","v":15},{"$f":"LOOKUP(J19,Names!$A$2:$A$161,Names!$B$2:$B$161)","v":"أحمد رمزي الديب "},178,{"$f":"Sheet1!$M$5","v":0},{"$f":"M78","v":11},"W",2,{"$f":"Score!U46","v":8},{"$f":"LOOKUP(Q19,Names!$A$2:$A$161,Names!$B$2:$B$161)","v":"إيهاب  محمد الزهيري "},141,{"$f":"Sheet1!$M$5","v":0},{"$f":"M79","v":10},"W",2,{"$f":"Score!U50","v":45},{"$f":"LOOKUP(X19,Names!$A$2:$A$161,Names!$B$2:$B$161)","v":"رضا هنري"},177,{"$f":"Sheet1!$M$5","v":0},{"$f":"M80","v":9}]
["S",3,{"$f":"Score!U39","v":11},{"$f":"LOOKUP(C20,Names!$A$2:$A$161,Names!$B$2:$B$161)","v":"معتز محمد مدبولي "},77,{"$f":"Sheet1!$M$6","v":0},{"$f":"T77","v":12},"S",3,{"$f":"Score!U43","v":4},{"$f":"LOOKUP(J20,Names!$A$2:$A$161,Names!$B$2:$B$161)","v":"محمد سعيد الفطاطري"},45,{"$f":"Sheet1!$M$6","v":0},{"$f":"T78","v":11},"S",3,{"$f":"Score!U47","v":41},{"$f":"LOOKUP(Q20,Names!$A$2:$A$161,Names!$B$2:$B$161)","v":"خالد مصطفى عزت "},149,{"$f":"Sheet1!$M$6","v":0},{"$f":"T79","v":10},"S",3,{"$f":"Score!U51","v":34},{"$f":"LOOKUP(X20,Names!$A$2:$A$161,Names!$B$2:$B$161)","v":"عماد الدين جمعة هلال  "},8,{"$f":"Sheet1!$M$6","v":0},{"$f":"T80","v":9}]
["E",4,{"$f":"Score!U40","v":80},{"$f":"LOOKUP(C21,Names!$A$2:$A$161,Names!$B$2:$B$161)","v":"أمن حسام"},44,{"$f":"Sheet1!$M$7","v":0},{"$f":"AA77","v":12},"E",4,{"$f":"Score!U44","v":37},{"$f":"LOOKUP(J21,Names!$A$2:$A$161,Names!$B$2:$B$161)","v":"حمدي محمود عبد العزيز"},77,{"$f":"Sheet1!$M$7","v":0},{"$f":"AA78","v":11},"E",4,{"$f":"Score!U48","v":30},{"$f":"LOOKUP(Q21,Names!$A$2:$A$161,Names!$B$2:$B$161)","v":"شريف جلال سماحة "},127,{"$f":"Sheet1!$M$7","v":0},{"$f":"AA79","v":10},"E",4,{"$f":"Score!U52","v":23},{"$f":"LOOKUP(X21,Names!$A$2:$A$161,Names!$B$2:$B$161)","v":"مصطفى يوسف محمد"},-40,{"$f":"Sheet1!$M$7","v":0},{"$f":"AA80","v":9}]
[null,null,null,{"$f":"'R1'!D22:F22","v":13},null,null,null,null,null,null,{"$f":"'R1'!K22:M22","v":14},null,null,null,null,null,null,{"$f":"'R1'!R22:T22","v":15},null,null,null,null,null,null,{"$f":"'R1'!Y22:AA22","v":16}]
[null,null,null,"Names","Sc.","Tab",null,null,null,null,"Names","Sc.","Tab",null,null,null,null,"Names","Sc.","Tab",null,null,null,null,"Names","Sc.","Tab"]
["N",1,{"$f":"Score!U53","v":49},{"$f":"LOOKUP(C24,Names!$A$2:$A$161,Names!$B$2:$B$161)","v":"هيثم العشماوي "},126,{"$f":"Sheet1!$M$4","v":0},{"$f":"F81","v":8},"N",1,{"$f":"Score!U57","v":42},{"$f":"LOOKUP(J24,Names!$A$2:$A$161,Names!$B$2:$B$161)","v":"محمد عبد الهادي أبو القاسم "},177,{"$f":"Sheet1!$M$4","v":0},{"$f":"F82","v":7},"N",1,{"$f":"Score!U61","v":35},{"$f":"LOOKUP(Q24,Names!$A$2:$A$161,Names!$B$2:$B$161)","v":"عمرو عماد الدين أبوالعلا  "},45,{"$f":"Sheet1!$M$4","v":0},{"$f":"F83","v":6},"N",1,{"$f":"Score!U65","v":28},{"$f":"LOOKUP(X24,Names!$A$2:$A$161,Names!$B$2:$B$161)","v":"عمرو محسن فرج "},49,{"$f":"Sheet1!$M$4","v":0},{"$f":"F84","v":5}]
["W",2,{"$f":"Score!U54","v":38},{"$f":"LOOKUP(C25,Names!$A$2:$A$161,Names!$B$2:$B$161)","v":"أسامة لطفي نجيب  "},81,{"$f":"Sheet1!$M$5","v":0},{"$f":"M81","v":8},"W",2,{"$f":"Score!U58","v":31},{"$f":"LOOKUP(J25,Names!$A$2:$A$161,Names!$B$2:$B$161)","v":"ماجد  محمد  فكري "},116,{"$f":"Sheet1!$M$5","v":0},{"$f":"M82","v":7},"W",2,{"$f":"Score!U62","v":24},{"$f":"LOOKUP(Q25,Names!$A$2:$A$161,Names!$B$2:$B$161)","v":"هيثم محمد شبانة"},89,{"$f":"Sheet1!$M$5","v":0},{"$f":"M83","v":6},"W",2,{"$f":"Score!U66","v":61},{"$f":"LOOKUP(X25,Names!$A$2:$A$161,Names!$B$2:$B$161)","v":"كريم إيهاب عامر  "},100,{"$f":"Sheet1!$M$5","v":0},{"$f":"M84","v":5}]
["S",3,{"$f":"Score!U55","v":27},{"$f":"LOOKUP(C26,Names!$A$2:$A$161,Names!$B$2:$B$161)","v":"سمير الحوفي"},3,{"$f":"Sheet1!$M$6","v":0},{"$f":"T81","v":8},"S",3,{"$f":"Score!U59","v":20},{"$f":"LOOKUP(J26,Names!$A$2:$A$161,Names!$B$2:$B$161)","v":"إسلام قاسم"},144,{"$f":"Sheet1!$M$6","v":0},{"$f":"T82","v":7},"S",3,{"$f":"Score!U63","v":57},{"$f":"LOOKUP(Q26,Names!$A$2:$A$161,Names!$B$2:$B$161)","v":"مصطفى كامل الشحري"},101,{"$f":"Sheet1!$M$6","v":0},{"$f":"T83","v":6},"S",3,{"$f":"Score!U67","v":50},{"$f":"LOOKUP(X26,Names!$A$2:$A$161,Names!$B$2:$B$161)","v":"فادي ناجح"},83,{"$f":"Sheet1!$M$6","v":0},{"$f":"T84","v":5}]
["E",4,{"$f":"Score!U56","v":16},{"$f":"LOOKUP(C27,Names!$A$2:$A$161,Names!$B$2:$B$161)","v":"عبد الرحمن سعد موسى"},77,{"$f":"Sheet1!$M$7","v":0},{"$f":"AA81","v":8},"E",4,{"$f":"Score!U60","v":53},{"$f":"LOOKUP(J27,Names!$A$2:$A$161,Names!$B$2:$B$161)","v":"أحمد محمد شوقي هيبه"},16,{"$f":"Sheet1!$M$7","v":0},{"$f":"AA82","v":7},"E",4,{"$f":"Score!U64","v":46},{"$f":"LOOKUP(Q27,Names!$A$2:$A$161,Names!$B$2:$B$161)","v":"علاء شوقي جبريل  "},110,{"$f":"Sheet1!$M$7","v":0},{"$f":"AA83","v":6},"E",4,{"$f":"Score!U68","v":39},{"$f":"LOOKUP(X27,Names!$A$2:$A$161,Names!$B$2:$B$161)","v":"إسلام أحمد السيد عمر"},60,{"$f":"Sheet1!$M$7","v":0},{"$f":"AA84","v":5}]
[null,null,null,{"$f":"'R1'!D28:F28","v":17},null,null,null,null,null,null,{"$f":"'R1'!K28:M28","v":18},null,null,null,null,null,null,{"$f":"'R1'!R28:T28","v":19},null,null,null,null,null,null,{"$f":"'R1'!Y28:AA28","v":20}]
[null,null,null,"Names","Sc.","Tab",null,null,null,null,"Names","Sc.","Tab",null,null,null,null,"Names","Sc.","Tab",null,null,null,null,"Names","Sc.","Tab"]
["N",1,{"$f":"Score!U69","v":65},{"$f":"LOOKUP(C30,Names!$A$2:$A$161,Names!$B$2:$B$161)","v":"أحمد طارق   "},77,{"$f":"Sheet1!$M$4","v":0},{"$f":"F85","v":4},"N",1,{"$f":"Score!U73","v":58},{"$f":"LOOKUP(J30,Names!$A$2:$A$161,Names!$B$2:$B$161)","v":"أحمد إبراهيم غانم "},135,{"$f":"Sheet1!$M$4","v":0},{"$f":"F86","v":3},"N",1,{"$f":"Score!U77","v":51},{"$f":"LOOKUP(Q30,Names!$A$2:$A$161,Names!$B$2:$B$161)","v":"أحمد أحمد مرسي عبد الله "},132,{"$f":"Sheet1!$M$4","v":0},{"$f":"F87","v":2},"N",1,{"$f":"Score!U81","v":44},{"$f":"LOOKUP(X30,Names!$A$2:$A$161,Names!$B$2:$B$161)","v":"جمال السيد توفيق محمد "},84,{"$f":"Sheet1!$M$4","v":0},{"$f":"F88","v":1}]
["W",2,{"$f":"Score!U70","v":54},{"$f":"LOOKUP(C31,Names!$A$2:$A$161,Names!$B$2:$B$161)","v":"تامر رشاد   "},203,{"$f":"Sheet1!$M$5","v":0},{"$f":"M85","v":4},"W",2,{"$f":"Score!U74","v":47},{"$f":"LOOKUP(J31,Names!$A$2:$A$161,Names!$B$2:$B$161)","v":"هاني فكري المراكبي"},9,{"$f":"Sheet1!$M$5","v":0},{"$f":"M86","v":3},"W",2,{"$f":"Score!U78","v":40},{"$f":"LOOKUP(Q31,Names!$A$2:$A$161,Names!$B$2:$B$161)","v":"احمد محمود عبد الرزاق  "},36,{"$f":"Sheet1!$M$5","v":0},{"$f":"M87","v":2},"W",2,{"$f":"Score!U82","v":77},{"$f":"LOOKUP(X31,Names!$A$2:$A$161,Names!$B$2:$B$161)","v":"محمد محمود شعبان "},119,{"$f":"Sheet1!$M$5","v":0},{"$f":"M88","v":1}]
["S",3,{"$f":"Score!U71","v":43},{"$f":"LOOKUP(C32,Names!$A$2:$A$161,Names!$B$2:$B$161)","v":"أمير محمد خطاب  "},68,{"$f":"Sheet1!$M$6","v":0},{"$f":"T85","v":4},"S",3,{"$f":"Score!U75","v":36},{"$f":"LOOKUP(J32,Names!$A$2:$A$161,Names!$B$2:$B$161)","v":"أحمد عبد الفتاح عرفه "},82,{"$f":"Sheet1!$M$6","v":0},{"$f":"T86","v":3},"S",3,{"$f":"Score!U79","v":73},{"$f":"LOOKUP(Q32,Names!$A$2:$A$161,Names!$B$2:$B$161)","v":"مينا ناجح صبحي  "},107,{"$f":"Sheet1!$M$6","v":0},{"$f":"T87","v":2},"S",3,{"$f":"Score!U83","v":66},{"$f":"LOOKUP(X32,Names!$A$2:$A$161,Names!$B$2:$B$161)","v":"أحمد فؤاد حسنين "},63,{"$f":"Sheet1!$M$6","v":0},{"$f":"T88","v":1}]
["E",4,{"$f":"Score!U72","v":32},{"$f":"LOOKUP(C33,Names!$A$2:$A$161,Names!$B$2:$B$161)","v":"حمزة أحمد محمد"},8,{"$f":"Sheet1!$M$7","v":0},{"$f":"AA85","v":4},"E",4,{"$f":"Score!U76","v":69},{"$f":"LOOKUP(J33,Names!$A$2:$A$161,Names!$B$2:$B$161)","v":"أحمد علي السيد شرع"},140,{"$f":"Sheet1!$M$7","v":0},{"$f":"AA86","v":3},"E",4,{"$f":"Score!U80","v":62},{"$f":"LOOKUP(Q33,Names!$A$2:$A$161,Names!$B$2:$B$161)","v":"محمد محمود مسعود  "},37,{"$f":"Sheet1!$M$7","v":0},{"$f":"AA87","v":2},"E",4,{"$f":"Score!U84","v":55},{"$f":"LOOKUP(X33,Names!$A$2:$A$161,Names!$B$2:$B$161)","v":"ناجي بلبع"},38,{"$f":"Sheet1!$M$7","v":0},{"$f":"AA88","v":1}]
[]
[null,null,null,{"$f":"'R1'!D35:F35","v":21},null,null,null,null,null,null,{"$f":"'R1'!K35:M35","v":22},null,null,null,null,null,null,{"$f":"'R1'!R35:T35","v":23},null,null,null,null,null,null,{"$f":"'R1'!Y35:AA35","v":24}]
[null,null,null,"Names","Sc.","Tab",null,null,null,null,"Names","Sc.","Tab",null,null,null,null,"Names","Sc.","Tab",null,null,null,null,"Names","Sc.","Tab"]
["N",1,{"$f":"Score!U85","v":0},{"$f":"LOOKUP(C37,Names!$A$2:$A$161,Names!$B$2:$B$161)","v":{"$error":"#N/A"}},null,{"$f":"Sheet1!$M$4","v":0},{"$f":"F89","v":0},"N",1,{"$f":"Score!U89","v":0},{"$f":"LOOKUP(J37,Names!$A$2:$A$161,Names!$B$2:$B$161)","v":{"$error":"#N/A"}},null,{"$f":"Sheet1!$M$4","v":0},{"$f":"F90","v":-1},"N",1,{"$f":"Score!U93","v":0},{"$f":"LOOKUP(Q37,Names!$A$2:$A$161,Names!$B$2:$B$161)","v":{"$error":"#N/A"}},null,{"$f":"Sheet1!$M$4","v":0},{"$f":"F91","v":-2},"N",1,{"$f":"Score!U97","v":0},{"$f":"LOOKUP(X37,Names!$A$2:$A$161,Names!$B$2:$B$161)","v":{"$error":"#N/A"}},null,{"$f":"Sheet1!$M$4","v":0},{"$f":"F92","v":-3}]
["W",2,{"$f":"Score!U86","v":0},{"$f":"LOOKUP(C38,Names!$A$2:$A$161,Names!$B$2:$B$161)","v":{"$error":"#N/A"}},null,{"$f":"Sheet1!$M$5","v":0},{"$f":"M89","v":0},"W",2,{"$f":"Score!U90","v":0},{"$f":"LOOKUP(J38,Names!$A$2:$A$161,Names!$B$2:$B$161)","v":{"$error":"#N/A"}},null,{"$f":"Sheet1!$M$5","v":0},{"$f":"M90","v":-1},"W",2,{"$f":"Score!U94","v":0},{"$f":"LOOKUP(Q38,Names!$A$2:$A$161,Names!$B$2:$B$161)","v":{"$error":"#N/A"}},null,{"$f":"Sheet1!$M$5","v":0},{"$f":"M91","v":-2},"W",2,{"$f":"Score!U98","v":0},{"$f":"LOOKUP(X38,Names!$A$2:$A$161,Names!$B$2:$B$161)","v":{"$error":"#N/A"}},null,{"$f":"Sheet1!$M$5","v":0},{"$f":"M92","v":-3}]
["S",3,{"$f":"Score!U87","v":0},{"$f":"LOOKUP(C39,Names!$A$2:$A$161,Names!$B$2:$B$161)","v":{"$error":"#N/A"}},null,{"$f":"Sheet1!$M$6","v":0},{"$f":"T89","v":1},"S",3,{"$f":"Score!U91","v":0},{"$f":"LOOKUP(J39,Names!$A$2:$A$161,Names!$B$2:$B$161)","v":{"$error":"#N/A"}},null,{"$f":"Sheet1!$M$6","v":0},{"$f":"T90","v":0},"S",3,{"$f":"Score!U95","v":0},{"$f":"LOOKUP(Q39,Names!$A$2:$A$161,Names!$B$2:$B$161)","v":{"$error":"#N/A"}},null,{"$f":"Sheet1!$M$6","v":0},{"$f":"T91","v":-1},"S",3,{"$f":"Score!U99","v":0},{"$f":"LOOKUP(X39,Names!$A$2:$A$161,Names!$B$2:$B$161)","v":{"$error":"#N/A"}},null,{"$f":"Sheet1!$M$6","v":0},{"$f":"T92","v":-2}]
["E",4,{"$f":"Score!U88","v":0},{"$f":"LOOKUP(C40,Names!$A$2:$A$161,Names!$B$2:$B$161)","v":{"$error":"#N/A"}},null,{"$f":"Sheet1!$M$7","v":0},{"$f":"AA89","v":1},"E",4,{"$f":"Score!U92","v":0},{"$f":"LOOKUP(J40,Names!$A$2:$A$161,Names!$B$2:$B$161)","v":{"$error":"#N/A"}},null,{"$f":"Sheet1!$M$7","v":0},{"$f":"AA90","v":0},"E",4,{"$f":"Score!U96","v":0},{"$f":"LOOKUP(Q40,Names!$A$2:$A$161,Names!$B$2:$B$161)","v":{"$error":"#N/A"}},null,{"$f":"Sheet1!$M$7","v":0},{"$f":"AA91","v":-1},"E",4,{"$f":"Score!U100","v":0},{"$f":"LOOKUP(X40,Names!$A$2:$A$161,Names!$B$2:$B$161)","v":{"$error":"#N/A"}},null,{"$f":"Sheet1!$M$7","v":0},{"$f":"AA92","v":-2}]
[null,null,null,{"$f":"'R1'!D41:F41","v":"B1"},null,null,null,null,null,null,{"$f":"'R1'!K41:M41","v":"B2"},null,null,null,null,null,null,{"$f":"'R1'!R41:T41","v":"B3"},null,null,null,null,null,null,{"$f":"'R1'!Y41:AA41","v":"B4"}]
[null,null,null,"Names","Sc.","Tab",null,null,null,null,"Names","Sc.","Tab",null,null,null,null,"Names","Sc.","Tab",null,null,null,null,"Names","Sc.","Tab"]
["N",1,{"$f":"Score!U101","v":0},{"$f":"LOOKUP(C43,Names!$A$2:$A$161,Names!$B$2:$B$161)","v":{"$error":"#N/A"}},null,{"$f":"Sheet1!$M$4","v":0},{"$f":"F93","v":-4},"N",1,{"$f":"Score!U105","v":0},{"$f":"LOOKUP(J43,Names!$A$2:$A$161,Names!$B$2:$B$161)","v":{"$error":"#N/A"}},null,{"$f":"Sheet1!$M$4","v":0},{"$f":"F94","v":-5},"N",1,{"$f":"Score!U109","v":0},{"$f":"LOOKUP(Q43,Names!$A$2:$A$161,Names!$B$2:$B$161)","v":{"$error":"#N/A"}},null,{"$f":"Sheet1!$M$4","v":0},{"$f":"F95","v":-6},"N",1,{"$f":"Score!U113","v":0},{"$f":"LOOKUP(X43,Names!$A$2:$A$161,Names!$B$2:$B$161)","v":{"$error":"#N/A"}},null,{"$f":"Sheet1!$M$4","v":0},{"$f":"F96","v":0}]
["W",2,{"$f":"Score!U102","v":0},{"$f":"LOOKUP(C44,Names!$A$2:$A$161,Names!$B$2:$B$161)","v":{"$error":"#N/A"}},null,{"$f":"Sheet1!$M$5","v":0},{"$f":"M93","v":-4},"W",2,{"$f":"Score!U106","v":0},{"$f":"LOOKUP(J44,Names!$A$2:$A$161,Names!$B$2:$B$161)","v":{"$error":"#N/A"}},null,{"$f":"Sheet1!$M$5","v":0},{"$f":"M94","v":-5},"W",2,{"$f":"Score!U110","v":0},{"$f":"LOOKUP(Q44,Names!$A$2:$A$161,Names!$B$2:$B$161)","v":{"$error":"#N/A"}},null,{"$f":"Sheet1!$M$5","v":0},{"$f":"M95","v":-6},"W",2,{"$f":"Score!U114","v":0},{"$f":"LOOKUP(X44,Names!$A$2:$A$161,Names!$B$2:$B$161)","v":{"$error":"#N/A"}},null,{"$f":"Sheet1!$M$5","v":0},{"$f":"M96","v":0}]
["S",3,{"$f":"Score!U103","v":0},{"$f":"LOOKUP(C45,Names!$A$2:$A$161,Names!$B$2:$B$161)","v":{"$error":"#N/A"}},null,{"$f":"Sheet1!$M$6","v":0},{"$f":"T93","v":-3},"S",3,{"$f":"Score!U107","v":0},{"$f":"LOOKUP(J45,Names!$A$2:$A$161,Names!$B$2:$B$161)","v":{"$error":"#N/A"}},null,{"$f":"Sheet1!$M$6","v":0},{"$f":"T94","v":-4},"S",3,{"$f":"Score!U111","v":0},{"$f":"LOOKUP(Q45,Names!$A$2:$A$161,Names!$B$2:$B$161)","v":{"$error":"#N/A"}},null,{"$f":"Sheet1!$M$6","v":0},{"$f":"T95","v":-5},"S",3,{"$f":"Score!U115","v":0},{"$f":"LOOKUP(X45,Names!$A$2:$A$161,Names!$B$2:$B$161)","v":{"$error":"#N/A"}},null,{"$f":"Sheet1!$M$6","v":0},{"$f":"T96","v":0}]
["E",4,{"$f":"Score!U104","v":0},{"$f":"LOOKUP(C46,Names!$A$2:$A$161,Names!$B$2:$B$161)","v":{"$error":"#N/A"}},null,{"$f":"Sheet1!$M$7","v":0},{"$f":"AA93","v":-3},"E",4,{"$f":"Score!U108","v":0},{"$f":"LOOKUP(J46,Names!$A$2:$A$161,Names!$B$2:$B$161)","v":{"$error":"#N/A"}},null,{"$f":"Sheet1!$M$7","v":0},{"$f":"AA94","v":-4},"E",4,{"$f":"Score!U112","v":0},{"$f":"LOOKUP(Q46,Names!$A$2:$A$161,Names!$B$2:$B$161)","v":{"$error":"#N/A"}},null,{"$f":"Sheet1!$M$7","v":0},{"$f":"AA95","v":-5},"E",4,{"$f":"Score!U116","v":0},{"$f":"LOOKUP(X46,Names!$A$2:$A$161,Names!$B$2:$B$161)","v":{"$error":"#N/A"}},null,{"$f":"Sheet1!$M$7","v":0},{"$f":"AA96","v":0}]
[null,null,null,"B5",null,null,null,null,null,null,"B6",null,null,null,null,null,null,"B7",null,null,null,null,null,null,"B8"]
[null,null,null,"Names","Sc.","Tab",null,null,null,null,"Names","Sc.","Tab",null,null,null,null,"Names","Sc.","Tab",null,null,null,null,"Names","Sc.","Tab"]
["N",1,{"$f":"Score!U117","v":0},{"$f":"LOOKUP(C49,Names!$A$2:$A$161,Names!$B$2:$B$161)","v":{"$error":"#N/A"}},null,{"$f":"Sheet1!$M$4","v":0},{"$f":"F97","v":0},"N",1,{"$f":"Score!U121","v":0},{"$f":"LOOKUP(J49,Names!$A$2:$A$161,Names!$B$2:$B$161)","v":{"$error":"#N/A"}},null,{"$f":"Sheet1!$M$4","v":0},{"$f":"F98","v":0},"N",1,{"$f":"Score!U125","v":0},{"$f":"LOOKUP(Q49,Names!$A$2:$A$161,Names!$B$2:$B$161)","v":{"$error":"#N/A"}},null,{"$f":"Sheet1!$M$4","v":0},{"$f":"F99","v":0},"N",1,{"$f":"Score!U129","v":0},{"$f":"LOOKUP(X49,Names!$A$2:$A$161,Names!$B$2:$B$161)","v":{"$error":"#N/A"}},null,{"$f":"Sheet1!$M$4","v":0},{"$f":"F100","v":0}]
["W",2,{"$f":"Score!U118","v":0},{"$f":"LOOKUP(C50,Names!$A$2:$A$161,Names!$B$2:$B$161)","v":{"$error":"#N/A"}},null,{"$f":"Sheet1!$M$5","v":0},{"$f":"M97","v":0},"W",2,{"$f":"Score!U122","v":0},{"$f":"LOOKUP(J50,Names!$A$2:$A$161,Names!$B$2:$B$161)","v":{"$error":"#N/A"}},null,{"$f":"Sheet1!$M$5","v":0},{"$f":"M98","v":0},"W",2,{"$f":"Score!U126","v":0},{"$f":"LOOKUP(Q50,Names!$A$2:$A$161,Names!$B$2:$B$161)","v":{"$error":"#N/A"}},null,{"$f":"Sheet1!$M$5","v":0},{"$f":"M99","v":0},"W",2,{"$f":"Score!U130","v":0},{"$f":"LOOKUP(X50,Names!$A$2:$A$161,Names!$B$2:$B$161)","v":{"$error":"#N/A"}},null,{"$f":"Sheet1!$M$5","v":0},{"$f":"M100","v":0}]
["S",3,{"$f":"Score!U119","v":0},{"$f":"LOOKUP(C51,Names!$A$2:$A$161,Names!$B$2:$B$161)","v":{"$error":"#N/A"}},null,{"$f":"Sheet1!$M$6","v":0},{"$f":"T97","v":0},"S",3,{"$f":"Score!U123","v":0},{"$f":"LOOKUP(J51,Names!$A$2:$A$161,Names!$B$2:$B$161)","v":{"$error":"#N/A"}},null,{"$f":"Sheet1!$M$6","v":0},{"$f":"T98","v":0},"S",3,{"$f":"Score!U127","v":0},{"$f":"LOOKUP(Q51,Names!$A$2:$A$161,Names!$B$2:$B$161)","v":{"$error":"#N/A"}},null,{"$f":"Sheet1!$M$6","v":0},{"$f":"T99","v":0},"S",3,{"$f":"Score!U131","v":0},{"$f":"LOOKUP(X51,Names!$A$2:$A$161,Names!$B$2:$B$161)","v":{"$error":"#N/A"}},null,{"$f":"Sheet1!$M$6","v":0},{"$f":"T100","v":0}]
["E",4,{"$f":"Score!U120","v":0},{"$f":"LOOKUP(C52,Names!$A$2:$A$161,Names!$B$2:$B$161)","v":{"$error":"#N/A"}},null,{"$f":"Sheet1!$M$7","v":0},{"$f":"AA97","v":0},"E",4,{"$f":"Score!U124","v":0},{"$f":"LOOKUP(J52,Names!$A$2:$A$161,Names!$B$2:$B$161)","v":{"$error":"#N/A"}},null,{"$f":"Sheet1!$M$7","v":0},{"$f":"AA98","v":0},"E",4,{"$f":"Score!U128","v":0},{"$f":"LOOKUP(Q52,Names!$A$2:$A$161,Names!$B$2:$B$161)","v":{"$error":"#N/A"}},null,{"$f":"Sheet1!$M$7","v":0},{"$f":"AA99","v":0},"E",4,{"$f":"Score!U132","v":0},{"$f":"LOOKUP(X52,Names!$A$2:$A$161,Names!$B$2:$B$161)","v":{"$error":"#N/A"}},null,{"$f":"Sheet1!$M$7","v":0},{"$f":"AA100","v":0}]
[null,null,null,33,null,null,null,null,null,null,34,null,null,null,null,null,null,35,null,null,null,null,null,null,36]
[null,null,null,"Names","Sc.","Tab",null,null,null,null,"Names","Sc.","Tab",null,null,null,null,"Names","Sc.","Tab",null,null,null,null,"Names","Sc.","Tab"]
["N",1,{"$f":"Score!U133","v":0},{"$f":"LOOKUP(C55,Names!$A$2:$A$161,Names!$B$2:$B$161)","v":{"$error":"#N/A"}},null,{"$f":"Sheet1!$M$4","v":0},{"$f":"F101","v":0},"N",1,{"$f":"Score!U137","v":0},{"$f":"LOOKUP(J55,Names!$A$2:$A$161,Names!$B$2:$B$161)","v":{"$error":"#N/A"}},null,{"$f":"Sheet1!$M$4","v":0},{"$f":"F102","v":0},"N",1,{"$f":"Score!U141","v":0},{"$f":"LOOKUP(Q55,Names!$A$2:$A$161,Names!$B$2:$B$161)","v":{"$error":"#N/A"}},null,{"$f":"Sheet1!$M$4","v":0},{"$f":"F103","v":0},"N",1,{"$f":"Score!U145","v":0},{"$f":"LOOKUP(X55,Names!$A$2:$A$161,Names!$B$2:$B$161)","v":{"$error":"#N/A"}},null,{"$f":"Sheet1!$M$4","v":0},{"$f":"F104","v":0}]
["W",2,{"$f":"Score!U134","v":0},{"$f":"LOOKUP(C56,Names!$A$2:$A$161,Names!$B$2:$B$161)","v":{"$error":"#N/A"}},null,{"$f":"Sheet1!$M$5","v":0},{"$f":"M101","v":0},"W",2,{"$f":"Score!U138","v":0},{"$f":"LOOKUP(J56,Names!$A$2:$A$161,Names!$B$2:$B$161)","v":{"$error":"#N/A"}},null,{"$f":"Sheet1!$M$5","v":0},{"$f":"M102","v":0},"W",2,{"$f":"Score!U142","v":0},{"$f":"LOOKUP(Q56,Names!$A$2:$A$161,Names!$B$2:$B$161)","v":{"$error":"#N/A"}},null,{"$f":"Sheet1!$M$5","v":0},{"$f":"M103","v":0},"W",2,{"$f":"Score!U146","v":0},{"$f":"LOOKUP(X56,Names!$A$2:$A$161,Names!$B$2:$B$161)","v":{"$error":"#N/A"}},null,{"$f":"Sheet1!$M$5","v":0},{"$f":"M104","v":0}]
["S",3,{"$f":"Score!U135","v":0},{"$f":"LOOKUP(C57,Names!$A$2:$A$161,Names!$B$2:$B$161)","v":{"$error":"#N/A"}},null,{"$f":"Sheet1!$M$6","v":0},{"$f":"T101","v":0},"S",3,{"$f":"Score!U139","v":0},{"$f":"LOOKUP(J57,Names!$A$2:$A$161,Names!$B$2:$B$161)","v":{"$error":"#N/A"}},null,{"$f":"Sheet1!$M$6","v":0},{"$f":"T102","v":0},"S",3,{"$f":"Score!U143","v":0},{"$f":"LOOKUP(Q57,Names!$A$2:$A$161,Names!$B$2:$B$161)","v":{"$error":"#N/A"}},null,{"$f":"Sheet1!$M$6","v":0},{"$f":"T103","v":0},"S",3,{"$f":"Score!U147","v":0},{"$f":"LOOKUP(X57,Names!$A$2:$A$161,Names!$B$2:$B$161)","v":{"$error":"#N/A"}},null,{"$f":"Sheet1!$M$6","v":0},{"$f":"T104","v":0}]
["E",4,{"$f":"Score!U136","v":0},{"$f":"LOOKUP(C58,Names!$A$2:$A$161,Names!$B$2:$B$161)","v":{"$error":"#N/A"}},null,{"$f":"Sheet1!$M$7","v":0},{"$f":"AA101","v":0},"E",4,{"$f":"Score!U140","v":0},{"$f":"LOOKUP(J58,Names!$A$2:$A$161,Names!$B$2:$B$161)","v":{"$error":"#N/A"}},null,{"$f":"Sheet1!$M$7","v":0},{"$f":"AA102","v":0},"E",4,{"$f":"Score!U144","v":0},{"$f":"LOOKUP(Q58,Names!$A$2:$A$161,Names!$B$2:$B$161)","v":{"$error":"#N/A"}},null,{"$f":"Sheet1!$M$7","v":0},{"$f":"AA103","v":0},"E",4,{"$f":"Score!U148","v":0},{"$f":"LOOKUP(X58,Names!$A$2:$A$161,Names!$B$2:$B$161)","v":{"$error":"#N/A"}},null,{"$f":"Sheet1!$M$7","v":0},{"$f":"AA104","v":0}]
[null,null,null,37,null,null,null,null,null,null,38,null,null,null,null,null,null,39,null,null,null,null,null,null,40]
[null,null,null,"Names","Sc.","Tab",null,null,null,null,"Names","Sc.","Tab",null,null,null,null,"Names","Sc.","Tab",null,null,null,null,"Names","Sc.","Tab"]
["N",1,{"$f":"Score!U149","v":0},{"$f":"LOOKUP(C61,Names!$A$2:$A$161,Names!$B$2:$B$161)","v":{"$error":"#N/A"}},null,{"$f":"Sheet1!$M$4","v":0},{"$f":"F105","v":0},"N",1,{"$f":"Score!U153","v":0},{"$f":"LOOKUP(J61,Names!$A$2:$A$161,Names!$B$2:$B$161)","v":{"$error":"#N/A"}},null,{"$f":"Sheet1!$M$4","v":0},{"$f":"F106","v":0},"N",1,{"$f":"Score!U157","v":0},{"$f":"LOOKUP(Q61,Names!$A$2:$A$161,Names!$B$2:$B$161)","v":{"$error":"#N/A"}},null,{"$f":"Sheet1!$M$4","v":0},{"$f":"F107","v":0},"N",1,{"$f":"Score!U161","v":0},{"$f":"LOOKUP(X61,Names!$A$2:$A$161,Names!$B$2:$B$161)","v":{"$error":"#N/A"}},null,{"$f":"Sheet1!$M$4","v":0},{"$f":"F108","v":0}]
["W",2,{"$f":"Score!U150","v":0},{"$f":"LOOKUP(C62,Names!$A$2:$A$161,Names!$B$2:$B$161)","v":{"$error":"#N/A"}},null,{"$f":"Sheet1!$M$5","v":0},{"$f":"M105","v":0},"W",2,{"$f":"Score!U154","v":0},{"$f":"LOOKUP(J62,Names!$A$2:$A$161,Names!$B$2:$B$161)","v":{"$error":"#N/A"}},null,{"$f":"Sheet1!$M$5","v":0},{"$f":"M106","v":0},"W",2,{"$f":"Score!U158","v":0},{"$f":"LOOKUP(Q62,Names!$A$2:$A$161,Names!$B$2:$B$161)","v":{"$error":"#N/A"}},null,{"$f":"Sheet1!$M$5","v":0},{"$f":"M107","v":0},"W",2,{"$f":"Score!U162","v":0},{"$f":"LOOKUP(X62,Names!$A$2:$A$161,Names!$B$2:$B$161)","v":{"$error":"#N/A"}},null,{"$f":"Sheet1!$M$5","v":0},{"$f":"M108","v":0}]
["S",3,{"$f":"Score!U151","v":0},{"$f":"LOOKUP(C63,Names!$A$2:$A$161,Names!$B$2:$B$161)","v":{"$error":"#N/A"}},null,{"$f":"Sheet1!$M$6","v":0},{"$f":"T105","v":0},"S",3,{"$f":"Score!U155","v":0},{"$f":"LOOKUP(J63,Names!$A$2:$A$161,Names!$B$2:$B$161)","v":{"$error":"#N/A"}},null,{"$f":"Sheet1!$M$6","v":0},{"$f":"T106","v":0},"S",3,{"$f":"Score!U159","v":0},{"$f":"LOOKUP(Q63,Names!$A$2:$A$161,Names!$B$2:$B$161)","v":{"$error":"#N/A"}},null,{"$f":"Sheet1!$M$6","v":0},{"$f":"T107","v":0},"S",3,{"$f":"Score!U163","v":0},{"$f":"LOOKUP(X63,Names!$A$2:$A$161,Names!$B$2:$B$161)","v":{"$error":"#N/A"}},null,{"$f":"Sheet1!$M$6","v":0},{"$f":"T108","v":0}]
["E",4,{"$f":"Score!U152","v":0},{"$f":"LOOKUP(C64,Names!$A$2:$A$161,Names!$B$2:$B$161)","v":{"$error":"#N/A"}},null,{"$f":"Sheet1!$M$7","v":0},{"$f":"AA105","v":0},"E",4,{"$f":"Score!U156","v":0},{"$f":"LOOKUP(J64,Names!$A$2:$A$161,Names!$B$2:$B$161)","v":{"$error":"#N/A"}},null,{"$f":"Sheet1!$M$7","v":0},{"$f":"AA106","v":0},"E",4,{"$f":"Score!U160","v":0},{"$f":"LOOKUP(Q64,Names!$A$2:$A$161,Names!$B$2:$B$161)","v":{"$error":"#N/A"}},null,{"$f":"Sheet1!$M$7","v":0},{"$f":"AA107","v":0},"E",4,{"$f":"Score!U164","v":0},{"$f":"LOOKUP(X64,Names!$A$2:$A$161,Names!$B$2:$B$161)","v":{"$error":"#N/A"}},null,{"$f":"Sheet1!$M$7","v":0},{"$f":"AA108","v":0}]
[]
[null,null,null,null,null,null,null,null,null,null,"Axe"]
[null,null,null,"North",null,null,null,null,null,null,"West",null,null,null,null,null,null,"South",null,null,null,null,null,null,"East"]
[null,null,null,"Names","Sc.","Axe",null,null,null,null,"Names","Sc.","Axe",null,null,null,null,"Names","Sc.","Axe",null,null,null,null,"Names","Sc.","Axe"]
[1,1,{"$f":"$C$6","v":1},{"$f":"LOOKUP(C69,Names!$A$2:$A$161,Names!$B$2:$B$161)","v":"راجي صبحي  "},{"$f":"$E$6","v":89},{"$f":"Sheet1!L3","v":21},null,null,1,{"$f":"$C$7","v":70},{"$f":"LOOKUP(J69,Names!$A$2:$A$161,Names!$B$2:$B$161)","v":"أحمد صلاح الدين دياب "},{"$f":"$E$7","v":67},{"$f":"Sheet1!L3","v":21},null,null,1,{"$f":"$C$8","v":59},{"$f":"LOOKUP(Q69,Names!$A$2:$A$161,Names!$B$2:$B$161)","v":"هشام أبوغربية "},{"$f":"$E$8","v":163},{"$f":"Sheet1!L3","v":21},null,null,1,{"$f":"$C$9","v":48},{"$f":"LOOKUP(X69,Names!$A$2:$A$161,Names!$B$2:$B$161)","v":"محمد ناجي زاهر بلبع "},{"$f":"$E$9","v":81},{"$f":"Sheet1!L3","v":21}]
[2,2,{"$f":"$J$6","v":74},{"$f":"LOOKUP(C70,Names!$A$2:$A$161,Names!$B$2:$B$161)","v":"فريدة شكري"},{"$f":"$L$6","v":85},{"$f":"Sheet1!L4","v":19},null,null,2,{"$f":"$J$7","v":63},{"$f":"LOOKUP(J70,Names!$A$2:$A$161,Names!$B$2:$B$161)","v":"محمد أحمد محمد عبد الله "},{"$f":"$L$7","v":149},{"$f":"Sheet1!L4","v":19},null,null,2,{"$f":"$J$8","v":52},{"$f":"LOOKUP(Q70,Names!$A$2:$A$161,Names!$B$2:$B$161)","v":"يامن محمد حسن  "},{"$f":"$L$8","v":17},{"$f":"Sheet1!L4","v":19},null,null,2,{"$f":"$J$9","v":5},{"$f":"LOOKUP(X70,Names!$A$2:$A$161,Names!$B$2:$B$161)","v":"محمد عصام الدين القاضي "},{"$f":"$L$9","v":53},{"$f":"Sheet1!L4","v":19}]
[3,3,{"$f":"$Q$6","v":67},{"$f":"LOOKUP(C71,Names!$A$2:$A$161,Names!$B$2:$B$161)","v":"محمد محمود فضل "},{"$f":"$S$6","v":119},{"$f":"Sheet1!L5","v":18},null,null,3,{"$f":"$Q$7","v":56},{"$f":"LOOKUP(J71,Names!$A$2:$A$161,Names!$B$2:$B$161)","v":"جاسر محمد"},{"$f":"$S$7","v":120},{"$f":"Sheet1!L5","v":18},null,null,3,{"$f":"$Q$8","v":9},{"$f":"LOOKUP(Q71,Names!$A$2:$A$161,Names!$B$2:$B$161)","v":"رأفت الصياد"},{"$f":"$S$8","v":184},{"$f":"Sheet1!L5","v":18},null,null,3,{"$f":"$Q$9","v":78},{"$f":"LOOKUP(X71,Names!$A$2:$A$161,Names!$B$2:$B$161)","v":"حسام الخلفاوي"},{"$f":"$S$9","v":20},{"$f":"Sheet1!L5","v":18}]
[4,4,{"$f":"$X$6","v":60},{"$f":"LOOKUP(C72,Names!$A$2:$A$161,Names!$B$2:$B$161)","v":"عصام الدين حامد منصور "},{"$f":"$Z$6","v":90},{"$f":"Sheet1!L6","v":17},null,null,4,{"$f":"$X$7","v":13},{"$f":"LOOKUP(J72,Names!$A$2:$A$161,Names!$B$2:$B$161)","v":"أحمد جميل السيد "},{"$f":"$Z$7","v":120},{"$f":"Sheet1!L6","v":17},null,null,4,{"$f":"$X$8","v":2},{"$f":"LOOKUP(Q72,Names!$A$2:$A$161,Names!$B$2:$B$161)","v":"شريف أحمد محمد حمروش"},{"$f":"$Z$8","v":61},{"$f":"Sheet1!L6","v":17},null,null,4,{"$f":"$X$9","v":71},{"$f":"LOOKUP(X72,Names!$A$2:$A$161,Names!$B$2:$B$161)","v":"معتز محمد"},{"$f":"$Z$9","v":98},{"$f":"Sheet1!L6","v":17}]
[5,5,{"$f":"$C$12","v":17},{"$f":"LOOKUP(C73,Names!$A$2:$A$161,Names!$B$2:$B$161)","v":"أحمد علي خليل حسن "},{"$f":"$E$12","v":114},{"$f":"Sheet1!L7","v":16},null,null,5,{"$f":"$C$13","v":6},{"$f":"LOOKUP(J73,Names!$A$2:$A$161,Names!$B$2:$B$161)","v":"إبراهيم عرفان السقا  "},{"$f":"$E$13","v":62},{"$f":"Sheet1!L7","v":16},null,null,5,{"$f":"$C$14","v":75},{"$f":"LOOKUP(Q73,Names!$A$2:$A$161,Names!$B$2:$B$161)","v":"محمود سليمان"},{"$f":"$E$14","v":76},{"$f":"Sheet1!L7","v":16},null,null,5,{"$f":"$C$15","v":64},{"$f":"LOOKUP(X73,Names!$A$2:$A$161,Names!$B$2:$B$161)","v":"وليد شعبان إسماعيل علي "},{"$f":"$E$15","v":15},{"$f":"Sheet1!L7","v":16}]
[6,6,{"$f":"$J$12","v":10},{"$f":"LOOKUP(C74,Names!$A$2:$A$161,Names!$B$2:$B$161)","v":"نبيل خلف زكي حسنين "},{"$f":"$L$12","v":99},{"$f":"Sheet1!L8","v":15},null,null,6,{"$f":"$J$13","v":79},{"$f":"LOOKUP(J74,Names!$A$2:$A$161,Names!$B$2:$B$161)","v":"محمد علي حسن طه الأمام"},{"$f":"$L$13","v":101},{"$f":"Sheet1!L8","v":15},null,null,6,{"$f":"$J$14","v":68},{"$f":"LOOKUP(Q74,Names!$A$2:$A$161,Names!$B$2:$B$161)","v":"مصطفى إسماعيل"},{"$f":"$L$14","v":67},{"$f":"Sheet1!L8","v":15},null,null,6,{"$f":"$J$15","v":21},{"$f":"LOOKUP(X74,Names!$A$2:$A$161,Names!$B$2:$B$161)","v":"أحمد محمد حمدي صالح "},{"$f":"$L$15","v":160},{"$f":"Sheet1!L8","v":15}]
[7,7,{"$f":"$Q$12","v":3},{"$f":"LOOKUP(C75,Names!$A$2:$A$161,Names!$B$2:$B$161)","v":"إيهاب يوسف عمارة "},{"$f":"$S$12","v":65},{"$f":"Sheet1!L9","v":14},null,null,7,{"$f":"$Q$13","v":72},{"$f":"LOOKUP(J75,Names!$A$2:$A$161,Names!$B$2:$B$161)","v":"أحمد سمير خلف "},{"$f":"$S$13","v":98},{"$f":"Sheet1!L9","v":14},null,null,7,{"$f":"$Q$14","v":25},{"$f":"LOOKUP(Q75,Names!$A$2:$A$161,Names!$B$2:$B$161)","v":"خالد شباره "},{"$f":"$S$14","v":59},{"$f":"Sheet1!L9","v":14},null,null,7,{"$f":"$Q$15","v":14},{"$f":"LOOKUP(X75,Names!$A$2:$A$161,Names!$B$2:$B$161)","v":"عماد محمد فؤاد"},{"$f":"$S$15","v":172},{"$f":"Sheet1!L9","v":14}]
[8,8,{"$f":"$X$12","v":76},{"$f":"LOOKUP(C76,Names!$A$2:$A$161,Names!$B$2:$B$161)","v":"محمد إبراهيم قطب "},{"$f":"$Z$12","v":55},{"$f":"Sheet1!L10","v":13},null,null,8,{"$f":"$X$13","v":29},{"$f":"LOOKUP(J76,Names!$A$2:$A$161,Names!$B$2:$B$161)","v":"عبد الرحمن عثمان"},{"$f":"$Z$13","v":73},{"$f":"Sheet1!L10","v":13},null,null,8,{"$f":"$X$14","v":18},{"$f":"LOOKUP(Q76,Names!$A$2:$A$161,Names!$B$2:$B$161)","v":"أحمد ممدوح عبد الدايم"},{"$f":"$Z$14","v":-22},{"$f":"Sheet1!L10","v":13},null,null,8,{"$f":"$X$15","v":7},{"$f":"LOOKUP(X76,Names!$A$2:$A$161,Names!$B$2:$B$161)","v":"باسم أسحق صموائيل"},{"$f":"$Z$15","v":129},{"$f":"Sheet1!L10","v":13}]
[9,9,{"$f":"$C$18","v":33},{"$f":"LOOKUP(C77,Names!$A$2:$A$161,Names!$B$2:$B$161)","v":"أحمد بسيوني"},{"$f":"$E$18","v":112},{"$f":"Sheet1!L11","v":12},null,null,9,{"$f":"$C$19","v":22},{"$f":"LOOKUP(J77,Names!$A$2:$A$161,Names!$B$2:$B$161)","v":"طه إبراهيم طه  "},{"$f":"$E$19","v":99},{"$f":"Sheet1!L11","v":12},null,null,9,{"$f":"$C$20","v":11},{"$f":"LOOKUP(Q77,Names!$A$2:$A$161,Names!$B$2:$B$161)","v":"معتز محمد مدبولي "},{"$f":"$E$20","v":77},{"$f":"Sheet1!L11","v":12},null,null,9,{"$f":"$C$21","v":80},{"$f":"LOOKUP(X77,Names!$A$2:$A$161,Names!$B$2:$B$161)","v":"أمن حسام"},{"$f":"$E$21","v":44},{"$f":"Sheet1!L11","v":12}]
[10,10,{"$f":"$J$18","v":26},{"$f":"LOOKUP(C78,Names!$A$2:$A$161,Names!$B$2:$B$161)","v":"أحمد الطنطاوي "},{"$f":"$L$18","v":74},{"$f":"Sheet1!L12","v":11},null,null,10,{"$f":"$J$19","v":15},{"$f":"LOOKUP(J78,Names!$A$2:$A$161,Names!$B$2:$B$161)","v":"أحمد رمزي الديب "},{"$f":"$L$19","v":178},{"$f":"Sheet1!L12","v":11},null,null,10,{"$f":"$J$20","v":4},{"$f":"LOOKUP(Q78,Names!$A$2:$A$161,Names!$B$2:$B$161)","v":"محمد سعيد الفطاطري"},{"$f":"$L$20","v":45},{"$f":"Sheet1!L12","v":11},null,null,10,{"$f":"$J$21","v":37},{"$f":"LOOKUP(X78,Names!$A$2:$A$161,Names!$B$2:$B$161)","v":"حمدي محمود عبد العزيز"},{"$f":"$L$21","v":77},{"$f":"Sheet1!L12","v":11}]
[11,11,{"$f":"$Q$18","v":19},{"$f":"LOOKUP(C79,Names!$A$2:$A$161,Names!$B$2:$B$161)","v":"إبراهيم عنتر  "},{"$f":"$S$18","v":13},{"$f":"Sheet1!L13","v":10},null,null,11,{"$f":"$Q$19","v":8},{"$f":"LOOKUP(J79,Names!$A$2:$A$161,Names!$B$2:$B$161)","v":"إيهاب  محمد الزهيري "},{"$f":"$S$19","v":141},{"$f":"Sheet1!L13","v":10},null,null,11,{"$f":"$Q$20","v":41},{"$f":"LOOKUP(Q79,Names!$A$2:$A$161,Names!$B$2:$B$161)","v":"خالد مصطفى عزت "},{"$f":"$S$20","v":149},{"$f":"Sheet1!L13","v":10},null,null,11,{"$f":"$Q$21","v":30},{"$f":"LOOKUP(X79,Names!$A$2:$A$161,Names!$B$2:$B$161)","v":"شريف جلال سماحة "},{"$f":"$S$21","v":127},{"$f":"Sheet1!L13","v":10}]
[12,12,{"$f":"$X$18","v":12},{"$f":"LOOKUP(C80,Names!$A$2:$A$161,Names!$B$2:$B$161)","v":"أمير كمال جميل"},{"$f":"$Z$18","v":106},{"$f":"Sheet1!L14","v":9},null,null,12,{"$f":"$X$19","v":45},{"$f":"LOOKUP(J80,Names!$A$2:$A$161,Names!$B$2:$B$161)","v":"رضا هنري"},{"$f":"$Z$19","v":177},{"$f":"Sheet1!L14","v":9},null,null,12,{"$f":"$X$20","v":34},{"$f":"LOOKUP(Q80,Names!$A$2:$A$161,Names!$B$2:$B$161)","v":"عماد الدين جمعة هلال  "},{"$f":"$Z$20","v":8},{"$f":"Sheet1!L14","v":9},null,null,12,{"$f":"$X$21","v":23},{"$f":"LOOKUP(X80,Names!$A$2:$A$161,Names!$B$2:$B$161)","v":"مصطفى يوسف محمد"},{"$f":"$Z$21","v":-40},{"$f":"Sheet1!L14","v":9}]
[13,13,{"$f":"$C$24","v":49},{"$f":"LOOKUP(C81,Names!$A$2:$A$161,Names!$B$2:$B$161)","v":"هيثم العشماوي "},{"$f":"$E$24","v":126},{"$f":"Sheet1!L15","v":8},null,null,13,{"$f":"$C$25","v":38},{"$f":"LOOKUP(J81,Names!$A$2:$A$161,Names!$B$2:$B$161)","v":"أسامة لطفي نجيب  "},{"$f":"$E$25","v":81},{"$f":"Sheet1!L15","v":8},null,null,13,{"$f":"$C$26","v":27},{"$f":"LOOKUP(Q81,Names!$A$2:$A$161,Names!$B$2:$B$161)","v":"سمير الحوفي"},{"$f":"$E$26","v":3},{"$f":"Sheet1!L15","v":8},null,null,13,{"$f":"$C$27","v":16},{"$f":"LOOKUP(X81,Names!$A$2:$A$161,Names!$B$2:$B$161)","v":"عبد الرحمن سعد موسى"},{"$f":"$E$27","v":77},{"$f":"Sheet1!L15","v":8}]
[14,14,{"$f":"$J$24","v":42},{"$f":"LOOKUP(C82,Names!$A$2:$A$161,Names!$B$2:$B$161)","v":"محمد عبد الهادي أبو القاسم "},{"$f":"$L$24","v":177},{"$f":"Sheet1!L16","v":7},null,null,14,{"$f":"$J$25","v":31},{"$f":"LOOKUP(J82,Names!$A$2:$A$161,Names!$B$2:$B$161)","v":"ماجد  محمد  فكري "},{"$f":"$L$25","v":116},{"$f":"Sheet1!L16","v":7},null,null,14,{"$f":"$J$26","v":20},{"$f":"LOOKUP(Q82,Names!$A$2:$A$161,Names!$B$2:$B$161)","v":"إسلام قاسم"},{"$f":"$L$26","v":144},{"$f":"Sheet1!L16","v":7},null,null,14,{"$f":"$J$27","v":53},{"$f":"LOOKUP(X82,Names!$A$2:$A$161,Names!$B$2:$B$161)","v":"أحمد محمد شوقي هيبه"},{"$f":"$L$27","v":16},{"$f":"Sheet1!L16","v":7}]
[15,15,{"$f":"$Q$24","v":35},{"$f":"LOOKUP(C83,Names!$A$2:$A$161,Names!$B$2:$B$161)","v":"عمرو عماد الدين أبوالعلا  "},{"$f":"$S$24","v":45},{"$f":"Sheet1!L17","v":6},null,null,15,{"$f":"$Q$25","v":24},{"$f":"LOOKUP(J83,Names!$A$2:$A$161,Names!$B$2:$B$161)","v":"هيثم محمد شبانة"},{"$f":"$S$25","v":89},{"$f":"Sheet1!L17","v":6},null,null,15,{"$f":"$Q$26","v":57},{"$f":"LOOKUP(Q83,Names!$A$2:$A$161,Names!$B$2:$B$161)","v":"مصطفى كامل الشحري"},{"$f":"$S$26","v":101},{"$f":"Sheet1!L17","v":6},null,null,15,{"$f":"$Q$27","v":46},{"$f":"LOOKUP(X83,Names!$A$2:$A$161,Names!$B$2:$B$161)","v":"علاء شوقي جبريل  "},{"$f":"$S$27","v":110},{"$f":"Sheet1!L17","v":6}]
[16,16,{"$f":"$X$24","v":28},{"$f":"LOOKUP(C84,Names!$A$2:$A$161,Names!$B$2:$B$161)","v":"عمرو محسن فرج "},{"$f":"$Z$24","v":49},{"$f":"Sheet1!L18","v":5},null,null,16,{"$f":"$X$25","v":61},{"$f":"LOOKUP(J84,Names!$A$2:$A$161,Names!$B$2:$B$161)","v":"كريم إيهاب عامر  "},{"$f":"$Z$25","v":100},{"$f":"Sheet1!L18","v":5},null,null,16,{"$f":"$X$26","v":50},{"$f":"LOOKUP(Q84,Names!$A$2:$A$161,Names!$B$2:$B$161)","v":"فادي ناجح"},{"$f":"$Z$26","v":83},{"$f":"Sheet1!L18","v":5},null,null,16,{"$f":"$X$27","v":39},{"$f":"LOOKUP(X84,Names!$A$2:$A$161,Names!$B$2:$B$161)","v":"إسلام أحمد السيد عمر"},{"$f":"$Z$27","v":60},{"$f":"Sheet1!L18","v":5}]
[17,17,{"$f":"$C$30","v":65},{"$f":"LOOKUP(C85,Names!$A$2:$A$161,Names!$B$2:$B$161)","v":"أحمد طارق   "},{"$f":"$E$30","v":77},{"$f":"Sheet1!L19","v":4},null,null,17,{"$f":"$C$31","v":54},{"$f":"LOOKUP(J85,Names!$A$2:$A$161,Names!$B$2:$B$161)","v":"تامر رشاد   "},{"$f":"$E$31","v":203},{"$f":"Sheet1!L19","v":4},null,null,17,{"$f":"$C$32","v":43},{"$f":"LOOKUP(Q85,Names!$A$2:$A$161,Names!$B$2:$B$161)","v":"أمير محمد خطاب  "},{"$f":"$E$32","v":68},{"$f":"Sheet1!L19","v":4},null,null,17,{"$f":"$C$33","v":32},{"$f":"LOOKUP(X85,Names!$A$2:$A$161,Names!$B$2:$B$161)","v":"حمزة أحمد محمد"},{"$f":"$E$33","v":8},{"$f":"Sheet1!L19","v":4}]
[18,18,{"$f":"$J$30","v":58},{"$f":"LOOKUP(C86,Names!$A$2:$A$161,Names!$B$2:$B$161)","v":"أحمد إبراهيم غانم "},{"$f":"$L$30","v":135},{"$f":"Sheet1!L20","v":3},null,null,18,{"$f":"$J$31","v":47},{"$f":"LOOKUP(J86,Names!$A$2:$A$161,Names!$B$2:$B$161)","v":"هاني فكري المراكبي"},{"$f":"$L$31","v":9},{"$f":"Sheet1!L20","v":3},null,null,18,{"$f":"$J$32","v":36},{"$f":"LOOKUP(Q86,Names!$A$2:$A$161,Names!$B$2:$B$161)","v":"أحمد عبد الفتاح عرفه "},{"$f":"$L$32","v":82},{"$f":"Sheet1!L20","v":3},null,null,18,{"$f":"$J$33","v":69},{"$f":"LOOKUP(X86,Names!$A$2:$A$161,Names!$B$2:$B$161)","v":"أحمد علي السيد شرع"},{"$f":"$L$33","v":140},{"$f":"Sheet1!L20","v":3}]
[19,19,{"$f":"$Q$30","v":51},{"$f":"LOOKUP(C87,Names!$A$2:$A$161,Names!$B$2:$B$161)","v":"أحمد أحمد مرسي عبد الله "},{"$f":"$S$30","v":132},{"$f":"Sheet1!L21","v":2},null,null,19,{"$f":"$Q$31","v":40},{"$f":"LOOKUP(J87,Names!$A$2:$A$161,Names!$B$2:$B$161)","v":"احمد محمود عبد الرزاق  "},{"$f":"$S$31","v":36},{"$f":"Sheet1!L21","v":2},null,null,19,{"$f":"$Q$32","v":73},{"$f":"LOOKUP(Q87,Names!$A$2:$A$161,Names!$B$2:$B$161)","v":"مينا ناجح صبحي  "},{"$f":"$S$32","v":107},{"$f":"Sheet1!L21","v":2},null,null,19,{"$f":"$Q$33","v":62},{"$f":"LOOKUP(X87,Names!$A$2:$A$161,Names!$B$2:$B$161)","v":"محمد محمود مسعود  "},{"$f":"$S$33","v":37},{"$f":"Sheet1!L21","v":2}]
[20,20,{"$f":"$X$30","v":44},{"$f":"LOOKUP(C88,Names!$A$2:$A$161,Names!$B$2:$B$161)","v":"جمال السيد توفيق محمد "},{"$f":"$Z$30","v":84},{"$f":"Sheet1!L22","v":1},null,null,20,{"$f":"$X$31","v":77},{"$f":"LOOKUP(J88,Names!$A$2:$A$161,Names!$B$2:$B$161)","v":"محمد محمود شعبان "},{"$f":"$Z$31","v":119},{"$f":"Sheet1!L22","v":1},null,null,20,{"$f":"$X$32","v":66},{"$f":"LOOKUP(Q88,Names!$A$2:$A$161,Names!$B$2:$B$161)","v":"أحمد فؤاد حسنين "},{"$f":"$Z$32","v":63},{"$f":"Sheet1!L22","v":1},null,null,20,{"$f":"$X$33","v":55},{"$f":"LOOKUP(X88,Names!$A$2:$A$161,Names!$B$2:$B$161)","v":"ناجي بلبع"},{"$f":"$Z$33","v":38},{"$f":"Sheet1!L22","v":1}]
[21,21,{"$f":"$C$37","v":0},{"$f":"LOOKUP(C89,Names!$A$2:$A$161,Names!$B$2:$B$161)","v":{"$error":"#N/A"}},{"$f":"$E$37","v":0},{"$f":"Sheet1!L23","v":0},null,null,21,{"$f":"$C$38","v":0},{"$f":"LOOKUP(J89,Names!$A$2:$A$161,Names!$B$2:$B$161)","v":{"$error":"#N/A"}},{"$f":"$E$38","v":0},{"$f":"Sheet1!L23","v":0},null,null,21,{"$f":"$C$39","v":0},{"$f":"LOOKUP(Q89,Names!$A$2:$A$161,Names!$B$2:$B$161)","v":{"$error":"#N/A"}},{"$f":"$E$39","v":0},{"$f":"Sheet1!L22","v":1},null,null,21,{"$f":"$C$40","v":0},{"$f":"LOOKUP(X89,Names!$A$2:$A$161,Names!$B$2:$B$161)","v":{"$error":"#N/A"}},{"$f":"$E$40","v":0},{"$f":"Sheet1!L22","v":1}]
[22,22,{"$f":"$J$37","v":0},{"$f":"LOOKUP(C90,Names!$A$2:$A$161,Names!$B$2:$B$161)","v":{"$error":"#N/A"}},{"$f":"$L$37","v":0},{"$f":"Sheet1!L24","v":-1},null,null,22,{"$f":"$J$38","v":0},{"$f":"LOOKUP(J90,Names!$A$2:$A$161,Names!$B$2:$B$161)","v":{"$error":"#N/A"}},{"$f":"$L$38","v":0},{"$f":"Sheet1!L24","v":-1},null,null,22,{"$f":"$J$39","v":0},{"$f":"LOOKUP(Q90,Names!$A$2:$A$161,Names!$B$2:$B$161)","v":{"$error":"#N/A"}},{"$f":"$L$39","v":0},{"$f":"Sheet1!L23","v":0},null,null,22,{"$f":"$J$40","v":0},{"$f":"LOOKUP(X90,Names!$A$2:$A$161,Names!$B$2:$B$161)","v":{"$error":"#N/A"}},{"$f":"$L$40","v":0},{"$f":"Sheet1!L23","v":0}]
[23,23,{"$f":"$Q$37","v":0},{"$f":"LOOKUP(C91,Names!$A$2:$A$161,Names!$B$2:$B$161)","v":{"$error":"#N/A"}},{"$f":"$S$37","v":0},{"$f":"Sheet1!L25","v":-2},null,null,23,{"$f":"$Q$38","v":0},{"$f":"LOOKUP(J91,Names!$A$2:$A$161,Names!$B$2:$B$161)","v":{"$error":"#N/A"}},{"$f":"$S$38","v":0},{"$f":"Sheet1!L25","v":-2},null,null,23,{"$f":"$Q$39","v":0},{"$f":"LOOKUP(Q91,Names!$A$2:$A$161,Names!$B$2:$B$161)","v":{"$error":"#N/A"}},{"$f":"$S$39","v":0},{"$f":"Sheet1!L24","v":-1},null,null,23,{"$f":"$Q$40","v":0},{"$f":"LOOKUP(X91,Names!$A$2:$A$161,Names!$B$2:$B$161)","v":{"$error":"#N/A"}},{"$f":"$S$40","v":0},{"$f":"Sheet1!L24","v":-1}]
[24,24,{"$f":"$X$37","v":0},{"$f":"LOOKUP(C92,Names!$A$2:$A$161,Names!$B$2:$B$161)","v":{"$error":"#N/A"}},{"$f":"$Z$37","v":0},{"$f":"Sheet1!L26","v":-3},null,null,24,{"$f":"$X$38","v":0},{"$f":"LOOKUP(J92,Names!$A$2:$A$161,Names!$B$2:$B$161)","v":{"$error":"#N/A"}},{"$f":"$Z$38","v":0},{"$f":"Sheet1!L26","v":-3},null,null,24,{"$f":"$X$39","v":0},{"$f":"LOOKUP(Q92,Names!$A$2:$A$161,Names!$B$2:$B$161)","v":{"$error":"#N/A"}},{"$f":"$Z$39","v":0},{"$f":"Sheet1!L25","v":-2},null,null,24,{"$f":"$X$40","v":0},{"$f":"LOOKUP(X92,Names!$A$2:$A$161,Names!$B$2:$B$161)","v":{"$error":"#N/A"}},{"$f":"$Z$40","v":0},{"$f":"Sheet1!L25","v":-2}]
[25,25,{"$f":"$C$43","v":0},{"$f":"LOOKUP(C93,Names!$A$2:$A$161,Names!$B$2:$B$161)","v":{"$error":"#N/A"}},{"$f":"$E$43","v":0},{"$f":"Sheet1!L27","v":-4},null,null,25,{"$f":"$C$44","v":0},{"$f":"LOOKUP(J93,Names!$A$2:$A$161,Names!$B$2:$B$161)","v":{"$error":"#N/A"}},{"$f":"$E$44","v":0},{"$f":"Sheet1!L27","v":-4},null,null,25,{"$f":"$C$45","v":0},{"$f":"LOOKUP(Q93,Names!$A$2:$A$161,Names!$B$2:$B$161)","v":{"$error":"#N/A"}},{"$f":"$E$45","v":0},{"$f":"Sheet1!L26","v":-3},null,null,25,{"$f":"$C$46","v":0},{"$f":"LOOKUP(X93,Names!$A$2:$A$161,Names!$B$2:$B$161)","v":{"$error":"#N/A"}},{"$f":"$E$46","v":0},{"$f":"Sheet1!L26","v":-3}]
[26,26,{"$f":"$J$43","v":0},{"$f":"LOOKUP(C94,Names!$A$2:$A$161,Names!$B$2:$B$161)","v":{"$error":"#N/A"}},{"$f":"$L$43","v":0},{"$f":"Sheet1!L28","v":-5},null,null,26,{"$f":"$J$44","v":0},{"$f":"LOOKUP(J94,Names!$A$2:$A$161,Names!$B$2:$B$161)","v":{"$error":"#N/A"}},{"$f":"$L$44","v":0},{"$f":"Sheet1!L28","v":-5},null,null,26,{"$f":"$J$45","v":0},{"$f":"LOOKUP(Q94,Names!$A$2:$A$161,Names!$B$2:$B$161)","v":{"$error":"#N/A"}},{"$f":"$L$45","v":0},{"$f":"Sheet1!L27","v":-4},null,null,26,{"$f":"$J$46","v":0},{"$f":"LOOKUP(X94,Names!$A$2:$A$161,Names!$B$2:$B$161)","v":{"$error":"#N/A"}},{"$f":"$L$46","v":0},{"$f":"Sheet1!L27","v":-4}]
[27,27,{"$f":"$Q$43","v":0},{"$f":"LOOKUP(C95,Names!$A$2:$A$161,Names!$B$2:$B$161)","v":{"$error":"#N/A"}},{"$f":"$S$43","v":0},{"$f":"Sheet1!L29","v":-6},null,null,27,{"$f":"$Q$44","v":0},{"$f":"LOOKUP(J95,Names!$A$2:$A$161,Names!$B$2:$B$161)","v":{"$error":"#N/A"}},{"$f":"$S$44","v":0},{"$f":"Sheet1!L29","v":-6},null,null,27,{"$f":"$Q$45","v":0},{"$f":"LOOKUP(Q95,Names!$A$2:$A$161,Names!$B$2:$B$161)","v":{"$error":"#N/A"}},{"$f":"$S$45","v":0},{"$f":"Sheet1!L28","v":-5},null,null,27,{"$f":"$Q$46","v":0},{"$f":"LOOKUP(X95,Names!$A$2:$A$161,Names!$B$2:$B$161)","v":{"$error":"#N/A"}},{"$f":"$S$46","v":0},{"$f":"Sheet1!L28","v":-5}]
[28,28,{"$f":"$X$43","v":0},{"$f":"LOOKUP(C96,Names!$A$2:$A$161,Names!$B$2:$B$161)","v":{"$error":"#N/A"}},null,null,null,null,28,{"$f":"$X$44","v":0},{"$f":"LOOKUP(J96,Names!$A$2:$A$161,Names!$B$2:$B$161)","v":{"$error":"#N/A"}},null,null,null,null,28,{"$f":"$X$45","v":0},{"$f":"LOOKUP(Q96,Names!$A$2:$A$161,Names!$B$2:$B$161)","v":{"$error":"#N/A"}},null,null,null,null,28,{"$f":"$X$46","v":0},{"$f":"LOOKUP(X96,Names!$A$2:$A$161,Names!$B$2:$B$161)","v":{"$error":"#N/A"}}]
[29,29,{"$f":"$C$49","v":0},{"$f":"LOOKUP(C97,Names!$A$2:$A$161,Names!$B$2:$B$161)","v":{"$error":"#N/A"}},null,null,null,null,29,{"$f":"$C$50","v":0},{"$f":"LOOKUP(J97,Names!$A$2:$A$161,Names!$B$2:$B$161)","v":{"$error":"#N/A"}},null,null,null,null,29,{"$f":"$C$51","v":0},{"$f":"LOOKUP(Q97,Names!$A$2:$A$161,Names!$B$2:$B$161)","v":{"$error":"#N/A"}},null,null,null,null,29,{"$f":"$C$52","v":0},{"$f":"LOOKUP(X97,Names!$A$2:$A$161,Names!$B$2:$B$161)","v":{"$error":"#N/A"}}]
[30,30,{"$f":"$J$49","v":0},{"$f":"LOOKUP(C98,Names!$A$2:$A$161,Names!$B$2:$B$161)","v":{"$error":"#N/A"}},null,null,null,null,30,{"$f":"$J$50","v":0},{"$f":"LOOKUP(J98,Names!$A$2:$A$161,Names!$B$2:$B$161)","v":{"$error":"#N/A"}},null,null,null,null,30,{"$f":"$J$51","v":0},{"$f":"LOOKUP(Q98,Names!$A$2:$A$161,Names!$B$2:$B$161)","v":{"$error":"#N/A"}},null,null,null,null,30,{"$f":"$J$52","v":0},{"$f":"LOOKUP(X98,Names!$A$2:$A$161,Names!$B$2:$B$161)","v":{"$error":"#N/A"}}]
[31,31,{"$f":"$Q$49","v":0},{"$f":"LOOKUP(C99,Names!$A$2:$A$161,Names!$B$2:$B$161)","v":{"$error":"#N/A"}},null,null,null,null,31,{"$f":"$Q$50","v":0},{"$f":"LOOKUP(J99,Names!$A$2:$A$161,Names!$B$2:$B$161)","v":{"$error":"#N/A"}},null,null,null,null,31,{"$f":"$Q$51","v":0},{"$f":"LOOKUP(Q99,Names!$A$2:$A$161,Names!$B$2:$B$161)","v":{"$error":"#N/A"}},null,null,null,null,31,{"$f":"$Q$52","v":0},{"$f":"LOOKUP(X99,Names!$A$2:$A$161,Names!$B$2:$B$161)","v":{"$error":"#N/A"}}]
[32,32,{"$f":"$X$49","v":0},{"$f":"LOOKUP(C100,Names!$A$2:$A$161,Names!$B$2:$B$161)","v":{"$error":"#N/A"}},null,null,null,null,32,{"$f":"$X$50","v":0},{"$f":"LOOKUP(J100,Names!$A$2:$A$161,Names!$B$2:$B$161)","v":{"$error":"#N/A"}},null,null,null,null,32,{"$f":"$X$51","v":0},{"$f":"LOOKUP(Q100,Names!$A$2:$A$161,Names!$B$2:$B$161)","v":{"$error":"#N/A"}},null,null,null,null,32,{"$f":"$X$52","v":0},{"$f":"LOOKUP(X100,Names!$A$2:$A$161,Names!$B$2:$B$161)","v":{"$error":"#N/A"}}]
[33,33,{"$f":"$C$55","v":0},{"$f":"LOOKUP(C101,Names!$A$2:$A$161,Names!$B$2:$B$161)","v":{"$error":"#N/A"}},null,null,null,null,33,{"$f":"$C$56","v":0},{"$f":"LOOKUP(J101,Names!$A$2:$A$161,Names!$B$2:$B$161)","v":{"$error":"#N/A"}},null,null,null,null,33,{"$f":"$C$57","v":0},{"$f":"LOOKUP(Q101,Names!$A$2:$A$161,Names!$B$2:$B$161)","v":{"$error":"#N/A"}},null,null,null,null,33,{"$f":"$C$58","v":0},{"$f":"LOOKUP(X101,Names!$A$2:$A$161,Names!$B$2:$B$161)","v":{"$error":"#N/A"}}]
[34,34,{"$f":"$J$55","v":0},{"$f":"LOOKUP(C102,Names!$A$2:$A$161,Names!$B$2:$B$161)","v":{"$error":"#N/A"}},null,null,null,null,34,{"$f":"$J$56","v":0},{"$f":"LOOKUP(J102,Names!$A$2:$A$161,Names!$B$2:$B$161)","v":{"$error":"#N/A"}},null,null,null,null,34,{"$f":"$J$57","v":0},{"$f":"LOOKUP(Q102,Names!$A$2:$A$161,Names!$B$2:$B$161)","v":{"$error":"#N/A"}},null,null,null,null,34,{"$f":"$J$58","v":0},{"$f":"LOOKUP(X102,Names!$A$2:$A$161,Names!$B$2:$B$161)","v":{"$error":"#N/A"}}]
[35,35,{"$f":"$Q$55","v":0},{"$f":"LOOKUP(C103,Names!$A$2:$A$161,Names!$B$2:$B$161)","v":{"$error":"#N/A"}},null,null,null,null,35,{"$f":"$Q$56","v":0},{"$f":"LOOKUP(J103,Names!$A$2:$A$161,Names!$B$2:$B$161)","v":{"$error":"#N/A"}},null,null,null,null,35,{"$f":"$Q$57","v":0},{"$f":"LOOKUP(Q103,Names!$A$2:$A$161,Names!$B$2:$B$161)","v":{"$error":"#N/A"}},null,null,null,null,35,{"$f":"$Q$58","v":0},{"$f":"LOOKUP(X103,Names!$A$2:$A$161,Names!$B$2:$B$161)","v":{"$error":"#N/A"}}]
[36,36,{"$f":"$X$55","v":0},{"$f":"LOOKUP(C104,Names!$A$2:$A$161,Names!$B$2:$B$161)","v":{"$error":"#N/A"}},null,null,null,null,36,{"$f":"$X$56","v":0},{"$f":"LOOKUP(J104,Names!$A$2:$A$161,Names!$B$2:$B$161)","v":{"$error":"#N/A"}},null,null,null,null,36,{"$f":"$X$57","v":0},{"$f":"LOOKUP(Q104,Names!$A$2:$A$161,Names!$B$2:$B$161)","v":{"$error":"#N/A"}},null,null,null,null,36,{"$f":"$X$58","v":0},{"$f":"LOOKUP(X104,Names!$A$2:$A$161,Names!$B$2:$B$161)","v":{"$error":"#N/A"}}]
[37,37,{"$f":"$C$61","v":0},{"$f":"LOOKUP(C105,Names!$A$2:$A$161,Names!$B$2:$B$161)","v":{"$error":"#N/A"}},null,null,null,null,37,{"$f":"$C$62","v":0},{"$f":"LOOKUP(J105,Names!$A$2:$A$161,Names!$B$2:$B$161)","v":{"$error":"#N/A"}},null,null,null,null,37,{"$f":"$C$63","v":0},{"$f":"LOOKUP(Q105,Names!$A$2:$A$161,Names!$B$2:$B$161)","v":{"$error":"#N/A"}},null,null,null,null,37,{"$f":"$C$64","v":0},{"$f":"LOOKUP(X105,Names!$A$2:$A$161,Names!$B$2:$B$161)","v":{"$error":"#N/A"}}]
[38,38,{"$f":"$J$61","v":0},{"$f":"LOOKUP(C106,Names!$A$2:$A$161,Names!$B$2:$B$161)","v":{"$error":"#N/A"}},null,null,null,null,38,{"$f":"$J$62","v":0},{"$f":"LOOKUP(J106,Names!$A$2:$A$161,Names!$B$2:$B$161)","v":{"$error":"#N/A"}},null,null,null,null,38,{"$f":"$J$63","v":0},{"$f":"LOOKUP(Q106,Names!$A$2:$A$161,Names!$B$2:$B$161)","v":{"$error":"#N/A"}},null,null,null,null,38,{"$f":"$J$64","v":0},{"$f":"LOOKUP(X106,Names!$A$2:$A$161,Names!$B$2:$B$161)","v":{"$error":"#N/A"}}]
[39,39,{"$f":"$Q$61","v":0},{"$f":"LOOKUP(C107,Names!$A$2:$A$161,Names!$B$2:$B$161)","v":{"$error":"#N/A"}},null,null,null,null,39,{"$f":"$Q$62","v":0},{"$f":"LOOKUP(J107,Names!$A$2:$A$161,Names!$B$2:$B$161)","v":{"$error":"#N/A"}},null,null,null,null,39,{"$f":"$Q$63","v":0},{"$f":"LOOKUP(Q107,Names!$A$2:$A$161,Names!$B$2:$B$161)","v":{"$error":"#N/A"}},null,null,null,null,39,{"$f":"$Q$64","v":0},{"$f":"LOOKUP(X107,Names!$A$2:$A$161,Names!$B$2:$B$161)","v":{"$error":"#N/A"}}]
[40,40,{"$f":"$X$61","v":0},{"$f":"LOOKUP(C108,Names!$A$2:$A$161,Names!$B$2:$B$161)","v":{"$error":"#N/A"}},null,null,null,null,40,{"$f":"$X$62","v":0},{"$f":"LOOKUP(J108,Names!$A$2:$A$161,Names!$B$2:$B$161)","v":{"$error":"#N/A"}},null,null,null,null,40,{"$f":"$X$63","v":0},{"$f":"LOOKUP(Q108,Names!$A$2:$A$161,Names!$B$2:$B$161)","v":{"$error":"#N/A"}},null,null,null,null,40,{"$f":"$X$64","v":0},{"$f":"LOOKUP(X108,Names!$A$2:$A$161,Names!$B$2:$B$161)","v":{"$error":"#N/A"}}]

{"sheet":"Sheet1","index":6,"n_rows":82,"n_cols":15,"rows_kept":82,"cut":false,"hidden":false,"merged":[[74,0,77,0],[78,0,81,0],[50,0,53,0],[54,0,57,0],[58,0,61,0],[62,0,65,0],[66,0,69,0],[70,0,73,0],[46,0,49,0],[2,0,5,0],[6,0,9,0],[10,0,13,0],[14,0,17,0],[18,0,21,0],[22,0,25,0],[26,0,29,0],[30,0,33,0],[34,0,37,0],[38,0,41,0],[42,0,45,0]]}
[]
[]
[1,81,1,null,1,{"$f":"LOOKUP(E3,$C$3:$C$82,$B$3:$B$82)","v":81},null,1,1,null,null,{"$f":"$M$3+1","v":21},20,"عدد الطاولات"]
[null,82,2,null,38,{"$f":"LOOKUP(E4,$C$3:$C$82,$B$3:$B$82)","v":118},null,2,2,null,null,{"$f":"L3-2","v":19},null,0.25,"الأول"]
[null,83,3,null,27,107,null,3,3,null,null,{"$f":"L4-1","v":18},null,0.15,"الثاني"]
[null,84,4,null,16,96,null,4,4,null,null,17,null,0.1,"الثالث"]
[2,85,5,null,5,85,null,5,5,null,null,16,null,0,"الرابع"]
[null,86,6,null,42,122,null,6,6,null,null,15]
[null,87,7,null,31,111,null,7,7,null,null,14]
[null,88,8,null,20,100,null,8,8,null,null,13]
[3,89,9,null,9,89,null,9,9,null,null,12]
[null,90,10,null,46,126,null,10,10,null,null,11]
[null,91,11,null,35,115,null,11,11,null,null,10]
[null,92,12,null,24,104,null,12,12,null,null,9]
[4,93,13,null,13,93,null,13,13,null,null,8]
[null,94,14,null,2,82,null,14,14,null,null,7]
[null,95,15,null,39,119,null,15,15,null,null,6]
[null,96,16,null,28,108,null,16,16,null,null,5]
[5,97,17,null,17,97,null,17,17,null,null,4]
[null,98,18,null,6,{"$f":"LOOKUP(E20,$C$3:$C$82,$B$3:$B$82)","v":86},null,18,18,null,null,3]
[null,99,19,null,43,123,null,19,19,null,null,2]
[null,100,20,null,32,112,null,20,20,null,null,1]
[6,101,21,null,21,101,null,21,21,null,null,0]
[null,102,22,null,10,90,null,22,22,null,null,-1]
[null,103,23,null,47,127,null,23,23,null,null,-2]
[null,104,24,null,36,116,null,24,24,null,null,-3]
[7,105,25,null,25,105,null,25,25,null,null,-4]
[null,106,26,null,14,94,null,26,26,null,null,-5]
[null,107,27,null,3,83,null,27,27,null,null,-6]
[null,108,28,null,40,120,null,28,28,null,null,-7]
[8,109,29,null,29,109,null,29,29,null,null,-8]
[null,110,30,null,18,98,null,30,30,null,null,-9]
[null,111,31,null,7,87,null,31,31,null,null,-10]
[null,112,32,null,44,124,null,32,32,null,null,-11]
[9,113,33,null,33,113,null,33,33,null,null,-12]
[null,114,34,null,22,{"$f":"LOOKUP(E36,$C$3:$C$82,$B$3:$B$82)","v":102},null,34,34,null,null,-13]
[null,115,35,null,11,91,null,35,35,null,null,-14]
[null,116,36,null,48,128,null,36,36,null,null,-15]
[10,117,37,null,37,117,null,37,37,null,null,-16]
[null,118,38,null,26,106,null,38,38,null,null,-17]
[null,119,39,null,15,95,null,39,39,null,null,-18]
[null,120,40,null,4,84,null,40,40,null,null,-19]
[11,121,41,null,41,121,null,41,41]
[null,122,42,null,30,110,null,42,42]
[null,123,43,null,19,99,null,43,43]
[null,124,44,null,8,88,null,44,44]
[12,125,45,null,45,125,null,45,45]
[null,126,46,null,34,114,null,46,46]
[null,127,47,null,23,103,null,47,47]
[null,128,48,null,12,92,null,48,48]
[13,129,49,null,null,{"$error":"#N/A"},null,49,49]
[null,130,50,null,null,{"$f":"LOOKUP(E52,$C$3:$C$82,$B$3:$B$82)","v":{"$error":"#N/A"}},null,50,50]
[null,131,51,null,null,{"$error":"#N/A"},null,51,51]
[null,132,52,null,null,{"$error":"#N/A"},null,52,52]
[14,133,53,null,null,{"$error":"#N/A"},null,53,53]
[null,134,54,null,null,{"$error":"#N/A"},null,54,54]
[null,135,55,null,null,{"$error":"#N/A"},null,55,55]
[null,136,56,null,null,{"$error":"#N/A"},null,56,56]
[15,null,57,null,null,{"$error":"#N/A"},null,57,57]
[null,null,58,null,null,{"$error":"#N/A"},null,58,58]
[null,null,59,null,null,{"$error":"#N/A"},null,59,59]
[null,null,60,null,null,{"$error":"#N/A"},null,60,60]
[16,null,61,null,null,{"$error":"#N/A"},null,61,61]
[null,null,62,null,null,{"$error":"#N/A"},null,62,62]
[null,null,63,null,null,{"$error":"#N/A"},null,63,63]
[null,null,64,null,null,{"$error":"#N/A"},null,64,64]
[17,null,65,null,null,{"$error":"#N/A"},null,65,65]
[null,null,66,null,null,{"$f":"LOOKUP(E68,$C$3:$C$82,$B$3:$B$82)","v":{"$error":"#N/A"}},null,66,66]
[null,null,67,null,null,{"$error":"#N/A"},null,67,67]
[null,null,68,null,null,{"$error":"#N/A"},null,68,68]
[18,null,69,null,null,{"$error":"#N/A"},null,69,69]
[null,null,70,null,null,{"$error":"#N/A"},null,70,70]
[null,null,71,null,null,{"$error":"#N/A"},null,71,71]
[null,null,72,null,null,{"$error":"#N/A"},null,72,72]
[19,null,73,null,null,{"$error":"#N/A"},null,73,73]
[null,null,74,null,null,{"$error":"#N/A"},null,74,74]
[null,null,75,null,null,{"$error":"#N/A"},null,null,75]
[null,null,76,null,null,{"$error":"#N/A"},null,null,76]
[20,null,77,null,null,{"$error":"#N/A"},null,77,77]
[null,null,78,null,null,{"$error":"#N/A"},null,78,78]
[null,null,79,null,null,{"$error":"#N/A"},null,null,79]
[null,null,80,null,null,{"$error":"#N/A"},null,null,80]

{"sheet":"MP_PP","index":7,"n_rows":162,"n_cols":6,"rows_kept":162,"cut":false,"hidden":false,"merged":[[0,0,1,0],[0,1,1,1],[0,2,1,2],[0,3,1,3]]}
["P. No.","Names","رقم العضوية","R."]
[]
[65,{"$f":"LOOKUP(A3,Names!$A$2:$A$161,Names!$B$2:$B$161)","v":"أحمد طارق   "},{"$f":"LOOKUP(A3,Names!$A$2:$A$161,Names!$C$2:$C$161)","v":346},{"$f":"Score!AT5","v":1},1000,7]
[95,{"$f":"LOOKUP(A4,Names!$A$2:$A$161,Names!$B$2:$B$161)","v":0},{"$f":"LOOKUP(A4,Names!$A$2:$A$161,Names!$C$2:$C$161)","v":0},{"$f":"Score!AT6","v":2},800,5]
[12,{"$f":"LOOKUP(A5,Names!$A$2:$A$161,Names!$B$2:$B$161)","v":"أمير كمال جميل"},{"$f":"LOOKUP(A5,Names!$A$2:$A$161,Names!$C$2:$C$161)","v":2001},{"$f":"Score!AT7","v":3},700,3]
[27,{"$f":"LOOKUP(A6,Names!$A$2:$A$161,Names!$B$2:$B$161)","v":"سمير الحوفي"},{"$f":"LOOKUP(A6,Names!$A$2:$A$161,Names!$C$2:$C$161)","v":2007},{"$f":"Score!AT8","v":4},500,2]
[30,{"$f":"LOOKUP(A7,Names!$A$2:$A$161,Names!$B$2:$B$161)","v":"شريف جلال سماحة "},{"$f":"LOOKUP(A7,Names!$A$2:$A$161,Names!$C$2:$C$161)","v":718},{"$f":"Score!AT9","v":5},476.85185185185185,1]
[90,{"$f":"LOOKUP(A8,Names!$A$2:$A$161,Names!$B$2:$B$161)","v":0},{"$f":"LOOKUP(A8,Names!$A$2:$A$161,Names!$C$2:$C$161)","v":0},{"$f":"Score!AT10","v":6},472.22222222222223]
[67,{"$f":"LOOKUP(A9,Names!$A$2:$A$161,Names!$B$2:$B$161)","v":"محمد محمود فضل "},{"$f":"LOOKUP(A9,Names!$A$2:$A$161,Names!$C$2:$C$161)","v":379},{"$f":"Score!AT11","v":7},472.22222222222223]
[80,{"$f":"LOOKUP(A10,Names!$A$2:$A$161,Names!$B$2:$B$161)","v":"أمن حسام"},{"$f":"LOOKUP(A10,Names!$A$2:$A$161,Names!$C$2:$C$161)","v":2020},{"$f":"Score!AT12","v":8},462.96296296296299]
[45,{"$f":"LOOKUP(A11,Names!$A$2:$A$161,Names!$B$2:$B$161)","v":"رضا هنري"},{"$f":"LOOKUP(A11,Names!$A$2:$A$161,Names!$C$2:$C$161)","v":0},{"$f":"Score!AT13","v":9},462.96296296296299]
[32,{"$f":"LOOKUP(A12,Names!$A$2:$A$161,Names!$B$2:$B$161)","v":"حمزة أحمد محمد"},{"$f":"LOOKUP(A12,Names!$A$2:$A$161,Names!$C$2:$C$161)","v":2021},{"$f":"Score!AT14","v":10},453.7037037037037]
[48,{"$f":"LOOKUP(A13,Names!$A$2:$A$161,Names!$B$2:$B$161)","v":"محمد ناجي زاهر بلبع "},{"$f":"LOOKUP(A13,Names!$A$2:$A$161,Names!$C$2:$C$161)","v":324},{"$f":"Score!AT15","v":11},449.07407407407408]
[70,{"$f":"LOOKUP(A14,Names!$A$2:$A$161,Names!$B$2:$B$161)","v":"أحمد صلاح الدين دياب "},{"$f":"LOOKUP(A14,Names!$A$2:$A$161,Names!$C$2:$C$161)","v":510},{"$f":"Score!AT16","v":12},449.07407407407408]
[26,{"$f":"LOOKUP(A15,Names!$A$2:$A$161,Names!$B$2:$B$161)","v":"أحمد الطنطاوي "},{"$f":"LOOKUP(A15,Names!$A$2:$A$161,Names!$C$2:$C$161)","v":670},{"$f":"Score!AT17","v":13},439.81481481481484]
[47,{"$f":"LOOKUP(A16,Names!$A$2:$A$161,Names!$B$2:$B$161)","v":"هاني فكري المراكبي"},{"$f":"LOOKUP(A16,Names!$A$2:$A$161,Names!$C$2:$C$161)","v":2011},{"$f":"Score!AT18","v":14},439.81481481481484]
[52,{"$f":"LOOKUP(A17,Names!$A$2:$A$161,Names!$B$2:$B$161)","v":"يامن محمد حسن  "},{"$f":"LOOKUP(A17,Names!$A$2:$A$161,Names!$C$2:$C$161)","v":350},{"$f":"Score!AT19","v":15},430.55555555555554]
[75,{"$f":"LOOKUP(A18,Names!$A$2:$A$161,Names!$B$2:$B$161)","v":"محمود سليمان"},{"$f":"LOOKUP(A18,Names!$A$2:$A$161,Names!$C$2:$C$161)","v":2016},{"$f":"Score!AT20","v":16},425.92592592592592]
[53,{"$f":"LOOKUP(A19,Names!$A$2:$A$161,Names!$B$2:$B$161)","v":"أحمد محمد شوقي هيبه"},{"$f":"LOOKUP(A19,Names!$A$2:$A$161,Names!$C$2:$C$161)","v":477},{"$f":"Score!AT21","v":17},421.2962962962963]
[99,{"$f":"LOOKUP(A20,Names!$A$2:$A$161,Names!$B$2:$B$161)","v":0},{"$f":"LOOKUP(A20,Names!$A$2:$A$161,Names!$C$2:$C$161)","v":0},{"$f":"Score!AT22","v":18},416.66666666666669]
[13,{"$f":"LOOKUP(A21,Names!$A$2:$A$161,Names!$B$2:$B$161)","v":"أحمد جميل السيد "},{"$f":"LOOKUP(A21,Names!$A$2:$A$161,Names!$C$2:$C$161)","v":368},{"$f":"Score!AT23","v":19},412.03703703703707]
[76,{"$f":"LOOKUP(A22,Names!$A$2:$A$161,Names!$B$2:$B$161)","v":"محمد إبراهيم قطب "},{"$f":"LOOKUP(A22,Names!$A$2:$A$161,Names!$C$2:$C$161)","v":2017},{"$f":"Score!AT24","v":20},407.40740740740739]
[25,{"$f":"LOOKUP(A23,Names!$A$2:$A$161,Names!$B$2:$B$161)","v":"خالد شباره "},{"$f":"LOOKUP(A23,Names!$A$2:$A$161,Names!$C$2:$C$161)","v":6},{"$f":"Score!AT25","v":21},402.77777777777777]
[63,{"$f":"LOOKUP(A24,Names!$A$2:$A$161,Names!$B$2:$B$161)","v":"محمد أحمد محمد عبد الله "},{"$f":"LOOKUP(A24,Names!$A$2:$A$161,Names!$C$2:$C$161)","v":360},{"$f":"Score!AT26","v":22},398.14814814814815]
[54,{"$f":"LOOKUP(A25,Names!$A$2:$A$161,Names!$B$2:$B$161)","v":"تامر رشاد   "},{"$f":"LOOKUP(A25,Names!$A$2:$A$161,Names!$C$2:$C$161)","v":297},{"$f":"Score!AT27","v":23},393.51851851851853]
[77,{"$f":"LOOKUP(A26,Names!$A$2:$A$161,Names!$B$2:$B$161)","v":"محمد محمود شعبان "},{"$f":"LOOKUP(A26,Names!$A$2:$A$161,Names!$C$2:$C$161)","v":486},{"$f":"Score!AT28","v":24},388.88888888888891]
[51,{"$f":"LOOKUP(A27,Names!$A$2:$A$161,Names!$B$2:$B$161)","v":"أحمد أحمد مرسي عبد الله "},{"$f":"LOOKUP(A27,Names!$A$2:$A$161,Names!$C$2:$C$161)","v":341},{"$f":"Score!AT29","v":25},388.88888888888891]
[22,{"$f":"LOOKUP(A28,Names!$A$2:$A$161,Names!$B$2:$B$161)","v":"طه إبراهيم طه  "},{"$f":"LOOKUP(A28,Names!$A$2:$A$161,Names!$C$2:$C$161)","v":344},{"$f":"Score!AT30","v":26},388.88888888888891]
[28,{"$f":"LOOKUP(A29,Names!$A$2:$A$161,Names!$B$2:$B$161)","v":"عمرو محسن فرج "},{"$f":"LOOKUP(A29,Names!$A$2:$A$161,Names!$C$2:$C$161)","v":390},{"$f":"Score!AT31","v":27},375]
[21,{"$f":"LOOKUP(A30,Names!$A$2:$A$161,Names!$B$2:$B$161)","v":"أحمد محمد حمدي صالح "},{"$f":"LOOKUP(A30,Names!$A$2:$A$161,Names!$C$2:$C$161)","v":396},{"$f":"Score!AT32","v":28},370.37037037037038]
[34,{"$f":"LOOKUP(A31,Names!$A$2:$A$161,Names!$B$2:$B$161)","v":"عماد الدين جمعة هلال  "},{"$f":"LOOKUP(A31,Names!$A$2:$A$161,Names!$C$2:$C$161)","v":391},{"$f":"Score!AT33","v":29},370.37037037037038]
[60,{"$f":"LOOKUP(A32,Names!$A$2:$A$161,Names!$B$2:$B$161)","v":"عصام الدين حامد منصور "},{"$f":"LOOKUP(A32,Names!$A$2:$A$161,Names!$C$2:$C$161)","v":758},{"$f":"Score!AT34","v":30},361.11111111111114]
[64,{"$f":"LOOKUP(A33,Names!$A$2:$A$161,Names!$B$2:$B$161)","v":"وليد شعبان إسماعيل علي "},{"$f":"LOOKUP(A33,Names!$A$2:$A$161,Names!$C$2:$C$161)","v":450},{"$f":"Score!AT35","v":31},361.11111111111114]
[14,{"$f":"LOOKUP(A34,Names!$A$2:$A$161,Names!$B$2:$B$161)","v":"عماد محمد فؤاد"},{"$f":"LOOKUP(A34,Names!$A$2:$A$161,Names!$C$2:$C$161)","v":681},{"$f":"Score!AT36","v":32},361.11111111111114]
[103,{"$f":"LOOKUP(A35,Names!$A$2:$A$161,Names!$B$2:$B$161)","v":0},{"$f":"LOOKUP(A35,Names!$A$2:$A$161,Names!$C$2:$C$161)","v":0},{"$f":"Score!AT37","v":33},347.22222222222223]
[105,{"$f":"LOOKUP(A36,Names!$A$2:$A$161,Names!$B$2:$B$161)","v":0},{"$f":"LOOKUP(A36,Names!$A$2:$A$161,Names!$C$2:$C$161)","v":0},{"$f":"Score!AT38","v":34},347.22222222222223]
[88,{"$f":"LOOKUP(A37,Names!$A$2:$A$161,Names!$B$2:$B$161)","v":0},{"$f":"LOOKUP(A37,Names!$A$2:$A$161,Names!$C$2:$C$161)","v":0},{"$f":"Score!AT39","v":35},337.96296296296299]
[16,{"$f":"LOOKUP(A38,Names!$A$2:$A$161,Names!$B$2:$B$161)","v":"عبد الرحمن سعد موسى"},{"$f":"LOOKUP(A38,Names!$A$2:$A$161,Names!$C$2:$C$161)","v":2018},{"$f":"Score!AT40","v":36},333.33333333333337]
[94,{"$f":"LOOKUP(A39,Names!$A$2:$A$161,Names!$B$2:$B$161)","v":0},{"$f":"LOOKUP(A39,Names!$A$2:$A$161,Names!$C$2:$C$161)","v":0},{"$f":"Score!AT41","v":37},328.7037037037037]
[102,{"$f":"LOOKUP(A40,Names!$A$2:$A$161,Names!$B$2:$B$161)","v":0},{"$f":"LOOKUP(A40,Names!$A$2:$A$161,Names!$C$2:$C$161)","v":0},{"$f":"Score!AT42","v":38},324.07407407407408]
[3,{"$f":"LOOKUP(A41,Names!$A$2:$A$161,Names!$B$2:$B$161)","v":"إيهاب يوسف عمارة "},{"$f":"LOOKUP(A41,Names!$A$2:$A$161,Names!$C$2:$C$161)","v":756},{"$f":"Score!AT43","v":39},319.44444444444446]
[84,{"$f":"LOOKUP(A42,Names!$A$2:$A$161,Names!$B$2:$B$161)","v":0},{"$f":"LOOKUP(A42,Names!$A$2:$A$161,Names!$C$2:$C$161)","v":0},{"$f":"Score!AT44","v":40},314.81481481481484]
[86,{"$f":"LOOKUP(A43,Names!$A$2:$A$161,Names!$B$2:$B$161)","v":0},{"$f":"LOOKUP(A43,Names!$A$2:$A$161,Names!$C$2:$C$161)","v":0},{"$f":"Score!AT45","v":41},310.18518518518522]
[44,{"$f":"LOOKUP(A44,Names!$A$2:$A$161,Names!$B$2:$B$161)","v":"جمال السيد توفيق محمد "},{"$f":"LOOKUP(A44,Names!$A$2:$A$161,Names!$C$2:$C$161)","v":758},{"$f":"Score!AT46","v":42},305.55555555555554]
[71,{"$f":"LOOKUP(A45,Names!$A$2:$A$161,Names!$B$2:$B$161)","v":"معتز محمد"},{"$f":"LOOKUP(A45,Names!$A$2:$A$161,Names!$C$2:$C$161)","v":0},{"$f":"Score!AT47","v":43},305.55555555555554]
[37,{"$f":"LOOKUP(A46,Names!$A$2:$A$161,Names!$B$2:$B$161)","v":"حمدي محمود عبد العزيز"},{"$f":"LOOKUP(A46,Names!$A$2:$A$161,Names!$C$2:$C$161)","v":2006},{"$f":"Score!AT48","v":44},305.55555555555554]
[82,{"$f":"LOOKUP(A47,Names!$A$2:$A$161,Names!$B$2:$B$161)","v":0},{"$f":"LOOKUP(A47,Names!$A$2:$A$161,Names!$C$2:$C$161)","v":0},{"$f":"Score!AT49","v":45},291.66666666666669]
[107,{"$f":"LOOKUP(A48,Names!$A$2:$A$161,Names!$B$2:$B$161)","v":0},{"$f":"LOOKUP(A48,Names!$A$2:$A$161,Names!$C$2:$C$161)","v":0},{"$f":"Score!AT50","v":46},291.66666666666669]
[35,{"$f":"LOOKUP(A49,Names!$A$2:$A$161,Names!$B$2:$B$161)","v":"عمرو عماد الدين أبوالعلا  "},{"$f":"LOOKUP(A49,Names!$A$2:$A$161,Names!$C$2:$C$161)","v":454},{"$f":"Score!AT51","v":47},291.66666666666669]
[5,{"$f":"LOOKUP(A50,Names!$A$2:$A$161,Names!$B$2:$B$161)","v":"محمد عصام الدين القاضي "},{"$f":"LOOKUP(A50,Names!$A$2:$A$161,Names!$C$2:$C$161)","v":304},{"$f":"Score!AT52","v":48},277.77777777777777]
[69,{"$f":"LOOKUP(A51,Names!$A$2:$A$161,Names!$B$2:$B$161)","v":"أحمد علي السيد شرع"},{"$f":"LOOKUP(A51,Names!$A$2:$A$161,Names!$C$2:$C$161)","v":536},{"$f":"Score!AT53","v":49},273.14814814814815]
[10,{"$f":"LOOKUP(A52,Names!$A$2:$A$161,Names!$B$2:$B$161)","v":"نبيل خلف زكي حسنين "},{"$f":"LOOKUP(A52,Names!$A$2:$A$161,Names!$C$2:$C$161)","v":392},{"$f":"Score!AT54","v":50},268.51851851851853]
[104,{"$f":"LOOKUP(A53,Names!$A$2:$A$161,Names!$B$2:$B$161)","v":0},{"$f":"LOOKUP(A53,Names!$A$2:$A$161,Names!$C$2:$C$161)","v":0},{"$f":"Score!AT55","v":51},263.88888888888891]
[87,{"$f":"LOOKUP(A54,Names!$A$2:$A$161,Names!$B$2:$B$161)","v":0},{"$f":"LOOKUP(A54,Names!$A$2:$A$161,Names!$C$2:$C$161)","v":0},{"$f":"Score!AT56","v":52},263.88888888888891]
[2,{"$f":"LOOKUP(A55,Names!$A$2:$A$161,Names!$B$2:$B$161)","v":"شريف أحمد محمد حمروش"},{"$f":"LOOKUP(A55,Names!$A$2:$A$161,Names!$C$2:$C$161)","v":2003},{"$f":"Score!AT57","v":53},254.62962962962965]
[11,{"$f":"LOOKUP(A56,Names!$A$2:$A$161,Names!$B$2:$B$161)","v":"معتز محمد مدبولي "},{"$f":"LOOKUP(A56,Names!$A$2:$A$161,Names!$C$2:$C$161)","v":548},{"$f":"Score!AT58","v":54},250]
[85,{"$f":"LOOKUP(A57,Names!$A$2:$A$161,Names!$B$2:$B$161)","v":0},{"$f":"LOOKUP(A57,Names!$A$2:$A$161,Names!$C$2:$C$161)","v":0},{"$f":"Score!AT59","v":55},250]
[106,{"$f":"LOOKUP(A58,Names!$A$2:$A$161,Names!$B$2:$B$161)","v":0},{"$f":"LOOKUP(A58,Names!$A$2:$A$161,Names!$C$2:$C$161)","v":0},{"$f":"Score!AT60","v":56},250]
[40,{"$f":"LOOKUP(A59,Names!$A$2:$A$161,Names!$B$2:$B$161)","v":"احمد محمود عبد الرزاق  "},{"$f":"LOOKUP(A59,Names!$A$2:$A$161,Names!$C$2:$C$161)","v":639},{"$f":"Score!AT61","v":57},236.11111111111111]
[89,{"$f":"LOOKUP(A60,Names!$A$2:$A$161,Names!$B$2:$B$161)","v":0},{"$f":"LOOKUP(A60,Names!$A$2:$A$161,Names!$C$2:$C$161)","v":0},{"$f":"Score!AT62","v":58},236.11111111111111]
[57,{"$f":"LOOKUP(A61,Names!$A$2:$A$161,Names!$B$2:$B$161)","v":"مصطفى كامل الشحري"},{"$f":"LOOKUP(A61,Names!$A$2:$A$161,Names!$C$2:$C$161)","v":340},{"$f":"Score!AT63","v":59},226.85185185185185]
[98,{"$f":"LOOKUP(A62,Names!$A$2:$A$161,Names!$B$2:$B$161)","v":0},{"$f":"LOOKUP(A62,Names!$A$2:$A$161,Names!$C$2:$C$161)","v":0},{"$f":"Score!AT64","v":60},222.22222222222223]
[39,{"$f":"LOOKUP(A63,Names!$A$2:$A$161,Names!$B$2:$B$161)","v":"إسلام أحمد السيد عمر"},{"$f":"LOOKUP(A63,Names!$A$2:$A$161,Names!$C$2:$C$161)","v":337},{"$f":"Score!AT65","v":61},217.59259259259261]
[79,{"$f":"LOOKUP(A64,Names!$A$2:$A$161,Names!$B$2:$B$161)","v":"محمد علي حسن طه الأمام"},{"$f":"LOOKUP(A64,Names!$A$2:$A$161,Names!$C$2:$C$161)","v":305},{"$f":"Score!AT66","v":62},217.59259259259261]
[46,{"$f":"LOOKUP(A65,Names!$A$2:$A$161,Names!$B$2:$B$161)","v":"علاء شوقي جبريل  "},{"$f":"LOOKUP(A65,Names!$A$2:$A$161,Names!$C$2:$C$161)","v":361},{"$f":"Score!AT67","v":63},208.33333333333334]
[20,{"$f":"LOOKUP(A66,Names!$A$2:$A$161,Names!$B$2:$B$161)","v":"إسلام قاسم"},{"$f":"LOOKUP(A66,Names!$A$2:$A$161,Names!$C$2:$C$161)","v":2008},{"$f":"Score!AT68","v":64},208.33333333333334]
[108,{"$f":"LOOKUP(A67,Names!$A$2:$A$161,Names!$B$2:$B$161)","v":0},{"$f":"LOOKUP(A67,Names!$A$2:$A$161,Names!$C$2:$C$161)","v":0},{"$f":"Score!AT69","v":65},199.07407407407408]
[59,{"$f":"LOOKUP(A68,Names!$A$2:$A$161,Names!$B$2:$B$161)","v":"هشام أبوغربية "},{"$f":"LOOKUP(A68,Names!$A$2:$A$161,Names!$C$2:$C$161)","v":389},{"$f":"Score!AT70","v":66},199.07407407407408]
[17,{"$f":"LOOKUP(A69,Names!$A$2:$A$161,Names!$B$2:$B$161)","v":"أحمد علي خليل حسن "},{"$f":"LOOKUP(A69,Names!$A$2:$A$161,Names!$C$2:$C$161)","v":664},{"$f":"Score!AT71","v":67},189.81481481481481]
[55,{"$f":"LOOKUP(A70,Names!$A$2:$A$161,Names!$B$2:$B$161)","v":"ناجي بلبع"},{"$f":"LOOKUP(A70,Names!$A$2:$A$161,Names!$C$2:$C$161)","v":2009},{"$f":"Score!AT72","v":68},185.18518518518519]
[91,{"$f":"LOOKUP(A71,Names!$A$2:$A$161,Names!$B$2:$B$161)","v":0},{"$f":"LOOKUP(A71,Names!$A$2:$A$161,Names!$C$2:$C$161)","v":0},{"$f":"Score!AT73","v":69},180.55555555555557]
[18,{"$f":"LOOKUP(A72,Names!$A$2:$A$161,Names!$B$2:$B$161)","v":"أحمد ممدوح عبد الدايم"},{"$f":"LOOKUP(A72,Names!$A$2:$A$161,Names!$C$2:$C$161)","v":2004},{"$f":"Score!AT74","v":70},175.92592592592592]
[92,{"$f":"LOOKUP(A73,Names!$A$2:$A$161,Names!$B$2:$B$161)","v":0},{"$f":"LOOKUP(A73,Names!$A$2:$A$161,Names!$C$2:$C$161)","v":0},{"$f":"Score!AT75","v":71},171.2962962962963]
[83,{"$f":"LOOKUP(A74,Names!$A$2:$A$161,Names!$B$2:$B$161)","v":0},{"$f":"LOOKUP(A74,Names!$A$2:$A$161,Names!$C$2:$C$161)","v":0},{"$f":"Score!AT76","v":72},171.2962962962963]
[49,{"$f":"LOOKUP(A75,Names!$A$2:$A$161,Names!$B$2:$B$161)","v":"هيثم العشماوي "},{"$f":"LOOKUP(A75,Names!$A$2:$A$161,Names!$C$2:$C$161)","v":300},{"$f":"Score!AT77","v":73},162.03703703703704]
[61,{"$f":"LOOKUP(A76,Names!$A$2:$A$161,Names!$B$2:$B$161)","v":"كريم إيهاب عامر  "},{"$f":"LOOKUP(A76,Names!$A$2:$A$161,Names!$C$2:$C$161)","v":606},{"$f":"Score!AT78","v":74},157.40740740740742]
[8,{"$f":"LOOKUP(A77,Names!$A$2:$A$161,Names!$B$2:$B$161)","v":"إيهاب  محمد الزهيري "},{"$f":"LOOKUP(A77,Names!$A$2:$A$161,Names!$C$2:$C$161)","v":342},{"$f":"Score!AT79","v":75},152.77777777777777]
[38,{"$f":"LOOKUP(A78,Names!$A$2:$A$161,Names!$B$2:$B$161)","v":"أسامة لطفي نجيب  "},{"$f":"LOOKUP(A78,Names!$A$2:$A$161,Names!$C$2:$C$161)","v":751},{"$f":"Score!AT80","v":76},148.14814814814815]
[19,{"$f":"LOOKUP(A79,Names!$A$2:$A$161,Names!$B$2:$B$161)","v":"إبراهيم عنتر  "},{"$f":"LOOKUP(A79,Names!$A$2:$A$161,Names!$C$2:$C$161)","v":338},{"$f":"Score!AT81","v":77},143.51851851851853]
[42,{"$f":"LOOKUP(A80,Names!$A$2:$A$161,Names!$B$2:$B$161)","v":"محمد عبد الهادي أبو القاسم "},{"$f":"LOOKUP(A80,Names!$A$2:$A$161,Names!$C$2:$C$161)","v":393},{"$f":"Score!AT82","v":78},143.51851851851853]
[33,{"$f":"LOOKUP(A81,Names!$A$2:$A$161,Names!$B$2:$B$161)","v":"أحمد بسيوني"},{"$f":"LOOKUP(A81,Names!$A$2:$A$161,Names!$C$2:$C$161)","v":399},{"$f":"Score!AT83","v":79},134.25925925925927]
[58,{"$f":"LOOKUP(A82,Names!$A$2:$A$161,Names!$B$2:$B$161)","v":"أحمد إبراهيم غانم "},{"$f":"LOOKUP(A82,Names!$A$2:$A$161,Names!$C$2:$C$161)","v":366},{"$f":"Score!AT84","v":80},129.62962962962962]
[73,{"$f":"LOOKUP(A83,Names!$A$2:$A$161,Names!$B$2:$B$161)","v":"مينا ناجح صبحي  "},{"$f":"LOOKUP(A83,Names!$A$2:$A$161,Names!$C$2:$C$161)","v":611},{"$f":"Score!AT85","v":81},125]
[29,{"$f":"LOOKUP(A84,Names!$A$2:$A$161,Names!$B$2:$B$161)","v":"عبد الرحمن عثمان"},{"$f":"LOOKUP(A84,Names!$A$2:$A$161,Names!$C$2:$C$161)","v":596},{"$f":"Score!AT86","v":82},120.37037037037038]
[36,{"$f":"LOOKUP(A85,Names!$A$2:$A$161,Names!$B$2:$B$161)","v":"أحمد عبد الفتاح عرفه "},{"$f":"LOOKUP(A85,Names!$A$2:$A$161,Names!$C$2:$C$161)","v":588},{"$f":"Score!AT87","v":83},115.74074074074075]
[7,{"$f":"LOOKUP(A86,Names!$A$2:$A$161,Names!$B$2:$B$161)","v":"باسم أسحق صموائيل"},{"$f":"LOOKUP(A86,Names!$A$2:$A$161,Names!$C$2:$C$161)","v":516},{"$f":"Score!AT88","v":84},111.11111111111111]
[43,{"$f":"LOOKUP(A87,Names!$A$2:$A$161,Names!$B$2:$B$161)","v":"أمير محمد خطاب  "},{"$f":"LOOKUP(A87,Names!$A$2:$A$161,Names!$C$2:$C$161)","v":200},{"$f":"Score!AT89","v":85},106.48148148148148]
[100,{"$f":"LOOKUP(A88,Names!$A$2:$A$161,Names!$B$2:$B$161)","v":0},{"$f":"LOOKUP(A88,Names!$A$2:$A$161,Names!$C$2:$C$161)","v":0},{"$f":"Score!AT90","v":86},106.48148148148148]
[93,{"$f":"LOOKUP(A89,Names!$A$2:$A$161,Names!$B$2:$B$161)","v":0},{"$f":"LOOKUP(A89,Names!$A$2:$A$161,Names!$C$2:$C$161)","v":0},{"$f":"Score!AT91","v":87},106.48148148148148]
[72,{"$f":"LOOKUP(A90,Names!$A$2:$A$161,Names!$B$2:$B$161)","v":"أحمد سمير خلف "},{"$f":"LOOKUP(A90,Names!$A$2:$A$161,Names!$C$2:$C$161)","v":706},{"$f":"Score!AT92","v":88},106.48148148148148]
[74,{"$f":"LOOKUP(A91,Names!$A$2:$A$161,Names!$B$2:$B$161)","v":"فريدة شكري"},{"$f":"LOOKUP(A91,Names!$A$2:$A$161,Names!$C$2:$C$161)","v":3003},{"$f":"Score!AT93","v":89},106.48148148148148]
[56,{"$f":"LOOKUP(A92,Names!$A$2:$A$161,Names!$B$2:$B$161)","v":"جاسر محمد"},{"$f":"LOOKUP(A92,Names!$A$2:$A$161,Names!$C$2:$C$161)","v":299},{"$f":"Score!AT94","v":90},83.333333333333343]
[31,{"$f":"LOOKUP(A93,Names!$A$2:$A$161,Names!$B$2:$B$161)","v":"ماجد  محمد  فكري "},{"$f":"LOOKUP(A93,Names!$A$2:$A$161,Names!$C$2:$C$161)","v":649},{"$f":"Score!AT95","v":91},78.703703703703709]
[50,{"$f":"LOOKUP(A94,Names!$A$2:$A$161,Names!$B$2:$B$161)","v":"فادي ناجح"},{"$f":"LOOKUP(A94,Names!$A$2:$A$161,Names!$C$2:$C$161)","v":2010},{"$f":"Score!AT96","v":92},74.074074074074076]
[81,{"$f":"LOOKUP(A95,Names!$A$2:$A$161,Names!$B$2:$B$161)","v":0},{"$f":"LOOKUP(A95,Names!$A$2:$A$161,Names!$C$2:$C$161)","v":0},{"$f":"Score!AT97","v":93},69.444444444444443]
[24,{"$f":"LOOKUP(A96,Names!$A$2:$A$161,Names!$B$2:$B$161)","v":"هيثم محمد شبانة"},{"$f":"LOOKUP(A96,Names!$A$2:$A$161,Names!$C$2:$C$161)","v":668},{"$f":"Score!AT98","v":94},64.81481481481481]
[6,{"$f":"LOOKUP(A97,Names!$A$2:$A$161,Names!$B$2:$B$161)","v":"إبراهيم عرفان السقا  "},{"$f":"LOOKUP(A97,Names!$A$2:$A$161,Names!$C$2:$C$161)","v":721},{"$f":"Score!AT99","v":95},64.81481481481481]
[62,{"$f":"LOOKUP(A98,Names!$A$2:$A$161,Names!$B$2:$B$161)","v":"محمد محمود مسعود  "},{"$f":"LOOKUP(A98,Names!$A$2:$A$161,Names!$C$2:$C$161)","v":234},{"$f":"Score!AT100","v":96},55.555555555555557]
[15,{"$f":"LOOKUP(A99,Names!$A$2:$A$161,Names!$B$2:$B$161)","v":"أحمد رمزي الديب "},{"$f":"LOOKUP(A99,Names!$A$2:$A$161,Names!$C$2:$C$161)","v":547},{"$f":"Score!AT101","v":97},50.925925925925924]
[101,{"$f":"LOOKUP(A100,Names!$A$2:$A$161,Names!$B$2:$B$161)","v":0},{"$f":"LOOKUP(A100,Names!$A$2:$A$161,Names!$C$2:$C$161)","v":0},{"$f":"Score!AT102","v":98},46.296296296296298]
[9,{"$f":"LOOKUP(A101,Names!$A$2:$A$161,Names!$B$2:$B$161)","v":"رأفت الصياد"},{"$f":"LOOKUP(A101,Names!$A$2:$A$161,Names!$C$2:$C$161)","v":3001},{"$f":"Score!AT103","v":99},41.666666666666671]
[68,{"$f":"LOOKUP(A102,Names!$A$2:$A$161,Names!$B$2:$B$161)","v":"مصطفى إسماعيل"},{"$f":"LOOKUP(A102,Names!$A$2:$A$161,Names!$C$2:$C$161)","v":2015},{"$f":"Score!AT104","v":100},37.037037037037038]
[4,{"$f":"LOOKUP(A103,Names!$A$2:$A$161,Names!$B$2:$B$161)","v":"محمد سعيد الفطاطري"},{"$f":"LOOKUP(A103,Names!$A$2:$A$161,Names!$C$2:$C$161)","v":550},{"$f":"Score!AT105","v":101},32.407407407407405]
[66,{"$f":"LOOKUP(A104,Names!$A$2:$A$161,Names!$B$2:$B$161)","v":"أحمد فؤاد حسنين "},{"$f":"LOOKUP(A104,Names!$A$2:$A$161,Names!$C$2:$C$161)","v":363},{"$f":"Score!AT106","v":102},27.777777777777779]
[97,{"$f":"LOOKUP(A105,Names!$A$2:$A$161,Names!$B$2:$B$161)","v":0},{"$f":"LOOKUP(A105,Names!$A$2:$A$161,Names!$C$2:$C$161)","v":0},{"$f":"Score!AT107","v":103},27.777777777777779]
[1,{"$f":"LOOKUP(A106,Names!$A$2:$A$161,Names!$B$2:$B$161)","v":"راجي صبحي  "},{"$f":"LOOKUP(A106,Names!$A$2:$A$161,Names!$C$2:$C$161)","v":111},{"$f":"Score!AT108","v":104},18.518518518518519]
[78,{"$f":"LOOKUP(A107,Names!$A$2:$A$161,Names!$B$2:$B$161)","v":"حسام الخلفاوي"},{"$f":"LOOKUP(A107,Names!$A$2:$A$161,Names!$C$2:$C$161)","v":2019},{"$f":"Score!AT109","v":105},13.888888888888889]
[23,{"$f":"LOOKUP(A108,Names!$A$2:$A$161,Names!$B$2:$B$161)","v":"مصطفى يوسف محمد"},{"$f":"LOOKUP(A108,Names!$A$2:$A$161,Names!$C$2:$C$161)","v":2002},{"$f":"Score!AT110","v":106},9.2592592592592595]
[96,{"$f":"LOOKUP(A109,Names!$A$2:$A$161,Names!$B$2:$B$161)","v":0},{"$f":"LOOKUP(A109,Names!$A$2:$A$161,Names!$C$2:$C$161)","v":0},{"$f":"Score!AT111","v":107},4.6296296296296298]
[41,{"$f":"LOOKUP(A110,Names!$A$2:$A$161,Names!$B$2:$B$161)","v":"خالد مصطفى عزت "},{"$f":"LOOKUP(A110,Names!$A$2:$A$161,Names!$C$2:$C$161)","v":726},{"$f":"Score!AT112","v":108},0]
[null,{"$f":"LOOKUP(A111,Names!$A$2:$A$161,Names!$B$2:$B$161)","v":{"$error":"#N/A"}},{"$f":"LOOKUP(A111,Names!$A$2:$A$161,Names!$C$2:$C$161)","v":{"$error":"#N/A"}},{"$f":"Score!AT113","v":109}]
[null,{"$f":"LOOKUP(A112,Names!$A$2:$A$161,Names!$B$2:$B$161)","v":{"$error":"#N/A"}},{"$f":"LOOKUP(A112,Names!$A$2:$A$161,Names!$C$2:$C$161)","v":{"$error":"#N/A"}},{"$f":"Score!AT114","v":110}]
[null,{"$f":"LOOKUP(A113,Names!$A$2:$A$161,Names!$B$2:$B$161)","v":{"$error":"#N/A"}},{"$f":"LOOKUP(A113,Names!$A$2:$A$161,Names!$C$2:$C$161)","v":{"$error":"#N/A"}},{"$f":"Score!AT115","v":111}]
[null,{"$f":"LOOKUP(A114,Names!$A$2:$A$161,Names!$B$2:$B$161)","v":{"$error":"#N/A"}},{"$f":"LOOKUP(A114,Names!$A$2:$A$161,Names!$C$2:$C$161)","v":{"$error":"#N/A"}},{"$f":"Score!AT116","v":112}]
[null,{"$f":"LOOKUP(A115,Names!$A$2:$A$161,Names!$B$2:$B$161)","v":{"$error":"#N/A"}},{"$f":"LOOKUP(A115,Names!$A$2:$A$161,Names!$C$2:$C$161)","v":{"$error":"#N/A"}},{"$f":"Score!AT117","v":113}]
[null,{"$f":"LOOKUP(A116,Names!$A$2:$A$161,Names!$B$2:$B$161)","v":{"$error":"#N/A"}},{"$f":"LOOKUP(A116,Names!$A$2:$A$161,Names!$C$2:$C$161)","v":{"$error":"#N/A"}},{"$f":"Score!AT118","v":114}]
[null,{"$f":"LOOKUP(A117,Names!$A$2:$A$161,Names!$B$2:$B$161)","v":{"$error":"#N/A"}},{"$f":"LOOKUP(A117,Names!$A$2:$A$161,Names!$C$2:$C$161)","v":{"$error":"#N/A"}},{"$f":"Score!AT119","v":115}]
[null,{"$f":"LOOKUP(A118,Names!$A$2:$A$161,Names!$B$2:$B$161)","v":{"$error":"#N/A"}},{"$f":"LOOKUP(A118,Names!$A$2:$A$161,Names!$C$2:$C$161)","v":{"$error":"#N/A"}},{"$f":"Score!AT120","v":116}]
[null,{"$f":"LOOKUP(A119,Names!$A$2:$A$161,Names!$B$2:$B$161)","v":{"$error":"#N/A"}},{"$f":"LOOKUP(A119,Names!$A$2:$A$161,Names!$C$2:$C$161)","v":{"$error":"#N/A"}},{"$f":"Score!AT121","v":117}]
[null,{"$f":"LOOKUP(A120,Names!$A$2:$A$161,Names!$B$2:$B$161)","v":{"$error":"#N/A"}},{"$f":"LOOKUP(A120,Names!$A$2:$A$161,Names!$C$2:$C$161)","v":{"$error":"#N/A"}},{"$f":"Score!AT122","v":118}]
[null,{"$f":"LOOKUP(A121,Names!$A$2:$A$161,Names!$B$2:$B$161)","v":{"$error":"#N/A"}},{"$f":"LOOKUP(A121,Names!$A$2:$A$161,Names!$C$2:$C$161)","v":{"$error":"#N/A"}},{"$f":"Score!AT123","v":119}]
[null,{"$f":"LOOKUP(A122,Names!$A$2:$A$161,Names!$B$2:$B$161)","v":{"$error":"#N/A"}},{"$f":"LOOKUP(A122,Names!$A$2:$A$161,Names!$C$2:$C$161)","v":{"$error":"#N/A"}},{"$f":"Score!AT124","v":120}]
[null,{"$f":"LOOKUP(A123,Names!$A$2:$A$161,Names!$B$2:$B$161)","v":{"$error":"#N/A"}},{"$f":"LOOKUP(A123,Names!$A$2:$A$161,Names!$C$2:$C$161)","v":{"$error":"#N/A"}},{"$f":"Score!AT125","v":121}]
[null,{"$f":"LOOKUP(A124,Names!$A$2:$A$161,Names!$B$2:$B$161)","v":{"$error":"#N/A"}},{"$f":"LOOKUP(A124,Names!$A$2:$A$161,Names!$C$2:$C$161)","v":{"$error":"#N/A"}},{"$f":"Score!AT126","v":122}]
[null,{"$f":"LOOKUP(A125,Names!$A$2:$A$161,Names!$B$2:$B$161)","v":{"$error":"#N/A"}},{"$f":"LOOKUP(A125,Names!$A$2:$A$161,Names!$C$2:$C$161)","v":{"$error":"#N/A"}},{"$f":"Score!AT127","v":123}]
[null,{"$f":"LOOKUP(A126,Names!$A$2:$A$161,Names!$B$2:$B$161)","v":{"$error":"#N/A"}},{"$f":"LOOKUP(A126,Names!$A$2:$A$161,Names!$C$2:$C$161)","v":{"$error":"#N/A"}},{"$f":"Score!AT128","v":124}]
[null,{"$f":"LOOKUP(A127,Names!$A$2:$A$161,Names!$B$2:$B$161)","v":{"$error":"#N/A"}},{"$f":"LOOKUP(A127,Names!$A$2:$A$161,Names!$C$2:$C$161)","v":{"$error":"#N/A"}},{"$f":"Score!AT129","v":125}]
[null,{"$f":"LOOKUP(A128,Names!$A$2:$A$161,Names!$B$2:$B$161)","v":{"$error":"#N/A"}},{"$f":"LOOKUP(A128,Names!$A$2:$A$161,Names!$C$2:$C$161)","v":{"$error":"#N/A"}},{"$f":"Score!AT130","v":126}]
[null,{"$f":"LOOKUP(A129,Names!$A$2:$A$161,Names!$B$2:$B$161)","v":{"$error":"#N/A"}},{"$f":"LOOKUP(A129,Names!$A$2:$A$161,Names!$C$2:$C$161)","v":{"$error":"#N/A"}},{"$f":"Score!AT131","v":127}]
[null,{"$f":"LOOKUP(A130,Names!$A$2:$A$161,Names!$B$2:$B$161)","v":{"$error":"#N/A"}},{"$f":"LOOKUP(A130,Names!$A$2:$A$161,Names!$C$2:$C$161)","v":{"$error":"#N/A"}},{"$f":"Score!AT132","v":128}]
[null,{"$f":"LOOKUP(A131,Names!$A$2:$A$161,Names!$B$2:$B$161)","v":{"$error":"#N/A"}},{"$f":"LOOKUP(A131,Names!$A$2:$A$161,Names!$C$2:$C$161)","v":{"$error":"#N/A"}},{"$f":"Score!AT133","v":129}]
[null,{"$f":"LOOKUP(A132,Names!$A$2:$A$161,Names!$B$2:$B$161)","v":{"$error":"#N/A"}},{"$f":"LOOKUP(A132,Names!$A$2:$A$161,Names!$C$2:$C$161)","v":{"$error":"#N/A"}},{"$f":"Score!AT134","v":130}]
[null,{"$f":"LOOKUP(A133,Names!$A$2:$A$161,Names!$B$2:$B$161)","v":{"$error":"#N/A"}},{"$f":"LOOKUP(A133,Names!$A$2:$A$161,Names!$C$2:$C$161)","v":{"$error":"#N/A"}},{"$f":"Score!AT135","v":131}]
[null,{"$f":"LOOKUP(A134,Names!$A$2:$A$161,Names!$B$2:$B$161)","v":{"$error":"#N/A"}},{"$f":"LOOKUP(A134,Names!$A$2:$A$161,Names!$C$2:$C$161)","v":{"$error":"#N/A"}},{"$f":"Score!AT136","v":132}]
[null,{"$f":"LOOKUP(A135,Names!$A$2:$A$161,Names!$B$2:$B$161)","v":{"$error":"#N/A"}},{"$f":"LOOKUP(A135,Names!$A$2:$A$161,Names!$C$2:$C$161)","v":{"$error":"#N/A"}},{"$f":"Score!AT137","v":133}]
[null,{"$f":"LOOKUP(A136,Names!$A$2:$A$161,Names!$B$2:$B$161)","v":{"$error":"#N/A"}},{"$f":"LOOKUP(A136,Names!$A$2:$A$161,Names!$C$2:$C$161)","v":{"$error":"#N/A"}},{"$f":"Score!AT138","v":134}]
[null,{"$f":"LOOKUP(A137,Names!$A$2:$A$161,Names!$B$2:$B$161)","v":{"$error":"#N/A"}},{"$f":"LOOKUP(A137,Names!$A$2:$A$161,Names!$C$2:$C$161)","v":{"$error":"#N/A"}},{"$f":"Score!AT139","v":135}]
[null,{"$f":"LOOKUP(A138,Names!$A$2:$A$161,Names!$B$2:$B$161)","v":{"$error":"#N/A"}},{"$f":"LOOKUP(A138,Names!$A$2:$A$161,Names!$C$2:$C$161)","v":{"$error":"#N/A"}},{"$f":"Score!AT140","v":136}]
[null,{"$f":"LOOKUP(A139,Names!$A$2:$A$161,Names!$B$2:$B$161)","v":{"$error":"#N/A"}},{"$f":"LOOKUP(A139,Names!$A$2:$A$161,Names!$C$2:$C$161)","v":{"$error":"#N/A"}},{"$f":"Score!AT141","v":137}]
[null,{"$f":"LOOKUP(A140,Names!$A$2:$A$161,Names!$B$2:$B$161)","v":{"$error":"#N/A"}},{"$f":"LOOKUP(A140,Names!$A$2:$A$161,Names!$C$2:$C$161)","v":{"$error":"#N/A"}},{"$f":"Score!AT142","v":138}]
[null,{"$f":"LOOKUP(A141,Names!$A$2:$A$161,Names!$B$2:$B$161)","v":{"$error":"#N/A"}},{"$f":"LOOKUP(A141,Names!$A$2:$A$161,Names!$C$2:$C$161)","v":{"$error":"#N/A"}},{"$f":"Score!AT143","v":139}]
[null,{"$f":"LOOKUP(A142,Names!$A$2:$A$161,Names!$B$2:$B$161)","v":{"$error":"#N/A"}},{"$f":"LOOKUP(A142,Names!$A$2:$A$161,Names!$C$2:$C$161)","v":{"$error":"#N/A"}},{"$f":"Score!AT144","v":140}]
[null,{"$f":"LOOKUP(A143,Names!$A$2:$A$161,Names!$B$2:$B$161)","v":{"$error":"#N/A"}},{"$f":"LOOKUP(A143,Names!$A$2:$A$161,Names!$C$2:$C$161)","v":{"$error":"#N/A"}},{"$f":"Score!AT145","v":141}]
[null,{"$f":"LOOKUP(A144,Names!$A$2:$A$161,Names!$B$2:$B$161)","v":{"$error":"#N/A"}},{"$f":"LOOKUP(A144,Names!$A$2:$A$161,Names!$C$2:$C$161)","v":{"$error":"#N/A"}},{"$f":"Score!AT146","v":142}]
[null,{"$f":"LOOKUP(A145,Names!$A$2:$A$161,Names!$B$2:$B$161)","v":{"$error":"#N/A"}},{"$f":"LOOKUP(A145,Names!$A$2:$A$161,Names!$C$2:$C$161)","v":{"$error":"#N/A"}},{"$f":"Score!AT147","v":143}]
[null,{"$f":"LOOKUP(A146,Names!$A$2:$A$161,Names!$B$2:$B$161)","v":{"$error":"#N/A"}},{"$f":"LOOKUP(A146,Names!$A$2:$A$161,Names!$C$2:$C$161)","v":{"$error":"#N/A"}},{"$f":"Score!AT148","v":144}]
[null,{"$f":"LOOKUP(A147,Names!$A$2:$A$161,Names!$B$2:$B$161)","v":{"$error":"#N/A"}},{"$f":"LOOKUP(A147,Names!$A$2:$A$161,Names!$C$2:$C$161)","v":{"$error":"#N/A"}},{"$f":"Score!AT149","v":145}]
[null,{"$f":"LOOKUP(A148,Names!$A$2:$A$161,Names!$B$2:$B$161)","v":{"$error":"#N/A"}},{"$f":"LOOKUP(A148,Names!$A$2:$A$161,Names!$C$2:$C$161)","v":{"$error":"#N/A"}},{"$f":"Score!AT150","v":146}]
[null,{"$f":"LOOKUP(A149,Names!$A$2:$A$161,Names!$B$2:$B$161)","v":{"$error":"#N/A"}},{"$f":"LOOKUP(A149,Names!$A$2:$A$161,Names!$C$2:$C$161)","v":{"$error":"#N/A"}},{"$f":"Score!AT151","v":147}]
[null,{"$f":"LOOKUP(A150,Names!$A$2:$A$161,Names!$B$2:$B$161)","v":{"$error":"#N/A"}},{"$f":"LOOKUP(A150,Names!$A$2:$A$161,Names!$C$2:$C$161)","v":{"$error":"#N/A"}},{"$f":"Score!AT152","v":148}]
[null,{"$f":"LOOKUP(A151,Names!$A$2:$A$161,Names!$B$2:$B$161)","v":{"$error":"#N/A"}},{"$f":"LOOKUP(A151,Names!$A$2:$A$161,Names!$C$2:$C$161)","v":{"$error":"#N/A"}},{"$f":"Score!AT153","v":149}]
[null,{"$f":"LOOKUP(A152,Names!$A$2:$A$161,Names!$B$2:$B$161)","v":{"$error":"#N/A"}},{"$f":"LOOKUP(A152,Names!$A$2:$A$161,Names!$C$2:$C$161)","v":{"$error":"#N/A"}},{"$f":"Score!AT154","v":150}]
[null,{"$f":"LOOKUP(A153,Names!$A$2:$A$161,Names!$B$2:$B$161)","v":{"$error":"#N/A"}},{"$f":"LOOKUP(A153,Names!$A$2:$A$161,Names!$C$2:$C$161)","v":{"$error":"#N/A"}},{"$f":"Score!AT155","v":151}]
[null,{"$f":"LOOKUP(A154,Names!$A$2:$A$161,Names!$B$2:$B$161)","v":{"$error":"#N/A"}},{"$f":"LOOKUP(A154,Names!$A$2:$A$161,Names!$C$2:$C$161)","v":{"$error":"#N/A"}},{"$f":"Score!AT156","v":152}]
[null,{"$f":"LOOKUP(A155,Names!$A$2:$A$161,Names!$B$2:$B$161)","v":{"$error":"#N/A"}},{"$f":"LOOKUP(A155,Names!$A$2:$A$161,Names!$C$2:$C$161)","v":{"$error":"#N/A"}},{"$f":"Score!AT157","v":153}]
[null,{"$f":"LOOKUP(A156,Names!$A$2:$A$161,Names!$B$2:$B$161)","v":{"$error":"#N/A"}},{"$f":"LOOKUP(A156,Names!$A$2:$A$161,Names!$C$2:$C$161)","v":{"$error":"#N/A"}},{"$f":"Score!AT158","v":154}]
[null,{"$f":"LOOKUP(A157,Names!$A$2:$A$161,Names!$B$2:$B$161)","v":{"$error":"#N/A"}},{"$f":"LOOKUP(A157,Names!$A$2:$A$161,Names!$C$2:$C$161)","v":{"$error":"#N/A"}},{"$f":"Score!AT159","v":155}]
[null,{"$f":"LOOKUP(A158,Names!$A$2:$A$161,Names!$B$2:$B$161)","v":{"$error":"#N/A"}},{"$f":"LOOKUP(A158,Names!$A$2:$A$161,Names!$C$2:$C$161)","v":{"$error":"#N/A"}},{"$f":"Score!AT160","v":156}]
[null,{"$f":"LOOKUP(A159,Names!$A$2:$A$161,Names!$B$2:$B$161)","v":{"$error":"#N/A"}},{"$f":"LOOKUP(A159,Names!$A$2:$A$161,Names!$C$2:$C$161)","v":{"$error":"#N/A"}},{"$f":"Score!AT161","v":157}]
[null,{"$f":"LOOKUP(A160,Names!$A$2:$A$161,Names!$B$2:$B$161)","v":{"$error":"#N/A"}},{"$f":"LOOKUP(A160,Names!$A$2:$A$161,Names!$C$2:$C$161)","v":{"$error":"#N/A"}},{"$f":"Score!AT162","v":158}]
[null,{"$f":"LOOKUP(A161,Names!$A$2:$A$161,Names!$B$2:$B$161)","v":{"$error":"#N/A"}},{"$f":"LOOKUP(A161,Names!$A$2:$A$161,Names!$C$2:$C$161)","v":{"$error":"#N/A"}},{"$f":"Score!AT163","v":159}]
[null,{"$f":"LOOKUP(A162,Names!$A$2:$A$161,Names!$B$2:$B$161)","v":{"$error":"#N/A"}},{"$f":"LOOKUP(A162,Names!$A$2:$A$161,Names!$C$2:$C$161)","v":{"$error":"#N/A"}},{"$f":"Score!AT164","v":160}]